{"text_format":"1","workbook":"xlsx","n_sheets":11,"sheets":["RELEVE_COTES","REV","REF","VUES_H","VUES_V","Vues_Pose","InfoPac","Info","BYO","doc saisi econ","Données"],"not_rendered":{"charts":0,"images":19,"macros":0,"external_links":0,"defined_names":6,"comments":1,"pivot_tables":0},"unopened":[],"bounds":{"document_bytes":16777216,"sheet_cells":100000,"rows_first":2000,"rows_last":500,"rows_between":2000,"halvings":0,"cell_chars":16384,"cell_head_chars":4096},"cells_cut":0,"cells_raw":0,"read":"whole","date_system":"1900"}

{"sheet":"RELEVE_COTES","index":0,"n_rows":163,"n_cols":19,"rows_kept":163,"cut":false,"hidden":false,"merged":[[11,4,11,5],[13,6,13,7],[52,0,53,15],[11,10,11,14],[21,0,22,14],[24,6,24,9],[24,10,24,12],[11,0,11,3],[11,6,11,7],[12,10,12,13],[12,4,12,5],[13,4,13,5],[14,0,14,3],[15,0,15,3],[19,8,19,9],[19,0,20,7],[13,0,13,3],[56,0,56,6],[56,7,56,9],[14,4,14,7],[51,0,51,1],[51,2,51,15],[15,4,15,7],[15,13,15,14],[54,0,54,6],[55,11,55,15],[54,11,54,15],[19,10,19,14],[3,0,3,14],[17,0,17,14],[10,10,10,13],[13,10,13,13],[4,9,4,14],[5,1,5,6],[5,8,5,9],[5,10,7,14],[10,2,10,7],[6,1,6,6],[10,0,10,1],[4,1,4,6],[12,6,12,7],[8,0,8,1],[8,2,8,4],[12,0,12,3]]}
[null,null,null,null,null,null,null,null,null,null,null,null,null,null,null,{"$f":"REV!A1&\" \"&REV!B1","v":"Version : 12.5"},null,null,1]
[null,null,null,"RELEVÉ DE COTES SUR HUISSERIE EXISTANTE ",null,null,null,null,null,null,null,null,null,null,null,null,"Serrure",{"$f":"IF(COUNTIF(REF!$EE$2:$EE$144,$K$11)>0,1,0)","v":0},2]
[null,null,null,"HUISSERIE BANCHÉE OU BATI SCELLÉE OU HUISSERIE BOIS",null,null,null,null,null,null,null,null,null,null,null,null,"Seuil",{"$f":"IF(COUNTIF((REF!CR:CR),$K$12)>0,1,0)","v":0},3]
["Indispensable pour toute Demande de prix et Commande",null,null,null,null,null,null,null,null,null,null,null,null,null,null,null,null,null,4]
["Date : ",null,null,null,null,null,null,null,"Chantier : ",null,null,null,null,null,null,null,"Entrebailleur",{"$f":"IF(COUNTIF((REF!LK:LK),$K$16)>0,1,0)","v":1},5]
["Nom client : ",null,null,null,null,null,null,null,"Adresse de livraison : ",null,null,null,null,null,null,null,"Ref Produit",{"$f":"IF(COUNTIF(REF!F:F,$C$11)>0,1,0)","v":0},6]
["Référence devis :",null,null,null,null,null,null,null,null,null,null,null,null,null,null,null,null,null,7]
[null,null,null,null,null,null,null,null,null,null,null,null,null,null,null,null,"Ferrage",{"$f":"IF(COUNTIF((REF!BA:BA),$E$15)>0,1,0)","v":0},8]
["PRODUIT :",null,null,null,null,null,null,null,null,null,null,null,null,null,null,null,"Décor Ext",{"$f":"IF(COUNTIF(REF!FX:FX,$E$12)>0,1,0)","v":0},9]
[null,null,null,null,null,null,null,null,null,null,null,null,null,null,null,null,null,null,10]
["Référence produit : ",null,null,null,null,null,null,null,null,"Serrure :",null,null,null,null,"U+F+P",null,"Finition Ext",{"$f":"IF(COUNTIF((REF!HJ:HJ),$G$12)>0,1,0)","v":0},11]
["Vantail : modèle et finition face extérieure (OP) : ",null,null,null," SANS",null,null,null,null,"Seuil : ",null,null,null,null,null,null,"Décor Int",{"$f":"IF(COUNTIF((REF!IR:IR),$E$12)>0,1,0)","v":0},12]
["Vantail : modèle et finition face intérieure (CP) : ",null,null,null," SANS",null,null,null,null,"Cylindre :",null,null,null,null,"U+F",null,"Finition Int",{"$f":"IF(COUNTIF((REF!JZ:JZ),$G$13)>0,1,0)","v":0},13]
["Huisserie métallique; finition :",null,null,null,"Pr.Peint",null,null,null,null,"Garniture : ",null,null,null,null,"U+F",null,"Fixations",{"$f":"IF(COUNTIF((REF!S:S),$E$16)>0,1,0)","v":0},14]
["Ferrage et Antidégonds :",null,null,null,null,null,null,null,null,"Microviseur : ","SANS","U+F","PMR : ","SANS",null,null,null,null,15]
["Fixations : (Parement + Listel)",null,null,null,"platines + vérins",null,null,null,null,"Entrebailleur :","SANS",null,{"$f":"IF(C11=\"R32S-R02\",\"Double Vantail :\",\"\")","v":""},"EGAUX",null,null,null,null,16]
[null,null,null,null,null,null,null,null,null,null,null,null,null,null,null,null,null,null,17]
["Indispensable uniquement pour Commande"]
[null,null,null,null,null,null,null,null,null,null,null,null,null,null,null,null,null,null,18]
["Sélectionnez s'il s'agit d'une huisserie banchée ou d'un bâti scellé ou huisserie bois :",null,null,null,null,null,null,null,null,null,"      A renseigner pour visualisation des schémas",null,null,null,null,null,"Existant",{"$f":"IF(I20=\"\",\"VIDE\",I20)","v":"VIDE"},19]
[]
["Vérifiez les cotes A et B en haut, au milieu et en bas du bloc porte sur l'huisserie existante.                                                                                                                                                                                                                                                                                                                                                                  En cas de différence supérieure à 5 mm, indiquez ces 3 cotes afin de vous proposer une solution."]
[]
[]
[]
[]
[]
[]
[]
[]
[]
[]
[]
[]
[]
[]
[]
[]
[]
[]
[]
[]
[]
[]
[]
[]
[]
[]
[]
[]
[]
["Définir le type de pose : ",null,{"$f":"VLOOKUP(I20,REF!LR2:LS4,2,FALSE)","v":{"$error":"#N/A"}}]
["NB : Si possible joindre des photos de l'huisserie existante montrant l'environnement côté intérieur."]
[]
[{"$f":"IF(COUNTIF(A59:A158,\"<>\"&\"\")<COUNTIF(B59:B158,\"<>\"&\"\"),\"Attention ! Manque Repère(s)\",\"\")","v":""},null,null,null,null,null,null,{"$f":"IF(SUM(IF(COUNTIF(A59:A158,A59:A158) = 1,1,0))<COUNTA(A59:A158),\"Attention !  Repère(s) en Double\",\"\")","v":""},null,null,null,{"$f":"IF(COUNTIF(B59:Q158,\"=\"&\" \")<>0,\"Attention ! \"\"ESPACE\"\" Interdit\",\"\")","v":""}]
["Relevé de cotes à indiquer en mm",null,null,null,null,null,null,{"$f":"IF(AND(COUNTIF(H59:J158,\"<=\"&\"10\")<>0,$C$9=\"PORTE METALLIQUE\"),\"Attention ! Etude de Faisabilité Nécessaire\",\"\")","v":""},null,null,null,{"$f":"IF(AND(COUNTIF(H59:J158,\"<\"&\"25\")<>0,$C$9=\"PORTE BOIS\"),\"Attention ! Ecoinçon Impossible\",\"\")","v":""}]
["Informations obligatoires à indiquer ",null,null,null,null,null,null,{"$f":"\"Si écoinçon existant\"&IF($C$9 =\"PORTE BOIS\",\"             (25 mm minimum)\",\"\")","v":"Si écoinçon existant"},null,null,"Pose",{"$f":"IF(I20= \"Huisserie Banchée\",\"Huisserie Banchée\",\"\")","v":""},{"$f":"IF($L$57=\"Huisserie Banchée\",\"Obs.\",IF(I20= \"Huisserie Bois\",\"Huisserie Bois\",IF(I20=\"Bâti Scellé\",\"Bâti Scellé\",\"\")))","v":""},null,{"$f":"IF($M$57=\"Bâti Scellé\",\"Obs.\",\"\")","v":""},{"$f":"IF($M$57=\"Huisserie Bois\",\"Si chant plat existant \",\"\")","v":""},null,{"$f":"IF($M$57=\"Huisserie Bois\",\"Obs.\",\"\")","v":""}]
["Repère","Sens ouverture\nGP / DP","A ","B","C","D","E","F1","F2 ","F3 ",{"$f":"IFERROR(VLOOKUP(I20,TabExistant[],3,FALSE),\"\")","v":""},{"$f":"IF(I20= \"Huisserie Banchée\",\"J\",\"K\")","v":"K"},{"$f":"IF(I20= \"Huisserie Banchée\",\"\",\"L\")","v":"L"},{"$f":"IF(I20= \"Huisserie Banchée\",\"\",\"M\")","v":"M"},{"$f":"IF($M$57=\"Huisserie Bois\",\"G\",\"\")","v":""},{"$f":"IF($M$57=\"Huisserie Bois\",\"H\",\"\")","v":""},{"$f":"IF($M$57=\"Huisserie Bois\",\"I\",\"\")","v":""}]
[]
[]
[]
[]
[]
[]
[]
[]
[]
[]
[]
[]
[]
[]
[]
[]
[]
[]
[]
[]
[]
[]
[]
[]
[]
[]
[]
[]
[]
[]
[]
[]
[]
[]
[]
[]
[]
[]
[]
[]
[]
[]
[]
[]
[]
[]
[]
[]
[]
[]
[]
[]
[]
[]
[]
[]
[]
[]
[]
[]
[]
[]
[]
[]
[]
[]
[]
[]
[]
[]
[]
[]
[]
[]
[]
[]
[]
[]
[]
[]
[]
[]
[]
[]
[]
[]
[]
[]
[]
[]
[]
[]
[]
[]
[]
[]
[]
[]
[]
[]
[]
["Pour toutes autres configurations sur huisserie existante métallique, merci de contactez le service DEYA RÉHABILITATION : "]
["45 allée des Grands Champs - BP66 - 79260 LA CRECHE"]
["Tél. : +33 (0)5 49 25 40 29 - Fax : +33 (0)5 49 25 41 70"]
["E-mail : contact@groupe-deya.com"]

{"sheet":"REV","index":1,"n_rows":22,"n_cols":4,"rows_kept":22,"cut":false,"hidden":true,"merged":[]}
["Version :","12.5"]
[]
["REVISION ","DATE","USER","COMMENTAIRE"]
["4.0","2022-06-09","DVX","Ajout PORTE_LARGEUR pour verif règles de passage pour l'HM réno "]
["5.0","2022-06-09","DVX","Mise à jour format polices"]
["6.0","2022-06-10","DVX","Zone d'impression"]
["7.0","2022-06-15","DVX","Gestion des Jarretières"]
["8.0","2022-06-16","DVX","Modification RAL + gestion erreur feuille BYO"]
["9.0","2022-06-24","DVX","Erreur OP/FP des stratifiés"]
["10.0","2022-08-30","DVX","Verrouillage Classeur ajout/Suppr des lignes"]
["TEST","2022-09-07","DVX","Version Evalutation Réhapac"]
["11.0","2022-10-13","DVX","Ajout Gamme Pac Damas + Vue Poses + 100 lignes + regles cotes KLM"]
["11.1","2022-10-27","DVX","Erreur Tableau Pac Damas"]
["11.2","2022-11-16","DVX","Bug Zone d'observation Bati Scellé "]
["11.3","2022-12-02","DVX","Zone d'impression"]
["11.4","2023-02-14","DVX","Supp. Seuil Parement de 10 mm, Modif liste seuil PAC + affichage valeurs défaut PAC + Suppr des \" \" pour les Info PAC"]
["12.0","2024-07-25","DVX","Ajout Gamme Pac Damas A2P BP1 - Suppression Gammes EN3- Mise à jour des Nuanciers PAC et BLOC"]
["12.1","2024-10-10","CFT","Correctif MAJ Nuancier - Correctif Nom serrures"]
["12.2","2024-10-17","CFT","Correctif MAJ Nuancier : Suppression RAL texturés"]
["12.3","2024-11-04","DVX ","Correctif Finition Rehabloc +  Données BYO"]
["12.4","2025-01-14","CFT","MAJ Nuancier suivant catalogue + pb Entrebailleur Intégré"]
["12.5","2025-01-15","CFT","Correction nuancier Blocfer \"NEVIS OAK\" au lieu de \"NEVADA OAK\""]

{"sheet":"REF","index":2,"n_rows":233,"n_cols":340,"rows_kept":233,"cut":false,"hidden":true,"merged":[]}
["Produits",null,"PORTE BOIS","PORTE METALLIQUE",null,"VALEUR",{"$f":"LEFT(ADDRESS(1,COLUMN(F:F),4),LEN(ADDRESS(1,COLUMN(F:F),4))-1)","v":"F"},null,"Gamme","REF","HM","Qte_VTX","Feuillure","Battue",null,"PORTE BOIS","PORTE METALLIQUE",null,"VALEUR",{"$f":"LEFT(ADDRESS(1,COLUMN(S:S),4),LEN(ADDRESS(1,COLUMN(S:S),4))-1)","v":"S"},null,"29-R31S-R01","29RR31S-R01","35-R31S-R01","35RR31S-R01","38RR31S-R01","39BR31S-R02","40BR31S-R03","40BR31S-R04","43BR31S-R01","43BR31S-R02","44BR61S-R01","R31S-R02","R32S-R02","LOGIPAC+","LOGIPAC+38","LOGIBLIND 4F A2P BP1","COURSIPAC4F","COURSIPAC 4F A2P BP1","COURSIPAC4F 44","PHONIPAC3F","SECURIPAC 4F A2P BP1","SECURIPAC 4F A2P BP1 EVOLUPAC","STABIPAC52 INT","STABIPAC52 EXT","SERVIPAC","STABICAVE","SERVIFEU","SERVIFEU ACOUSTIQUE","SERVIFEU ACOUSTIQUE EXT","SERVIFEU EXT",null,"VALEUR",{"$f":"LEFT(ADDRESS(1,COLUMN(BA:BA),4),LEN(ADDRESS(1,COLUMN(BA:BA),4))-1)","v":"BA"},null,"Paumelles","HM","REF","FERRAGE_TYPE","TYPEFIXROTMALE","ANTI_DEGONDS_TYPE","ANTI_DEGONDS_QTE",null,"44BR61S-R01","R31S-R02","R32S-R02","29-R31S-R01","35-R31S-R01","29RR31S-R01","35RR31S-R01","38RR31S-R01","40BR31S-R03","43BR31S-R01","39BR31S-R02","40BR31S-R04","43BR31S-R02","S05-AME-PLEINE","LOGIPAC+","LOGIPAC+38","LOGIBLIND 4F A2P BP1","COURSIPAC4F","COURSIPAC 4F A2P BP1","COURSIPAC4F 44","PHONIPAC3F","SECURIPAC 4F A2P BP1","SECURIPAC 4F A2P BP1 EVOLUPAC","STABIPAC52 INT","STABIPAC52 EXT","SERVIPAC","STABICAVE","SERVIFEU","SERVIFEU ACOUSTIQUE","SERVIFEU ACOUSTIQUE EXT","SERVIFEU EXT",null,"VALEUR",{"$f":"LEFT(ADDRESS(1,COLUMN(CR:CR),4),LEN(ADDRESS(1,COLUMN(CR:CR),4))-1)","v":"CR"},null,"Seuil","Hauteur","SEUIL_TYPE",null,"29-R31S-R01","29RR31S-R01","35-R31S-R01","35RR31S-R01","38RR31S-R01","39BR31S-R02","40BR31S-R03","40BR31S-R04","43BR31S-R01","43BR31S-R02","44BR61S-R01","R31S-R02","R32S-R02","S05-AME-PLEINE","LOGIPAC+","LOGIPAC+38","LOGIBLIND 4F A2P BP1","COURSIPAC4F","COURSIPAC 4F A2P BP1","COURSIPAC4F 44","PHONIPAC3F","SECURIPAC 4F A2P BP1","SECURIPAC 4F A2P BP1 EVOLUPAC","STABIPAC52 INT","STABIPAC52 EXT","SERVIPAC","STABICAVE","SERVIFEU","SERVIFEU ACOUSTIQUE","SERVIFEU ACOUSTIQUE EXT","SERVIFEU EXT",null,"VALEUR",{"$f":"LEFT(ADDRESS(1,COLUMN(EE:EE),4),LEN(ADDRESS(1,COLUMN(EE:EE),4))-1)","v":"EE"},null,"Description","BYO","Hauteur_Fouillot","Axe_Mortaise","Entraxe_Mortaise_Beq","Hauteur_Vantail_Mini","Jarritiere_Type",null,"OPTION","REF",null,"29-R31S-R01","29RR31S-R01","35-R31S-R01","35RR31S-R01","38RR31S-R01","39BR31S-R02","40BR31S-R03","40BR31S-R04","43BR31S-R01","43BR31S-R02","44BR61S-R01","R31S-R02","R32S-R02","LOGIPAC+","LOGIPAC+38","LOGIBLIND 4F A2P BP1","COURSIPAC4F","COURSIPAC 4F A2P BP1","COURSIPAC4F 44","PHONIPAC3F","SECURIPAC 4F A2P BP1","SECURIPAC 4F A2P BP1 EVOLUPAC","STABIPAC52 INT","STABIPAC52 EXT","SERVIPAC","STABICAVE","SERVIFEU","SERVIFEU ACOUSTIQUE","SERVIFEU ACOUSTIQUE EXT","SERVIFEU EXT",null,"VALEUR",{"$f":"LEFT(ADDRESS(1,COLUMN(FX:FX),4),LEN(ADDRESS(1,COLUMN(FX:FX),4))-1)","v":"FX"},null,"finition vantail","REF",null,"29-R31S-R01","29RR31S-R01","35-R31S-R01","35RR31S-R01","38RR31S-R01","39BR31S-R02","40BR31S-R03","40BR31S-R04","43BR31S-R01","43BR31S-R02","44BR61S-R01","R31S-R02","R32S-R02","LOGIPAC+","LOGIPAC+38","LOGIBLIND 4F A2P BP1","LOGIBLIND EN3","COURSIPAC4F","COURSIPAC 4F A2P BP1","COURSIPAC4F 44","PHONIPAC3F","SECURIPAC 4F A2P BP1","SECURIPAC 4F A2P BP1 EVOLUPAC","STABIPAC52 INT","STABIPAC52 EXT","SERVIPAC","STABICAVE","SERVIFEU","SERVIFEU ACOUSTIQUE","SERVIFEU ACOUSTIQUE EXT","SERVIFEU EXT",null,"VALEUR",{"$f":"LEFT(ADDRESS(1,COLUMN(HJ:HJ),4),LEN(ADDRESS(1,COLUMN(HJ:HJ),4))-1)","v":"HJ"},null,"29-R31S-R01","29RR31S-R01","35-R31S-R01","35RR31S-R01","38RR31S-R01","39BR31S-R02","40BR31S-R03","40BR31S-R04","43BR31S-R01","43BR31S-R02","44BR61S-R01","R31S-R02","R32S-R02","LOGIPAC+","LOGIPAC+38","LOGIBLIND 4F A2P BP1","COURSIPAC4F","COURSIPAC 4F A2P BP1","COURSIPAC4F 44","PHONIPAC3F","SECURIPAC 4F A2P BP1","SECURIPAC 4F A2P BP1 EVOLUPAC","STABIPAC52 INT","STABIPAC52 EXT","SERVIPAC","STABICAVE","SERVIFEU","SERVIFEU ACOUSTIQUE","SERVIFEU ACOUSTIQUE EXT","SERVIFEU EXT",null,"VALEUR",{"$f":"LEFT(ADDRESS(1,COLUMN(IR:IR),4),LEN(ADDRESS(1,COLUMN(IR:IR),4))-1)","v":"IR"},null,"29-R31S-R01","29RR31S-R01","35-R31S-R01","35RR31S-R01","38RR31S-R01","39BR31S-R02","40BR31S-R03","40BR31S-R04","43BR31S-R01","43BR31S-R02","44BR61S-R01","R31S-R02","R32S-R02","LOGIPAC+","LOGIPAC+38","LOGIBLIND 4F A2P BP1","COURSIPAC4F","COURSIPAC 4F A2P BP1","COURSIPAC4F 44","PHONIPAC3F","SECURIPAC 4F A2P BP1","SECURIPAC 4F A2P BP1 EVOLUPAC","STABIPAC52 INT","STABIPAC52 EXT","SERVIPAC","STABICAVE","SERVIFEU","SERVIFEU ACOUSTIQUE","SERVIFEU ACOUSTIQUE EXT","SERVIFEU EXT",null,"VALEUR",{"$f":"LEFT(ADDRESS(1,COLUMN(JZ:JZ),4),LEN(ADDRESS(1,COLUMN(JZ:JZ),4))-1)","v":"JZ"},null,"Nuancier VTL","REF","TYPE",null,"TYPE EXT","TYPE INT","FINITION",null,"finition HM",null,"Nuancier HM","RAL",null,"Cylindre",null,"OPTION",null,"PORTE BOIS","PORTE METALLIQUE",null,"VALEUR",{"$f":"LEFT(ADDRESS(1,COLUMN(KW:KW),4),LEN(ADDRESS(1,COLUMN(KW:KW),4))-1)","v":"KW"},null,"PORTE BOIS","PORTE METALLIQUE",null,"VALEUR",{"$f":"LEFT(ADDRESS(1,COLUMN(LC:LC),4),LEN(ADDRESS(1,COLUMN(LC:LC),4))-1)","v":"LC"},null,"Déporté","Intégré",null,null,null,"VALEUR",{"$f":"LEFT(ADDRESS(1,COLUMN(LK:LK),4),LEN(ADDRESS(1,COLUMN(LK:LK),4))-1)","v":"LK"},null,"DV",null,"Sens",null,"Existant","REF","REF_2","ReF_3",null,"Huisserie Banchée","Bâti Scellé","Huisserie Bois",null,"REF","CODE OPTIMISATION"]
["PORTE BOIS",null,"29-R31S-R01","COURSIPAC4F",null,{"$f":"IF(NOT(ISBLANK((INDIRECT(CONCATENATE(\"Tabportes[\",RELEVE_COTES!$C$9,\"]\"))))),INDIRECT(CONCATENATE(\"Tabportes[\",RELEVE_COTES!$C$9,\"]\",\"\")),\"\")","v":{"$error":"#VALUE!"}},{"$f":"IF(F2<>\"\",1,0)","v":{"$error":"#VALUE!"}},null,"29-R31S-R01",1,"RH6",1,49,16,null,"vérins + vérins","platines + vérins",null,{"$f":"IF(NOT(ISBLANK((INDIRECT(CONCATENATE(\"TabFixation[\",RELEVE_COTES!$C$9,\"]\"))))),INDIRECT(CONCATENATE(\"TabFixation[\",RELEVE_COTES!$C$9,\"]\",\"\")),\"\")","v":{"$error":"#VALUE!"}},{"$f":"IF(S2<>\"\",1,0)","v":{"$error":"#VALUE!"}},null,"picarde 160x80","picarde 160x80","picarde 160x80","picarde 160x80","picarde 160x80","universelles 130x86 + antidégonds","picarde 160x80","universelles 130x86 + antidégonds","universelles 130x86 - Zingué","universelles 130x86 + antidégonds","picarde 160x80 cambrée","universelles 130x86 - Zingué","universelles 130x86 - Zingué","4 fiches double broche","4 fiches double broche","4 fiches double broche + 3 antidégonds","4 fiches double broche + 3 antidégonds","4 fiches double broche + 3 antidégonds","4 fiches double broche + 3 antidégonds","4 fiches double broche + 2 antidégonds","4 fiches double broche + 3 antidégonds","4 fiches double broche + 3 antidégonds","2 fiches double broche","2 ou 3 fiches double broche","3 paumelles universelles 130x86","4 paumelles universelles 130x86","4 fiches double broche + 3 antidégonds","4 fiches double broche + 3 antidégonds","4 fiches double broche + 3 antidégonds","4 fiches double broche + 3 antidégonds",null,{"$f":"IF(NOT(ISBLANK((INDIRECT(CONCATENATE(\"TabFerrage[\",RELEVE_COTES!$C$11,\"]\"))))),INDIRECT(CONCATENATE(\"TabFerrage[\",RELEVE_COTES!$C$11,\"]\",\"\")),\"\")","v":{"$error":"#VALUE!"}},{"$f":"IF(BA2<>\"\",1,0)","v":{"$error":"#VALUE!"}},null,"universelles 130x86 - Zingué","Pr.Peint",{"$f":"CONCATENATE(TabFerrageRef[[#This Row],[Paumelles]],\" / \",TabFerrageRef[[#This Row],[HM]])","v":"universelles 130x86 - Zingué / Pr.Peint"},"130X86","SOUDEE","SANS",0,null,"BARRE ECARTEMENT DEMONTABLE","BARRE ECARTEMENT DEMONTABLE","BARRE ECARTEMENT DEMONTABLE","BARRE ECARTEMENT DEMONTABLE","BARRE ECARTEMENT DEMONTABLE","BARRE ECARTEMENT DEMONTABLE","BARRE ECARTEMENT DEMONTABLE","BARRE ECARTEMENT DEMONTABLE","BARRE ECARTEMENT DEMONTABLE","BARRE ECARTEMENT DEMONTABLE","BARRE ECARTEMENT DEMONTABLE","BARRE ECARTEMENT DEMONTABLE","BARRE ECARTEMENT DEMONTABLE","BARRE ECARTEMENT DEMONTABLE","Seuil Alu PMR (20 mm)","Seuil Alu PMR (20 mm)","Seuil Alu PMR (20 mm)","Seuil Alu PMR (20 mm)","Seuil Alu PMR (20 mm)","Seuil Alu PMR (20 mm)","Barre d'écartement","Seuil acier à la suisse (doucine) PMR 20 mm","Seuil acier à la suisse (doucine) PMR 20 mm","Seuil Alu PMR (20 mm)","Seuil Alu PMR (20 mm)","Barre d'écartement","Barre d'écartement","Barre d'écartement","Seuil acier isophonique RPES PMR 20 mm","Seuil acier isophonique RPES PMR 20 mm","Barre d'écartement",null,{"$f":"IF(NOT(ISBLANK((INDIRECT(CONCATENATE(\"TabSeuil[\",RELEVE_COTES!$C$11,\"]\"))))),INDIRECT(CONCATENATE(\"TabSeuil[\",RELEVE_COTES!$C$11,\"]\",\"\")),\"\")","v":{"$error":"#VALUE!"}},{"$f":"IF(CR2<>\"\",1,0)","v":{"$error":"#VALUE!"}},null,"BARRE ECARTEMENT DEMONTABLE",0,"SANS",null,"1 pt BRICARD BC 851601 - axe à 50","1 pt BRICARD BC 851601 - axe à 50","1 pt BRICARD BC 851601 - axe à 50","1 pt BRICARD BC 851601 - axe à 50","1 pt BRICARD BC 851601 - axe à 50","3 pts A2P* BRICARD 8121/A1 - T2040 - axe à 120","1 pt BRICARD BC 851601 - axe à 50","3 pts A2P* BRICARD 8121/A1 - T2040 - axe à 120","1 pt BRICARD BC 851601 - axe à 50","3 pts A2P* BRICARD 8121/A1 - T2040 - axe à 120","1 pt BRICARD BC 851601 - axe à 50","1 pt BRICARD BC 851601 - axe à 50","1 pt BRICARD BC 851601 - axe à 50","1 PT  BARRE ANTI-PANIQUE","3 pts FERCO Europa R2 - axe à 50","3 pts FERCO Europa R2 - axe à 50","3 pts BRICARD 8121-A1 A2P* - axe à 120","1 pt VACHETTE D45 standard - Têtière filante 2036 - axe à 50","3 pts BRICARD 8121-A1 A2P* - axe à 120","1 pt VACHETTE D45 standard - Têtière filante 2036 - axe à 50","1 pt VACHETTE D45 standard - Têtière filante 2036 - axe à 50","3 pts BRICARD 8121-A1 A2P* - axe à 120","3 pts BRICARD 8121-A1 A2P* - axe à 120","1 pt BRICARD standard - Têtière 230 - axe à 50","3 pts FERCO Europa R2 - axe à 50","1 pt VACHETTE D45 standard - Têtière filante 2036 - axe à 50","1 pt BRICARD standard - Têtière 230 - axe à 50","1 pt VACHETTE D45 standard- Têtière 230 - axe à 50","1 pt VACHETTE D45 standard- Têtière 230 - axe à 50","1 pt VACHETTE D45 standard- Têtière 230 - axe à 50","1 pt VACHETTE D45 standard- Têtière 230 - axe à 50",null,{"$f":"IF(NOT(ISBLANK((INDIRECT(CONCATENATE(\"TabSerrure[\",RELEVE_COTES!$C$11,\"]\"))))),INDIRECT(CONCATENATE(\"TabSerrure[\",RELEVE_COTES!$C$11,\"]\")),\"\")","v":{"$error":"#VALUE!"}},{"$f":"IF(REF!$EE2<>\"\",1,0)","v":{"$error":"#VALUE!"}},null,"1 pt VACHETTE BCC D453 - axe à 50","1PT_D45",1045,1020,25,0,"SANS",null,"U+F+P","Usinage, fourniture et pose",null," SANS"," SANS"," SANS"," SANS"," SANS"," SANS"," SANS"," SANS"," SANS"," SANS"," SANS"," SANS"," SANS","Alba","Alter","Alter","Alter","Alter","Alter","Alter","Alter","Lisse","Alter","Alter","Lisse","Lisse","Lisse","Lisse","Lisse","Lisse",null,{"$f":"IF(NOT(ISBLANK((INDIRECT(CONCATENATE(\"TabDécorExt[\",RELEVE_COTES!$C$11,\"]\"))))),INDIRECT(CONCATENATE(\"TabDécorExt[\",RELEVE_COTES!$C$11,\"]\",\"\")),\"\")","v":{"$error":"#VALUE!"}},{"$f":"IF(FX2<>\"\",1,0)","v":{"$error":"#VALUE!"}},null,"Pr.Peint","PP",null,"Pr.Peint","Pr.Peint","Pr.Peint","Pr.Peint","Pr.Peint","Pr.Peint","Pr.Peint","Pr.Peint","Pr.Peint","Pr.Peint","Pr.Peint","Pr.Peint","Pr.Peint","Pr.Peint","Pr.Peint","Pr.Peint","Pr.Peint","Pr.Peint","Pr.Peint","Pr.Peint","Pr.Peint","Pr.Peint","A définir","Pr.Peint","Pr.Peint","Pr.Peint","Pr.Peint","Pr.Peint","Pr.Peint","Pr.Peint","Pr.Peint",null,{"$f":"IF(NOT(ISBLANK((INDIRECT(CONCATENATE(\"TabFinExt[\",RELEVE_COTES!$C$11,\"]\"))))),INDIRECT(CONCATENATE(\"TabFinExt[\",RELEVE_COTES!$C$11,\"]\",\"\")),\"\")","v":{"$error":"#VALUE!"}},{"$f":"IF(HJ2<>\"\",1,0)","v":{"$error":"#VALUE!"}},null," SANS"," SANS"," SANS"," SANS"," SANS"," SANS"," SANS"," SANS"," SANS"," SANS"," SANS"," SANS"," SANS","Alter","Alter","Alter","Alter","Alter","Alter","Alter","Alter","Alter","Alter","Alter","Lisse","Lisse","Lisse","Lisse","Lisse","Lisse",null,{"$f":"IF(NOT(ISBLANK((INDIRECT(CONCATENATE(\"TabDécorInt[\",RELEVE_COTES!$C$11,\"]\"))))),INDIRECT(CONCATENATE(\"TabDécorInt[\",RELEVE_COTES!$C$11,\"]\",\"\")),\"\")","v":{"$error":"#VALUE!"}},{"$f":"IF(IR2<>\"\",1,0)","v":{"$error":"#VALUE!"}},null,"Pr.Peint","Pr.Peint","Pr.Peint","Pr.Peint","Pr.Peint","Pr.Peint","Pr.Peint","Pr.Peint","Pr.Peint","Pr.Peint","Pr.Peint","Pr.Peint","Pr.Peint","Pr.Peint","Pr.Peint","Pr.Peint","Pr.Peint","Pr.Peint","Pr.Peint","Pr.Peint","Pr.Peint","Pr.Peint","Pr.Peint","Pr.Peint","Pr.Peint","Idem Face Extérieure","Pr.Peint","Pr.Peint","Pr.Peint","Pr.Peint",null,{"$f":"IF(NOT(ISBLANK((INDIRECT(CONCATENATE(\"TabFinInt[\",RELEVE_COTES!$C$11,\"]\"))))),INDIRECT(CONCATENATE(\"TabFinInt[\",RELEVE_COTES!$C$11,\"]\",\"\")),\"\")","v":{"$error":"#VALUE!"}},{"$f":"IF(JZ2<>\"\",1,0)","v":{"$error":"#VALUE!"}},null,"ACACIA DE LAKELAND CREME H12770","H12770","STRATIFIE",null,"PAP","PAP","PAP",null,"Pr.Peint",null,"Nuancier standard",null,null,"SANS",null,"U+F",null,"FOUILLOT","ROSACE",null,{"$f":"IF(NOT(ISBLANK((INDIRECT(CONCATENATE(\"TabGarniture[\",RELEVE_COTES!$C$9,\"]\"))))),INDIRECT(CONCATENATE(\"TabGarniture[\",RELEVE_COTES!$C$9,\"]\",\"\")),\"\")","v":{"$error":"#VALUE!"}},{"$f":"IF(KW2<>\"\",1,0)","v":{"$error":"#VALUE!"}},null,"SANS","SANS",null,{"$f":"IF(NOT(ISBLANK((INDIRECT(CONCATENATE(\"TabMicroviseur[\",RELEVE_COTES!$C$9,\"]\"))))),INDIRECT(CONCATENATE(\"TabMicroviseur[\",RELEVE_COTES!$C$9,\"]\",\"\")),\"\")","v":{"$error":"#VALUE!"}},{"$f":"IF(LC2<>\"\",1,0)","v":{"$error":"#VALUE!"}},null,"SANS","Intégré",null,{"$f":"IF(ISERROR(FIND(\"entrebailleur\",RELEVE_COTES!$K$11)),\"Déporté\",\"Intégré\")","v":"Déporté"},null,{"$f":"IF(NOT(ISBLANK((INDIRECT(CONCATENATE(\"TabEntrebailleur[\",LI$2,\"]\"))))),INDIRECT(CONCATENATE(\"TabEntrebailleur[\",LI$2,\"]\",\"\")),\"\")","v":"SANS"},{"$f":"IF(LK2<>\"\",1,0)","v":1},null,"EGAUX",null,"GP",null,"Huisserie Banchée","HAG (Huisserie Avant Gorge) / HAPG (Huisserie Après Gorge)","HAG / HAPG","BANCHE",null,"Huisserie Avant Gorge","Huisserie Sur Parement","Huisserie Sur Parement",null,null,"AVANT CHANT PLAT"]
["PORTE METALLIQUE",null,"29RR31S-R01","COURSIPAC4F 44",null,{"$f":"IF(NOT(ISBLANK((INDIRECT(CONCATENATE(\"Tabportes[\",RELEVE_COTES!$C$9,\"]\"))))),INDIRECT(CONCATENATE(\"Tabportes[\",RELEVE_COTES!$C$9,\"]\",\"\")),\"\")","v":{"$error":"#VALUE!"}},{"$f":"IF(F3<>\"\",1,0)","v":{"$error":"#VALUE!"}},null,"29RR31S-R01",2,"RH6",1,49,16,null,null,"vérins + vérins",null,{"$f":"IF(NOT(ISBLANK((INDIRECT(CONCATENATE(\"TabFixation[\",RELEVE_COTES!$C$9,\"]\"))))),INDIRECT(CONCATENATE(\"TabFixation[\",RELEVE_COTES!$C$9,\"]\",\"\")),\"\")","v":{"$error":"#VALUE!"}},{"$f":"IF(S3<>\"\",1,0)","v":{"$error":"#VALUE!"}},null,"universelles 130x86 - Inox","universelles 130x86 - Inox","universelles 130x86 - Inox","universelles 130x86 - Inox","universelles 130x86 - Inox",null,"universelles 130x86 - Inox",null,"universelles 130x86 - Inox",null,null,"universelles 130x86 - Inox","universelles 130x86 - Inox","4 fiches double broche + 2 antidégonds","4 fiches double broche + 2 antidégonds",null,null,null,null,null,null,null,"2 fiches double broche + 2 antidégonds","2 ou 3 fiches double broche + 2 antidégonds","3 paumelles universelles 130x86 + 3 antidégonds","4 paumelles universelles 130x86 + 3 antidégonds",null,null,null,null,null,{"$f":"IF(NOT(ISBLANK((INDIRECT(CONCATENATE(\"TabFerrage[\",RELEVE_COTES!$C$11,\"]\"))))),INDIRECT(CONCATENATE(\"TabFerrage[\",RELEVE_COTES!$C$11,\"]\",\"\")),\"\")","v":{"$error":"#VALUE!"}},{"$f":"IF(BA3<>\"\",1,0)","v":{"$error":"#VALUE!"}},null,"universelles 130x86 - Zingué","Laquage",{"$f":"CONCATENATE(TabFerrageRef[[#This Row],[Paumelles]],\" / \",TabFerrageRef[[#This Row],[HM]])","v":"universelles 130x86 - Zingué / Laquage"},"130X86","VISSEE","SANS",0,null,"SEUIL ACIER PLAT SOUDE HANDICAPE","SEUIL ACIER PLAT SOUDE HANDICAPE","SEUIL ACIER PLAT SOUDE HANDICAPE","SEUIL ACIER PLAT SOUDE HANDICAPE","SEUIL ACIER PLAT SOUDE HANDICAPE","SEUIL ACIER PLAT SOUDE HANDICAPE","SEUIL ACIER PLAT SOUDE HANDICAPE","SEUIL ACIER PLAT SOUDE HANDICAPE","SEUIL ACIER PLAT SOUDE HANDICAPE","SEUIL ACIER PLAT SOUDE HANDICAPE","SEUIL ACIER PLAT SOUDE HANDICAPE","SEUIL ACIER PLAT SOUDE HANDICAPE","SEUIL ACIER PLAT SOUDE HANDICAPE","SEUIL ACIER PLAT SOUDE HANDICAPE","Seuil Alu de 35 mm","Seuil Alu de 35 mm","Seuil Alu de 35 mm","Seuil Alu de 35 mm","Seuil Alu de 35 mm","Seuil Alu de 35 mm","Seuil acier isophonique RPES PMR 20 mm","Seuil acier à la suisse (doucine) 25 mm","Seuil acier à la suisse (doucine) 25 mm","Seuil Alu de 35 mm","Seuil Alu de 35 mm",null,null,null,"Seuil inox isophonique RPES PMR 20 mm","Seuil inox isophonique RPES PMR 20 mm",null,null,{"$f":"IF(NOT(ISBLANK((INDIRECT(CONCATENATE(\"TabSeuil[\",RELEVE_COTES!$C$11,\"]\"))))),INDIRECT(CONCATENATE(\"TabSeuil[\",RELEVE_COTES!$C$11,\"]\",\"\")),\"\")","v":{"$error":"#VALUE!"}},{"$f":"IF(CR3<>\"\",1,0)","v":{"$error":"#VALUE!"}},null,"SANS",0,"SANS",null,"1 pt BRICARD BCC 851701 - axe à 50","1 pt BRICARD BCC 851701 - axe à 50","1 pt BRICARD BCC 851701 - axe à 50","1 pt BRICARD BCC 851701 - axe à 50","1 pt BRICARD BCC 851701 - axe à 50","3 pts A2P* BRICARD 8161/A1 - T1700 - axe à 50","1 pt BRICARD BCC 851701 - axe à 50","3 pts A2P* BRICARD 8161/A1 - T1700 - axe à 50","1 pt BRICARD BCC 851701 - axe à 50","3 pts A2P* BRICARD 8161/A1 - T1700 - axe à 50","1 pt BRICARD BCC 851701 - axe à 50","1 pt BRICARD BCC 851701 - axe à 50","1 pt BRICARD BCC 851701 - axe à 50","1 PT  BC","3 pts FERCO Fercomatic R2 - axe à 50","3 pts FERCO Fercomatic R2 - axe à 50","3 pts BRICARD 8121A1 A2P* avec entrebailleur intégré - axe à 120","3 pts BRICARD 8120-A1 standard - axe à 120","3 pts BRICARD 8121A1 A2P* avec entrebailleur intégré - axe à 120","3 pts BRICARD 8120-A1 standard - axe à 120","3 pts BRICARD 8120-A1 standard - axe à 120","3 pts BRICARD 8121A1 A2P* avec entrebailleur intégré - axe à 120","3 pts BRICARD 8121A1 A2P* avec entrebailleur intégré - axe à 120","1 pt VACHETTE D45 standard - Têtière filante 2036 - axe à 50","3 pts FERCO Fercomatic R2 - axe à 50","3 pts BRICARD 8120-A1 standard - axe à 120","1 pt VACHETTE D45 standard- Têtière 230 - axe à 50","Barre anti-panique grise 1 pt (longueur 1200 mm)","Barre anti-panique grise 1 pt (longueur 1200 mm)","Barre anti-panique grise 1 pt (longueur 1200 mm)","Barre anti-panique grise 1 pt (longueur 1200 mm)",null,{"$f":"IF(NOT(ISBLANK((INDIRECT(CONCATENATE(\"TabSerrure[\",RELEVE_COTES!$C$11,\"]\"))))),INDIRECT(CONCATENATE(\"TabSerrure[\",RELEVE_COTES!$C$11,\"]\")),\"\")","v":{"$error":"#VALUE!"}},{"$f":"IF(REF!$EE3<>\"\",1,0)","v":{"$error":"#VALUE!"}},null,"1 pt VACHETTE BC D452 - axe à 50","1PT_D45",1045,1020,25,0,"SANS",null,"U+F","Usinage, fourniture",null,"ALTEA","ALTEA","ALTEA","ALTEA","ALTEA","ALTEA","ALTEA","ALTEA","ALTEA","ALTEA","ALTEA","ALTEA","ALTEA","Allure","Caractère","Caractère","Caractère","Caractère","Caractère","Caractère","Caractère",null,"Anaïs","Anaïs",null,null,null,null,null,null,null,{"$f":"IF(NOT(ISBLANK((INDIRECT(CONCATENATE(\"TabDécorExt[\",RELEVE_COTES!$C$11,\"]\"))))),INDIRECT(CONCATENATE(\"TabDécorExt[\",RELEVE_COTES!$C$11,\"]\",\"\")),\"\")","v":{"$error":"#VALUE!"}},{"$f":"IF(FX3<>\"\",1,0)","v":{"$error":"#VALUE!"}},null,"Stratifié","Strat.",null,"Hors Nuancier","Hors Nuancier","Hors Nuancier","Hors Nuancier","Hors Nuancier","Hors Nuancier","Hors Nuancier","Hors Nuancier","Hors Nuancier","Hors Nuancier","Hors Nuancier","Hors Nuancier","Hors Nuancier","Nuancier standard","Nuancier standard","Nuancier standard","Nuancier standard","Nuancier standard","Nuancier standard","Nuancier standard","SKINPLATE","SKINPLATE","A peindre / à décorer","Nuancier standard","Nuancier standard","Nuancier standard","Nuancier standard","Nuancier standard","Nuancier standard","Nuancier standard","Nuancier standard",null,{"$f":"IF(NOT(ISBLANK((INDIRECT(CONCATENATE(\"TabFinExt[\",RELEVE_COTES!$C$11,\"]\"))))),INDIRECT(CONCATENATE(\"TabFinExt[\",RELEVE_COTES!$C$11,\"]\",\"\")),\"\")","v":{"$error":"#VALUE!"}},{"$f":"IF(HJ3<>\"\",1,0)","v":{"$error":"#VALUE!"}},null,"ALTEA","ALTEA","ALTEA","ALTEA","ALTEA","ALTEA","ALTEA","ALTEA","ALTEA","ALTEA","ALTEA","ALTEA","ALTEA","Anaïs","Caractère","Caractère","Caractère","Caractère","Caractère","Caractère","Caractère","Caractère","Anaïs","Anaïs",null,null,null,null,null,null,null,{"$f":"IF(NOT(ISBLANK((INDIRECT(CONCATENATE(\"TabDécorInt[\",RELEVE_COTES!$C$11,\"]\"))))),INDIRECT(CONCATENATE(\"TabDécorInt[\",RELEVE_COTES!$C$11,\"]\",\"\")),\"\")","v":{"$error":"#VALUE!"}},{"$f":"IF(IR3<>\"\",1,0)","v":{"$error":"#VALUE!"}},null,"Hors Nuancier","Hors Nuancier","Hors Nuancier","Hors Nuancier","Hors Nuancier","Hors Nuancier","Hors Nuancier","Hors Nuancier","Hors Nuancier","Hors Nuancier","Hors Nuancier","Hors Nuancier","Hors Nuancier","SKINPLATE","SKINPLATE","SKINPLATE","SKINPLATE","SKINPLATE","SKINPLATE","SKINPLATE","SKINPLATE","SKINPLATE","SKINPLATE","SKINPLATE","Nuancier standard",null,"Nuancier standard","Nuancier standard","Nuancier standard","Nuancier standard",null,{"$f":"IF(NOT(ISBLANK((INDIRECT(CONCATENATE(\"TabFinInt[\",RELEVE_COTES!$C$11,\"]\"))))),INDIRECT(CONCATENATE(\"TabFinInt[\",RELEVE_COTES!$C$11,\"]\",\"\")),\"\")","v":{"$error":"#VALUE!"}},{"$f":"IF(JZ3<>\"\",1,0)","v":{"$error":"#VALUE!"}},null,"ALPINO F1040","F1040","STRATIFIE",null,"PAP","LAQUE","LAQUE",null,"Laquage",null,"RAL 1015 Ivoire clair",1015,null,"CYLINDRE ",null,"US",null,"ROSACE","DOUBLE BEQUILLE",null,{"$f":"IF(NOT(ISBLANK((INDIRECT(CONCATENATE(\"TabGarniture[\",RELEVE_COTES!$C$9,\"]\"))))),INDIRECT(CONCATENATE(\"TabGarniture[\",RELEVE_COTES!$C$9,\"]\",\"\")),\"\")","v":{"$error":"#VALUE!"}},{"$f":"IF(KW3<>\"\",1,0)","v":{"$error":"#VALUE!"}},null,"PENTAQ  EI60","Microviseur",null,{"$f":"IF(NOT(ISBLANK((INDIRECT(CONCATENATE(\"TabMicroviseur[\",RELEVE_COTES!$C$9,\"]\"))))),INDIRECT(CONCATENATE(\"TabMicroviseur[\",RELEVE_COTES!$C$9,\"]\",\"\")),\"\")","v":{"$error":"#VALUE!"}},{"$f":"IF(LC3<>\"\",1,0)","v":{"$error":"#VALUE!"}},null,"Déporté",null,null,null,null,{"$f":"IF(NOT(ISBLANK((INDIRECT(CONCATENATE(\"TabEntrebailleur[\",LI$2,\"]\"))))),INDIRECT(CONCATENATE(\"TabEntrebailleur[\",LI$2,\"]\",\"\")),\"\")","v":"Déporté"},{"$f":"IF(LK3<>\"\",1,0)","v":1},null,"INEGAUX",null,"DP",null,"Bâti Scellé","HSP (Huisserie Sur Parement) / HAP (Huisserie Après Parement)","HSP / HAP","ACIER",null,"Huisserie Après Gorge","Huisserie Après Parement","Huisserie Après Parement",null,"Huisserie Sur Chant Plat","DESSUS CHANT PLAT"]
[null,null,"35-R31S-R01","COURSIPAC 4F A2P BP1",null,{"$f":"IF(NOT(ISBLANK((INDIRECT(CONCATENATE(\"Tabportes[\",RELEVE_COTES!$C$9,\"]\"))))),INDIRECT(CONCATENATE(\"Tabportes[\",RELEVE_COTES!$C$9,\"]\",\"\")),\"\")","v":{"$error":"#VALUE!"}},{"$error":"#VALUE!"},null,"35-R31S-R01",3,"RH6",1,49,16,null,null,"vis + vérins",null,{"$f":"IF(NOT(ISBLANK((INDIRECT(CONCATENATE(\"TabFixation[\",RELEVE_COTES!$C$9,\"]\"))))),INDIRECT(CONCATENATE(\"TabFixation[\",RELEVE_COTES!$C$9,\"]\",\"\")),\"\")","v":{"$error":"#VALUE!"}},{"$error":"#VALUE!"},null,"universelles 130x86 - Zingué","universelles 130x86 - Zingué","universelles 130x86 - Zingué","universelles 130x86 - Zingué","universelles 130x86 - Zingué",null,"universelles 130x86 - Zingué",null,"universelles 130x86 + antidégonds",null,null,"universelles 130x86 + antidégonds","universelles 130x86 + antidégonds",null,null,null,null,null,null,null,null,null,null,null,null,null,null,null,null,null,null,{"$f":"IF(NOT(ISBLANK((INDIRECT(CONCATENATE(\"TabFerrage[\",RELEVE_COTES!$C$11,\"]\"))))),INDIRECT(CONCATENATE(\"TabFerrage[\",RELEVE_COTES!$C$11,\"]\",\"\")),\"\")","v":{"$error":"#VALUE!"}},{"$error":"#VALUE!"},null,"universelles 130x86 - Inox","Pr.Peint",{"$f":"CONCATENATE(TabFerrageRef[[#This Row],[Paumelles]],\" / \",TabFerrageRef[[#This Row],[HM]])","v":"universelles 130x86 - Inox / Pr.Peint"},"130X86","VISSEE","SANS",0,null,"SEUIL SUISSE BER SECTION 56 X 18","SEUIL ALUMINIUM TYPE BILCOCQ","SEUIL ALUMINIUM TYPE BILCOCQ","SEUIL ALUMINIUM TYPE BILCOCQ","SEUIL ALUMINIUM TYPE BILCOCQ","SEUIL ALUMINIUM TYPE BILCOCQ","SEUIL ALUMINIUM TYPE BILCOCQ","SEUIL ALUMINIUM TYPE BILCOCQ","SEUIL ALUMINIUM TYPE BILCOCQ","SEUIL ALUMINIUM TYPE BILCOCQ","SEUIL ALUMINIUM TYPE BILCOCQ","SEUIL ALUMINIUM TYPE BILCOCQ","SEUIL ALUMINIUM TYPE BILCOCQ","SEUIL ALUMINIUM TYPE BILCOCQ",null,null,null,"Seuil acier à la suisse (doucine) 25 mm",null,"Seuil acier à la suisse (doucine) PMR 20 mm","Seuil acier isophonique RPES 25 mm","Seuil acier à la suisse (doucine) 30 mm","Seuil acier à la suisse (doucine) 30 mm","Seuil acier à la suisse (doucine) PMR 20 mm",null,null,null,null,null,null,null,null,{"$f":"IF(NOT(ISBLANK((INDIRECT(CONCATENATE(\"TabSeuil[\",RELEVE_COTES!$C$11,\"]\"))))),INDIRECT(CONCATENATE(\"TabSeuil[\",RELEVE_COTES!$C$11,\"]\",\"\")),\"\")","v":{"$error":"#VALUE!"}},{"$error":"#VALUE!"},null,"SEUIL INOX HANDICAPE",16.5,"SEUIL_ISO_PL_INOX",null,"1 pt BRICARD sureté 850121 - axe à 50","1 pt BRICARD sureté 850121 - axe à 50","1 pt BRICARD sureté 850121 - axe à 50","1 pt BRICARD sureté 850121 - axe à 50","1 pt BRICARD sureté 850121 - axe à 50","3 pts A2P* BRICARD 8161/A1 - T2040 - axe à 50","1 pt BRICARD sureté 850121 - axe à 50","3 pts A2P* BRICARD 8161/A1 - T2040 - axe à 50","1 pt BRICARD sureté 850121 - axe à 50","3 pts A2P* BRICARD 8161/A1 - T2040 - axe à 50","1 pt BRICARD sureté 850121 - axe à 50","1 pt BRICARD sureté 850121 - axe à 50","1 pt BRICARD sureté 850121 - axe à 50","1 PT  BC EDF/GDF 40 719FR SBC044","3 pts FERCO SECURY PP SF2 A2P* - axe à 50","3 pts FERCO SECURY PP SF2 A2P* - axe à 50","3 pts BRICARD 8161-A1 A2P* - axe à 50","3 pts BRICARD 8120A1 standard avec entrebailleur intégré - axe à 120","3 pts BRICARD 8161-A1 A2P* - axe à 50","3 pts BRICARD 8120A1 standard avec entrebailleur intégré - axe à 120","3 pts BRICARD 8120A1 standard avec entrebailleur intégré - axe à 120","3 pts BRICARD 8161-A1 A2P* - axe à 50","3 pts BRICARD 8161-A1 A2P* - axe à 50","1 pt VACHETTE D45 standard- Têtière 230 - axe à 50","3 pts FERCO SECURY PP SF2 A2P* - axe à 50","3 pts BRICARD 8150-A1 standard - axe à 50","3 pts BRICARD 8120-A1 standard - axe à 120","Barre anti-panique grise 1 pt (longueur 900 mm)","Barre anti-panique grise 1 pt (longueur 900 mm)","Barre anti-panique grise 1 pt (longueur 900 mm)","Barre anti-panique grise 1 pt (longueur 900 mm)",null,{"$f":"IF(NOT(ISBLANK((INDIRECT(CONCATENATE(\"TabSerrure[\",RELEVE_COTES!$C$11,\"]\"))))),INDIRECT(CONCATENATE(\"TabSerrure[\",RELEVE_COTES!$C$11,\"]\")),\"\")","v":{"$error":"#VALUE!"}},{"$f":"IF(REF!$EE4<>\"\",1,0)","v":{"$error":"#VALUE!"}},null,"1 pt VACHETTE sureté D455 - axe à 50","1PT_D45",1045,1020,25,0,"SANS",null,"US","Usinage",null,"ALTER","ALTER","ALTER","ALTER","ALTER","ALTER","ALTER","ALTER","ALTER","ALTER","ALTER","ALTER","ALTER","Alter","Cloé","Cloé","Cloé","Cloé","Cloé","Cloé","Cloé",null,"Attraction","Attraction",null,null,null,null,null,null,null,{"$f":"IF(NOT(ISBLANK((INDIRECT(CONCATENATE(\"TabDécorExt[\",RELEVE_COTES!$C$11,\"]\"))))),INDIRECT(CONCATENATE(\"TabDécorExt[\",RELEVE_COTES!$C$11,\"]\",\"\")),\"\")","v":{"$error":"#VALUE!"}},{"$error":"#VALUE!"},null,null,null,null,"ACACIA DE LAKELAND CREME H12770","ACACIA DE LAKELAND CREME H12770","ACACIA DE LAKELAND CREME H12770","ACACIA DE LAKELAND CREME H12770","ACACIA DE LAKELAND CREME H12770","ACACIA DE LAKELAND CREME H12770","ACACIA DE LAKELAND CREME H12770","ACACIA DE LAKELAND CREME H12770","ACACIA DE LAKELAND CREME H12770","ACACIA DE LAKELAND CREME H12770","ACACIA DE LAKELAND CREME H12770","ACACIA DE LAKELAND CREME H12770","ACACIA DE LAKELAND CREME H12770","RAL 1015 Ivoire clair","RAL 1015 Ivoire clair","RAL 1015 Ivoire clair","RAL 1015 Ivoire clair","RAL 1015 Ivoire clair","RAL 1015 Ivoire clair","RAL 1015 Ivoire clair","Acajou","Acajou","Acacia clair","RAL 1015 Ivoire clair","RAL 1015 Ivoire clair","RAL 1015 Ivoire clair","RAL 1015 Ivoire clair","RAL 1015 Ivoire clair","RAL 1015 Ivoire clair","RAL 1015 Ivoire clair","RAL 1015 Ivoire clair",null,{"$f":"IF(NOT(ISBLANK((INDIRECT(CONCATENATE(\"TabFinExt[\",RELEVE_COTES!$C$11,\"]\"))))),INDIRECT(CONCATENATE(\"TabFinExt[\",RELEVE_COTES!$C$11,\"]\",\"\")),\"\")","v":{"$error":"#VALUE!"}},{"$error":"#VALUE!"},null,"ALTER","ALTER","ALTER","ALTER","ALTER","ALTER","ALTER","ALTER","ALTER","ALTER","ALTER","ALTER","ALTER","Attraction","Cloé","Cloé","Cloé","Cloé","Cloé","Cloé","Cloé","Cloé","Attraction","Attraction",null,null,null,null,null,null,null,{"$f":"IF(NOT(ISBLANK((INDIRECT(CONCATENATE(\"TabDécorInt[\",RELEVE_COTES!$C$11,\"]\"))))),INDIRECT(CONCATENATE(\"TabDécorInt[\",RELEVE_COTES!$C$11,\"]\",\"\")),\"\")","v":{"$error":"#VALUE!"}},{"$error":"#VALUE!"},null,"ACACIA DE LAKELAND CREME H12770","ACACIA DE LAKELAND CREME H12770","ACACIA DE LAKELAND CREME H12770","ACACIA DE LAKELAND CREME H12770","ACACIA DE LAKELAND CREME H12770","ACACIA DE LAKELAND CREME H12770","ACACIA DE LAKELAND CREME H12770","ACACIA DE LAKELAND CREME H12770","ACACIA DE LAKELAND CREME H12770","ACACIA DE LAKELAND CREME H12770","ACACIA DE LAKELAND CREME H12770","ACACIA DE LAKELAND CREME H12770","ACACIA DE LAKELAND CREME H12770","Acajou","Acajou","Acajou","Acajou","Acajou","Acajou","Acajou","Acajou","Acajou","Acajou","Acajou","RAL 1015 Ivoire clair",null,"RAL 1015 Ivoire clair","RAL 1015 Ivoire clair","RAL 1015 Ivoire clair","RAL 1015 Ivoire clair",null,{"$f":"IF(NOT(ISBLANK((INDIRECT(CONCATENATE(\"TabFinInt[\",RELEVE_COTES!$C$11,\"]\"))))),INDIRECT(CONCATENATE(\"TabFinInt[\",RELEVE_COTES!$C$11,\"]\",\"\")),\"\")","v":{"$error":"#VALUE!"}},{"$error":"#VALUE!"},null,"BANIAN NOIRCI B101","B101","STRATIFIE",null,"LAQUE","PAP","LAQUE",null,null,null,"RAL 3004 Rouge pourpre",3004,null,"PROTECTEUR ",null,null,null,"EA 195","TIRAGE BEQUILLE",null,{"$f":"IF(NOT(ISBLANK((INDIRECT(CONCATENATE(\"TabGarniture[\",RELEVE_COTES!$C$9,\"]\"))))),INDIRECT(CONCATENATE(\"TabGarniture[\",RELEVE_COTES!$C$9,\"]\",\"\")),\"\")","v":{"$error":"#VALUE!"}},{"$error":"#VALUE!"},null,"MAJOR 21",null,null,{"$f":"IF(NOT(ISBLANK((INDIRECT(CONCATENATE(\"TabMicroviseur[\",RELEVE_COTES!$C$9,\"]\"))))),INDIRECT(CONCATENATE(\"TabMicroviseur[\",RELEVE_COTES!$C$9,\"]\",\"\")),\"\")","v":{"$error":"#VALUE!"}},{"$error":"#VALUE!"},null,null,null,null,null,null,null,null,null,null,null,null,null,"Huisserie Bois","HSP (Huisserie Sur Parement) / HAP (Huisserie Après Parement) / HSCP (Huisserie Sur Chant Plat) / HAPCP (Huisserie Après Chant Plat)","HSP/ HAP / HSCP / HAPCP","BOIS",null,null,null,"Huisserie Sur Chant Plat",null,null,"DESSUS CHANT PLAT ET AVANT ECOINCON"]
[null,null,"35RR31S-R01","LOGIBLIND 4F A2P BP1",null,{"$f":"IF(NOT(ISBLANK((INDIRECT(CONCATENATE(\"Tabportes[\",RELEVE_COTES!$C$9,\"]\"))))),INDIRECT(CONCATENATE(\"Tabportes[\",RELEVE_COTES!$C$9,\"]\",\"\")),\"\")","v":{"$error":"#VALUE!"}},{"$error":"#VALUE!"},null,"35RR31S-R01",4,"RH6",1,49,16,null,null,null,null,null,null,null,"universelles 130x86 + antidégonds","universelles 130x86 + antidégonds","universelles 130x86 + antidégonds","universelles 130x86 + antidégonds","universelles 130x86 + antidégonds"," ","universelles 130x86 + antidégonds",null,"picarde 160x80",null,null,"picarde 160x80","picarde 160x80",null,null,null,null,null,null,null,null,null,null,null,null,null,null,null,null,null,null,{"$f":"IF(NOT(ISBLANK((INDIRECT(CONCATENATE(\"TabFerrage[\",RELEVE_COTES!$C$11,\"]\"))))),INDIRECT(CONCATENATE(\"TabFerrage[\",RELEVE_COTES!$C$11,\"]\",\"\")),\"\")","v":{"$error":"#VALUE!"}},{"$error":"#VALUE!"},null,"universelles 130x86 - Inox","Laquage",{"$f":"CONCATENATE(TabFerrageRef[[#This Row],[Paumelles]],\" / \",TabFerrageRef[[#This Row],[HM]])","v":"universelles 130x86 - Inox / Laquage"},"130X86","VISSEE","SANS",0,null,null,"SEUIL INOX HANDICAPE","SEUIL INOX HANDICAPE","SEUIL INOX HANDICAPE","SEUIL INOX HANDICAPE","SEUIL INOX HANDICAPE","SEUIL INOX HANDICAPE","SEUIL INOX HANDICAPE","SEUIL INOX HANDICAPE","SEUIL INOX HANDICAPE","SEUIL INOX HANDICAPE","SEUIL INOX HANDICAPE","SEUIL INOX HANDICAPE","SEUIL INOX HANDICAPE",null,null,null,"Seuil acier à la suisse (doucine) 30 mm",null,"Seuil acier à la suisse (doucine) 25 mm","Seuil acier isophonique RPES 30 mm","Seuil acier à la suisse (doucine) 35 mm","Seuil acier à la suisse (doucine) 35 mm","Seuil acier à la suisse (doucine) 25 mm",null,null,null,null,null,null,null,null,{"$f":"IF(NOT(ISBLANK((INDIRECT(CONCATENATE(\"TabSeuil[\",RELEVE_COTES!$C$11,\"]\"))))),INDIRECT(CONCATENATE(\"TabSeuil[\",RELEVE_COTES!$C$11,\"]\",\"\")),\"\")","v":{"$error":"#VALUE!"}},{"$error":"#VALUE!"},null,"SEUIL ACIER PLAT SOUDE HANDICAPE",16.5,"SEUIL_ISO_PL_ACIER",null,"1 pt DENY BC 1149011 - axe à 120","1 pt MARQUES BC 7250 - axe à 50","1 pt DENY BC 1149011 - axe à 120","1 pt MARQUES BC 7250 - axe à 50","1 pt MARQUES BC 7250 - axe à 50","3 pts A2P* FERCO Secury PP MR2 - T1700 - axe à 50","1 pt DENY BC 1149011 - axe à 120","3 pts A2P* FERCO Secury PP MR2 - T1700 - axe à 50","1 pt DENY BC 1149011 - axe à 120","3 pts A2P* FERCO Secury PP MR2 - T1700 - axe à 50","1 pt MARQUES BC 7250 - axe à 50","1 pt DENY BC 1149011 - axe à 120","1 pt MARQUES BC 725 - axe à 60","1 PT  BCC","3 pts FERCO SECURY PP SF2 standard - axe à 50","3 pts FERCO SECURY PP SF2 standard - axe à 50","3 pts BRICARD 8161A1 A2P* avec entrebailleur intégré - axe à 50","3 pts BRICARD 8121-A1 A2P* - axe à 120","3 pts BRICARD 8161A1 A2P* avec entrebailleur intégré - axe à 50","3 pts BRICARD 8121-A1 A2P* - axe à 120","3 pts BRICARD 8121-A1 A2P* - axe à 120","3 pts BRICARD 8161A1 A2P* avec entrebailleur intégré - axe à 50","3 pts BRICARD 8161A1 A2P* avec entrebailleur intégré - axe à 50","3 pts BRICARD 8120-A1 standard - axe à 120","3 pts FERCO SECURY PP SF2 standard - axe à 50","3 pts BRICARD 8161-A1 A2P* - axe à 50","3 pts BRICARD 8150-A1 standard - axe à 50","Barre anti-panique grise 3 pts latéraux (longueur 1200 mm)","Barre anti-panique grise 3 pts latéraux (longueur 1200 mm)","Barre anti-panique grise 3 pts latéraux (longueur 1200 mm)","Barre anti-panique grise 3 pts latéraux (longueur 1200 mm)",null,{"$f":"IF(NOT(ISBLANK((INDIRECT(CONCATENATE(\"TabSerrure[\",RELEVE_COTES!$C$11,\"]\"))))),INDIRECT(CONCATENATE(\"TabSerrure[\",RELEVE_COTES!$C$11,\"]\")),\"\")","v":{"$error":"#VALUE!"}},{"$f":"IF(REF!$EE5<>\"\",1,0)","v":{"$error":"#VALUE!"}},null,"1 pt VACHETTE BC D452 carre 8 mm - axe à 50","1PT_D45",1045,1020,25,0,"SANS",null,"M+T","Mortaise, Têtière",null,"ARDECO","ARDECO","ARDECO","ARDECO","ARDECO","ARDECO","ARDECO","ARDECO","ARDECO","ARDECO","ARDECO","ARDECO","ARDECO","Altitude","Distinction","Distinction","Distinction","Distinction","Distinction","Distinction","Distinction",null,"Aube","Aube",null,null,null,null,null,null,null,{"$f":"IF(NOT(ISBLANK((INDIRECT(CONCATENATE(\"TabDécorExt[\",RELEVE_COTES!$C$11,\"]\"))))),INDIRECT(CONCATENATE(\"TabDécorExt[\",RELEVE_COTES!$C$11,\"]\",\"\")),\"\")","v":{"$error":"#VALUE!"}},{"$error":"#VALUE!"},null,null,null,null,"ALPINO F1040","ALPINO F1040","ALPINO F1040","ALPINO F1040","ALPINO F1040","ALPINO F1040","ALPINO F1040","ALPINO F1040","ALPINO F1040","ALPINO F1040","ALPINO F1040","ALPINO F1040","ALPINO F1040","RAL 3004 Rouge pourpre","RAL 3004 Rouge pourpre","RAL 3004 Rouge pourpre","RAL 3004 Rouge pourpre","RAL 3004 Rouge pourpre","RAL 3004 Rouge pourpre","RAL 3004 Rouge pourpre","Chêne verade","Chêne verade","Bois fumé brut","RAL 3004 Rouge pourpre","RAL 3004 Rouge pourpre","RAL 3004 Rouge pourpre","RAL 3004 Rouge pourpre","RAL 3004 Rouge pourpre","RAL 3004 Rouge pourpre","RAL 3004 Rouge pourpre","RAL 3004 Rouge pourpre",null,{"$f":"IF(NOT(ISBLANK((INDIRECT(CONCATENATE(\"TabFinExt[\",RELEVE_COTES!$C$11,\"]\"))))),INDIRECT(CONCATENATE(\"TabFinExt[\",RELEVE_COTES!$C$11,\"]\",\"\")),\"\")","v":{"$error":"#VALUE!"}},{"$error":"#VALUE!"},null,"ARDECO","ARDECO","ARDECO","ARDECO","ARDECO","ARDECO","ARDECO","ARDECO","ARDECO","ARDECO","ARDECO","ARDECO","ARDECO","Aube","Distinction","Distinction","Distinction","Distinction","Distinction","Distinction","Distinction","Distinction","Aube","Aube",null,null,null,null,null,null,null,{"$f":"IF(NOT(ISBLANK((INDIRECT(CONCATENATE(\"TabDécorInt[\",RELEVE_COTES!$C$11,\"]\"))))),INDIRECT(CONCATENATE(\"TabDécorInt[\",RELEVE_COTES!$C$11,\"]\",\"\")),\"\")","v":{"$error":"#VALUE!"}},{"$error":"#VALUE!"},null,"ALPINO F1040","ALPINO F1040","ALPINO F1040","ALPINO F1040","ALPINO F1040","ALPINO F1040","ALPINO F1040","ALPINO F1040","ALPINO F1040","ALPINO F1040","ALPINO F1040","ALPINO F1040","ALPINO F1040","Chêne verade","Chêne verade","Chêne verade","Chêne verade","Chêne verade","Chêne verade","Chêne verade","Chêne verade","Chêne verade","Chêne verade","Chêne verade","RAL 3004 Rouge pourpre",null,"RAL 3004 Rouge pourpre","RAL 3004 Rouge pourpre","RAL 3004 Rouge pourpre","RAL 3004 Rouge pourpre",null,{"$f":"IF(NOT(ISBLANK((INDIRECT(CONCATENATE(\"TabFinInt[\",RELEVE_COTES!$C$11,\"]\"))))),INDIRECT(CONCATENATE(\"TabFinInt[\",RELEVE_COTES!$C$11,\"]\",\"\")),\"\")","v":{"$error":"#VALUE!"}},{"$error":"#VALUE!"},null,"BLANC MEGEVE B070","B070","STRATIFIE",null,"LAQUE","LAQUE","LAQUE",null,null,null,"RAL 5013 Bleu cobalt",5013,null,null,null,null,null,"DOUBLE BEQUILLE ZEN CHAMP. POI017",null,null,{"$f":"IF(NOT(ISBLANK((INDIRECT(CONCATENATE(\"TabGarniture[\",RELEVE_COTES!$C$9,\"]\"))))),INDIRECT(CONCATENATE(\"TabGarniture[\",RELEVE_COTES!$C$9,\"]\",\"\")),\"\")","v":{"$error":"#VALUE!"}},{"$error":"#VALUE!"},null,null,null,null,null,null,null,null,null,null,null,null,null,null,null,null,null,null,null,null,null,null,null,null,null,null,"Huisserie Après Chant Plat",null,"Huisserie Après Chant Plat","APRES CHANT PLAT"]
[null,null,"38RR31S-R01","LOGIPAC+",null,{"$f":"IF(NOT(ISBLANK((INDIRECT(CONCATENATE(\"Tabportes[\",RELEVE_COTES!$C$9,\"]\"))))),INDIRECT(CONCATENATE(\"Tabportes[\",RELEVE_COTES!$C$9,\"]\",\"\")),\"\")","v":{"$error":"#VALUE!"}},{"$error":"#VALUE!"},null,"38RR31S-R01",5,"RH6",1,49,16,null,null,null,null,null,null,null,null,null,null,null,null,null,null,null,null,null,null,null,null,null,null,null,null,null,null,null,null,null,null,null,null,null,null,null,null,null,null,null,null,null,"universelles 130x86 + antidégonds","Pr.Peint",{"$f":"CONCATENATE(TabFerrageRef[[#This Row],[Paumelles]],\" / \",TabFerrageRef[[#This Row],[HM]])","v":"universelles 130x86 + antidégonds / Pr.Peint"},"130X86","VISSEE","ERGOTS",4,null,null,"SEUIL SUISSE BER SECTION 56 X 18","SEUIL SUISSE BER SECTION 56 X 18","SEUIL SUISSE BER SECTION 56 X 18","SEUIL SUISSE BER SECTION 56 X 18","SEUIL SUISSE BER SECTION 56 X 18","SEUIL SUISSE BER SECTION 56 X 18","SEUIL SUISSE BER SECTION 56 X 18","SEUIL SUISSE BER SECTION 56 X 18","SEUIL SUISSE BER SECTION 56 X 18","SEUIL SUISSE BER SECTION 56 X 18","SEUIL SUISSE BER SECTION 56 X 18","SEUIL SUISSE BER SECTION 56 X 18","SEUIL SUISSE BER SECTION 56 X 18",null,null,null,"Seuil acier à la suisse (doucine) 35 mm",null,"Seuil acier à la suisse (doucine) 30 mm","Seuil acier isophonique RPES 35 mm","Seuil acier à la suisse (doucine) 40 mm","Seuil acier à la suisse (doucine) 40 mm","Seuil acier à la suisse (doucine) 30 mm",null,null,null,null,null,null,null,null,{"$f":"IF(NOT(ISBLANK((INDIRECT(CONCATENATE(\"TabSeuil[\",RELEVE_COTES!$C$11,\"]\"))))),INDIRECT(CONCATENATE(\"TabSeuil[\",RELEVE_COTES!$C$11,\"]\",\"\")),\"\")","v":{"$error":"#VALUE!"}},{"$error":"#VALUE!"},null,"SEUIL INOX PAREMENT 10MM",25,"SEUIL_ISO_INOX",null,"1 pt DENY BCC 1149161 - axe à 120","1 pt MARQUES BCC 7250 - axe à 50","1 pt DENY BCC 1149161 - axe à 120","1 pt MARQUES BCC 7250 - axe à 50","1 pt MARQUES BCC 7250 - axe à 50","3 pts A2P* FERCO Secury PP MR2 - T2040 - axe à 120","1 pt DENY BCC 1149161 - axe à 120","3 pts A2P* FERCO Secury PP MR2 - T2040 - axe à 120","1 pt DENY BCC 1149161 - axe à 120","3 pts A2P* FERCO Secury PP MR2 - T2040 - axe à 120","1 pt MARQUES BCC 7250 - axe à 50","1 pt DENY BCC 1149161 - axe à 120","1 pt MARQUES BC 7250 - axe à 50","1 PT  PD 1/2/T","4 pts VACHETTE V20000 A2P* - axe à 50","4 pts VACHETTE V20000 A2P* - axe à 50","3 pts BRICARD 8162-A1 A2P** - axe à 50","3 pts BRICARD 8121A1 A2P* avec entrebailleur intégré - axe à 120","3 pts BRICARD 8162-A1 A2P** - axe à 50","3 pts BRICARD 8121A1 A2P* avec entrebailleur intégré - axe à 120","3 pts BRICARD 8121A1 A2P* avec entrebailleur intégré - axe à 120","3 pts BRICARD 8162-A1 A2P** - axe à 50","3 pts BRICARD 8162-A1 A2P** - axe à 50","3 pts BRICARD 8121-A1 A2P* - axe à 120","4 pts VACHETTE V20000 A2P* - axe à 50","3 pts FERCO SECURY PP MR2 A2P* - axe à 50","3 pts BRICARD 8161-A1 A2P* - axe à 50","Barre anti-panique grise 3 pts latéraux (longueur 900 mm)","Barre anti-panique grise 3 pts latéraux (longueur 900 mm)","Barre anti-panique grise 3 pts latéraux (longueur 900 mm)","Barre anti-panique grise 3 pts latéraux (longueur 900 mm)",null,{"$f":"IF(NOT(ISBLANK((INDIRECT(CONCATENATE(\"TabSerrure[\",RELEVE_COTES!$C$11,\"]\"))))),INDIRECT(CONCATENATE(\"TabSerrure[\",RELEVE_COTES!$C$11,\"]\")),\"\")","v":{"$error":"#VALUE!"}},{"$f":"IF(REF!$EE6<>\"\",1,0)","v":{"$error":"#VALUE!"}},null,"1 pt VACHETTE BCC D453 carre 8 mm - axe à 50","1PT_D45",1045,1020,25,0,"SANS",null,null,null,null,"BUBBLE","BUBBLE","BUBBLE","BUBBLE","BUBBLE","BUBBLE","BUBBLE","BUBBLE","BUBBLE","BUBBLE","BUBBLE","BUBBLE","BUBBLE","Alto","Elan","Elan","Elan","Elan","Elan","Elan","Elan",null,"Aude","Aude",null,null,null,null,null,null,null,{"$f":"IF(NOT(ISBLANK((INDIRECT(CONCATENATE(\"TabDécorExt[\",RELEVE_COTES!$C$11,\"]\"))))),INDIRECT(CONCATENATE(\"TabDécorExt[\",RELEVE_COTES!$C$11,\"]\",\"\")),\"\")","v":{"$error":"#VALUE!"}},{"$error":"#VALUE!"},null,null,null,null,"BANIAN NOIRCI B101","BANIAN NOIRCI B101","BANIAN NOIRCI B101","BANIAN NOIRCI B101","BANIAN NOIRCI B101","BANIAN NOIRCI B101","BANIAN NOIRCI B101","BANIAN NOIRCI B101","BANIAN NOIRCI B101","BANIAN NOIRCI B101","BANIAN NOIRCI B101","BANIAN NOIRCI B101","BANIAN NOIRCI B101","RAL 5013 Bleu cobalt","RAL 5013 Bleu cobalt","RAL 5013 Bleu cobalt","RAL 5013 Bleu cobalt","RAL 5013 Bleu cobalt","RAL 5013 Bleu cobalt","RAL 5013 Bleu cobalt","Merisier","Merisier","Chêne blond","RAL 5013 Bleu cobalt","RAL 5013 Bleu cobalt","RAL 5013 Bleu cobalt","RAL 5013 Bleu cobalt","RAL 5013 Bleu cobalt","RAL 5013 Bleu cobalt","RAL 5013 Bleu cobalt","RAL 5013 Bleu cobalt",null,{"$f":"IF(NOT(ISBLANK((INDIRECT(CONCATENATE(\"TabFinExt[\",RELEVE_COTES!$C$11,\"]\"))))),INDIRECT(CONCATENATE(\"TabFinExt[\",RELEVE_COTES!$C$11,\"]\",\"\")),\"\")","v":{"$error":"#VALUE!"}},{"$error":"#VALUE!"},null,"BUBBLE","BUBBLE","BUBBLE","BUBBLE","BUBBLE","BUBBLE","BUBBLE","BUBBLE","BUBBLE","BUBBLE","BUBBLE","BUBBLE","BUBBLE","Aude","Elan","Elan","Elan","Elan","Elan","Elan","Elan","Elan","Aude","Aude",null,null,null,null,null,null,null,{"$f":"IF(NOT(ISBLANK((INDIRECT(CONCATENATE(\"TabDécorInt[\",RELEVE_COTES!$C$11,\"]\"))))),INDIRECT(CONCATENATE(\"TabDécorInt[\",RELEVE_COTES!$C$11,\"]\",\"\")),\"\")","v":{"$error":"#VALUE!"}},{"$error":"#VALUE!"},null,"BANIAN NOIRCI B101","BANIAN NOIRCI B101","BANIAN NOIRCI B101","BANIAN NOIRCI B101","BANIAN NOIRCI B101","BANIAN NOIRCI B101","BANIAN NOIRCI B101","BANIAN NOIRCI B101","BANIAN NOIRCI B101","BANIAN NOIRCI B101","BANIAN NOIRCI B101","BANIAN NOIRCI B101","BANIAN NOIRCI B101","Merisier","Merisier","Merisier","Merisier","Merisier","Merisier","Merisier","Merisier","Merisier","Merisier","Merisier","RAL 5013 Bleu cobalt",null,"RAL 5013 Bleu cobalt","RAL 5013 Bleu cobalt","RAL 5013 Bleu cobalt","RAL 5013 Bleu cobalt",null,{"$f":"IF(NOT(ISBLANK((INDIRECT(CONCATENATE(\"TabFinInt[\",RELEVE_COTES!$C$11,\"]\"))))),INDIRECT(CONCATENATE(\"TabFinInt[\",RELEVE_COTES!$C$11,\"]\",\"\")),\"\")","v":{"$error":"#VALUE!"}},{"$error":"#VALUE!"},null,"BLEU COSMIQUE U504","U504","STRATIFIE",null,"PAP","SKINPLATE","SKINPLATE INT",null,null,null,"RAL 7016 Gris anthracite",7016,null,null,null,null,null,"DOUBLE BEQUILLE ZEN ARGENT. POI018",null,null,{"$f":"IF(NOT(ISBLANK((INDIRECT(CONCATENATE(\"TabGarniture[\",RELEVE_COTES!$C$9,\"]\"))))),INDIRECT(CONCATENATE(\"TabGarniture[\",RELEVE_COTES!$C$9,\"]\",\"\")),\"\")","v":{"$error":"#VALUE!"}},{"$error":"#VALUE!"},null,null,null,null,null,null,null,null,null,null,null,null,null,null,null,null,null,null,null,null,null,null,null,null,null,null,null,null,"Huisserie Avant Gorge","AVANT GORGE"]
[null,null,"39BR31S-R02","LOGIPAC+38",null,{"$f":"IF(NOT(ISBLANK((INDIRECT(CONCATENATE(\"Tabportes[\",RELEVE_COTES!$C$9,\"]\"))))),INDIRECT(CONCATENATE(\"Tabportes[\",RELEVE_COTES!$C$9,\"]\",\"\")),\"\")","v":{"$error":"#VALUE!"}},{"$error":"#VALUE!"},null,"39BR31S-R02",6,"RH6",1,49,16,null,null,null,null,null,null,null,null,null,null,null,null,null,null,null,null,null,null,null,null,null,null,null,null,null,null,null,null,null,null,null,null,null,null,null,null,null,null,null,null,null,"universelles 130x86 + antidégonds","Laquage",{"$f":"CONCATENATE(TabFerrageRef[[#This Row],[Paumelles]],\" / \",TabFerrageRef[[#This Row],[HM]])","v":"universelles 130x86 + antidégonds / Laquage"},"130X86","VISSEE","ERGOTS",4,null,null,"SEUIL SUISSE BER SECTION 56 X 18","SEUIL SUISSE BER SECTION 56 X 18","SEUIL SUISSE BER SECTION 56 X 18","SEUIL SUISSE BER SECTION 56 X 18","SEUIL SUISSE BER SECTION 56 X 18","SEUIL SUISSE BER SECTION 56 X 18","SEUIL SUISSE BER SECTION 56 X 18","SEUIL SUISSE BER SECTION 56 X 18","SEUIL SUISSE BER SECTION 56 X 18","SEUIL SUISSE BER SECTION 56 X 18","SEUIL SUISSE BER SECTION 56 X 18","SEUIL SUISSE BER SECTION 56 X 18","SEUIL SUISSE BER SECTION 56 X 18",null,null,null,"Seuil acier à la suisse (doucine) 40 mm",null,"Seuil acier à la suisse (doucine) 35 mm","Seuil acier isophonique RPES 40 mm","Seuil Doucine BER 18 x 56 mm ","Seuil Doucine BER 18 x 56 mm ","Seuil acier à la suisse (doucine) 35 mm",null,null,null,null,null,null,null,null,{"$f":"IF(NOT(ISBLANK((INDIRECT(CONCATENATE(\"TabSeuil[\",RELEVE_COTES!$C$11,\"]\"))))),INDIRECT(CONCATENATE(\"TabSeuil[\",RELEVE_COTES!$C$11,\"]\",\"\")),\"\")","v":{"$error":"#VALUE!"}},{"$error":"#VALUE!"},null,"SEUIL ACIER PAREMENT 10MM",25,"SEUIL_ISO_ACIER",null,"1 pt DENY sureté 1149561 - axe à 120","1 pt MARQUES sureté 7250 - axe à 50","1 pt DENY sureté 1149561 - axe à 120","1 pt MARQUES sureté 7250 - axe à 50","1 pt MARQUES sureté 7250 - axe à 50","3 pts A2P* FERCO Secury PP MR2 - T2040 - axe à 50","1 pt DENY sureté 1149561 - axe à 120","3 pts A2P* FERCO Secury PP MR2 - T2040 - axe à 50","1 pt DENY sureté 1149561 - axe à 120","3 pts A2P* FERCO Secury PP MR2 - T2040 - axe à 50","1 pt MARQUES sureté 7250 - axe à 50","1 pt DENY sureté 1149561 - axe à 120","1 pt MARQUES BCC 725 - axe à 60","1 PT PENE DORMANT","4 pts VACHETTE V20000 standard - axe à 50","4 pts VACHETTE V20000 standard - axe à 50","3 pts BRICARD 8162A1-A2P** avec entrebailleur intégré - axe à 50","3 pts BRICARD 8150-A1 standard - axe à 50","3 pts BRICARD 8162A1-A2P** avec entrebailleur intégré - axe à 50","3 pts BRICARD 8150-A1 standard - axe à 50","3 pts BRICARD 8150-A1 standard - axe à 50","3 pts BRICARD 8162A1-A2P** avec entrebailleur intégré - axe à 50","3 pts BRICARD 8162A1-A2P** avec entrebailleur intégré - axe à 50","3 pts BRICARD 8150-A1 standard - axe à 50","4 pts VACHETTE V20000 standard - axe à 50","3 pts FERCO SECURY PP MR2 standard - axe à 50","3 pts FERCO SECURY PP MR2 A2P* - axe à 50",null,null,null,null,null,{"$f":"IF(NOT(ISBLANK((INDIRECT(CONCATENATE(\"TabSerrure[\",RELEVE_COTES!$C$11,\"]\"))))),INDIRECT(CONCATENATE(\"TabSerrure[\",RELEVE_COTES!$C$11,\"]\")),\"\")","v":{"$error":"#VALUE!"}},{"$f":"IF(REF!$EE7<>\"\",1,0)","v":{"$error":"#VALUE!"}},null,"1 pt VACHETTE sureté D455 inox - axe à 50","1PT_D45",1045,1020,25,0,"SANS",null,null,null,null,"COSMO","COSMO","COSMO","COSMO","COSMO","COSMO","COSMO","COSMO","COSMO","COSMO","COSMO","COSMO","COSMO","Anaïs","Evidence","Evidence","Evidence","Evidence","Evidence","Evidence","Evidence",null,"Aurélia","Aurélia",null,null,null,null,null,null,null,{"$f":"IF(NOT(ISBLANK((INDIRECT(CONCATENATE(\"TabDécorExt[\",RELEVE_COTES!$C$11,\"]\"))))),INDIRECT(CONCATENATE(\"TabDécorExt[\",RELEVE_COTES!$C$11,\"]\",\"\")),\"\")","v":{"$error":"#VALUE!"}},{"$error":"#VALUE!"},null,null,null,null,"BLANC MEGEVE B070","BLANC MEGEVE B070","BLANC MEGEVE B070","BLANC MEGEVE B070","BLANC MEGEVE B070","BLANC MEGEVE B070","BLANC MEGEVE B070","BLANC MEGEVE B070","BLANC MEGEVE B070","BLANC MEGEVE B070","BLANC MEGEVE B070","BLANC MEGEVE B070","BLANC MEGEVE B070","RAL 7016 Gris anthracite","RAL 7016 Gris anthracite","RAL 7016 Gris anthracite","RAL 7016 Gris anthracite","RAL 7016 Gris anthracite","RAL 7016 Gris anthracite","RAL 7016 Gris anthracite","Poirier","Nuancier standard","Chêne cigare brut","RAL 7016 Gris anthracite","RAL 7016 Gris anthracite","RAL 7016 Gris anthracite","RAL 7016 Gris anthracite","RAL 7016 Gris anthracite","RAL 7016 Gris anthracite","RAL 7016 Gris anthracite","RAL 7016 Gris anthracite",null,{"$f":"IF(NOT(ISBLANK((INDIRECT(CONCATENATE(\"TabFinExt[\",RELEVE_COTES!$C$11,\"]\"))))),INDIRECT(CONCATENATE(\"TabFinExt[\",RELEVE_COTES!$C$11,\"]\",\"\")),\"\")","v":{"$error":"#VALUE!"}},{"$error":"#VALUE!"},null,"COSMO","COSMO","COSMO","COSMO","COSMO","COSMO","COSMO","COSMO","COSMO","COSMO","COSMO","COSMO","COSMO","Aurélia","Evidence","Evidence","Evidence","Evidence","Evidence","Evidence","Evidence","Evidence","Aurélia","Aurélia",null,null,null,null,null,null,null,{"$f":"IF(NOT(ISBLANK((INDIRECT(CONCATENATE(\"TabDécorInt[\",RELEVE_COTES!$C$11,\"]\"))))),INDIRECT(CONCATENATE(\"TabDécorInt[\",RELEVE_COTES!$C$11,\"]\",\"\")),\"\")","v":{"$error":"#VALUE!"}},{"$error":"#VALUE!"},null,"BLANC MEGEVE B070","BLANC MEGEVE B070","BLANC MEGEVE B070","BLANC MEGEVE B070","BLANC MEGEVE B070","BLANC MEGEVE B070","BLANC MEGEVE B070","BLANC MEGEVE B070","BLANC MEGEVE B070","BLANC MEGEVE B070","BLANC MEGEVE B070","BLANC MEGEVE B070","BLANC MEGEVE B070","Poirier","Poirier","Nuancier standard","Poirier","Nuancier standard","Poirier","Poirier","Nuancier standard","Nuancier standard","Poirier","Poirier","RAL 7016 Gris anthracite",null,"RAL 7016 Gris anthracite","RAL 7016 Gris anthracite","RAL 7016 Gris anthracite","RAL 7016 Gris anthracite",null,{"$f":"IF(NOT(ISBLANK((INDIRECT(CONCATENATE(\"TabFinInt[\",RELEVE_COTES!$C$11,\"]\"))))),INDIRECT(CONCATENATE(\"TabFinInt[\",RELEVE_COTES!$C$11,\"]\",\"\")),\"\")","v":{"$error":"#VALUE!"}},{"$error":"#VALUE!"},null,"BLEU GLACIER U500","U500","STRATIFIE",null,"SKINPLATE","PAP","SKINPLATE EXT",null,null,null,"RAL 7022 Gris terre d’ombre",7022,null,null,null,null,null,"DOUBLE BEQUILLE ZEN INOX POI019",null,null,{"$f":"IF(NOT(ISBLANK((INDIRECT(CONCATENATE(\"TabGarniture[\",RELEVE_COTES!$C$9,\"]\"))))),INDIRECT(CONCATENATE(\"TabGarniture[\",RELEVE_COTES!$C$9,\"]\",\"\")),\"\")","v":{"$error":"#VALUE!"}},{"$error":"#VALUE!"},null,null,null,null,null,null,null,null,null,null,null,null,null,null,null,null,null,null,null,null,null,null,null,null,null,null,null,null,"Huisserie Après Gorge","APRES GORGE"]
[null,null,"40BR31S-R03","PHONIPAC3F",null,{"$f":"IF(NOT(ISBLANK((INDIRECT(CONCATENATE(\"Tabportes[\",RELEVE_COTES!$C$9,\"]\"))))),INDIRECT(CONCATENATE(\"Tabportes[\",RELEVE_COTES!$C$9,\"]\",\"\")),\"\")","v":{"$error":"#VALUE!"}},{"$error":"#VALUE!"},null,"40BR31S-R03",7,"RH6",1,49,16,null,null,null,null,null,null,null,null,null,null,null,null,null,null,null,null,null,null,null,null,null,null,null,null,null,null,null,null,null,null,null,null,null,null,null,null,null,null,null,null,null,"picarde 160x80","Pr.Peint",{"$f":"CONCATENATE(TabFerrageRef[[#This Row],[Paumelles]],\" / \",TabFerrageRef[[#This Row],[HM]])","v":"picarde 160x80 / Pr.Peint"},"160X80","VISSEE","SANS",0,null,null,null,null,null,null,null,null,null,null,null,null,null,null,null,null,null,null,"Seuil acier à la suisse (doucine) PMR 20 mm",null,"Seuil acier à la suisse (doucine) 40 mm","Seuil acier \"droit\" isophonique RPES90 20 mm","Seuil Doucine BER 18 x 56 mm Capotage Inox","Seuil Doucine BER 18 x 56 mm Capotage Inox","Seuil acier à la suisse (doucine) 40 mm",null,null,null,null,null,null,null,null,{"$f":"IF(NOT(ISBLANK((INDIRECT(CONCATENATE(\"TabSeuil[\",RELEVE_COTES!$C$11,\"]\"))))),INDIRECT(CONCATENATE(\"TabSeuil[\",RELEVE_COTES!$C$11,\"]\",\"\")),\"\")","v":{"$error":"#VALUE!"}},{"$error":"#VALUE!"},null,"SEUIL SUISSE BER SECTION 56 X 18",18,"SEUIL_SUISSE_BE",null,"1 pt MARQUES BC 725 - axe à 60","1 pt VACHETTE BC D452 - axe à 50","1 pt MARQUES BC 725 - axe à 60","1 pt VACHETTE BC D452 - axe à 50","1 pt VACHETTE BC D452 - axe à 50","3 pts A2P* VACHETTE 5000 SGN1 - T2040 - axe à 120","1 pt MARQUES BC 725 - axe à 60","3 pts A2P* VACHETTE 5000 SGN1 - T2040 - axe à 120","1 pt MARQUES BC 725 - axe à 60","3 pts A2P* VACHETTE 5000 SGN1 - T2040 - axe à 120","1 pt VACHETTE BC D452 - axe à 50","1 pt MARQUES BC 725 - axe à 60","1 pt MARQUES BCC 7250 - axe à 50","1 PT SERRURE SURETE","4 pts VACHETTE V20500 standard - axe à 50","4 pts VACHETTE V20500 standard - axe à 50","3 pts FERCO SECURY PP MR2 A2P* - axe à 50","3 pts BRICARD 8150A1 standard avec entrebailleur intégré - axe à 50","3 pts FERCO SECURY PP MR2 A2P* - axe à 50","3 pts BRICARD 8150A1 standard avec entrebailleur intégré - axe à 50","3 pts BRICARD 8150A1 standard avec entrebailleur intégré - axe à 50","3 pts FERCO SECURY PP MR2 A2P* - axe à 50","3 pts FERCO SECURY PP MR2 A2P* - axe à 50","3 pts BRICARD 8161-A1 A2P* - axe à 50","4 pts VACHETTE V20500 standard - axe à 50","3 pts VACHETTE V5000 SPN1 A2P* - axe à 50","3 pts FERCO SECURY PP MR2 standard - axe à 50",null,null,null,null,null,{"$f":"IF(NOT(ISBLANK((INDIRECT(CONCATENATE(\"TabSerrure[\",RELEVE_COTES!$C$11,\"]\"))))),INDIRECT(CONCATENATE(\"TabSerrure[\",RELEVE_COTES!$C$11,\"]\")),\"\")","v":{"$error":"#VALUE!"}},{"$f":"IF(REF!$EE8<>\"\",1,0)","v":{"$error":"#VALUE!"}},null,"1 pt VACHETTE BC D452 inox - axe à 50","1PT_D45",1045,1020,25,0,"SANS",null,null,null,null,"ELECTRO","ELECTRO","ELECTRO","ELECTRO","ELECTRO","ELECTRO","ELECTRO","ELECTRO","ELECTRO","ELECTRO","ELECTRO","ELECTRO","ELECTRO","Attraction","Expression","Expression","Expression","Expression","Expression","Expression","Expression",null,"Aurélie","Aurélie",null,null,null,null,null,null,null,{"$f":"IF(NOT(ISBLANK((INDIRECT(CONCATENATE(\"TabDécorExt[\",RELEVE_COTES!$C$11,\"]\"))))),INDIRECT(CONCATENATE(\"TabDécorExt[\",RELEVE_COTES!$C$11,\"]\",\"\")),\"\")","v":{"$error":"#VALUE!"}},{"$error":"#VALUE!"},null,null,null,null,"BLEU COSMIQUE  U504","BLEU COSMIQUE  U504","BLEU COSMIQUE  U504","BLEU COSMIQUE  U504","BLEU COSMIQUE  U504","BLEU COSMIQUE  U504","BLEU COSMIQUE  U504","BLEU COSMIQUE  U504","BLEU COSMIQUE  U504","BLEU COSMIQUE  U504","BLEU COSMIQUE  U504","BLEU COSMIQUE  U504","BLEU COSMIQUE  U504","RAL 7022 Gris terre d’ombre","RAL 7022 Gris terre d’ombre","RAL 7022 Gris terre d’ombre","RAL 7022 Gris terre d’ombre","RAL 7022 Gris terre d’ombre","RAL 7022 Gris terre d’ombre","RAL 7022 Gris terre d’ombre","Hêtre","RAL 1015 Ivoire clair","Chêne flanelle brut","RAL 7022 Gris terre d’ombre","RAL 7022 Gris terre d’ombre","RAL 7022 Gris terre d’ombre","RAL 7022 Gris terre d’ombre","RAL 7022 Gris terre d’ombre","RAL 7022 Gris terre d’ombre","RAL 7022 Gris terre d’ombre","RAL 7022 Gris terre d’ombre",null,{"$f":"IF(NOT(ISBLANK((INDIRECT(CONCATENATE(\"TabFinExt[\",RELEVE_COTES!$C$11,\"]\"))))),INDIRECT(CONCATENATE(\"TabFinExt[\",RELEVE_COTES!$C$11,\"]\",\"\")),\"\")","v":{"$error":"#VALUE!"}},{"$error":"#VALUE!"},null,"ELECTRO","ELECTRO","ELECTRO","ELECTRO","ELECTRO","ELECTRO","ELECTRO","ELECTRO","ELECTRO","ELECTRO","ELECTRO","ELECTRO","ELECTRO","Aurélie","Expression","Expression","Expression","Expression","Expression","Expression","Expression","Expression","Aurélie","Aurélie",null,null,null,null,null,null,null,{"$f":"IF(NOT(ISBLANK((INDIRECT(CONCATENATE(\"TabDécorInt[\",RELEVE_COTES!$C$11,\"]\"))))),INDIRECT(CONCATENATE(\"TabDécorInt[\",RELEVE_COTES!$C$11,\"]\",\"\")),\"\")","v":{"$error":"#VALUE!"}},{"$error":"#VALUE!"},null,"BLEU COSMIQUE  U504","BLEU COSMIQUE  U504","BLEU COSMIQUE  U504","BLEU COSMIQUE  U504","BLEU COSMIQUE  U504","BLEU COSMIQUE  U504","BLEU COSMIQUE  U504","BLEU COSMIQUE  U504","BLEU COSMIQUE  U504","BLEU COSMIQUE  U504","BLEU COSMIQUE  U504","BLEU COSMIQUE  U504","BLEU COSMIQUE  U504","Hêtre","Hêtre","RAL 1015 Ivoire clair","Hêtre","RAL 1015 Ivoire clair","Hêtre","Hêtre","RAL 1015 Ivoire clair","RAL 1015 Ivoire clair","Hêtre","Hêtre","RAL 7022 Gris terre d’ombre",null,"RAL 7022 Gris terre d’ombre","RAL 7022 Gris terre d’ombre","RAL 7022 Gris terre d’ombre","RAL 7022 Gris terre d’ombre",null,{"$f":"IF(NOT(ISBLANK((INDIRECT(CONCATENATE(\"TabFinInt[\",RELEVE_COTES!$C$11,\"]\"))))),INDIRECT(CONCATENATE(\"TabFinInt[\",RELEVE_COTES!$C$11,\"]\",\"\")),\"\")","v":{"$error":"#VALUE!"}},{"$error":"#VALUE!"},null,"BLEU NORDIQUE U505","U505","STRATIFIE",null,"LAQUE","SKINPLATE","SKINPLATE INT",null,null,null,"RAL 7032 Gris silex",7032,null,null,null,null,null,"TIRAGE BEQUILLE ZEN ARGENT POI020",null,null,{"$f":"IF(NOT(ISBLANK((INDIRECT(CONCATENATE(\"TabGarniture[\",RELEVE_COTES!$C$9,\"]\"))))),INDIRECT(CONCATENATE(\"TabGarniture[\",RELEVE_COTES!$C$9,\"]\",\"\")),\"\")","v":{"$error":"#VALUE!"}},{"$error":"#VALUE!"},null,null,null,null,null,null,null,null,null,null,null,null,null,null,null,null,null,null,null,null,null,null,null,null,null,null,null,null,null,"SANS CHANT PLAT"]
[null,null,"40BR31S-R04","SECURIPAC 4F A2P BP1",null,{"$f":"IF(NOT(ISBLANK((INDIRECT(CONCATENATE(\"Tabportes[\",RELEVE_COTES!$C$9,\"]\"))))),INDIRECT(CONCATENATE(\"Tabportes[\",RELEVE_COTES!$C$9,\"]\",\"\")),\"\")","v":{"$error":"#VALUE!"}},{"$error":"#VALUE!"},null,"40BR31S-R04",8,"RH6",1,49,16,null,null,null,null,null,null,null,null,null,null,null,null,null,null,null,null,null,null,null,null,null,null,null,null,null,null,null,null,null,null,null,null,null,null,null,null,null,null,null,null,null,"picarde 160x80","Laquage",{"$f":"CONCATENATE(TabFerrageRef[[#This Row],[Paumelles]],\" / \",TabFerrageRef[[#This Row],[HM]])","v":"picarde 160x80 / Laquage"},"160X80","VISSEE","SANS",0,null,null,null,null,null,null,null,null,null,null,null,null,null,null,null,null,null,null,null,null,null,"Seuil acier \"droit\" isophonique RPES90 25 mm",null,null,null,null,null,null,null,null,null,null,null,{"$f":"IF(NOT(ISBLANK((INDIRECT(CONCATENATE(\"TabSeuil[\",RELEVE_COTES!$C$11,\"]\"))))),INDIRECT(CONCATENATE(\"TabSeuil[\",RELEVE_COTES!$C$11,\"]\",\"\")),\"\")","v":{"$error":"#VALUE!"}},{"$error":"#VALUE!"},null,"SEUIL ALUMINIUM TYPE BILCOCQ",16,"SEUIL_ALU_BILCOQ",null,"1 pt MARQUES BC 7250 - axe à 50","1 pt VACHETTE BC D452 carre 8 mm - axe à 50","1 pt MARQUES BC 7250 - axe à 50","1 pt VACHETTE BC D452 carre 8 mm - axe à 50","1 pt VACHETTE BC D452 carre 8 mm - axe à 50","3 pts A2P* VACHETTE 5000 SGN1 - T2040 et entrebailleur - axe à 120","1 pt MARQUES BC 7250 - axe à 50","3 pts A2P* VACHETTE 5000 SGN1 - T2040 et entrebailleur - axe à 120","1 pt MARQUES BC 7250 - axe à 50","3 pts A2P* VACHETTE 5000 SGN1 - T2040 et entrebailleur - axe à 120","1 pt VACHETTE BC D452 carre 8 mm - axe à 50","1 pt MARQUES BC 7250 - axe à 50","1 pt MARQUES sureté 725 - axe à 60","3 PTS BRICARD 8121 A120 A2P*","5 pts FERCO Europa R2 A2P*- axe à 50","5 pts FERCO Europa R2 A2P*- axe à 50","3 pts FERCO SECURY PP SF2 A2P* - axe à 50","3 pts BRICARD 8161-A1 A2P* - axe à 50","3 pts FERCO SECURY PP SF2 A2P* - axe à 50","3 pts BRICARD 8161-A1 A2P* - axe à 50","3 pts BRICARD 8161-A1 A2P* - axe à 50","3 pts FERCO SECURY PP SF2 A2P* - axe à 50","3 pts FERCO SECURY PP SF2 A2P* - axe à 50","3 pts FERCO Europa R2 - axe à 50","5 pts FERCO Europa R2 A2P*- axe à 50","3 pts VACHETTE V5000 standard - axe à 50","3 pts VACHETTE V5000 SPN1 A2P* - axe à 50",null,null,null,null,null,{"$f":"IF(NOT(ISBLANK((INDIRECT(CONCATENATE(\"TabSerrure[\",RELEVE_COTES!$C$11,\"]\"))))),INDIRECT(CONCATENATE(\"TabSerrure[\",RELEVE_COTES!$C$11,\"]\")),\"\")","v":{"$error":"#VALUE!"}},{"$f":"IF(REF!$EE9<>\"\",1,0)","v":{"$error":"#VALUE!"}},null,"1 pt VACHETTE sureté D458 Urgence - axe à 50","1PT_D45",1045,1020,25,0,"SANS",null,null,null,null,"FLANELLE","FLANELLE","FLANELLE","FLANELLE","FLANELLE","FLANELLE","FLANELLE","FLANELLE","FLANELLE","FLANELLE","FLANELLE","FLANELLE","FLANELLE","Aube","Flanelle","Flanelle","Flanelle","Flanelle","Flanelle","Flanelle","Flanelle",null,"Caractère","Caractère",null,null,null,null,null,null,null,{"$f":"IF(NOT(ISBLANK((INDIRECT(CONCATENATE(\"TabDécorExt[\",RELEVE_COTES!$C$11,\"]\"))))),INDIRECT(CONCATENATE(\"TabDécorExt[\",RELEVE_COTES!$C$11,\"]\",\"\")),\"\")","v":{"$error":"#VALUE!"}},{"$error":"#VALUE!"},null,null,null,null,"BLEU GLACIER U500","BLEU GLACIER U500","BLEU GLACIER U500","BLEU GLACIER U500","BLEU GLACIER U500","BLEU GLACIER U500","BLEU GLACIER U500","BLEU GLACIER U500","BLEU GLACIER U500","BLEU GLACIER U500","BLEU GLACIER U500","BLEU GLACIER U500","BLEU GLACIER U500","RAL 7032 Gris silex","RAL 7032 Gris silex","RAL 7032 Gris silex","RAL 7032 Gris silex","RAL 7032 Gris silex","RAL 7032 Gris silex","RAL 7032 Gris silex","Nuancier standard","RAL 3004 Rouge pourpre","Chêne naturel","RAL 7032 Gris silex","RAL 7032 Gris silex","RAL 7032 Gris silex","RAL 7032 Gris silex","RAL 7032 Gris silex","RAL 7032 Gris silex","RAL 7032 Gris silex","RAL 7032 Gris silex",null,{"$f":"IF(NOT(ISBLANK((INDIRECT(CONCATENATE(\"TabFinExt[\",RELEVE_COTES!$C$11,\"]\"))))),INDIRECT(CONCATENATE(\"TabFinExt[\",RELEVE_COTES!$C$11,\"]\",\"\")),\"\")","v":{"$error":"#VALUE!"}},{"$error":"#VALUE!"},null,"FLANELLE","FLANELLE","FLANELLE","FLANELLE","FLANELLE","FLANELLE","FLANELLE","FLANELLE","FLANELLE","FLANELLE","FLANELLE","FLANELLE","FLANELLE","Caractère","Flanelle","Flanelle","Flanelle","Flanelle","Flanelle","Flanelle","Flanelle","Flanelle","Caractère","Caractère",null,null,null,null,null,null,null,{"$f":"IF(NOT(ISBLANK((INDIRECT(CONCATENATE(\"TabDécorInt[\",RELEVE_COTES!$C$11,\"]\"))))),INDIRECT(CONCATENATE(\"TabDécorInt[\",RELEVE_COTES!$C$11,\"]\",\"\")),\"\")","v":{"$error":"#VALUE!"}},{"$error":"#VALUE!"},null,"BLEU GLACIER U500","BLEU GLACIER U500","BLEU GLACIER U500","BLEU GLACIER U500","BLEU GLACIER U500","BLEU GLACIER U500","BLEU GLACIER U500","BLEU GLACIER U500","BLEU GLACIER U500","BLEU GLACIER U500","BLEU GLACIER U500","BLEU GLACIER U500","BLEU GLACIER U500","Nuancier standard","Nuancier standard","RAL 3004 Rouge pourpre","Nuancier standard","RAL 3004 Rouge pourpre","Nuancier standard","Nuancier standard","RAL 3004 Rouge pourpre","RAL 3004 Rouge pourpre","Nuancier standard","Nuancier standard","RAL 7032 Gris silex",null,"RAL 7032 Gris silex","RAL 7032 Gris silex","RAL 7032 Gris silex","RAL 7032 Gris silex",null,{"$f":"IF(NOT(ISBLANK((INDIRECT(CONCATENATE(\"TabFinInt[\",RELEVE_COTES!$C$11,\"]\"))))),INDIRECT(CONCATENATE(\"TabFinInt[\",RELEVE_COTES!$C$11,\"]\",\"\")),\"\")","v":{"$error":"#VALUE!"}},{"$error":"#VALUE!"},null,"BRICK F8140","F8140","STRATIFIE",null,"SKINPLATE","LAQUE","SKINPLATE EXT",null,null,null,"RAL 7035 Gris lumière",7035,null,null,null,null,null,"TIRAGE BEQUILLE ZEN INOX POI021",null,null,{"$f":"IF(NOT(ISBLANK((INDIRECT(CONCATENATE(\"TabGarniture[\",RELEVE_COTES!$C$9,\"]\"))))),INDIRECT(CONCATENATE(\"TabGarniture[\",RELEVE_COTES!$C$9,\"]\",\"\")),\"\")","v":{"$error":"#VALUE!"}},{"$error":"#VALUE!"},null,null,null,null,null,null,null,null,null,null,null,null,null,null,null,null,null,null,null,null,null,null,null,null,null,null,null,null,null,"EN PASSAGE"]
[null,null,"43BR31S-R01","SECURIPAC 4F A2P BP1 EVOLUPAC",null,{"$f":"IF(NOT(ISBLANK((INDIRECT(CONCATENATE(\"Tabportes[\",RELEVE_COTES!$C$9,\"]\"))))),INDIRECT(CONCATENATE(\"Tabportes[\",RELEVE_COTES!$C$9,\"]\",\"\")),\"\")","v":{"$error":"#VALUE!"}},{"$error":"#VALUE!"},null,"43BR31S-R01",9,"RH6",1,49,16,null,null,null,null,null,null,null,null,null,null,null,null,null,null,null,null,null,null,null,null,null,null,null,null,null,null,null,null,null,null,null,null,null,null,null,null,null,null,null,null,null,"picarde 160x80 cambrée","Pr.Peint",{"$f":"CONCATENATE(TabFerrageRef[[#This Row],[Paumelles]],\" / \",TabFerrageRef[[#This Row],[HM]])","v":"picarde 160x80 cambrée / Pr.Peint"},"160X80_CAMBREE","SOUDEE","SANS",0,null,null,null,null,null,null,null,null,null,null,null,null,null,null,null,null,null,null,null,null,null,"Seuil acier \"droit\" isophonique RPES90 30 mm",null,null,null,null,null,null,null,null,null,null,null,{"$f":"IF(NOT(ISBLANK((INDIRECT(CONCATENATE(\"TabSeuil[\",RELEVE_COTES!$C$11,\"]\"))))),INDIRECT(CONCATENATE(\"TabSeuil[\",RELEVE_COTES!$C$11,\"]\",\"\")),\"\")","v":{"$error":"#VALUE!"}},{"$error":"#VALUE!"},null,"BARRE ECARTEMENT DEMONTABLE",0,"SANS",null,"1 pt MARQUES BCC 725 - axe à 60","1 pt VACHETTE BC D452 inox - axe à 50","1 pt MARQUES BCC 725 - axe à 60","1 pt VACHETTE BC D452 inox - axe à 50","1 pt VACHETTE BC D452 inox - axe à 50","3 pts A2P* VACHETTE 5000 SPN1 - T1700 - axe à 50","1 pt MARQUES BCC 725 - axe à 60","3 pts A2P* VACHETTE 5000 SPN1 - T1700 - axe à 50","1 pt MARQUES BCC 725 - axe à 60","3 pts A2P* VACHETTE 5000 SPN1 - T1700 - axe à 50","1 pt VACHETTE BC D452 inox - axe à 50","1 pt MARQUES BCC 725 - axe à 60","1 pt MARQUES sureté 7250 - axe à 50","3 PTS BRICARD 8150","5 pts FERCO Fercomatic R2 A2P*- axe à 50","5 pts FERCO Fercomatic R2 A2P*- axe à 50","3 pts VACHETTE V5000 A2P* A120 XL SGN1 - axe à 120","3 pts BRICARD 8161A1 A2P* avec entrebailleur intégré - axe à 50","3 pts VACHETTE V5000 A2P* A120 XL SGN1 - axe à 120","3 pts BRICARD 8161A1 A2P* avec entrebailleur intégré - axe à 50","3 pts BRICARD 8161A1 A2P* avec entrebailleur intégré - axe à 50","3 pts VACHETTE V5000 A2P* A120 XL SGN1 - axe à 120","3 pts VACHETTE V5000 A2P* A120 XL SGN1 - axe à 120","3 pts FERCO Fercomatic R2 - axe à 50","5 pts FERCO Fercomatic R2 A2P*- axe à 50","5 pts BRICARD 8120A3 standard - axe à 120","3 pts VACHETTE V5000 standard - axe à 50",null,null,null,null,null,{"$f":"IF(NOT(ISBLANK((INDIRECT(CONCATENATE(\"TabSerrure[\",RELEVE_COTES!$C$11,\"]\"))))),INDIRECT(CONCATENATE(\"TabSerrure[\",RELEVE_COTES!$C$11,\"]\")),\"\")","v":{"$error":"#VALUE!"}},{"$f":"IF(REF!$EE10<>\"\",1,0)","v":{"$error":"#VALUE!"}},null,"1 pt BRICARD BC 851601 - axe à 50","1PT_D45",1045,1020,25,0,"SANS",null,null,null,null,"FOLIO","FOLIO","FOLIO","FOLIO","FOLIO","FOLIO","FOLIO","FOLIO","FOLIO","FOLIO","FOLIO","FOLIO","FOLIO","Aude","Lalie","Lalie","Lalie","Lalie","Lalie","Lalie","Lalie",null,"Carole","Carole",null,null,null,null,null,null,null,{"$f":"IF(NOT(ISBLANK((INDIRECT(CONCATENATE(\"TabDécorExt[\",RELEVE_COTES!$C$11,\"]\"))))),INDIRECT(CONCATENATE(\"TabDécorExt[\",RELEVE_COTES!$C$11,\"]\",\"\")),\"\")","v":{"$error":"#VALUE!"}},{"$error":"#VALUE!"},null,null,null,null,"BLEU NORDIQUE U505","BLEU NORDIQUE U505","BLEU NORDIQUE U505","BLEU NORDIQUE U505","BLEU NORDIQUE U505","BLEU NORDIQUE U505","BLEU NORDIQUE U505","BLEU NORDIQUE U505","BLEU NORDIQUE U505","BLEU NORDIQUE U505","BLEU NORDIQUE U505","BLEU NORDIQUE U505","BLEU NORDIQUE U505","RAL 7035 Gris lumière","RAL 7035 Gris lumière","RAL 7035 Gris lumière","RAL 7035 Gris lumière","RAL 7035 Gris lumière","RAL 7035 Gris lumière","RAL 7035 Gris lumière","RAL 1015 Ivoire clair","RAL 5013 Bleu cobalt","Frêne blanc","RAL 7035 Gris lumière","RAL 7035 Gris lumière","RAL 7035 Gris lumière","RAL 7035 Gris lumière","RAL 7035 Gris lumière","RAL 7035 Gris lumière","RAL 7035 Gris lumière","RAL 7035 Gris lumière",null,{"$f":"IF(NOT(ISBLANK((INDIRECT(CONCATENATE(\"TabFinExt[\",RELEVE_COTES!$C$11,\"]\"))))),INDIRECT(CONCATENATE(\"TabFinExt[\",RELEVE_COTES!$C$11,\"]\",\"\")),\"\")","v":{"$error":"#VALUE!"}},{"$error":"#VALUE!"},null,"FOLIO","FOLIO","FOLIO","FOLIO","FOLIO","FOLIO","FOLIO","FOLIO","FOLIO","FOLIO","FOLIO","FOLIO","FOLIO","Carole","Lalie","Lalie","Lalie","Lalie","Lalie","Lalie","Lalie","Lalie","Carole","Carole",null,null,null,null,null,null,null,{"$f":"IF(NOT(ISBLANK((INDIRECT(CONCATENATE(\"TabDécorInt[\",RELEVE_COTES!$C$11,\"]\"))))),INDIRECT(CONCATENATE(\"TabDécorInt[\",RELEVE_COTES!$C$11,\"]\",\"\")),\"\")","v":{"$error":"#VALUE!"}},{"$error":"#VALUE!"},null,"BLEU NORDIQUE U505","BLEU NORDIQUE U505","BLEU NORDIQUE U505","BLEU NORDIQUE U505","BLEU NORDIQUE U505","BLEU NORDIQUE U505","BLEU NORDIQUE U505","BLEU NORDIQUE U505","BLEU NORDIQUE U505","BLEU NORDIQUE U505","BLEU NORDIQUE U505","BLEU NORDIQUE U505","BLEU NORDIQUE U505","RAL 1015 Ivoire clair","RAL 1015 Ivoire clair","RAL 5013 Bleu cobalt","RAL 1015 Ivoire clair","RAL 5013 Bleu cobalt","RAL 1015 Ivoire clair","RAL 1015 Ivoire clair","RAL 5013 Bleu cobalt","RAL 5013 Bleu cobalt","RAL 1015 Ivoire clair","RAL 1015 Ivoire clair","RAL 7035 Gris lumière",null,"RAL 7035 Gris lumière","RAL 7035 Gris lumière","RAL 7035 Gris lumière","RAL 7035 Gris lumière",null,{"$f":"IF(NOT(ISBLANK((INDIRECT(CONCATENATE(\"TabFinInt[\",RELEVE_COTES!$C$11,\"]\"))))),INDIRECT(CONCATENATE(\"TabFinInt[\",RELEVE_COTES!$C$11,\"]\",\"\")),\"\")","v":{"$error":"#VALUE!"}},{"$error":"#VALUE!"},null,"BROSSE GRIS B092","B092","STRATIFIE",null,"SKINPLATE","SKINPLATE","SKINPLATE INT",null,null,null,"RAL 8014 Brun sépia",8014,null,null,null,null,null,"DOUBLE BEQUILLE SECUMAX **ARGENT POI022",null,null,{"$f":"IF(NOT(ISBLANK((INDIRECT(CONCATENATE(\"TabGarniture[\",RELEVE_COTES!$C$9,\"]\"))))),INDIRECT(CONCATENATE(\"TabGarniture[\",RELEVE_COTES!$C$9,\"]\",\"\")),\"\")","v":{"$error":"#VALUE!"}},{"$error":"#VALUE!"},null,null,null,null,null,null,null,null,null,null,null,null,null,null,null,null,null,null,null,null,null,null,null,null,null,null,null,null,null,"EN PASSAGE ET AVANT ECOINCON"]
[null,null,"43BR31S-R02","SERVIFEU",null,{"$f":"IF(NOT(ISBLANK((INDIRECT(CONCATENATE(\"Tabportes[\",RELEVE_COTES!$C$9,\"]\"))))),INDIRECT(CONCATENATE(\"Tabportes[\",RELEVE_COTES!$C$9,\"]\",\"\")),\"\")","v":{"$error":"#VALUE!"}},{"$error":"#VALUE!"},null,"43BR31S-R02",10,"RH6",1,49,16,null,null,null,null,null,null,null,null,null,null,null,null,null,null,null,null,null,null,null,null,null,null,null,null,null,null,null,null,null,null,null,null,null,null,null,null,null,null,null,null,null,"picarde 160x80 cambrée","Laquage",{"$f":"CONCATENATE(TabFerrageRef[[#This Row],[Paumelles]],\" / \",TabFerrageRef[[#This Row],[HM]])","v":"picarde 160x80 cambrée / Laquage"},"160X80_CAMBREE","SOUDEE","SANS",0,null,null,null,null,null,null,null,null,null,null,null,null,null,null,null,null,null,null,null,null,null,"Seuil acier \"droit\" isophonique RPES90 35 mm",null,null,null,null,null,null,null,null,null,null,null,{"$f":"IF(NOT(ISBLANK((INDIRECT(CONCATENATE(\"TabSeuil[\",RELEVE_COTES!$C$11,\"]\"))))),INDIRECT(CONCATENATE(\"TabSeuil[\",RELEVE_COTES!$C$11,\"]\",\"\")),\"\")","v":{"$error":"#VALUE!"}},{"$error":"#VALUE!"},null,"JOINT DE SEUIL",0,"SANS",null,"1 pt MARQUES BCC 7250 - axe à 50","1 pt VACHETTE BCC D453 - axe à 50","1 pt MARQUES BCC 7250 - axe à 50","1 pt VACHETTE BCC D453 - axe à 50","1 pt VACHETTE BCC D453 - axe à 50","3 pts A2P* VACHETTE 5000 SPN1 - T2040 - axe à 50","1 pt MARQUES BCC 7250 - axe à 50","3 pts A2P* VACHETTE 5000 SPN1 - T2040 - axe à 50","1 pt MARQUES BCC 7250 - axe à 50","3 pts A2P* VACHETTE 5000 SPN1 - T2040 - axe à 50","1 pt VACHETTE BCC D453 - axe à 50","1 pt MARQUES BCC 7250 - axe à 50","1 pt VACHETTE BC D452 - axe à 50","3 PTS BRICARD 8161 A2P*","6 pts VACHETTE V20500 SGN1 A2P* - axe à 50","6 pts VACHETTE V20500 SGN1 A2P* - axe à 50","3 pts VACHETTE V5000 A2P* XL SGN1 avec entrebailleur intégré - axe à 120","3 pts BRICARD 8162-A1 A2P** - axe à 50","3 pts VACHETTE V5000 A2P* XL SGN1 avec entrebailleur intégré - axe à 120","3 pts BRICARD 8162-A1 A2P** - axe à 50","3 pts BRICARD 8162-A1 A2P** - axe à 50","3 pts VACHETTE V5000 A2P* XL SGN1 avec entrebailleur intégré - axe à 120","3 pts VACHETTE V5000 A2P* XL SGN1 avec entrebailleur intégré - axe à 120","3 pts FERCO SECURY PP MR2 A2P* - axe à 50","6 pts VACHETTE V20500 SGN1 A2P* - axe à 50","5 pts BRICARD 8120A4 standard - axe à 120","5 pts BRICARD 8120A3 standard - axe à 120",null,null,null,null,null,{"$f":"IF(NOT(ISBLANK((INDIRECT(CONCATENATE(\"TabSerrure[\",RELEVE_COTES!$C$11,\"]\"))))),INDIRECT(CONCATENATE(\"TabSerrure[\",RELEVE_COTES!$C$11,\"]\")),\"\")","v":{"$error":"#VALUE!"}},{"$f":"IF(REF!$EE11<>\"\",1,0)","v":{"$error":"#VALUE!"}},null,"1 pt BRICARD BCC 851701 - axe à 50","1PT_D45",1045,1020,25,0,"SANS",null,null,null,null,"GALAXY","GALAXY","GALAXY","GALAXY","GALAXY","GALAXY","GALAXY","GALAXY","GALAXY","GALAXY","GALAXY","GALAXY","GALAXY","Aurélia","Laura","Laura","Laura","Laura","Laura","Laura","Laura",null,"Cloé","Cloé",null,null,null,null,null,null,null,{"$f":"IF(NOT(ISBLANK((INDIRECT(CONCATENATE(\"TabDécorExt[\",RELEVE_COTES!$C$11,\"]\"))))),INDIRECT(CONCATENATE(\"TabDécorExt[\",RELEVE_COTES!$C$11,\"]\",\"\")),\"\")","v":{"$error":"#VALUE!"}},{"$error":"#VALUE!"},null,null,null,null,"BRICK F8140","BRICK F8140","BRICK F8140","BRICK F8140","BRICK F8140","BRICK F8140","BRICK F8140","BRICK F8140","BRICK F8140","BRICK F8140","BRICK F8140","BRICK F8140","BRICK F8140","RAL 8014 Brun sépia","RAL 8014 Brun sépia","RAL 8014 Brun sépia","RAL 8014 Brun sépia","RAL 8014 Brun sépia","RAL 8014 Brun sépia","RAL 8014 Brun sépia","RAL 3004 Rouge pourpre","RAL 7016 Gris anthracite","Merisier romana","RAL 8014 Brun sépia","RAL 8014 Brun sépia","RAL 8014 Brun sépia","RAL 8014 Brun sépia","RAL 8014 Brun sépia","RAL 8014 Brun sépia","RAL 8014 Brun sépia","RAL 8014 Brun sépia",null,{"$f":"IF(NOT(ISBLANK((INDIRECT(CONCATENATE(\"TabFinExt[\",RELEVE_COTES!$C$11,\"]\"))))),INDIRECT(CONCATENATE(\"TabFinExt[\",RELEVE_COTES!$C$11,\"]\",\"\")),\"\")","v":{"$error":"#VALUE!"}},{"$error":"#VALUE!"},null,"GALAXY","GALAXY","GALAXY","GALAXY","GALAXY","GALAXY","GALAXY","GALAXY","GALAXY","GALAXY","GALAXY","GALAXY","GALAXY","Cloé","Laura","Laura","Laura","Laura","Laura","Laura","Laura","Laura","Cloé","Cloé",null,null,null,null,null,null,null,{"$f":"IF(NOT(ISBLANK((INDIRECT(CONCATENATE(\"TabDécorInt[\",RELEVE_COTES!$C$11,\"]\"))))),INDIRECT(CONCATENATE(\"TabDécorInt[\",RELEVE_COTES!$C$11,\"]\",\"\")),\"\")","v":{"$error":"#VALUE!"}},{"$error":"#VALUE!"},null,"BRICK F8140","BRICK F8140","BRICK F8140","BRICK F8140","BRICK F8140","BRICK F8140","BRICK F8140","BRICK F8140","BRICK F8140","BRICK F8140","BRICK F8140","BRICK F8140","BRICK F8140","RAL 3004 Rouge pourpre","RAL 3004 Rouge pourpre","RAL 7016 Gris anthracite","RAL 3004 Rouge pourpre","RAL 7016 Gris anthracite","RAL 3004 Rouge pourpre","RAL 3004 Rouge pourpre","RAL 7016 Gris anthracite","RAL 7016 Gris anthracite","RAL 3004 Rouge pourpre","RAL 3004 Rouge pourpre","RAL 8014 Brun sépia",null,"RAL 8014 Brun sépia","RAL 8014 Brun sépia","RAL 8014 Brun sépia","RAL 8014 Brun sépia",null,{"$f":"IF(NOT(ISBLANK((INDIRECT(CONCATENATE(\"TabFinInt[\",RELEVE_COTES!$C$11,\"]\"))))),INDIRECT(CONCATENATE(\"TabFinInt[\",RELEVE_COTES!$C$11,\"]\",\"\")),\"\")","v":{"$error":"#VALUE!"}},{"$error":"#VALUE!"},null,"CHENE BARDOLINO NATUREL H1145","H1145","STRATIFIE",null,null,null,null,null,null,null,"RAL 9005 Noir foncé",9005,null,null,null,null,null,null,null,null,{"$f":"IF(NOT(ISBLANK((INDIRECT(CONCATENATE(\"TabGarniture[\",RELEVE_COTES!$C$9,\"]\"))))),INDIRECT(CONCATENATE(\"TabGarniture[\",RELEVE_COTES!$C$9,\"]\",\"\")),\"\")","v":{"$error":"#VALUE!"}},{"$error":"#VALUE!"},null,null,null,null,null,null,null,null,null,null,null,null,null,null,null,null,null,null,null,null,null,null,null,null,null,null,null,null,null,"AVANT ECOINCON"]
[null,null,"44BR61S-R01","SERVIFEU ACOUSTIQUE",null,{"$f":"IF(NOT(ISBLANK((INDIRECT(CONCATENATE(\"Tabportes[\",RELEVE_COTES!$C$9,\"]\"))))),INDIRECT(CONCATENATE(\"Tabportes[\",RELEVE_COTES!$C$9,\"]\",\"\")),\"\")","v":{"$error":"#VALUE!"}},{"$error":"#VALUE!"},null,"44BR61S-R01",11,"RH+5T",1,59,15,null,null,null,null,null,null,null,null,null,null,null,null,null,null,null,null,null,null,null,null,null,null,null,null,null,null,null,null,null,null,null,null,null,null,null,null,null,null,null,null,null,null,null,null,null,null,null,null,null,null,null,null,null,null,null,null,null,null,null,null,null,null,null,null,null,null,null,null,null,"Seuil déporté en BER (20 mm)",null,null,null,null,null,null,null,null,null,null,null,{"$f":"IF(NOT(ISBLANK((INDIRECT(CONCATENATE(\"TabSeuil[\",RELEVE_COTES!$C$11,\"]\"))))),INDIRECT(CONCATENATE(\"TabSeuil[\",RELEVE_COTES!$C$11,\"]\",\"\")),\"\")","v":{"$error":"#VALUE!"}},{"$error":"#VALUE!"},null,"JOINT BALAI",0,"SANS",null,"1 pt MARQUES sureté 725 - axe à 60","1 pt VACHETTE BCC D453 carre 8 mm - axe à 50","1 pt MARQUES sureté 725 - axe à 60","1 pt VACHETTE BCC D453 carre 8 mm - axe à 50","1 pt VACHETTE BCC D453 carre 8 mm - axe à 50","3 pts A2P* VACHETTE 5000 SPN1 - T2040 et entrebailleur - axe à 50","1 pt MARQUES sureté 725 - axe à 60","3 pts A2P* VACHETTE 5000 SPN1 - T2040 et entrebailleur - axe à 50","1 pt MARQUES sureté 725 - axe à 60","3 pts A2P* VACHETTE 5000 SPN1 - T2040 et entrebailleur - axe à 50","1 pt VACHETTE BCC D453 carre 8 mm - axe à 50","1 pt MARQUES sureté 725 - axe à 60","1 pt VACHETTE BC D452 carre 8 mm - axe à 50","3 PTS TRILOCK 5000","non référencée","non référencée","3 pts VACHETTE V5000 SGN2 A2P** avec entrebailleur - axe à 50","3 pts BRICARD 8162A1-A2P** avec entrebailleur intégré - axe à 50","3 pts VACHETTE V5000 SGN2 A2P** - axe à 50","3 pts BRICARD 8162A1-A2P** avec entrebailleur intégré - axe à 50","3 pts BRICARD 8162A1-A2P** avec entrebailleur intégré - axe à 50","3 pts VACHETTE V5000 SGN2 A2P** - axe à 50","3 pts VACHETTE V5000 SGN2 A2P** - axe à 50","3 pts FERCO SECURY PP MR2 standard - axe à 50","non référencée","5 pts BRICARD 8150-A3 standard - axe à 50","5 pts BRICARD 8120A4 standard - axe à 120",null,null,null,null,null,{"$f":"IF(NOT(ISBLANK((INDIRECT(CONCATENATE(\"TabSerrure[\",RELEVE_COTES!$C$11,\"]\"))))),INDIRECT(CONCATENATE(\"TabSerrure[\",RELEVE_COTES!$C$11,\"]\")),\"\")","v":{"$error":"#VALUE!"}},{"$f":"IF(REF!$EE12<>\"\",1,0)","v":{"$error":"#VALUE!"}},null,"1 pt BRICARD sureté 850121 - axe à 50","1PT_D45",1045,1020,25,0,"SANS",null,null,null,null,"GRAFIK","GRAFIK","GRAFIK","GRAFIK","GRAFIK","GRAFIK","GRAFIK","GRAFIK","GRAFIK","GRAFIK","GRAFIK","GRAFIK","GRAFIK","Aurélie","Liberté","Liberté","Liberté","Liberté","Liberté","Liberté","Liberté",null,"Distinction","Distinction",null,null,null,null,null,null,null,{"$f":"IF(NOT(ISBLANK((INDIRECT(CONCATENATE(\"TabDécorExt[\",RELEVE_COTES!$C$11,\"]\"))))),INDIRECT(CONCATENATE(\"TabDécorExt[\",RELEVE_COTES!$C$11,\"]\",\"\")),\"\")","v":{"$error":"#VALUE!"}},{"$error":"#VALUE!"},null,null,null,null,"BROSSE GRIS B092","BROSSE GRIS B092","BROSSE GRIS B092","BROSSE GRIS B092","BROSSE GRIS B092","BROSSE GRIS B092","BROSSE GRIS B092","BROSSE GRIS B092","BROSSE GRIS B092","BROSSE GRIS B092","BROSSE GRIS B092","BROSSE GRIS B092","BROSSE GRIS B092","RAL 9005 Noir foncé","RAL 9005 Noir foncé","RAL 9005 Noir foncé","RAL 9005 Noir foncé","RAL 9005 Noir foncé","RAL 9005 Noir foncé","RAL 9005 Noir foncé","RAL 5013 Bleu cobalt","RAL 7022 Gris terre d’ombre","Noyer des Andes","RAL 9005 Noir foncé","RAL 9005 Noir foncé","RAL 9005 Noir foncé","RAL 9005 Noir foncé","RAL 9005 Noir foncé","RAL 9005 Noir foncé","RAL 9005 Noir foncé","RAL 9005 Noir foncé",null,{"$f":"IF(NOT(ISBLANK((INDIRECT(CONCATENATE(\"TabFinExt[\",RELEVE_COTES!$C$11,\"]\"))))),INDIRECT(CONCATENATE(\"TabFinExt[\",RELEVE_COTES!$C$11,\"]\",\"\")),\"\")","v":{"$error":"#VALUE!"}},{"$error":"#VALUE!"},null,"GRAFIK","GRAFIK","GRAFIK","GRAFIK","GRAFIK","GRAFIK","GRAFIK","GRAFIK","GRAFIK","GRAFIK","GRAFIK","GRAFIK","GRAFIK","Distinction","Liberté","Liberté","Liberté","Liberté","Liberté","Liberté","Liberté","Liberté","Distinction","Distinction",null,null,null,null,null,null,null,{"$f":"IF(NOT(ISBLANK((INDIRECT(CONCATENATE(\"TabDécorInt[\",RELEVE_COTES!$C$11,\"]\"))))),INDIRECT(CONCATENATE(\"TabDécorInt[\",RELEVE_COTES!$C$11,\"]\",\"\")),\"\")","v":{"$error":"#VALUE!"}},{"$error":"#VALUE!"},null,"BROSSE GRIS B092","BROSSE GRIS B092","BROSSE GRIS B092","BROSSE GRIS B092","BROSSE GRIS B092","BROSSE GRIS B092","BROSSE GRIS B092","BROSSE GRIS B092","BROSSE GRIS B092","BROSSE GRIS B092","BROSSE GRIS B092","BROSSE GRIS B092","BROSSE GRIS B092","RAL 5013 Bleu cobalt","RAL 5013 Bleu cobalt","RAL 7022 Gris terre d’ombre","RAL 5013 Bleu cobalt","RAL 7022 Gris terre d’ombre","RAL 5013 Bleu cobalt","RAL 5013 Bleu cobalt","RAL 7022 Gris terre d’ombre","RAL 7022 Gris terre d’ombre","RAL 5013 Bleu cobalt","RAL 5013 Bleu cobalt","RAL 9005 Noir foncé",null,"RAL 9005 Noir foncé","RAL 9005 Noir foncé","RAL 9005 Noir foncé","RAL 9005 Noir foncé",null,{"$f":"IF(NOT(ISBLANK((INDIRECT(CONCATENATE(\"TabFinInt[\",RELEVE_COTES!$C$11,\"]\"))))),INDIRECT(CONCATENATE(\"TabFinInt[\",RELEVE_COTES!$C$11,\"]\",\"\")),\"\")","v":{"$error":"#VALUE!"}},{"$error":"#VALUE!"},null,"CHENE DE FIL NATUREL C098","C098","STRATIFIE",null,null,null,null,null,null,null,"RAL 9010 Blanc pur",9010,null,null,null,null,null,null,null,null,{"$f":"IF(NOT(ISBLANK((INDIRECT(CONCATENATE(\"TabGarniture[\",RELEVE_COTES!$C$9,\"]\"))))),INDIRECT(CONCATENATE(\"TabGarniture[\",RELEVE_COTES!$C$9,\"]\",\"\")),\"\")","v":{"$error":"#VALUE!"}},{"$error":"#VALUE!"},null,null,null,null,null,null,null,null,null,null,null,null,null,null,null,null,null,null,null,null,null,null,null,null,null,null,null,null,"Huisserie Sur Parement","SUR PAREMENT"]
[null,null,"R31S-R02","SERVIFEU ACOUSTIQUE EXT",null,{"$f":"IF(NOT(ISBLANK((INDIRECT(CONCATENATE(\"Tabportes[\",RELEVE_COTES!$C$9,\"]\"))))),INDIRECT(CONCATENATE(\"Tabportes[\",RELEVE_COTES!$C$9,\"]\",\"\")),\"\")","v":{"$error":"#VALUE!"}},{"$error":"#VALUE!"},null,"R31S-R02",12,"RH6",1,49,16,null,null,null,null,null,null,null,null,null,null,null,null,null,null,null,null,null,null,null,null,null,null,null,null,null,null,null,null,null,null,null,null,null,null,null,null,null,null,null,null,null,null,null,null,null,null,null,null,null,null,null,null,null,null,null,null,null,null,null,null,null,null,null,null,null,null,null,null,null,"Seuil déporté en BER avec capotage acier (20 mm)",null,null,null,null,null,null,null,null,null,null,null,{"$f":"IF(NOT(ISBLANK((INDIRECT(CONCATENATE(\"TabSeuil[\",RELEVE_COTES!$C$11,\"]\"))))),INDIRECT(CONCATENATE(\"TabSeuil[\",RELEVE_COTES!$C$11,\"]\",\"\")),\"\")","v":{"$error":"#VALUE!"}},{"$error":"#VALUE!"},null,"PLINTHE AUTOMATIQUE",0,"SANS",null,"1 pt MARQUES sureté 7250 - axe à 50","1 pt VACHETTE BCC D453 inox - axe à 50","1 pt MARQUES sureté 7250 - axe à 50","1 pt VACHETTE BCC D453 inox - axe à 50","1 pt VACHETTE BCC D453 inox - axe à 50","3 pts A2P** BRICARD 8162 - T1700 - axe à 50","1 pt MARQUES sureté 7250 - axe à 50","3 pts A2P** BRICARD 8162 - T1700 - axe à 50","1 pt MARQUES sureté 7250 - axe à 50","3 pts A2P** BRICARD 8162 - T1700 - axe à 50","1 pt VACHETTE BCC D453 inox - axe à 50","1 pt MARQUES sureté 7250 - axe à 50","1 pt VACHETTE BC D452 inox - axe à 50","3 PTS TRILOCK 5000 A120",null,null,"3 pts VACHETTE V5000 SGN2 A2P2* - axe à 50","3 pts FERCO SECURY PP MR2 A2P* - axe à 50","3 pts VACHETTE V5000 SGN2 A2P** avec entrebailleur - axe à 50","3 pts FERCO SECURY PP MR2 A2P* - axe à 50","3 pts FERCO SECURY PP MR2 A2P* - axe à 50","3 pts VACHETTE V5000 SGN2 A2P** avec entrebailleur - axe à 50","3 pts VACHETTE V5000 SGN2 A2P** avec entrebailleur - axe à 50","3 pts FERCO SECURY PP SF2 A2P* - axe à 50",null,"5 pts BRICARD 8150-A4  standard - axe à 50","5 pts BRICARD 8150-A3 standard - axe à 50",null,null,null,null,null,{"$f":"IF(NOT(ISBLANK((INDIRECT(CONCATENATE(\"TabSerrure[\",RELEVE_COTES!$C$11,\"]\"))))),INDIRECT(CONCATENATE(\"TabSerrure[\",RELEVE_COTES!$C$11,\"]\")),\"\")","v":{"$error":"#VALUE!"}},{"$f":"IF(REF!$EE13<>\"\",1,0)","v":{"$error":"#VALUE!"}},null,"1 pt VACHETTE sureté D455 - axe à 120","1PT_D45",1045,1020,25,0,"SANS",null,null,null,null,"INFINITY","INFINITY","INFINITY","INFINITY","INFINITY","INFINITY","INFINITY","INFINITY","INFINITY","INFINITY","INFINITY","INFINITY","INFINITY","Caractère","Lisse","Lisse","Lisse","Lisse","Lisse","Lisse","Lisse",null,"Eclat","Eclat",null,null,null,null,null,null,null,{"$f":"IF(NOT(ISBLANK((INDIRECT(CONCATENATE(\"TabDécorExt[\",RELEVE_COTES!$C$11,\"]\"))))),INDIRECT(CONCATENATE(\"TabDécorExt[\",RELEVE_COTES!$C$11,\"]\",\"\")),\"\")","v":{"$error":"#VALUE!"}},{"$error":"#VALUE!"},null,null,null,null,"CHENE BARDOLINO NATUREL H1145","CHENE BARDOLINO NATUREL H1145","CHENE BARDOLINO NATUREL H1145","CHENE BARDOLINO NATUREL H1145","CHENE BARDOLINO NATUREL H1145","CHENE BARDOLINO NATUREL H1145","CHENE BARDOLINO NATUREL H1145","CHENE BARDOLINO NATUREL H1145","CHENE BARDOLINO NATUREL H1145","CHENE BARDOLINO NATUREL H1145","CHENE BARDOLINO NATUREL H1145","CHENE BARDOLINO NATUREL H1145","CHENE BARDOLINO NATUREL H1145","RAL 9010 Blanc pur","RAL 9010 Blanc pur","RAL 9010 Blanc pur","RAL 9010 Blanc pur","RAL 9010 Blanc pur","RAL 9010 Blanc pur","RAL 9010 Blanc pur","RAL 7016 Gris anthracite","RAL 7032 Gris silex","Sésame","RAL 9010 Blanc pur","RAL 9010 Blanc pur","RAL 9010 Blanc pur","RAL 9010 Blanc pur","RAL 9010 Blanc pur","RAL 9010 Blanc pur","RAL 9010 Blanc pur","RAL 9010 Blanc pur",null,{"$f":"IF(NOT(ISBLANK((INDIRECT(CONCATENATE(\"TabFinExt[\",RELEVE_COTES!$C$11,\"]\"))))),INDIRECT(CONCATENATE(\"TabFinExt[\",RELEVE_COTES!$C$11,\"]\",\"\")),\"\")","v":{"$error":"#VALUE!"}},{"$error":"#VALUE!"},null,"INFINITY","INFINITY","INFINITY","INFINITY","INFINITY","INFINITY","INFINITY","INFINITY","INFINITY","INFINITY","INFINITY","INFINITY","INFINITY","Eclat","Lisse","Lisse","Lisse","Lisse","Lisse","Lisse","Lisse","Lisse","Eclat","Eclat",null,null,null,null,null,null,null,{"$f":"IF(NOT(ISBLANK((INDIRECT(CONCATENATE(\"TabDécorInt[\",RELEVE_COTES!$C$11,\"]\"))))),INDIRECT(CONCATENATE(\"TabDécorInt[\",RELEVE_COTES!$C$11,\"]\",\"\")),\"\")","v":{"$error":"#VALUE!"}},{"$error":"#VALUE!"},null,"CHENE BARDOLINO NATUREL H1145","CHENE BARDOLINO NATUREL H1145","CHENE BARDOLINO NATUREL H1145","CHENE BARDOLINO NATUREL H1145","CHENE BARDOLINO NATUREL H1145","CHENE BARDOLINO NATUREL H1145","CHENE BARDOLINO NATUREL H1145","CHENE BARDOLINO NATUREL H1145","CHENE BARDOLINO NATUREL H1145","CHENE BARDOLINO NATUREL H1145","CHENE BARDOLINO NATUREL H1145","CHENE BARDOLINO NATUREL H1145","CHENE BARDOLINO NATUREL H1145","RAL 7016 Gris anthracite","RAL 7016 Gris anthracite","RAL 7032 Gris silex","RAL 7016 Gris anthracite","RAL 7032 Gris silex","RAL 7016 Gris anthracite","RAL 7016 Gris anthracite","RAL 7032 Gris silex","RAL 7032 Gris silex","RAL 7016 Gris anthracite","RAL 7016 Gris anthracite","RAL 9010 Blanc pur",null,"RAL 9010 Blanc pur","RAL 9010 Blanc pur","RAL 9010 Blanc pur","RAL 9010 Blanc pur",null,{"$f":"IF(NOT(ISBLANK((INDIRECT(CONCATENATE(\"TabFinInt[\",RELEVE_COTES!$C$11,\"]\"))))),INDIRECT(CONCATENATE(\"TabFinInt[\",RELEVE_COTES!$C$11,\"]\",\"\")),\"\")","v":{"$error":"#VALUE!"}},{"$error":"#VALUE!"},null,"CHENE HAMILTON NATUREL H3303","H3303","STRATIFIE",null,null,null,null,null,null,null,"Hors nuancier",null,null,null,null,null,null,null,null,null,null,null,null,null,null,null,null,null,null,null,null,null,null,null,null,null,null,null,null,null,null,null,null,null,null,null,null,null,null,null,"Huisserie Après Parement","APRES RETOUR"]
[null,null,"R32S-R02","SERVIFEU EXT",null,{"$f":"IF(NOT(ISBLANK((INDIRECT(CONCATENATE(\"Tabportes[\",RELEVE_COTES!$C$9,\"]\"))))),INDIRECT(CONCATENATE(\"Tabportes[\",RELEVE_COTES!$C$9,\"]\",\"\")),\"\")","v":{"$error":"#VALUE!"}},{"$error":"#VALUE!"},null,"R32S-R02",13,"RH6",2,49,16,null,null,null,null,null,null,null,null,null,null,null,null,null,null,null,null,null,null,null,null,null,null,null,null,null,null,null,null,null,null,null,null,null,null,null,null,null,null,null,null,null,null,null,null,null,null,null,null,null,null,null,null,null,null,null,null,null,null,null,null,null,null,null,null,null,null,null,null,null,"Seuil inox isophonique RPES PMR 20 mm",null,null,null,null,null,null,null,null,null,null,null,{"$f":"IF(NOT(ISBLANK((INDIRECT(CONCATENATE(\"TabSeuil[\",RELEVE_COTES!$C$11,\"]\"))))),INDIRECT(CONCATENATE(\"TabSeuil[\",RELEVE_COTES!$C$11,\"]\",\"\")),\"\")","v":{"$error":"#VALUE!"}},{"$error":"#VALUE!"},null,"NON",0,"SANS",null,"1 pt VACHETTE BC D452 - axe à 50","1 pt VACHETTE sureté D455 - axe à 50","1 pt VACHETTE BC D452 - axe à 50","1 pt VACHETTE sureté D455 - axe à 50","1 pt VACHETTE sureté D455 - axe à 50","3 pts A2P** BRICARD 8162 - T2040 - axe à 50","1 pt VACHETTE BC D452 - axe à 50","3 pts A2P** BRICARD 8162 - T2040 - axe à 50","1 pt VACHETTE BC D452 - axe à 50","3 pts A2P** BRICARD 8162 - T2040 - axe à 50","1 pt VACHETTE sureté D455 - axe à 120","1 pt VACHETTE BC D452 - axe à 50","1 pt VACHETTE BCC D453 - axe à 50","3 PTS TRILOCK 5000 A120  XL A2P*",null,null,"3 pts VACHETTE V5000 SPN1 A2P* - axe à 50","3 pts FERCO SECURY PP MR2 standard - axe à 50","3 pts VACHETTE V5000 SPN1 A2P* - axe à 50","3 pts FERCO SECURY PP MR2 standard - axe à 50","3 pts FERCO SECURY PP MR2 standard - axe à 50","3 pts VACHETTE V5000 SPN1 A2P* - axe à 50","3 pts VACHETTE V5000 SPN1 A2P* - axe à 50","3 pts FERCO SECURY PP SF2 standard - axe à 50",null,"5 pts BRICARD 8161-A3 A2P* - axe à 50","5 pts BRICARD 8150-A4  standard - axe à 50",null,null,null,null,null,{"$f":"IF(NOT(ISBLANK((INDIRECT(CONCATENATE(\"TabSerrure[\",RELEVE_COTES!$C$11,\"]\"))))),INDIRECT(CONCATENATE(\"TabSerrure[\",RELEVE_COTES!$C$11,\"]\")),\"\")","v":{"$error":"#VALUE!"}},{"$f":"IF(REF!$EE14<>\"\",1,0)","v":{"$error":"#VALUE!"}},null,"1 pt VACHETTE sureté D455 inox - axe à 120","1PT_D45",1045,1020,25,0,"SANS",null,null,null,null,"LIGNA","LIGNA","LIGNA","LIGNA","LIGNA","LIGNA","LIGNA","LIGNA","LIGNA","LIGNA","LIGNA","LIGNA","LIGNA","Carole","Lyse","Lyse","Lyse","Lyse","Lyse","Lyse","Lyse",null,"Elan","Elan",null,null,null,null,null,null,null,{"$f":"IF(NOT(ISBLANK((INDIRECT(CONCATENATE(\"TabDécorExt[\",RELEVE_COTES!$C$11,\"]\"))))),INDIRECT(CONCATENATE(\"TabDécorExt[\",RELEVE_COTES!$C$11,\"]\",\"\")),\"\")","v":{"$error":"#VALUE!"}},{"$error":"#VALUE!"},null,null,null,null,"CHENE DE FIL NATUREL C098","CHENE DE FIL NATUREL C098","CHENE DE FIL NATUREL C098","CHENE DE FIL NATUREL C098","CHENE DE FIL NATUREL C098","CHENE DE FIL NATUREL C098","CHENE DE FIL NATUREL C098","CHENE DE FIL NATUREL C098","CHENE DE FIL NATUREL C098","CHENE DE FIL NATUREL C098","CHENE DE FIL NATUREL C098","CHENE DE FIL NATUREL C098","CHENE DE FIL NATUREL C098","Hors nuancier","Hors nuancier","Hors nuancier","Hors nuancier","Hors nuancier","Hors nuancier","Hors nuancier","RAL 7022 Gris terre d’ombre","RAL 7035 Gris lumière","Wengé cannelé","Hors nuancier","Hors nuancier","Hors nuancier","Hors nuancier","Hors nuancier","Hors nuancier","Hors nuancier","Hors nuancier",null,{"$f":"IF(NOT(ISBLANK((INDIRECT(CONCATENATE(\"TabFinExt[\",RELEVE_COTES!$C$11,\"]\"))))),INDIRECT(CONCATENATE(\"TabFinExt[\",RELEVE_COTES!$C$11,\"]\",\"\")),\"\")","v":{"$error":"#VALUE!"}},{"$error":"#VALUE!"},null,"LIGNA","LIGNA","LIGNA","LIGNA","LIGNA","LIGNA","LIGNA","LIGNA","LIGNA","LIGNA","LIGNA","LIGNA","LIGNA","Elan","Lyse","Lyse","Lyse","Lyse","Lyse","Lyse","Lyse","Lyse","Elan","Elan",null,null,null,null,null,null,null,{"$f":"IF(NOT(ISBLANK((INDIRECT(CONCATENATE(\"TabDécorInt[\",RELEVE_COTES!$C$11,\"]\"))))),INDIRECT(CONCATENATE(\"TabDécorInt[\",RELEVE_COTES!$C$11,\"]\",\"\")),\"\")","v":{"$error":"#VALUE!"}},{"$error":"#VALUE!"},null,"CHENE DE FIL NATUREL C098","CHENE DE FIL NATUREL C098","CHENE DE FIL NATUREL C098","CHENE DE FIL NATUREL C098","CHENE DE FIL NATUREL C098","CHENE DE FIL NATUREL C098","CHENE DE FIL NATUREL C098","CHENE DE FIL NATUREL C098","CHENE DE FIL NATUREL C098","CHENE DE FIL NATUREL C098","CHENE DE FIL NATUREL C098","CHENE DE FIL NATUREL C098","CHENE DE FIL NATUREL C098","RAL 7022 Gris terre d’ombre","RAL 7022 Gris terre d’ombre","RAL 7035 Gris lumière","RAL 7022 Gris terre d’ombre","RAL 7035 Gris lumière","RAL 7022 Gris terre d’ombre","RAL 7022 Gris terre d’ombre","RAL 7035 Gris lumière","RAL 7035 Gris lumière","RAL 7022 Gris terre d’ombre","RAL 7022 Gris terre d’ombre","Hors nuancier",null,"Hors nuancier","Hors nuancier","Hors nuancier","Hors nuancier",null,{"$f":"IF(NOT(ISBLANK((INDIRECT(CONCATENATE(\"TabFinInt[\",RELEVE_COTES!$C$11,\"]\"))))),INDIRECT(CONCATENATE(\"TabFinInt[\",RELEVE_COTES!$C$11,\"]\",\"\")),\"\")","v":{"$error":"#VALUE!"}},{"$error":"#VALUE!"},null,"CHENE QUEBEC C105","C105","STRATIFIE",null,null,null,null,null,null,null,"RAL 1013 Blanc perlé",1013,null,null,null,null,null,null,null,null,null,null,null,null,null,null,null,null,null,null,null,null,null,null,null,null,null,null,null,null,null,null,null,null,null,null,null,null,null,null,null,"APRES RETOUR ET AVANT ECOINCON"]
[null,null,null,"SERVIPAC",null,{"$f":"IF(NOT(ISBLANK((INDIRECT(CONCATENATE(\"Tabportes[\",RELEVE_COTES!$C$9,\"]\"))))),INDIRECT(CONCATENATE(\"Tabportes[\",RELEVE_COTES!$C$9,\"]\",\"\")),\"\")","v":{"$error":"#VALUE!"}},{"$error":"#VALUE!"},null,"COURSIPAC4F",14,null,1,null,null,null,null,null,null,null,null,null,null,null,null,null,null,null,null,null,null,null,null,null,null,null,null,null,null,null,null,null,null,null,null,null,null,null,null,null,null,null,null,null,null,null,null,null,null,null,null,null,null,null,null,null,null,null,null,null,null,null,null,null,null,null,null,null,null,null,null,null,null,null,"Seuil inox isophonique RPES 25 mm",null,null,null,null,null,null,null,null,null,null,null,{"$f":"IF(NOT(ISBLANK((INDIRECT(CONCATENATE(\"TabSeuil[\",RELEVE_COTES!$C$11,\"]\"))))),INDIRECT(CONCATENATE(\"TabSeuil[\",RELEVE_COTES!$C$11,\"]\",\"\")),\"\")","v":{"$error":"#VALUE!"}},{"$error":"#VALUE!"},null,"Seuil Alu PMR (20 mm)",20,null,null,"1 pt VACHETTE BC D452 carre 8 mm - axe à 50","1 pt VACHETTE sureté D455 carre 8 mm - axe à 50","1 pt VACHETTE BC D452 carre 8 mm - axe à 50","1 pt VACHETTE sureté D455 carre 8 mm - axe à 50","1 pt VACHETTE sureté D455 carre 8 mm - axe à 50","3 pts A2P** BRICARD 8162/A1 - T1700 - axe à 50","1 pt VACHETTE BC D452 carre 8 mm - axe à 50","3 pts A2P** BRICARD 8162/A1 - T1700 - axe à 50","1 pt VACHETTE BC D452 carre 8 mm - axe à 50","3 pts A2P** BRICARD 8162/A1 - T1700 - axe à 50","1 pt VACHETTE sureté D455 - axe à 50","1 pt VACHETTE BC D452 carre 8 mm - axe à 50","1 pt VACHETTE BCC D453 carre 8 mm - axe à 50","3 PTS TRILOCK 5000 A2P*",null,null,"3 pts VACHETTE V5000 SPN1 A2P* avec entrebailleur - axe à 50","3 pts FERCO SECURY PP SF2 A2P* - axe à 50","3 pts VACHETTE V5000 SPN1 A2P* avec entrebailleur - axe à 50","3 pts FERCO SECURY PP SF2 A2P* - axe à 50","3 pts FERCO SECURY PP SF2 A2P* - axe à 50","3 pts VACHETTE V5000 SPN1 A2P* avec entrebailleur - axe à 50","3 pts VACHETTE V5000 SPN1 A2P* avec entrebailleur - axe à 50","3 pts VACHETTE V5000 A2P* A120 XL SGN1 - axe à 120",null,"5 pts BRICARD 8161-A4  A2P* - axe à 50","5 pts BRICARD 8161-A3 A2P* - axe à 50",null,null,null,null,null,{"$f":"IF(NOT(ISBLANK((INDIRECT(CONCATENATE(\"TabSerrure[\",RELEVE_COTES!$C$11,\"]\"))))),INDIRECT(CONCATENATE(\"TabSerrure[\",RELEVE_COTES!$C$11,\"]\")),\"\")","v":{"$error":"#VALUE!"}},{"$f":"IF(REF!$EE15<>\"\",1,0)","v":{"$error":"#VALUE!"}},null,"1 pt VACHETTE sureté D455 carre 8 mm - axe à 50","1PT_D45",1045,1020,25,0,"SANS",null,null,null,null,"MOULURÉ 1 CADRE","MOULURÉ 1 CADRE","MOULURÉ 1 CADRE","MOULURÉ 1 CADRE","MOULURÉ 1 CADRE","MOULURÉ 1 CADRE","MOULURÉ 1 CADRE","MOULURÉ 1 CADRE","MOULURÉ 1 CADRE","MOULURÉ 1 CADRE","MOULURÉ 1 CADRE","MOULURÉ 1 CADRE","MOULURÉ 1 CADRE","Clarte","Nicole","Nicole","Nicole","Nicole","Nicole","Nicole","Nicole",null,"Equilibre","Equilibre",null,null,null,null,null,null,null,{"$f":"IF(NOT(ISBLANK((INDIRECT(CONCATENATE(\"TabDécorExt[\",RELEVE_COTES!$C$11,\"]\"))))),INDIRECT(CONCATENATE(\"TabDécorExt[\",RELEVE_COTES!$C$11,\"]\",\"\")),\"\")","v":{"$error":"#VALUE!"}},{"$error":"#VALUE!"},null,null,null,null,"CHENE HAMILTON NATUREL H3303","CHENE HAMILTON NATUREL H3303","CHENE HAMILTON NATUREL H3303","CHENE HAMILTON NATUREL H3303","CHENE HAMILTON NATUREL H3303","CHENE HAMILTON NATUREL H3303","CHENE HAMILTON NATUREL H3303","CHENE HAMILTON NATUREL H3303","CHENE HAMILTON NATUREL H3303","CHENE HAMILTON NATUREL H3303","CHENE HAMILTON NATUREL H3303","CHENE HAMILTON NATUREL H3303","CHENE HAMILTON NATUREL H3303","RAL 1013 Blanc perlé","RAL 1013 Blanc perlé","RAL 1013 Blanc perlé","RAL 1013 Blanc perlé","RAL 1013 Blanc perlé","RAL 1013 Blanc perlé","RAL 1013 Blanc perlé","RAL 7032 Gris silex","RAL 8014 Brun sépia",null,"RAL 1013 Blanc perlé","RAL 1013 Blanc perlé","RAL 1013 Blanc perlé","RAL 1013 Blanc perlé","RAL 1013 Blanc perlé","RAL 1013 Blanc perlé","RAL 1013 Blanc perlé","RAL 1013 Blanc perlé",null,{"$f":"IF(NOT(ISBLANK((INDIRECT(CONCATENATE(\"TabFinExt[\",RELEVE_COTES!$C$11,\"]\"))))),INDIRECT(CONCATENATE(\"TabFinExt[\",RELEVE_COTES!$C$11,\"]\",\"\")),\"\")","v":{"$error":"#VALUE!"}},{"$error":"#VALUE!"},null,"MOULURÉ 1 CADRE","MOULURÉ 1 CADRE","MOULURÉ 1 CADRE","MOULURÉ 1 CADRE","MOULURÉ 1 CADRE","MOULURÉ 1 CADRE","MOULURÉ 1 CADRE","MOULURÉ 1 CADRE","MOULURÉ 1 CADRE","MOULURÉ 1 CADRE","MOULURÉ 1 CADRE","MOULURÉ 1 CADRE","MOULURÉ 1 CADRE","Equilibre","Nicole","Nicole","Nicole","Nicole","Nicole","Nicole","Nicole","Nicole","Equilibre","Equilibre",null,null,null,null,null,null,null,{"$f":"IF(NOT(ISBLANK((INDIRECT(CONCATENATE(\"TabDécorInt[\",RELEVE_COTES!$C$11,\"]\"))))),INDIRECT(CONCATENATE(\"TabDécorInt[\",RELEVE_COTES!$C$11,\"]\",\"\")),\"\")","v":{"$error":"#VALUE!"}},{"$error":"#VALUE!"},null,"CHENE HAMILTON NATUREL H3303","CHENE HAMILTON NATUREL H3303","CHENE HAMILTON NATUREL H3303","CHENE HAMILTON NATUREL H3303","CHENE HAMILTON NATUREL H3303","CHENE HAMILTON NATUREL H3303","CHENE HAMILTON NATUREL H3303","CHENE HAMILTON NATUREL H3303","CHENE HAMILTON NATUREL H3303","CHENE HAMILTON NATUREL H3303","CHENE HAMILTON NATUREL H3303","CHENE HAMILTON NATUREL H3303","CHENE HAMILTON NATUREL H3303","RAL 7032 Gris silex","RAL 7032 Gris silex","RAL 8014 Brun sépia","RAL 7032 Gris silex","RAL 8014 Brun sépia","RAL 7032 Gris silex","RAL 7032 Gris silex","RAL 8014 Brun sépia","RAL 8014 Brun sépia","RAL 7032 Gris silex","RAL 7032 Gris silex","RAL 1013 Blanc perlé",null,"RAL 1013 Blanc perlé","RAL 1013 Blanc perlé","RAL 1013 Blanc perlé","RAL 1013 Blanc perlé",null,{"$f":"IF(NOT(ISBLANK((INDIRECT(CONCATENATE(\"TabFinInt[\",RELEVE_COTES!$C$11,\"]\"))))),INDIRECT(CONCATENATE(\"TabFinInt[\",RELEVE_COTES!$C$11,\"]\",\"\")),\"\")","v":{"$error":"#VALUE!"}},{"$error":"#VALUE!"},null,"CHENE VICENZA H3157","H3157","STRATIFIE",null,null,null,null,null,null,null,"RAL 1019 Beige gris",1019]
[null,null,null,"STABICAVE",null,{"$f":"IF(NOT(ISBLANK((INDIRECT(CONCATENATE(\"Tabportes[\",RELEVE_COTES!$C$9,\"]\"))))),INDIRECT(CONCATENATE(\"Tabportes[\",RELEVE_COTES!$C$9,\"]\",\"\")),\"\")","v":{"$error":"#VALUE!"}},{"$error":"#VALUE!"},null,"COURSIPAC4F 44",15,null,1,null,null,null,null,null,null,null,null,null,null,null,null,null,null,null,null,null,null,null,null,null,null,null,null,null,null,null,null,null,null,null,null,null,null,null,null,null,null,null,null,null,null,null,null,null,null,null,null,null,null,null,null,null,null,null,null,null,null,null,null,null,null,null,null,null,null,null,null,null,null,null,"Seuil inox isophonique RPES 30 mm",null,null,null,null,null,null,null,null,null,null,null,{"$f":"IF(NOT(ISBLANK((INDIRECT(CONCATENATE(\"TabSeuil[\",RELEVE_COTES!$C$11,\"]\"))))),INDIRECT(CONCATENATE(\"TabSeuil[\",RELEVE_COTES!$C$11,\"]\",\"\")),\"\")","v":{"$error":"#VALUE!"}},{"$error":"#VALUE!"},null,"Seuil Alu de 35 mm",35,null,null,"1 pt VACHETTE BC D452 inox - axe à 50","1 pt VACHETTE sureté D455 inox - axe à 50","1 pt VACHETTE BC D452 inox - axe à 50","1 pt VACHETTE sureté D455 inox - axe à 50","1 pt VACHETTE sureté D455 inox - axe à 50","3 pts A2P** VACHETTE 5000 SGN2 - T1700 - axe à 50","1 pt VACHETTE BC D452 inox - axe à 50","3 pts A2P** VACHETTE 5000 SGN2 - T1700 - axe à 50","1 pt VACHETTE BC D452 inox - axe à 50","3 pts A2P** VACHETTE 5000 SGN2 - T1700 - axe à 50","1 pt VACHETTE sureté D455 carre 8 mm - axe à 50","1 pt VACHETTE BC D452 inox - axe à 50","1 pt VACHETTE BCC D453 inox - axe à 50","3 PTS VACHETTE 5000  50 REV + ENTREBA",null,null,"5 pts BRICARD 8121A3 A2P* - axe à 120","3 pts FERCO SECURY PP SF2 standard - axe à 50","5 pts BRICARD 8121A3 A2P* - axe à 120","3 pts FERCO SECURY PP SF2 standard - axe à 50","3 pts FERCO SECURY PP SF2 standard - axe à 50","5 pts BRICARD 8121A3 A2P* - axe à 120","5 pts BRICARD 8121A3 A2P* - axe à 120","3 pts VACHETTE V5000 SPN1 A2P* - axe à 50",null,"5 pts VACHETTE V5700 standard - axe à 50","5 pts BRICARD 8161-A4  A2P* - axe à 50",null,null,null,null,null,{"$f":"IF(NOT(ISBLANK((INDIRECT(CONCATENATE(\"TabSerrure[\",RELEVE_COTES!$C$11,\"]\"))))),INDIRECT(CONCATENATE(\"TabSerrure[\",RELEVE_COTES!$C$11,\"]\")),\"\")","v":{"$error":"#VALUE!"}},{"$f":"IF(REF!$EE16<>\"\",1,0)","v":{"$error":"#VALUE!"}},null,"1 pt MARQUES sureté 7250 - axe à 50","1PT_D45",1045,1020,25,0,"SANS",null,null,null,null,"MOULURÉ 2 CADRES","MOULURÉ 2 CADRES","MOULURÉ 2 CADRES","MOULURÉ 2 CADRES","MOULURÉ 2 CADRES","MOULURÉ 2 CADRES","MOULURÉ 2 CADRES","MOULURÉ 2 CADRES","MOULURÉ 2 CADRES","MOULURÉ 2 CADRES","MOULURÉ 2 CADRES","MOULURÉ 2 CADRES","MOULURÉ 2 CADRES","Cloé","Noémie","Noémie","Noémie","Noémie","Noémie","Noémie","Noémie",null,"Evidence","Evidence",null,null,null,null,null,null,null,{"$f":"IF(NOT(ISBLANK((INDIRECT(CONCATENATE(\"TabDécorExt[\",RELEVE_COTES!$C$11,\"]\"))))),INDIRECT(CONCATENATE(\"TabDécorExt[\",RELEVE_COTES!$C$11,\"]\",\"\")),\"\")","v":{"$error":"#VALUE!"}},{"$error":"#VALUE!"},null,null,null,null,"CHENE QUEBEC C105","CHENE QUEBEC C105","CHENE QUEBEC C105","CHENE QUEBEC C105","CHENE QUEBEC C105","CHENE QUEBEC C105","CHENE QUEBEC C105","CHENE QUEBEC C105","CHENE QUEBEC C105","CHENE QUEBEC C105","CHENE QUEBEC C105","CHENE QUEBEC C105","CHENE QUEBEC C105","RAL 1019 Beige gris","RAL 1019 Beige gris","RAL 1019 Beige gris","RAL 1019 Beige gris","RAL 1019 Beige gris","RAL 1019 Beige gris","RAL 1019 Beige gris","RAL 7035 Gris lumière","RAL 9005 Noir foncé",null,"RAL 1019 Beige gris","RAL 1019 Beige gris","RAL 1019 Beige gris","RAL 1019 Beige gris","RAL 1019 Beige gris","RAL 1019 Beige gris","RAL 1019 Beige gris","RAL 1019 Beige gris",null,{"$f":"IF(NOT(ISBLANK((INDIRECT(CONCATENATE(\"TabFinExt[\",RELEVE_COTES!$C$11,\"]\"))))),INDIRECT(CONCATENATE(\"TabFinExt[\",RELEVE_COTES!$C$11,\"]\",\"\")),\"\")","v":{"$error":"#VALUE!"}},{"$error":"#VALUE!"},null,"MOULURÉ 2 CADRES","MOULURÉ 2 CADRES","MOULURÉ 2 CADRES","MOULURÉ 2 CADRES","MOULURÉ 2 CADRES","MOULURÉ 2 CADRES","MOULURÉ 2 CADRES","MOULURÉ 2 CADRES","MOULURÉ 2 CADRES","MOULURÉ 2 CADRES","MOULURÉ 2 CADRES","MOULURÉ 2 CADRES","MOULURÉ 2 CADRES","Evidence","Noémie","Noémie","Noémie","Noémie","Noémie","Noémie","Noémie","Noémie","Evidence","Evidence",null,null,null,null,null,null,null,{"$f":"IF(NOT(ISBLANK((INDIRECT(CONCATENATE(\"TabDécorInt[\",RELEVE_COTES!$C$11,\"]\"))))),INDIRECT(CONCATENATE(\"TabDécorInt[\",RELEVE_COTES!$C$11,\"]\",\"\")),\"\")","v":{"$error":"#VALUE!"}},{"$error":"#VALUE!"},null,"CHENE QUEBEC C105","CHENE QUEBEC C105","CHENE QUEBEC C105","CHENE QUEBEC C105","CHENE QUEBEC C105","CHENE QUEBEC C105","CHENE QUEBEC C105","CHENE QUEBEC C105","CHENE QUEBEC C105","CHENE QUEBEC C105","CHENE QUEBEC C105","CHENE QUEBEC C105","CHENE QUEBEC C105","RAL 7035 Gris lumière","RAL 7035 Gris lumière","RAL 9005 Noir foncé","RAL 7035 Gris lumière","RAL 9005 Noir foncé","RAL 7035 Gris lumière","RAL 7035 Gris lumière","RAL 9005 Noir foncé","RAL 9005 Noir foncé","RAL 7035 Gris lumière","RAL 7035 Gris lumière","RAL 1019 Beige gris",null,"RAL 1019 Beige gris","RAL 1019 Beige gris","RAL 1019 Beige gris","RAL 1019 Beige gris",null,{"$f":"IF(NOT(ISBLANK((INDIRECT(CONCATENATE(\"TabFinInt[\",RELEVE_COTES!$C$11,\"]\"))))),INDIRECT(CONCATENATE(\"TabFinInt[\",RELEVE_COTES!$C$11,\"]\",\"\")),\"\")","v":{"$error":"#VALUE!"}},{"$error":"#VALUE!"},null,"CHENE VICENZA GRIS TRANSVERSAL H358","H358","STRATIFIE",null,null,null,null,null,null,null,"RAL 2001 Orangé rouge",2001]
[null,null,null,"STABIPAC52 EXT",null,{"$f":"IF(NOT(ISBLANK((INDIRECT(CONCATENATE(\"Tabportes[\",RELEVE_COTES!$C$9,\"]\"))))),INDIRECT(CONCATENATE(\"Tabportes[\",RELEVE_COTES!$C$9,\"]\",\"\")),\"\")","v":{"$error":"#VALUE!"}},{"$error":"#VALUE!"},null,"COURSIPAC 4F A2P BP1",16,null,1,null,null,null,null,null,null,null,null,null,null,null,null,null,null,null,null,null,null,null,null,null,null,null,null,null,null,null,null,null,null,null,null,null,null,null,null,null,null,null,null,null,null,null,null,null,null,null,null,null,null,null,null,null,null,null,null,null,null,null,null,null,null,null,null,null,null,null,null,null,null,null,"Seuil inox isophonique RPES 35 mm",null,null,null,null,null,null,null,null,null,null,null,{"$f":"IF(NOT(ISBLANK((INDIRECT(CONCATENATE(\"TabSeuil[\",RELEVE_COTES!$C$11,\"]\"))))),INDIRECT(CONCATENATE(\"TabSeuil[\",RELEVE_COTES!$C$11,\"]\",\"\")),\"\")","v":{"$error":"#VALUE!"}},{"$error":"#VALUE!"},null,"Seuil acier à la suisse (doucine) PMR 20 mm",20,null,null,"1 pt VACHETTE BCC D453 - axe à 50","1 pt VACHETTE sureté D458 Urgence - axe à 50","1 pt VACHETTE BCC D453 - axe à 50","1 pt VACHETTE sureté D458 Urgence - axe à 50","1 pt VACHETTE sureté D458 Urgence - axe à 50","3 pts A2P** VACHETTE 5000 SGN2 - T1700 et entrebailleur - axe à 50","1 pt VACHETTE BCC D453 - axe à 50","3 pts A2P** VACHETTE 5000 SGN2 - T1700 et entrebailleur - axe à 50","1 pt VACHETTE BCC D453 - axe à 50","3 pts A2P** VACHETTE 5000 SGN2 - T1700 et entrebailleur - axe à 50","1 pt VACHETTE sureté D455 inox - axe à 120","1 pt VACHETTE BCC D453 - axe à 50","1 pt VACHETTE sureté D455 - axe à 50","3 PTS VACHETTE 5000 SPN1+ENTREBA",null,null,"5 pts BRICARD 8121A3 A2P* avec entrebailleur intégré - axe à 120","3 pts METALUX standard - Axe à 300","5 pts BRICARD 8121A3 A2P* avec entrebailleur intégré - axe à 120","3 pts METALUX standard - Axe à 300","3 pts METALUX standard - Axe à 300","5 pts BRICARD 8121A3 A2P* avec entrebailleur intégré - axe à 120","5 pts BRICARD 8121A3 A2P* avec entrebailleur intégré - axe à 120","3 pts VACHETTE V5000 standard - axe à 120",null,null,"Moraillon à plat à visser",null,null,null,null,null,{"$f":"IF(NOT(ISBLANK((INDIRECT(CONCATENATE(\"TabSerrure[\",RELEVE_COTES!$C$11,\"]\"))))),INDIRECT(CONCATENATE(\"TabSerrure[\",RELEVE_COTES!$C$11,\"]\")),\"\")","v":{"$error":"#VALUE!"}},{"$f":"IF(REF!$EE17<>\"\",1,0)","v":{"$error":"#VALUE!"}},null,"1 pt MARQUES BC 7250 - axe à 50","1PT_D45",1045,1020,25,0,"SANS",null,null,null,null,"MOULURÉ 3 CADRES","MOULURÉ 3 CADRES","MOULURÉ 3 CADRES","MOULURÉ 3 CADRES","MOULURÉ 3 CADRES","MOULURÉ 3 CADRES","MOULURÉ 3 CADRES","MOULURÉ 3 CADRES","MOULURÉ 3 CADRES","MOULURÉ 3 CADRES","MOULURÉ 3 CADRES","MOULURÉ 3 CADRES","MOULURÉ 3 CADRES","Distinction","Nuance","Nuance","Nuance","Nuance","Nuance","Nuance","Nuance",null,"Expression","Expression",null,null,null,null,null,null,null,{"$f":"IF(NOT(ISBLANK((INDIRECT(CONCATENATE(\"TabDécorExt[\",RELEVE_COTES!$C$11,\"]\"))))),INDIRECT(CONCATENATE(\"TabDécorExt[\",RELEVE_COTES!$C$11,\"]\",\"\")),\"\")","v":{"$error":"#VALUE!"}},{"$error":"#VALUE!"},null,null,null,null,"CHENE VICENZA H3157","CHENE VICENZA H3157","CHENE VICENZA H3157","CHENE VICENZA H3157","CHENE VICENZA H3157","CHENE VICENZA H3157","CHENE VICENZA H3157","CHENE VICENZA H3157","CHENE VICENZA H3157","CHENE VICENZA H3157","CHENE VICENZA H3157","CHENE VICENZA H3157","CHENE VICENZA H3157","RAL 2001 Orangé rouge","RAL 2001 Orangé rouge","RAL 2001 Orangé rouge","RAL 2001 Orangé rouge","RAL 2001 Orangé rouge","RAL 2001 Orangé rouge","RAL 2001 Orangé rouge","RAL 8014 Brun sépia","RAL 9010 Blanc pur",null,"RAL 2001 Orangé rouge","RAL 2001 Orangé rouge","RAL 2001 Orangé rouge","RAL 2001 Orangé rouge","RAL 2001 Orangé rouge","RAL 2001 Orangé rouge","RAL 2001 Orangé rouge","RAL 2001 Orangé rouge",null,{"$f":"IF(NOT(ISBLANK((INDIRECT(CONCATENATE(\"TabFinExt[\",RELEVE_COTES!$C$11,\"]\"))))),INDIRECT(CONCATENATE(\"TabFinExt[\",RELEVE_COTES!$C$11,\"]\",\"\")),\"\")","v":{"$error":"#VALUE!"}},{"$error":"#VALUE!"},null,"MOULURÉ 3 CADRES","MOULURÉ 3 CADRES","MOULURÉ 3 CADRES","MOULURÉ 3 CADRES","MOULURÉ 3 CADRES","MOULURÉ 3 CADRES","MOULURÉ 3 CADRES","MOULURÉ 3 CADRES","MOULURÉ 3 CADRES","MOULURÉ 3 CADRES","MOULURÉ 3 CADRES","MOULURÉ 3 CADRES","MOULURÉ 3 CADRES","Expression","Nuance","Nuance","Nuance","Nuance","Nuance","Nuance","Nuance","Nuance","Expression","Expression",null,null,null,null,null,null,null,{"$f":"IF(NOT(ISBLANK((INDIRECT(CONCATENATE(\"TabDécorInt[\",RELEVE_COTES!$C$11,\"]\"))))),INDIRECT(CONCATENATE(\"TabDécorInt[\",RELEVE_COTES!$C$11,\"]\",\"\")),\"\")","v":{"$error":"#VALUE!"}},{"$error":"#VALUE!"},null,"CHENE VICENZA H3157","CHENE VICENZA H3157","CHENE VICENZA H3157","CHENE VICENZA H3157","CHENE VICENZA H3157","CHENE VICENZA H3157","CHENE VICENZA H3157","CHENE VICENZA H3157","CHENE VICENZA H3157","CHENE VICENZA H3157","CHENE VICENZA H3157","CHENE VICENZA H3157","CHENE VICENZA H3157","RAL 8014 Brun sépia","RAL 8014 Brun sépia","RAL 9010 Blanc pur","RAL 8014 Brun sépia","RAL 9010 Blanc pur","RAL 8014 Brun sépia","RAL 8014 Brun sépia","RAL 9010 Blanc pur","RAL 9010 Blanc pur","RAL 8014 Brun sépia","RAL 8014 Brun sépia","RAL 2001 Orangé rouge",null,"RAL 2001 Orangé rouge","RAL 2001 Orangé rouge","RAL 2001 Orangé rouge","RAL 2001 Orangé rouge",null,{"$f":"IF(NOT(ISBLANK((INDIRECT(CONCATENATE(\"TabFinInt[\",RELEVE_COTES!$C$11,\"]\"))))),INDIRECT(CONCATENATE(\"TabFinInt[\",RELEVE_COTES!$C$11,\"]\",\"\")),\"\")","v":{"$error":"#VALUE!"}},{"$error":"#VALUE!"},null,"CHENE ZERMATT C202","C202","STRATIFIE",null,null,null,null,null,null,null,"RAL 3000 Rouge feu",3000]
[null,null,null,"STABIPAC52 INT",null,{"$f":"IF(NOT(ISBLANK((INDIRECT(CONCATENATE(\"Tabportes[\",RELEVE_COTES!$C$9,\"]\"))))),INDIRECT(CONCATENATE(\"Tabportes[\",RELEVE_COTES!$C$9,\"]\",\"\")),\"\")","v":{"$error":"#VALUE!"}},{"$error":"#VALUE!"},null,"LOGIBLIND 4F A2P BP1",17,null,1,null,null,null,null,null,null,null,null,null,null,null,null,null,null,null,null,null,null,null,null,null,null,null,null,null,null,null,null,null,null,null,null,null,null,null,null,null,null,null,null,null,null,null,null,null,null,null,null,null,null,null,null,null,null,null,null,null,null,null,null,null,null,null,null,null,null,null,null,null,null,null,"Seuil inox isophonique RPES 40 mm",null,null,null,null,null,null,null,null,null,null,null,{"$f":"IF(NOT(ISBLANK((INDIRECT(CONCATENATE(\"TabSeuil[\",RELEVE_COTES!$C$11,\"]\"))))),INDIRECT(CONCATENATE(\"TabSeuil[\",RELEVE_COTES!$C$11,\"]\",\"\")),\"\")","v":{"$error":"#VALUE!"}},{"$error":"#VALUE!"},null,"Seuil acier à la suisse (doucine) 25 mm",25,null,null,"1 pt VACHETTE BCC D453 carre 8 mm - axe à 50","3 pts A2P* BRICARD 8161/A1 - T1700 - axe à 50","1 pt VACHETTE BCC D453 carre 8 mm - axe à 50","3 pts A2P* BRICARD 8161/A1 - T1700 - axe à 50","3 pts A2P* BRICARD 8161/A1 - T1700 - axe à 50","3 pts A2P** VACHETTE 5000 SGN2 - T2040 - axe à 50","1 pt VACHETTE BCC D453 carre 8 mm - axe à 50","3 pts A2P** VACHETTE 5000 SGN2 - T2040 - axe à 50","1 pt VACHETTE BCC D453 carre 8 mm - axe à 50","3 pts A2P** VACHETTE 5000 SGN2 - T2040 - axe à 50","1 pt VACHETTE sureté D455 inox - axe à 50","1 pt VACHETTE BCC D453 carre 8 mm - axe à 50","1 pt VACHETTE sureté D455 carre 8 mm - axe à 50","3PTS FERCO MR2",null,null,"5 pts BRICARD 8121A4 A2P* - axe à 120","3 pts METALUX standard - Axe à 465","5 pts BRICARD 8121A4 A2P* - axe à 120","3 pts METALUX standard - Axe à 465","3 pts METALUX standard - Axe à 465","5 pts BRICARD 8121A4 A2P* - axe à 120","5 pts BRICARD 8121A4 A2P* - axe à 120","3 pts VACHETTE V5000 standard - axe à 50",null,null,"Verrou de sureté à molette – 3 clés",null,null,null,null,null,{"$f":"IF(NOT(ISBLANK((INDIRECT(CONCATENATE(\"TabSerrure[\",RELEVE_COTES!$C$11,\"]\"))))),INDIRECT(CONCATENATE(\"TabSerrure[\",RELEVE_COTES!$C$11,\"]\")),\"\")","v":{"$error":"#VALUE!"}},{"$f":"IF(REF!$EE18<>\"\",1,0)","v":{"$error":"#VALUE!"}},null,"1 pt MARQUES BCC 7250 - axe à 50","1PT_D45",1045,1020,25,0,"SANS",null,null,null,null,"NAUTIC","NAUTIC","NAUTIC","NAUTIC","NAUTIC","NAUTIC","NAUTIC","NAUTIC","NAUTIC","NAUTIC","NAUTIC","NAUTIC","NAUTIC","Eclat","Romane","Romane","Romane","Romane","Romane","Romane","Romane",null,"Flanelle","Flanelle",null,null,null,null,null,null,null,{"$f":"IF(NOT(ISBLANK((INDIRECT(CONCATENATE(\"TabDécorExt[\",RELEVE_COTES!$C$11,\"]\"))))),INDIRECT(CONCATENATE(\"TabDécorExt[\",RELEVE_COTES!$C$11,\"]\",\"\")),\"\")","v":{"$error":"#VALUE!"}},{"$error":"#VALUE!"},null,null,null,null,"CHENE VICENZA GRIS TRANSVERSAL H358","CHENE VICENZA GRIS TRANSVERSAL H358","CHENE VICENZA GRIS TRANSVERSAL H358","CHENE VICENZA GRIS TRANSVERSAL H358","CHENE VICENZA GRIS TRANSVERSAL H358","CHENE VICENZA GRIS TRANSVERSAL H358","CHENE VICENZA GRIS TRANSVERSAL H358","CHENE VICENZA GRIS TRANSVERSAL H358","CHENE VICENZA GRIS TRANSVERSAL H358","CHENE VICENZA GRIS TRANSVERSAL H358","CHENE VICENZA GRIS TRANSVERSAL H358","CHENE VICENZA GRIS TRANSVERSAL H358","CHENE VICENZA GRIS TRANSVERSAL H358","RAL 3000 Rouge feu","RAL 3000 Rouge feu","RAL 3000 Rouge feu","RAL 3000 Rouge feu","RAL 3000 Rouge feu","RAL 3000 Rouge feu","RAL 3000 Rouge feu","RAL 9005 Noir foncé","Hors nuancier",null,"RAL 3000 Rouge feu","RAL 3000 Rouge feu","RAL 3000 Rouge feu","RAL 3000 Rouge feu","RAL 3000 Rouge feu","RAL 3000 Rouge feu","RAL 3000 Rouge feu","RAL 3000 Rouge feu",null,{"$f":"IF(NOT(ISBLANK((INDIRECT(CONCATENATE(\"TabFinExt[\",RELEVE_COTES!$C$11,\"]\"))))),INDIRECT(CONCATENATE(\"TabFinExt[\",RELEVE_COTES!$C$11,\"]\",\"\")),\"\")","v":{"$error":"#VALUE!"}},{"$error":"#VALUE!"},null,"NAUTIC","NAUTIC","NAUTIC","NAUTIC","NAUTIC","NAUTIC","NAUTIC","NAUTIC","NAUTIC","NAUTIC","NAUTIC","NAUTIC","NAUTIC","Flanelle","Romane","Romane","Romane","Romane","Romane","Romane","Romane","Romane","Flanelle","Flanelle",null,null,null,null,null,null,null,{"$f":"IF(NOT(ISBLANK((INDIRECT(CONCATENATE(\"TabDécorInt[\",RELEVE_COTES!$C$11,\"]\"))))),INDIRECT(CONCATENATE(\"TabDécorInt[\",RELEVE_COTES!$C$11,\"]\",\"\")),\"\")","v":{"$error":"#VALUE!"}},{"$error":"#VALUE!"},null,"CHENE VICENZA GRIS TRANSVERSAL H358","CHENE VICENZA GRIS TRANSVERSAL H358","CHENE VICENZA GRIS TRANSVERSAL H358","CHENE VICENZA GRIS TRANSVERSAL H358","CHENE VICENZA GRIS TRANSVERSAL H358","CHENE VICENZA GRIS TRANSVERSAL H358","CHENE VICENZA GRIS TRANSVERSAL H358","CHENE VICENZA GRIS TRANSVERSAL H358","CHENE VICENZA GRIS TRANSVERSAL H358","CHENE VICENZA GRIS TRANSVERSAL H358","CHENE VICENZA GRIS TRANSVERSAL H358","CHENE VICENZA GRIS TRANSVERSAL H358","CHENE VICENZA GRIS TRANSVERSAL H358","RAL 9005 Noir foncé","RAL 9005 Noir foncé","Hors nuancier","RAL 9005 Noir foncé","Hors nuancier","RAL 9005 Noir foncé","RAL 9005 Noir foncé","Hors nuancier","Hors nuancier","RAL 9005 Noir foncé","RAL 9005 Noir foncé","RAL 3000 Rouge feu",null,"RAL 3000 Rouge feu","RAL 3000 Rouge feu","RAL 3000 Rouge feu","RAL 3000 Rouge feu",null,{"$f":"IF(NOT(ISBLANK((INDIRECT(CONCATENATE(\"TabFinInt[\",RELEVE_COTES!$C$11,\"]\"))))),INDIRECT(CONCATENATE(\"TabFinInt[\",RELEVE_COTES!$C$11,\"]\",\"\")),\"\")","v":{"$error":"#VALUE!"}},{"$error":"#VALUE!"},null,"CITADEL F9266","F9266","STRATIFIE",null,null,null,null,null,null,null,"RAL 3003 Rouge rubis",3003]
[null,null,null,null,null,{"$f":"IF(NOT(ISBLANK((INDIRECT(CONCATENATE(\"Tabportes[\",RELEVE_COTES!$C$9,\"]\"))))),INDIRECT(CONCATENATE(\"Tabportes[\",RELEVE_COTES!$C$9,\"]\",\"\")),\"\")","v":{"$error":"#VALUE!"}},{"$error":"#VALUE!"},null,"LOGIPAC+",18,null,1,null,null,null,null,null,null,null,null,null,null,null,null,null,null,null,null,null,null,null,null,null,null,null,null,null,null,null,null,null,null,null,null,null,null,null,null,null,null,null,null,null,null,null,null,null,null,null,null,null,null,null,null,null,null,null,null,null,null,null,null,null,null,null,null,null,null,null,null,null,null,null,null,null,null,null,null,null,null,null,null,null,null,null,null,null,null,"Seuil acier à la suisse (doucine) 30 mm",30,null,null,"1 pt VACHETTE BCC D453 inox - axe à 50","3 pts A2P* BRICARD 8161/A1 - T2040 - axe à 50","1 pt VACHETTE BCC D453 inox - axe à 50","3 pts A2P* BRICARD 8161/A1 - T2040 - axe à 50","3 pts A2P* BRICARD 8161/A1 - T2040 - axe à 50","3 pts A2P** VACHETTE 5000 TN2/FN2 - T1700 - axe à 50","1 pt VACHETTE BCC D453 inox - axe à 50","3 pts A2P** VACHETTE 5000 TN2/FN2 - T1700 - axe à 50","1 pt VACHETTE BCC D453 inox - axe à 50","3 pts A2P** VACHETTE 5000 TN2/FN2 - T1700 - axe à 50","1 pt VACHETTE sureté D458 Urgence - axe à 50","1 pt VACHETTE BCC D453 inox - axe à 50","1 pt VACHETTE sureté D455 inox - axe à 50","3PTS FERCO MR2  SEI A2P*",null,null,"5 pts BRICARD 8121A4 A2P* avec entrebailleur intégré - axe à 120","3 pts VACHETTE V5000 A2P* A120 XL SGN1 - axe à 120","5 pts BRICARD 8121A4 A2P* avec entrebailleur intégré - axe à 120","3 pts VACHETTE V5000 A2P* A120 XL SGN1 - axe à 120","3 pts VACHETTE V5000 A2P* A120 XL SGN1 - axe à 120","5 pts BRICARD 8121A4 A2P* avec entrebailleur intégré - axe à 120","5 pts BRICARD 8121A4 A2P* avec entrebailleur intégré - axe à 120","4 pts VACHETTE V20000 A2P* - axe à 50",null,null,null,null,null,null,null,null,{"$f":"IF(NOT(ISBLANK((INDIRECT(CONCATENATE(\"TabSerrure[\",RELEVE_COTES!$C$11,\"]\"))))),INDIRECT(CONCATENATE(\"TabSerrure[\",RELEVE_COTES!$C$11,\"]\")),\"\")","v":{"$error":"#VALUE!"}},{"$f":"IF(REF!$EE19<>\"\",1,0)","v":{"$error":"#VALUE!"}},null,"1 pt VACHETTE BCC D453 inox - axe à 50","1PT_D45",1045,1020,25,0,"SANS",null,null,null,null,"NÉO","NÉO","NÉO","NÉO","NÉO","NÉO","NÉO","NÉO","NÉO","NÉO","NÉO","NÉO","NÉO","Eclipse","Rythme","Rythme","Rythme","Rythme","Rythme","Rythme","Rythme",null,"Inès","Inès",null,null,null,null,null,null,null,{"$f":"IF(NOT(ISBLANK((INDIRECT(CONCATENATE(\"TabDécorExt[\",RELEVE_COTES!$C$11,\"]\"))))),INDIRECT(CONCATENATE(\"TabDécorExt[\",RELEVE_COTES!$C$11,\"]\",\"\")),\"\")","v":{"$error":"#VALUE!"}},{"$error":"#VALUE!"},null,null,null,null,"CHENE ZERMATT C202","CHENE ZERMATT C202","CHENE ZERMATT C202","CHENE ZERMATT C202","CHENE ZERMATT C202","CHENE ZERMATT C202","CHENE ZERMATT C202","CHENE ZERMATT C202","CHENE ZERMATT C202","CHENE ZERMATT C202","CHENE ZERMATT C202","CHENE ZERMATT C202","CHENE ZERMATT C202","RAL 3003 Rouge rubis","RAL 3003 Rouge rubis","RAL 3003 Rouge rubis","RAL 3003 Rouge rubis","RAL 3003 Rouge rubis","RAL 3003 Rouge rubis","RAL 3003 Rouge rubis","RAL 9010 Blanc pur","RAL 1013 Blanc perlé",null,"RAL 3003 Rouge rubis","RAL 3003 Rouge rubis","RAL 3003 Rouge rubis","RAL 3003 Rouge rubis","RAL 3003 Rouge rubis","RAL 3003 Rouge rubis","RAL 3003 Rouge rubis","RAL 3003 Rouge rubis",null,{"$f":"IF(NOT(ISBLANK((INDIRECT(CONCATENATE(\"TabFinExt[\",RELEVE_COTES!$C$11,\"]\"))))),INDIRECT(CONCATENATE(\"TabFinExt[\",RELEVE_COTES!$C$11,\"]\",\"\")),\"\")","v":{"$error":"#VALUE!"}},{"$error":"#VALUE!"},null,"NÉO","NÉO","NÉO","NÉO","NÉO","NÉO","NÉO","NÉO","NÉO","NÉO","NÉO","NÉO","NÉO","Inès","Rythme","Rythme","Rythme","Rythme","Rythme","Rythme","Rythme","Rythme","Inès","Inès",null,null,null,null,null,null,null,{"$f":"IF(NOT(ISBLANK((INDIRECT(CONCATENATE(\"TabDécorInt[\",RELEVE_COTES!$C$11,\"]\"))))),INDIRECT(CONCATENATE(\"TabDécorInt[\",RELEVE_COTES!$C$11,\"]\",\"\")),\"\")","v":{"$error":"#VALUE!"}},{"$error":"#VALUE!"},null,"CHENE ZERMATT C202","CHENE ZERMATT C202","CHENE ZERMATT C202","CHENE ZERMATT C202","CHENE ZERMATT C202","CHENE ZERMATT C202","CHENE ZERMATT C202","CHENE ZERMATT C202","CHENE ZERMATT C202","CHENE ZERMATT C202","CHENE ZERMATT C202","CHENE ZERMATT C202","CHENE ZERMATT C202","RAL 9010 Blanc pur","RAL 9010 Blanc pur","RAL 1013 Blanc perlé","RAL 9010 Blanc pur","RAL 1013 Blanc perlé","RAL 9010 Blanc pur","RAL 9010 Blanc pur","RAL 1013 Blanc perlé","RAL 1013 Blanc perlé","RAL 9010 Blanc pur","RAL 9010 Blanc pur","RAL 3003 Rouge rubis",null,"RAL 3003 Rouge rubis","RAL 3003 Rouge rubis","RAL 3003 Rouge rubis","RAL 3003 Rouge rubis",null,{"$f":"IF(NOT(ISBLANK((INDIRECT(CONCATENATE(\"TabFinInt[\",RELEVE_COTES!$C$11,\"]\"))))),INDIRECT(CONCATENATE(\"TabFinInt[\",RELEVE_COTES!$C$11,\"]\",\"\")),\"\")","v":{"$error":"#VALUE!"}},{"$error":"#VALUE!"},null,"EBONY OAK CROSS F5477","F5477","STRATIFIE",null,null,null,null,null,null,null,"RAL 3020 Rouge signalisation",3020]
[null,null,null,null,null,{"$f":"IF(NOT(ISBLANK((INDIRECT(CONCATENATE(\"Tabportes[\",RELEVE_COTES!$C$9,\"]\"))))),INDIRECT(CONCATENATE(\"Tabportes[\",RELEVE_COTES!$C$9,\"]\",\"\")),\"\")","v":{"$error":"#VALUE!"}},{"$error":"#VALUE!"},null,"LOGIPAC+38",19,null,1,null,null,null,null,null,null,null,null,null,null,null,null,null,null,null,null,null,null,null,null,null,null,null,null,null,null,null,null,null,null,null,null,null,null,null,null,null,null,null,null,null,null,null,null,null,null,null,null,null,null,null,null,null,null,null,null,null,null,null,null,null,null,null,null,null,null,null,null,null,null,null,null,null,null,null,null,null,null,null,null,null,null,null,null,null,null,"Seuil acier à la suisse (doucine) 35 mm",35,null,null,"1 pt VACHETTE sureté D455 - axe à 120","3 pts A2P* FERCO Secury PP MR2 - T1700 - axe à 50","1 pt VACHETTE sureté D455 - axe à 120","3 pts A2P* FERCO Secury PP MR2 - T1700 - axe à 50","3 pts A2P* FERCO Secury PP MR2 - T1700 - axe à 50","3 pts A2P** VACHETTE 5000 TN2/FN2 - T2040 - axe à 50","1 pt VACHETTE sureté D455 - axe à 120","3 pts A2P** VACHETTE 5000 TN2/FN2 - T2040 - axe à 50","1 pt VACHETTE sureté D455 - axe à 120","3 pts A2P** VACHETTE 5000 TN2/FN2 - T2040 - axe à 50","3 pts A2P* BRICARD 8121/A1 - T2040 - axe à 120","1 pt VACHETTE sureté D455 - axe à 120","1 pt VACHETTE sureté D458 Urgence - axe à 50","5PTS /3C TRILOCK 5900 ",null,null,"5 pts BRICARD 8161-A3 A2P* - axe à 50","3 pts VACHETTE V5000 A2P* XL SGN1 avec entrebailleur intégré - axe à 120","5 pts BRICARD 8161-A3 A2P* - axe à 50","3 pts VACHETTE V5000 A2P* XL SGN1 avec entrebailleur intégré - axe à 120","3 pts VACHETTE V5000 A2P* XL SGN1 avec entrebailleur intégré - axe à 120","5 pts BRICARD 8161-A3 A2P* - axe à 50","5 pts BRICARD 8161-A3 A2P* - axe à 50","4 pts VACHETTE V20000 standard - axe à 50",null,null,null,null,null,null,null,null,{"$f":"IF(NOT(ISBLANK((INDIRECT(CONCATENATE(\"TabSerrure[\",RELEVE_COTES!$C$11,\"]\"))))),INDIRECT(CONCATENATE(\"TabSerrure[\",RELEVE_COTES!$C$11,\"]\")),\"\")","v":{"$error":"#VALUE!"}},{"$f":"IF(REF!$EE20<>\"\",1,0)","v":{"$error":"#VALUE!"}},null,"3 pts VACHETTE 5000 - T2040 et entrebailleur - axe à 50","3PTS_V5000_E",1045,1020,25,1830,"SANS",null,null,null,null,"ONDO","ONDO","ONDO","ONDO","ONDO","ONDO","ONDO","ONDO","ONDO","ONDO","ONDO","ONDO","ONDO","Elan","Sabine-","Sabine-","Sabine-","Sabine-","Sabine-","Sabine-","Sabine-",null,"Influence","Influence",null,null,null,null,null,null,null,{"$f":"IF(NOT(ISBLANK((INDIRECT(CONCATENATE(\"TabDécorExt[\",RELEVE_COTES!$C$11,\"]\"))))),INDIRECT(CONCATENATE(\"TabDécorExt[\",RELEVE_COTES!$C$11,\"]\",\"\")),\"\")","v":{"$error":"#VALUE!"}},{"$error":"#VALUE!"},null,null,null,null,"CITADEL F9266","CITADEL F9266","CITADEL F9266","CITADEL F9266","CITADEL F9266","CITADEL F9266","CITADEL F9266","CITADEL F9266","CITADEL F9266","CITADEL F9266","CITADEL F9266","CITADEL F9266","CITADEL F9266","RAL 3020 Rouge signalisation","RAL 3020 Rouge signalisation","RAL 3020 Rouge signalisation","RAL 3020 Rouge signalisation","RAL 3020 Rouge signalisation","RAL 3020 Rouge signalisation","RAL 3020 Rouge signalisation","Hors nuancier","RAL 1019 Beige gris",null,"RAL 3020 Rouge signalisation","RAL 3020 Rouge signalisation","RAL 3020 Rouge signalisation","RAL 3020 Rouge signalisation","RAL 3020 Rouge signalisation","RAL 3020 Rouge signalisation","RAL 3020 Rouge signalisation","RAL 3020 Rouge signalisation",null,{"$f":"IF(NOT(ISBLANK((INDIRECT(CONCATENATE(\"TabFinExt[\",RELEVE_COTES!$C$11,\"]\"))))),INDIRECT(CONCATENATE(\"TabFinExt[\",RELEVE_COTES!$C$11,\"]\",\"\")),\"\")","v":{"$error":"#VALUE!"}},{"$error":"#VALUE!"},null,"ONDO","ONDO","ONDO","ONDO","ONDO","ONDO","ONDO","ONDO","ONDO","ONDO","ONDO","ONDO","ONDO","Influence","Sabine-","Sabine-","Sabine-","Sabine-","Sabine-","Sabine-","Sabine-","Sabine-","Influence","Influence",null,null,null,null,null,null,null,{"$f":"IF(NOT(ISBLANK((INDIRECT(CONCATENATE(\"TabDécorInt[\",RELEVE_COTES!$C$11,\"]\"))))),INDIRECT(CONCATENATE(\"TabDécorInt[\",RELEVE_COTES!$C$11,\"]\",\"\")),\"\")","v":{"$error":"#VALUE!"}},{"$error":"#VALUE!"},null,"CITADEL F9266","CITADEL F9266","CITADEL F9266","CITADEL F9266","CITADEL F9266","CITADEL F9266","CITADEL F9266","CITADEL F9266","CITADEL F9266","CITADEL F9266","CITADEL F9266","CITADEL F9266","CITADEL F9266","Hors nuancier","Hors nuancier","RAL 1019 Beige gris","Hors nuancier","RAL 1019 Beige gris","Hors nuancier","Hors nuancier","RAL 1019 Beige gris","RAL 1019 Beige gris","Hors nuancier","Hors nuancier","RAL 3020 Rouge signalisation",null,"RAL 3020 Rouge signalisation","RAL 3020 Rouge signalisation","RAL 3020 Rouge signalisation","RAL 3020 Rouge signalisation",null,{"$f":"IF(NOT(ISBLANK((INDIRECT(CONCATENATE(\"TabFinInt[\",RELEVE_COTES!$C$11,\"]\"))))),INDIRECT(CONCATENATE(\"TabFinInt[\",RELEVE_COTES!$C$11,\"]\",\"\")),\"\")","v":{"$error":"#VALUE!"}},{"$error":"#VALUE!"},null,"ELEGANT BLACK/VENEER WOOD W06 00113","W06 00113","STRATIFIE",null,null,null,null,null,null,null,"RAL 5002 Bleu outremer",5002]
[null,null,null,null,null,{"$f":"IF(NOT(ISBLANK((INDIRECT(CONCATENATE(\"Tabportes[\",RELEVE_COTES!$C$9,\"]\"))))),INDIRECT(CONCATENATE(\"Tabportes[\",RELEVE_COTES!$C$9,\"]\",\"\")),\"\")","v":{"$error":"#VALUE!"}},{"$error":"#VALUE!"},null,"PHONIPAC3F",20,null,1,null,null,null,null,null,null,null,null,null,null,null,null,null,null,null,null,null,null,null,null,null,null,null,null,null,null,null,null,null,null,null,null,null,null,null,null,null,null,null,null,null,null,null,null,null,null,null,null,null,null,null,null,null,null,null,null,null,null,null,null,null,null,null,null,null,null,null,null,null,null,null,null,null,null,null,null,null,null,null,null,null,null,null,null,null,null,"Seuil acier à la suisse (doucine) 40 mm",40,null,null,"1 pt VACHETTE sureté D455 - axe à 50","3 pts A2P* FERCO Secury PP MR2 - T2040 - axe à 50","1 pt VACHETTE sureté D455 - axe à 50","3 pts A2P* FERCO Secury PP MR2 - T2040 - axe à 50","3 pts A2P* FERCO Secury PP MR2 - T2040 - axe à 50","3 pts A2P*** VACHETTE 5000 - T1700 - axe à 50","1 pt VACHETTE sureté D455 - axe à 50","3 pts A2P*** VACHETTE 5000 - T1700 - axe à 50","1 pt VACHETTE sureté D455 - axe à 50","3 pts A2P*** VACHETTE 5000 - T1700 - axe à 50","3 pts A2P* BRICARD 8161/A1 - T1700 - axe à 50","1 pt VACHETTE sureté D455 - axe à 50","ASSA ABLOY APERIO E100 BASIC (Coffre EURO Marques) - axe à 50","5PTS /3C TRILOCK 5900 SPN1 1*",null,null,"5 pts BRICARD 8161A3 A2P* avec entrebailleur intégré - axe à 50","3 pts VACHETTE V5000 SGN2 A2P** - axe à 50","5 pts BRICARD 8161A3 A2P* avec entrebailleur intégré - axe à 50","3 pts VACHETTE V5000 SGN2 A2P** - axe à 50","3 pts VACHETTE V5000 SGN2 A2P** - axe à 50","5 pts BRICARD 8161A3 A2P* avec entrebailleur intégré - axe à 50","5 pts BRICARD 8161A3 A2P* avec entrebailleur intégré - axe à 50","4 pts VACHETTE V20500 standard - axe à 50",null,null,null,null,null,null,null,null,{"$f":"IF(NOT(ISBLANK((INDIRECT(CONCATENATE(\"TabSerrure[\",RELEVE_COTES!$C$11,\"]\"))))),INDIRECT(CONCATENATE(\"TabSerrure[\",RELEVE_COTES!$C$11,\"]\")),\"\")","v":{"$error":"#VALUE!"}},{"$f":"IF(REF!$EE21<>\"\",1,0)","v":{"$error":"#VALUE!"}},null,"3 pts VACHETTE 5000 - T2040 - axe à 120","3PTS_V5000",1045,1020,25,1830,"SANS",null,null,null,null,"PRESTIGE","PRESTIGE","PRESTIGE","PRESTIGE","PRESTIGE","PRESTIGE","PRESTIGE","PRESTIGE","PRESTIGE","PRESTIGE","PRESTIGE","PRESTIGE","PRESTIGE","Elegance","Sabrina","Sabrina","Sabrina","Sabrina","Sabrina","Sabrina","Sabrina",null,"Lalie","Lalie",null,null,null,null,null,null,null,{"$f":"IF(NOT(ISBLANK((INDIRECT(CONCATENATE(\"TabDécorExt[\",RELEVE_COTES!$C$11,\"]\"))))),INDIRECT(CONCATENATE(\"TabDécorExt[\",RELEVE_COTES!$C$11,\"]\",\"\")),\"\")","v":{"$error":"#VALUE!"}},{"$error":"#VALUE!"},null,null,null,null,"EBONY OAK CROSS F5477","EBONY OAK CROSS F5477","EBONY OAK CROSS F5477","EBONY OAK CROSS F5477","EBONY OAK CROSS F5477","EBONY OAK CROSS F5477","EBONY OAK CROSS F5477","EBONY OAK CROSS F5477","EBONY OAK CROSS F5477","EBONY OAK CROSS F5477","EBONY OAK CROSS F5477","EBONY OAK CROSS F5477","EBONY OAK CROSS F5477","RAL 5002 Bleu outremer","RAL 5002 Bleu outremer","RAL 5002 Bleu outremer","RAL 5002 Bleu outremer","RAL 5002 Bleu outremer","RAL 5002 Bleu outremer","RAL 5002 Bleu outremer","RAL 1013 Blanc perlé","RAL 2001 Orangé rouge",null,"RAL 5002 Bleu outremer","RAL 5002 Bleu outremer","RAL 5002 Bleu outremer","RAL 5002 Bleu outremer","RAL 5002 Bleu outremer","RAL 5002 Bleu outremer","RAL 5002 Bleu outremer","RAL 5002 Bleu outremer",null,{"$f":"IF(NOT(ISBLANK((INDIRECT(CONCATENATE(\"TabFinExt[\",RELEVE_COTES!$C$11,\"]\"))))),INDIRECT(CONCATENATE(\"TabFinExt[\",RELEVE_COTES!$C$11,\"]\",\"\")),\"\")","v":{"$error":"#VALUE!"}},{"$error":"#VALUE!"},null,"PRESTIGE","PRESTIGE","PRESTIGE","PRESTIGE","PRESTIGE","PRESTIGE","PRESTIGE","PRESTIGE","PRESTIGE","PRESTIGE","PRESTIGE","PRESTIGE","PRESTIGE","Lalie","Sabrina","Sabrina","Sabrina","Sabrina","Sabrina","Sabrina","Sabrina","Sabrina","Lalie","Lalie",null,null,null,null,null,null,null,{"$f":"IF(NOT(ISBLANK((INDIRECT(CONCATENATE(\"TabDécorInt[\",RELEVE_COTES!$C$11,\"]\"))))),INDIRECT(CONCATENATE(\"TabDécorInt[\",RELEVE_COTES!$C$11,\"]\",\"\")),\"\")","v":{"$error":"#VALUE!"}},{"$error":"#VALUE!"},null,"EBONY OAK CROSS F5477","EBONY OAK CROSS F5477","EBONY OAK CROSS F5477","EBONY OAK CROSS F5477","EBONY OAK CROSS F5477","EBONY OAK CROSS F5477","EBONY OAK CROSS F5477","EBONY OAK CROSS F5477","EBONY OAK CROSS F5477","EBONY OAK CROSS F5477","EBONY OAK CROSS F5477","EBONY OAK CROSS F5477","EBONY OAK CROSS F5477","RAL 1013 Blanc perlé","RAL 1013 Blanc perlé","RAL 2001 Orangé rouge","RAL 1013 Blanc perlé","RAL 2001 Orangé rouge","RAL 1013 Blanc perlé","RAL 1013 Blanc perlé","RAL 2001 Orangé rouge","RAL 2001 Orangé rouge","RAL 1013 Blanc perlé","RAL 1013 Blanc perlé","RAL 5002 Bleu outremer",null,"RAL 5002 Bleu outremer","RAL 5002 Bleu outremer","RAL 5002 Bleu outremer","RAL 5002 Bleu outremer",null,{"$f":"IF(NOT(ISBLANK((INDIRECT(CONCATENATE(\"TabFinInt[\",RELEVE_COTES!$C$11,\"]\"))))),INDIRECT(CONCATENATE(\"TabFinInt[\",RELEVE_COTES!$C$11,\"]\",\"\")),\"\")","v":{"$error":"#VALUE!"}},{"$error":"#VALUE!"},null,"FLEETWOOD BLANC H3450","H3450","STRATIFIE",null,null,null,null,null,null,null,"RAL 5008 Bleu gris",5008]
[null,null,null,null,null,{"$f":"IF(NOT(ISBLANK((INDIRECT(CONCATENATE(\"Tabportes[\",RELEVE_COTES!$C$9,\"]\"))))),INDIRECT(CONCATENATE(\"Tabportes[\",RELEVE_COTES!$C$9,\"]\",\"\")),\"\")","v":{"$error":"#VALUE!"}},{"$error":"#VALUE!"},null,"SECURIPAC 4F A2P BP1",21,null,1,null,null,null,null,null,null,null,null,null,null,null,null,null,null,null,null,null,null,null,null,null,null,null,null,null,null,null,null,null,null,null,null,null,null,null,null,null,null,null,null,null,null,null,null,null,null,null,null,null,null,null,null,null,null,null,null,null,null,null,null,null,null,null,null,null,null,null,null,null,null,null,null,null,null,null,null,null,null,null,null,null,null,null,null,null,null,"Seuil déporté en BER (20 mm)",20,null,null,"1 pt VACHETTE sureté D455 carre 8 mm - axe à 50","3 pts A2P* VACHETTE 5000 SPN1 - T1700 - axe à 50","1 pt VACHETTE sureté D455 carre 8 mm - axe à 50","3 pts A2P* VACHETTE 5000 SPN1 - T1700 - axe à 50","3 pts A2P* VACHETTE 5000 SPN1 - T1700 - axe à 50","5 pts A2P* BRICARD 8121/A3 - T2040 - axe à 120","1 pt VACHETTE sureté D455 carre 8 mm - axe à 50","5 pts A2P* BRICARD 8121/A3 - T2040 - axe à 120","1 pt VACHETTE sureté D455 carre 8 mm - axe à 50","5 pts A2P* BRICARD 8121/A3 - T2040 - axe à 120","3 pts A2P* BRICARD 8161/A1 - T2040 - axe à 50","1 pt VACHETTE sureté D455 carre 8 mm - axe à 50","ASSA ABLOY APERIO E100 BASIC (Coffre EURO Vachette) - axe à 50","5PTS/3C  BRICARD 8161 A3 A2P*T2040 (E=20)",null,null,"5 pts BRICARD 8161-A4  A2P* - axe à 50","3 pts VACHETTE V5000 SGN2 A2P** avec entrebailleur - axe à 50","5 pts BRICARD 8161-A4  A2P* - axe à 50","3 pts VACHETTE V5000 SGN2 A2P** avec entrebailleur - axe à 50","3 pts VACHETTE V5000 SGN2 A2P** avec entrebailleur - axe à 50","5 pts BRICARD 8161-A4  A2P* - axe à 50","5 pts BRICARD 8161-A4  A2P* - axe à 50","5 pts BRICARD 8120A3 standard - axe à 120",null,null,null,null,null,null,null,null,{"$f":"IF(NOT(ISBLANK((INDIRECT(CONCATENATE(\"TabSerrure[\",RELEVE_COTES!$C$11,\"]\"))))),INDIRECT(CONCATENATE(\"TabSerrure[\",RELEVE_COTES!$C$11,\"]\")),\"\")","v":{"$error":"#VALUE!"}},{"$f":"IF(REF!$EE22<>\"\",1,0)","v":{"$error":"#VALUE!"}},null,"3 pts VACHETTE 5000 - T2040 et entrebailleur - axe à 120","3PTS_V5000_E",1045,1020,25,1830,"SANS",null,null,null,null,"SIGNA","SIGNA","SIGNA","SIGNA","SIGNA","SIGNA","SIGNA","SIGNA","SIGNA","SIGNA","SIGNA","SIGNA","SIGNA","Equilibre","Sahra","Sahra","Sahra","Sahra","Sahra","Sahra","Sahra",null,"Laura","Laura",null,null,null,null,null,null,null,{"$f":"IF(NOT(ISBLANK((INDIRECT(CONCATENATE(\"TabDécorExt[\",RELEVE_COTES!$C$11,\"]\"))))),INDIRECT(CONCATENATE(\"TabDécorExt[\",RELEVE_COTES!$C$11,\"]\",\"\")),\"\")","v":{"$error":"#VALUE!"}},{"$error":"#VALUE!"},null,null,null,null,"ELEGANT BLACK/VENEER WOOD W06 00113","ELEGANT BLACK/VENEER WOOD W06 00113","ELEGANT BLACK/VENEER WOOD W06 00113","ELEGANT BLACK/VENEER WOOD W06 00113","ELEGANT BLACK/VENEER WOOD W06 00113","ELEGANT BLACK/VENEER WOOD W06 00113","ELEGANT BLACK/VENEER WOOD W06 00113","ELEGANT BLACK/VENEER WOOD W06 00113","ELEGANT BLACK/VENEER WOOD W06 00113","ELEGANT BLACK/VENEER WOOD W06 00113","ELEGANT BLACK/VENEER WOOD W06 00113","ELEGANT BLACK/VENEER WOOD W06 00113","ELEGANT BLACK/VENEER WOOD W06 00113","RAL 5008 Bleu gris","RAL 5008 Bleu gris","RAL 5008 Bleu gris","RAL 5008 Bleu gris","RAL 5008 Bleu gris","RAL 5008 Bleu gris","RAL 5008 Bleu gris","RAL 1019 Beige gris","RAL 3000 Rouge feu",null,"RAL 5008 Bleu gris","RAL 5008 Bleu gris","RAL 5008 Bleu gris","RAL 5008 Bleu gris","RAL 5008 Bleu gris","RAL 5008 Bleu gris","RAL 5008 Bleu gris","RAL 5008 Bleu gris",null,{"$f":"IF(NOT(ISBLANK((INDIRECT(CONCATENATE(\"TabFinExt[\",RELEVE_COTES!$C$11,\"]\"))))),INDIRECT(CONCATENATE(\"TabFinExt[\",RELEVE_COTES!$C$11,\"]\",\"\")),\"\")","v":{"$error":"#VALUE!"}},{"$error":"#VALUE!"},null,"SIGNA","SIGNA","SIGNA","SIGNA","SIGNA","SIGNA","SIGNA","SIGNA","SIGNA","SIGNA","SIGNA","SIGNA","SIGNA","Laura","Sahra","Sahra","Sahra","Sahra","Sahra","Sahra","Sahra","Sahra","Laura","Laura",null,null,null,null,null,null,null,{"$f":"IF(NOT(ISBLANK((INDIRECT(CONCATENATE(\"TabDécorInt[\",RELEVE_COTES!$C$11,\"]\"))))),INDIRECT(CONCATENATE(\"TabDécorInt[\",RELEVE_COTES!$C$11,\"]\",\"\")),\"\")","v":{"$error":"#VALUE!"}},{"$error":"#VALUE!"},null,"ELEGANT BLACK/VENEER WOOD W06 00113","ELEGANT BLACK/VENEER WOOD W06 00113","ELEGANT BLACK/VENEER WOOD W06 00113","ELEGANT BLACK/VENEER WOOD W06 00113","ELEGANT BLACK/VENEER WOOD W06 00113","ELEGANT BLACK/VENEER WOOD W06 00113","ELEGANT BLACK/VENEER WOOD W06 00113","ELEGANT BLACK/VENEER WOOD W06 00113","ELEGANT BLACK/VENEER WOOD W06 00113","ELEGANT BLACK/VENEER WOOD W06 00113","ELEGANT BLACK/VENEER WOOD W06 00113","ELEGANT BLACK/VENEER WOOD W06 00113","ELEGANT BLACK/VENEER WOOD W06 00113","RAL 1019 Beige gris","RAL 1019 Beige gris","RAL 3000 Rouge feu","RAL 1019 Beige gris","RAL 3000 Rouge feu","RAL 1019 Beige gris","RAL 1019 Beige gris","RAL 3000 Rouge feu","RAL 3000 Rouge feu","RAL 1019 Beige gris","RAL 1019 Beige gris","RAL 5008 Bleu gris",null,"RAL 5008 Bleu gris","RAL 5008 Bleu gris","RAL 5008 Bleu gris","RAL 5008 Bleu gris",null,{"$f":"IF(NOT(ISBLANK((INDIRECT(CONCATENATE(\"TabFinInt[\",RELEVE_COTES!$C$11,\"]\"))))),INDIRECT(CONCATENATE(\"TabFinInt[\",RELEVE_COTES!$C$11,\"]\",\"\")),\"\")","v":{"$error":"#VALUE!"}},{"$error":"#VALUE!"},null,"FRENE SCANDINAVE F056","F056","STRATIFIE",null,null,null,null,null,null,null,"RAL 5010 Bleu gentiane",5010]
[null,null,null,null,null,{"$f":"IF(NOT(ISBLANK((INDIRECT(CONCATENATE(\"Tabportes[\",RELEVE_COTES!$C$9,\"]\"))))),INDIRECT(CONCATENATE(\"Tabportes[\",RELEVE_COTES!$C$9,\"]\",\"\")),\"\")","v":{"$error":"#VALUE!"}},{"$error":"#VALUE!"},null,"SECURIPAC 4F A2P BP1 EVOLUPAC",22,null,1,null,null,null,null,null,null,null,null,null,null,null,null,null,null,null,null,null,null,null,null,null,null,null,null,null,null,null,null,null,null,null,null,null,null,null,null,null,null,null,null,null,null,null,null,null,null,null,null,null,null,null,null,null,null,null,null,null,null,null,null,null,null,null,null,null,null,null,null,null,null,null,null,null,null,null,null,null,null,null,null,null,null,null,null,null,null,"Seuil déporté en BER avec capotage acier (20 mm)",20,null,null,"1 pt VACHETTE sureté D455 inox - axe à 120","3 pts A2P* VACHETTE 5000 SPN1 - T2040 - axe à 50","1 pt VACHETTE sureté D455 inox - axe à 120","3 pts A2P* VACHETTE 5000 SPN1 - T2040 - axe à 50","3 pts A2P* VACHETTE 5000 SPN1 - T2040 - axe à 50","5 pts A2P* BRICARD 8161/A3 - T2040 - axe à 50","1 pt VACHETTE sureté D455 inox - axe à 120","5 pts A2P* BRICARD 8161/A3 - T2040 - axe à 50","1 pt VACHETTE sureté D455 inox - axe à 120","5 pts A2P* BRICARD 8161/A3 - T2040 - axe à 50","3 pts A2P* FERCO Secury PP MR2 - T1700 - axe à 50","1 pt VACHETTE sureté D455 inox - axe à 120","ASSA ABLOY APERIO E900 (Coffre EURO Marques) - axe à 50","5PTS/3C  BRICARD 8161 A4 A2P*T2040 (E=100)",null,null,"5 pts BRICARD 8161A4 A2P* avec entrebailleur intégré - axe à 50","3 pts VACHETTE V5000 SPN1 A2P* - axe à 50","5 pts BRICARD 8161A4 A2P* avec entrebailleur intégré - axe à 50","3 pts VACHETTE V5000 SPN1 A2P* - axe à 50","3 pts VACHETTE V5000 SPN1 A2P* - axe à 50","5 pts BRICARD 8161A4 A2P* avec entrebailleur intégré - axe à 50","5 pts BRICARD 8161A4 A2P* avec entrebailleur intégré - axe à 50","5 pts BRICARD 8120A4 standard - axe à 120",null,null,null,null,null,null,null,null,{"$f":"IF(NOT(ISBLANK((INDIRECT(CONCATENATE(\"TabSerrure[\",RELEVE_COTES!$C$11,\"]\"))))),INDIRECT(CONCATENATE(\"TabSerrure[\",RELEVE_COTES!$C$11,\"]\")),\"\")","v":{"$error":"#VALUE!"}},{"$f":"IF(REF!$EE23<>\"\",1,0)","v":{"$error":"#VALUE!"}},null,"3 pts FERCO Secury PP MR2 - T2040 - axe à 50","3PTS_V5000",1045,1020,25,1830,"SANS",null,null,null,null,"TERRA","TERRA","TERRA","TERRA","TERRA","TERRA","TERRA","TERRA","TERRA","TERRA","TERRA","TERRA","TERRA","Evidence","Samantha","Samantha","Samantha","Samantha","Samantha","Samantha","Samantha",null,"Laurianne","Laurianne",null,null,null,null,null,null,null,{"$f":"IF(NOT(ISBLANK((INDIRECT(CONCATENATE(\"TabDécorExt[\",RELEVE_COTES!$C$11,\"]\"))))),INDIRECT(CONCATENATE(\"TabDécorExt[\",RELEVE_COTES!$C$11,\"]\",\"\")),\"\")","v":{"$error":"#VALUE!"}},{"$error":"#VALUE!"},null,null,null,null,"FLEETWOOD BLANC H3450","FLEETWOOD BLANC H3450","FLEETWOOD BLANC H3450","FLEETWOOD BLANC H3450","FLEETWOOD BLANC H3450","FLEETWOOD BLANC H3450","FLEETWOOD BLANC H3450","FLEETWOOD BLANC H3450","FLEETWOOD BLANC H3450","FLEETWOOD BLANC H3450","FLEETWOOD BLANC H3450","FLEETWOOD BLANC H3450","FLEETWOOD BLANC H3450","RAL 5010 Bleu gentiane","RAL 5010 Bleu gentiane","RAL 5010 Bleu gentiane","RAL 5010 Bleu gentiane","RAL 5010 Bleu gentiane","RAL 5010 Bleu gentiane","RAL 5010 Bleu gentiane","RAL 2001 Orangé rouge","RAL 3003 Rouge rubis",null,"RAL 5010 Bleu gentiane","RAL 5010 Bleu gentiane","RAL 5010 Bleu gentiane","RAL 5010 Bleu gentiane","RAL 5010 Bleu gentiane","RAL 5010 Bleu gentiane","RAL 5010 Bleu gentiane","RAL 5010 Bleu gentiane",null,{"$f":"IF(NOT(ISBLANK((INDIRECT(CONCATENATE(\"TabFinExt[\",RELEVE_COTES!$C$11,\"]\"))))),INDIRECT(CONCATENATE(\"TabFinExt[\",RELEVE_COTES!$C$11,\"]\",\"\")),\"\")","v":{"$error":"#VALUE!"}},{"$error":"#VALUE!"},null,"TERRA","TERRA","TERRA","TERRA","TERRA","TERRA","TERRA","TERRA","TERRA","TERRA","TERRA","TERRA","TERRA","Laurianne","Samantha","Samantha","Samantha","Samantha","Samantha","Samantha","Samantha","Samantha","Laurianne","Laurianne",null,null,null,null,null,null,null,{"$f":"IF(NOT(ISBLANK((INDIRECT(CONCATENATE(\"TabDécorInt[\",RELEVE_COTES!$C$11,\"]\"))))),INDIRECT(CONCATENATE(\"TabDécorInt[\",RELEVE_COTES!$C$11,\"]\",\"\")),\"\")","v":{"$error":"#VALUE!"}},{"$error":"#VALUE!"},null,"FLEETWOOD BLANC H3450","FLEETWOOD BLANC H3450","FLEETWOOD BLANC H3450","FLEETWOOD BLANC H3450","FLEETWOOD BLANC H3450","FLEETWOOD BLANC H3450","FLEETWOOD BLANC H3450","FLEETWOOD BLANC H3450","FLEETWOOD BLANC H3450","FLEETWOOD BLANC H3450","FLEETWOOD BLANC H3450","FLEETWOOD BLANC H3450","FLEETWOOD BLANC H3450","RAL 2001 Orangé rouge","RAL 2001 Orangé rouge","RAL 3003 Rouge rubis","RAL 2001 Orangé rouge","RAL 3003 Rouge rubis","RAL 2001 Orangé rouge","RAL 2001 Orangé rouge","RAL 3003 Rouge rubis","RAL 3003 Rouge rubis","RAL 2001 Orangé rouge","RAL 2001 Orangé rouge","RAL 5010 Bleu gentiane",null,"RAL 5010 Bleu gentiane","RAL 5010 Bleu gentiane","RAL 5010 Bleu gentiane","RAL 5010 Bleu gentiane",null,{"$f":"IF(NOT(ISBLANK((INDIRECT(CONCATENATE(\"TabFinInt[\",RELEVE_COTES!$C$11,\"]\"))))),INDIRECT(CONCATENATE(\"TabFinInt[\",RELEVE_COTES!$C$11,\"]\",\"\")),\"\")","v":{"$error":"#VALUE!"}},{"$error":"#VALUE!"},null,"FRUITIER CENDRE F012","F012","STRATIFIE",null,null,null,null,null,null,null,"RAL 5011 Bleu acier",5011]
[null,null,null,null,null,{"$f":"IF(NOT(ISBLANK((INDIRECT(CONCATENATE(\"Tabportes[\",RELEVE_COTES!$C$9,\"]\"))))),INDIRECT(CONCATENATE(\"Tabportes[\",RELEVE_COTES!$C$9,\"]\",\"\")),\"\")","v":{"$error":"#VALUE!"}},{"$error":"#VALUE!"},null,"SERVIFEU",23,null,1,null,null,null,null,null,null,null,null,null,null,null,null,null,null,null,null,null,null,null,null,null,null,null,null,null,null,null,null,null,null,null,null,null,null,null,null,null,null,null,null,null,null,null,null,null,null,null,null,null,null,null,null,null,null,null,null,null,null,null,null,null,null,null,null,null,null,null,null,null,null,null,null,null,null,null,null,null,null,null,null,null,null,null,null,null,null,"Seuil acier isophonique RPES PMR 20 mm",20,null,null,"1 pt VACHETTE sureté D455 inox - axe à 50","3 pts A2P* VACHETTE 5000 SPN1 - T2040 et entrebailleur - axe à 50","1 pt VACHETTE sureté D455 inox - axe à 50","3 pts A2P* VACHETTE 5000 SPN1 - T2040 et entrebailleur - axe à 50","3 pts A2P* VACHETTE 5000 SPN1 - T2040 et entrebailleur - axe à 50","5 pts A2P* BRICARD 8161/A4 - T2040 - axe à 50","1 pt VACHETTE sureté D455 inox - axe à 50","5 pts A2P* BRICARD 8161/A4 - T2040 - axe à 50","1 pt VACHETTE sureté D455 inox - axe à 50","5 pts A2P* BRICARD 8161/A4 - T2040 - axe à 50","3 pts A2P* FERCO Secury PP MR2 - T2040 - axe à 120","1 pt VACHETTE sureté D455 inox - axe à 50","ASSA ABLOY APERIO E900 (Coffre EURO Vachette) - axe à 50","5PTS/3C TRILOCK 5700 ",null,null,"5 pts BRICARD 8161-A8 A2P* - axe à 50","3 pts VACHETTE V5000 SPN1 A2P* avec entrebailleur - axe à 50","5 pts BRICARD 8161-A8 A2P* - axe à 50","3 pts VACHETTE V5000 SPN1 A2P* avec entrebailleur - axe à 50","3 pts VACHETTE V5000 SPN1 A2P* avec entrebailleur - axe à 50","5 pts BRICARD 8161-A8 A2P* - axe à 50","5 pts BRICARD 8161-A8 A2P* - axe à 50","5 pts BRICARD 8121A3 A2P* - axe à 120",null,null,null,null,null,null,null,null,{"$f":"IF(NOT(ISBLANK((INDIRECT(CONCATENATE(\"TabSerrure[\",RELEVE_COTES!$C$11,\"]\"))))),INDIRECT(CONCATENATE(\"TabSerrure[\",RELEVE_COTES!$C$11,\"]\")),\"\")","v":{"$error":"#VALUE!"}},{"$f":"IF(REF!$EE24<>\"\",1,0)","v":{"$error":"#VALUE!"}},null,"3 pts BRICARD 8150/381 - T2040 - axe à 50","3PTS_V5000",1045,1020,25,1830,"SANS",null,null,null,null,"VERTIGO","VERTIGO","VERTIGO","VERTIGO","VERTIGO","VERTIGO","VERTIGO","VERTIGO","VERTIGO","VERTIGO","VERTIGO","VERTIGO","VERTIGO","Expression","Samara","Samara","Samara","Samara","Samara","Samara","Samara",null,"Léa","Léa",null,null,null,null,null,null,null,{"$f":"IF(NOT(ISBLANK((INDIRECT(CONCATENATE(\"TabDécorExt[\",RELEVE_COTES!$C$11,\"]\"))))),INDIRECT(CONCATENATE(\"TabDécorExt[\",RELEVE_COTES!$C$11,\"]\",\"\")),\"\")","v":{"$error":"#VALUE!"}},{"$error":"#VALUE!"},null,null,null,null,"FRENE SCANDINAVE F056","FRENE SCANDINAVE F056","FRENE SCANDINAVE F056","FRENE SCANDINAVE F056","FRENE SCANDINAVE F056","FRENE SCANDINAVE F056","FRENE SCANDINAVE F056","FRENE SCANDINAVE F056","FRENE SCANDINAVE F056","FRENE SCANDINAVE F056","FRENE SCANDINAVE F056","FRENE SCANDINAVE F056","FRENE SCANDINAVE F056","RAL 5011 Bleu acier","RAL 5011 Bleu acier","RAL 5011 Bleu acier","RAL 5011 Bleu acier","RAL 5011 Bleu acier","RAL 5011 Bleu acier","RAL 5011 Bleu acier","RAL 3000 Rouge feu","RAL 3020 Rouge signalisation",null,"RAL 5011 Bleu acier","RAL 5011 Bleu acier","RAL 5011 Bleu acier","RAL 5011 Bleu acier","RAL 5011 Bleu acier","RAL 5011 Bleu acier","RAL 5011 Bleu acier","RAL 5011 Bleu acier",null,{"$f":"IF(NOT(ISBLANK((INDIRECT(CONCATENATE(\"TabFinExt[\",RELEVE_COTES!$C$11,\"]\"))))),INDIRECT(CONCATENATE(\"TabFinExt[\",RELEVE_COTES!$C$11,\"]\",\"\")),\"\")","v":{"$error":"#VALUE!"}},{"$error":"#VALUE!"},null,"VERTIGO","VERTIGO","VERTIGO","VERTIGO","VERTIGO","VERTIGO","VERTIGO","VERTIGO","VERTIGO","VERTIGO","VERTIGO","VERTIGO","VERTIGO","Léa","Samara","Samara","Samara","Samara","Samara","Samara","Samara","Samara","Léa","Léa",null,null,null,null,null,null,null,{"$f":"IF(NOT(ISBLANK((INDIRECT(CONCATENATE(\"TabDécorInt[\",RELEVE_COTES!$C$11,\"]\"))))),INDIRECT(CONCATENATE(\"TabDécorInt[\",RELEVE_COTES!$C$11,\"]\",\"\")),\"\")","v":{"$error":"#VALUE!"}},{"$error":"#VALUE!"},null,"FRENE SCANDINAVE F056","FRENE SCANDINAVE F056","FRENE SCANDINAVE F056","FRENE SCANDINAVE F056","FRENE SCANDINAVE F056","FRENE SCANDINAVE F056","FRENE SCANDINAVE F056","FRENE SCANDINAVE F056","FRENE SCANDINAVE F056","FRENE SCANDINAVE F056","FRENE SCANDINAVE F056","FRENE SCANDINAVE F056","FRENE SCANDINAVE F056","RAL 3000 Rouge feu","RAL 3000 Rouge feu","RAL 3020 Rouge signalisation","RAL 3000 Rouge feu","RAL 3020 Rouge signalisation","RAL 3000 Rouge feu","RAL 3000 Rouge feu","RAL 3020 Rouge signalisation","RAL 3020 Rouge signalisation","RAL 3000 Rouge feu","RAL 3000 Rouge feu","RAL 5011 Bleu acier",null,"RAL 5011 Bleu acier","RAL 5011 Bleu acier","RAL 5011 Bleu acier","RAL 5011 Bleu acier",null,{"$f":"IF(NOT(ISBLANK((INDIRECT(CONCATENATE(\"TabFinInt[\",RELEVE_COTES!$C$11,\"]\"))))),INDIRECT(CONCATENATE(\"TabFinInt[\",RELEVE_COTES!$C$11,\"]\",\"\")),\"\")","v":{"$error":"#VALUE!"}},{"$error":"#VALUE!"},null,"GREEN SHADOW OU653","OU653","STRATIFIE",null,null,null,null,null,null,null,"RAL 5014 Bleu pigeon",5014]
[null,null,null,null,null,{"$f":"IF(NOT(ISBLANK((INDIRECT(CONCATENATE(\"Tabportes[\",RELEVE_COTES!$C$9,\"]\"))))),INDIRECT(CONCATENATE(\"Tabportes[\",RELEVE_COTES!$C$9,\"]\",\"\")),\"\")","v":{"$error":"#VALUE!"}},{"$error":"#VALUE!"},null,"SERVIFEU ACOUSTIQUE",24,null,1,null,null,null,null,null,null,null,null,null,null,null,null,null,null,null,null,null,null,null,null,null,null,null,null,null,null,null,null,null,null,null,null,null,null,null,null,null,null,null,null,null,null,null,null,null,null,null,null,null,null,null,null,null,null,null,null,null,null,null,null,null,null,null,null,null,null,null,null,null,null,null,null,null,null,null,null,null,null,null,null,null,null,null,null,null,null,"Seuil acier isophonique RPES 25 mm",25,null,null,"1 pt VACHETTE sureté D458 Urgence - axe à 50","3 pts A2P** BRICARD 8162 - T1700 - axe à 50","1 pt VACHETTE sureté D458 Urgence - axe à 50","3 pts A2P** BRICARD 8162 - T1700 - axe à 50","3 pts A2P** BRICARD 8162 - T1700 - axe à 50","5 pts A2P* VACHETTE 5700 SPN1 - T1700 - axe à 50","1 pt VACHETTE sureté D458 Urgence - axe à 50","5 pts A2P* VACHETTE 5700 SPN1 - T1700 - axe à 50","1 pt VACHETTE sureté D458 Urgence - axe à 50","5 pts A2P* VACHETTE 5700 SPN1 - T1700 - axe à 50","3 pts A2P* FERCO Secury PP MR2 - T2040 - axe à 50","1 pt VACHETTE sureté D458 Urgence - axe à 50","ASSA ABLOY APERIO L100 (Coffre EURO AL560) - axe à 55","5PTS/3C TRILOCK 5700 SPN1 1*",null,null,"5 pts BRICARD 8162-A3 A2P** - axe à 50","3 pts VACHETTE V5000 standard - axe à 120","5 pts BRICARD 8162-A3 A2P** - axe à 50","3 pts VACHETTE V5000 standard - axe à 120","3 pts VACHETTE V5000 standard - axe à 120","5 pts BRICARD 8162-A3 A2P** - axe à 50","5 pts BRICARD 8162-A3 A2P** - axe à 50","5 pts BRICARD 8121A4 A2P* - axe à 120",null,null,null,null,null,null,null,null,{"$f":"IF(NOT(ISBLANK((INDIRECT(CONCATENATE(\"TabSerrure[\",RELEVE_COTES!$C$11,\"]\"))))),INDIRECT(CONCATENATE(\"TabSerrure[\",RELEVE_COTES!$C$11,\"]\")),\"\")","v":{"$error":"#VALUE!"}},{"$f":"IF(REF!$EE25<>\"\",1,0)","v":{"$error":"#VALUE!"}},null,"3 pts VACHETTE 5000 - T1700 - axe à 50","3PTS_V5000",1045,1020,25,1830,"SANS",null,null,null,null,"VISIO","VISIO","VISIO","VISIO","VISIO","VISIO","VISIO","VISIO","VISIO","VISIO","VISIO","VISIO","VISIO","Flanelle","Santana","Santana","Santana","Santana","Santana","Santana","Santana",null,"Liberté","Liberté",null,null,null,null,null,null,null,{"$f":"IF(NOT(ISBLANK((INDIRECT(CONCATENATE(\"TabDécorExt[\",RELEVE_COTES!$C$11,\"]\"))))),INDIRECT(CONCATENATE(\"TabDécorExt[\",RELEVE_COTES!$C$11,\"]\",\"\")),\"\")","v":{"$error":"#VALUE!"}},{"$error":"#VALUE!"},null,null,null,null,"FRUITIER CENDRE F012","FRUITIER CENDRE F012","FRUITIER CENDRE F012","FRUITIER CENDRE F012","FRUITIER CENDRE F012","FRUITIER CENDRE F012","FRUITIER CENDRE F012","FRUITIER CENDRE F012","FRUITIER CENDRE F012","FRUITIER CENDRE F012","FRUITIER CENDRE F012","FRUITIER CENDRE F012","FRUITIER CENDRE F012","RAL 5014 Bleu pigeon","RAL 5014 Bleu pigeon","RAL 5014 Bleu pigeon","RAL 5014 Bleu pigeon","RAL 5014 Bleu pigeon","RAL 5014 Bleu pigeon","RAL 5014 Bleu pigeon","RAL 3003 Rouge rubis","RAL 5002 Bleu outremer",null,"RAL 5014 Bleu pigeon","RAL 5014 Bleu pigeon","RAL 5014 Bleu pigeon","RAL 5014 Bleu pigeon","RAL 5014 Bleu pigeon","RAL 5014 Bleu pigeon","RAL 5014 Bleu pigeon","RAL 5014 Bleu pigeon",null,{"$f":"IF(NOT(ISBLANK((INDIRECT(CONCATENATE(\"TabFinExt[\",RELEVE_COTES!$C$11,\"]\"))))),INDIRECT(CONCATENATE(\"TabFinExt[\",RELEVE_COTES!$C$11,\"]\",\"\")),\"\")","v":{"$error":"#VALUE!"}},{"$error":"#VALUE!"},null,"VISIO","VISIO","VISIO","VISIO","VISIO","VISIO","VISIO","VISIO","VISIO","VISIO","VISIO","VISIO","VISIO","Liberté","Santana","Santana","Santana","Santana","Santana","Santana","Santana","Santana","Liberté","Liberté",null,null,null,null,null,null,null,{"$f":"IF(NOT(ISBLANK((INDIRECT(CONCATENATE(\"TabDécorInt[\",RELEVE_COTES!$C$11,\"]\"))))),INDIRECT(CONCATENATE(\"TabDécorInt[\",RELEVE_COTES!$C$11,\"]\",\"\")),\"\")","v":{"$error":"#VALUE!"}},{"$error":"#VALUE!"},null,"FRUITIER CENDRE F012","FRUITIER CENDRE F012","FRUITIER CENDRE F012","FRUITIER CENDRE F012","FRUITIER CENDRE F012","FRUITIER CENDRE F012","FRUITIER CENDRE F012","FRUITIER CENDRE F012","FRUITIER CENDRE F012","FRUITIER CENDRE F012","FRUITIER CENDRE F012","FRUITIER CENDRE F012","FRUITIER CENDRE F012","RAL 3003 Rouge rubis","RAL 3003 Rouge rubis","RAL 5002 Bleu outremer","RAL 3003 Rouge rubis","RAL 5002 Bleu outremer","RAL 3003 Rouge rubis","RAL 3003 Rouge rubis","RAL 5002 Bleu outremer","RAL 5002 Bleu outremer","RAL 3003 Rouge rubis","RAL 3003 Rouge rubis","RAL 5014 Bleu pigeon",null,"RAL 5014 Bleu pigeon","RAL 5014 Bleu pigeon","RAL 5014 Bleu pigeon","RAL 5014 Bleu pigeon",null,{"$f":"IF(NOT(ISBLANK((INDIRECT(CONCATENATE(\"TabFinInt[\",RELEVE_COTES!$C$11,\"]\"))))),INDIRECT(CONCATENATE(\"TabFinInt[\",RELEVE_COTES!$C$11,\"]\",\"\")),\"\")","v":{"$error":"#VALUE!"}},{"$error":"#VALUE!"},null,"GRIS DAUPHIN G044","G044","STRATIFIE",null,null,null,null,null,null,null,"RAL 5015 Bleu ciel",5015]
[null,null,null,null,null,null,null,null,"SERVIFEU ACOUSTIQUE EXT",25,null,1,null,null,null,null,null,null,null,null,null,null,null,null,null,null,null,null,null,null,null,null,null,null,null,null,null,null,null,null,null,null,null,null,null,null,null,null,null,null,null,null,null,null,null,null,null,null,null,null,null,null,null,null,null,null,null,null,null,null,null,null,null,null,null,null,null,null,null,null,null,null,null,null,null,null,null,null,null,null,null,null,null,null,null,null,null,null,"Seuil acier isophonique RPES 30 mm",30,null,null,"3 pts A2P* BRICARD 8121/A1 - T2040 - axe à 120","3 pts A2P** BRICARD 8162 - T2040 - axe à 50","3 pts A2P* BRICARD 8121/A1 - T2040 - axe à 120","3 pts A2P** BRICARD 8162 - T2040 - axe à 50","3 pts A2P** BRICARD 8162 - T2040 - axe à 50","5 pts A2P* VACHETTE 5700 SPN1 - T2040 - axe à 50","3 pts A2P* BRICARD 8121/A1 - T2040 - axe à 120","5 pts A2P* VACHETTE 5700 SPN1 - T2040 - axe à 50","3 pts A2P* BRICARD 8121/A1 - T2040 - axe à 120","5 pts A2P* VACHETTE 5700 SPN1 - T2040 - axe à 50","3 pts A2P* VACHETTE 5000 SGN1 - T2040 - axe à 120","3 pts A2P* BRICARD 8121/A1 - T2040 - axe à 120","ASSA ABLOY APERIO L100 (Coffre EURO AL560) - axe à 60","GACHE ELECTRIQUE 1 PT EMISSION",null,null,"5 pts BRICARD 8162A3 A2P** avec entrebailleur intégré - axe à 50","3 pts VACHETTE V5000 standard - axe à 50","5 pts BRICARD 8162A3 A2P** avec entrebailleur intégré - axe à 50","3 pts VACHETTE V5000 standard - axe à 50","3 pts VACHETTE V5000 standard - axe à 50","5 pts BRICARD 8162A3 A2P** avec entrebailleur intégré - axe à 50","5 pts BRICARD 8162A3 A2P** avec entrebailleur intégré - axe à 50","5 pts BRICARD 8150-A3 standard - axe à 50",null,null,null,null,null,null,null,null,{"$f":"IF(NOT(ISBLANK((INDIRECT(CONCATENATE(\"TabSerrure[\",RELEVE_COTES!$C$11,\"]\"))))),INDIRECT(CONCATENATE(\"TabSerrure[\",RELEVE_COTES!$C$11,\"]\")),\"\")","v":{"$error":"#VALUE!"}},{"$f":"IF(REF!$EE26<>\"\",1,0)","v":{"$error":"#VALUE!"}},null,"3 pts VACHETTE 5000 - T2040 - axe à 50","3PTS_V5000",1045,1020,25,1830,"SANS",null,null,null,null,"ZEBRA","ZEBRA","ZEBRA","ZEBRA","ZEBRA","ZEBRA","ZEBRA","ZEBRA","ZEBRA","ZEBRA","ZEBRA","ZEBRA","ZEBRA","Inès","Ségolène","Ségolène","Ségolène","Ségolène","Ségolène","Ségolène","Ségolène",null,"Linda","Linda",null,null,null,null,null,null,null,{"$f":"IF(NOT(ISBLANK((INDIRECT(CONCATENATE(\"TabDécorExt[\",RELEVE_COTES!$C$11,\"]\"))))),INDIRECT(CONCATENATE(\"TabDécorExt[\",RELEVE_COTES!$C$11,\"]\",\"\")),\"\")","v":{"$error":"#VALUE!"}},{"$error":"#VALUE!"},null,null,null,null,"GREEN SHADOW OU653","GREEN SHADOW OU653","GREEN SHADOW OU653","GREEN SHADOW OU653","GREEN SHADOW OU653","GREEN SHADOW OU653","GREEN SHADOW OU653","GREEN SHADOW OU653","GREEN SHADOW OU653","GREEN SHADOW OU653","GREEN SHADOW OU653","GREEN SHADOW OU653","GREEN SHADOW OU653","RAL 5015 Bleu ciel","RAL 5015 Bleu ciel","RAL 5015 Bleu ciel","RAL 5015 Bleu ciel","RAL 5015 Bleu ciel","RAL 5015 Bleu ciel","RAL 5015 Bleu ciel","RAL 3020 Rouge signalisation","RAL 5008 Bleu gris",null,"RAL 5015 Bleu ciel","RAL 5015 Bleu ciel","RAL 5015 Bleu ciel","RAL 5015 Bleu ciel","RAL 5015 Bleu ciel","RAL 5015 Bleu ciel","RAL 5015 Bleu ciel","RAL 5015 Bleu ciel",null,{"$f":"IF(NOT(ISBLANK((INDIRECT(CONCATENATE(\"TabFinExt[\",RELEVE_COTES!$C$11,\"]\"))))),INDIRECT(CONCATENATE(\"TabFinExt[\",RELEVE_COTES!$C$11,\"]\",\"\")),\"\")","v":{"$error":"#VALUE!"}},{"$error":"#VALUE!"},null,"ZEBRA","ZEBRA","ZEBRA","ZEBRA","ZEBRA","ZEBRA","ZEBRA","ZEBRA","ZEBRA","ZEBRA","ZEBRA","ZEBRA","ZEBRA","Linda","Ségolène","Ségolène","Ségolène","Ségolène","Ségolène","Ségolène","Ségolène","Ségolène","Linda","Linda",null,null,null,null,null,null,null,{"$f":"IF(NOT(ISBLANK((INDIRECT(CONCATENATE(\"TabDécorInt[\",RELEVE_COTES!$C$11,\"]\"))))),INDIRECT(CONCATENATE(\"TabDécorInt[\",RELEVE_COTES!$C$11,\"]\",\"\")),\"\")","v":{"$error":"#VALUE!"}},{"$error":"#VALUE!"},null,"GREEN SHADOW OU653","GREEN SHADOW OU653","GREEN SHADOW OU653","GREEN SHADOW OU653","GREEN SHADOW OU653","GREEN SHADOW OU653","GREEN SHADOW OU653","GREEN SHADOW OU653","GREEN SHADOW OU653","GREEN SHADOW OU653","GREEN SHADOW OU653","GREEN SHADOW OU653","GREEN SHADOW OU653","RAL 3020 Rouge signalisation","RAL 3020 Rouge signalisation","RAL 5008 Bleu gris","RAL 3020 Rouge signalisation","RAL 5008 Bleu gris","RAL 3020 Rouge signalisation","RAL 3020 Rouge signalisation","RAL 5008 Bleu gris","RAL 5008 Bleu gris","RAL 3020 Rouge signalisation","RAL 3020 Rouge signalisation","RAL 5015 Bleu ciel",null,"RAL 5015 Bleu ciel","RAL 5015 Bleu ciel","RAL 5015 Bleu ciel","RAL 5015 Bleu ciel",null,{"$f":"IF(NOT(ISBLANK((INDIRECT(CONCATENATE(\"TabFinInt[\",RELEVE_COTES!$C$11,\"]\"))))),INDIRECT(CONCATENATE(\"TabFinInt[\",RELEVE_COTES!$C$11,\"]\",\"\")),\"\")","v":{"$error":"#VALUE!"}},{"$error":"#VALUE!"},null,"GRIS ORAGE G059","G059","STRATIFIE",null,null,null,null,null,null,null,"RAL 6003 Vert olive",6003]
[null,null,null,null,null,null,null,null,"SERVIFEU EXT",26,null,1,null,null,null,null,null,null,null,null,null,null,null,null,null,null,null,null,null,null,null,null,null,null,null,null,null,null,null,null,null,null,null,null,null,null,null,null,null,null,null,null,null,null,null,null,null,null,null,null,null,null,null,null,null,null,null,null,null,null,null,null,null,null,null,null,null,null,null,null,null,null,null,null,null,null,null,null,null,null,null,null,null,null,null,null,null,null,"Seuil acier isophonique RPES 35 mm",35,null,null,"3 pts A2P* BRICARD 8161/A1 - T1700 - axe à 50","3 pts A2P** BRICARD 8162/A1 - T1700 - axe à 50","3 pts A2P* BRICARD 8161/A1 - T1700 - axe à 50","3 pts A2P** BRICARD 8162/A1 - T1700 - axe à 50","3 pts A2P** BRICARD 8162/A1 - T1700 - axe à 50","5 pts A2P* VACHETTE 5700 SPN1 - T2040 et entrebailleur - axe à 50","3 pts A2P* BRICARD 8161/A1 - T1700 - axe à 50","5 pts A2P* VACHETTE 5700 SPN1 - T2040 et entrebailleur - axe à 50","3 pts A2P* BRICARD 8161/A1 - T1700 - axe à 50","5 pts A2P* VACHETTE 5700 SPN1 - T2040 et entrebailleur - axe à 50","3 pts A2P* VACHETTE 5000 SGN1 - T2040 et entrebailleur - axe à 120","3 pts A2P* BRICARD 8161/A1 - T1700 - axe à 50","élect. ABLOY 8458 Mesure Conserv. - axe à 50 - têtière 250x20","GACHE ELECTRIQUE 2 PTS RUPTURE EFF EFF 37 12V",null,null,"5 pts BRICARD 8162-A4  A2P** - axe à 50","3 pts VACHETTE V5000 standard avec entrebailleur - axe à 50","5 pts BRICARD 8162-A4  A2P** - axe à 50","3 pts VACHETTE V5000 standard avec entrebailleur - axe à 50","3 pts VACHETTE V5000 standard avec entrebailleur - axe à 50","5 pts BRICARD 8162-A4  A2P** - axe à 50","5 pts BRICARD 8162-A4  A2P** - axe à 50","5 pts BRICARD 8150-A4  standard - axe à 50",null,null,null,null,null,null,null,null,{"$f":"IF(NOT(ISBLANK((INDIRECT(CONCATENATE(\"TabSerrure[\",RELEVE_COTES!$C$11,\"]\"))))),INDIRECT(CONCATENATE(\"TabSerrure[\",RELEVE_COTES!$C$11,\"]\")),\"\")","v":{"$error":"#VALUE!"}},{"$f":"IF(REF!$EE27<>\"\",1,0)","v":{"$error":"#VALUE!"}},null,"3 pts BRICARD 8150/341 - T1700 - axe à 50","3PTS_V5000",1045,1020,25,1830,"SANS",null,null,null,null,"ZEFYR","ZEFYR","ZEFYR","ZEFYR","ZEFYR","ZEFYR","ZEFYR","ZEFYR","ZEFYR","ZEFYR","ZEFYR","ZEFYR","ZEFYR","Influence","Shakira","Shakira","Shakira","Shakira","Shakira","Shakira","Shakira",null,"Lisse","Lisse",null,null,null,null,null,null,null,{"$f":"IF(NOT(ISBLANK((INDIRECT(CONCATENATE(\"TabDécorExt[\",RELEVE_COTES!$C$11,\"]\"))))),INDIRECT(CONCATENATE(\"TabDécorExt[\",RELEVE_COTES!$C$11,\"]\",\"\")),\"\")","v":{"$error":"#VALUE!"}},{"$error":"#VALUE!"},null,null,null,null,"GRIS DAUPHIN G044","GRIS DAUPHIN G044","GRIS DAUPHIN G044","GRIS DAUPHIN G044","GRIS DAUPHIN G044","GRIS DAUPHIN G044","GRIS DAUPHIN G044","GRIS DAUPHIN G044","GRIS DAUPHIN G044","GRIS DAUPHIN G044","GRIS DAUPHIN G044","GRIS DAUPHIN G044","GRIS DAUPHIN G044","RAL 6003 Vert olive","RAL 6003 Vert olive","RAL 6003 Vert olive","RAL 6003 Vert olive","RAL 6003 Vert olive","RAL 6003 Vert olive","RAL 6003 Vert olive","RAL 5002 Bleu outremer","RAL 5010 Bleu gentiane",null,"RAL 6003 Vert olive","RAL 6003 Vert olive","RAL 6003 Vert olive","RAL 6003 Vert olive","RAL 6003 Vert olive","RAL 6003 Vert olive","RAL 6003 Vert olive","RAL 6003 Vert olive",null,{"$f":"IF(NOT(ISBLANK((INDIRECT(CONCATENATE(\"TabFinExt[\",RELEVE_COTES!$C$11,\"]\"))))),INDIRECT(CONCATENATE(\"TabFinExt[\",RELEVE_COTES!$C$11,\"]\",\"\")),\"\")","v":{"$error":"#VALUE!"}},{"$error":"#VALUE!"},null,"ZEFYR","ZEFYR","ZEFYR","ZEFYR","ZEFYR","ZEFYR","ZEFYR","ZEFYR","ZEFYR","ZEFYR","ZEFYR","ZEFYR","ZEFYR","Lisse","Shakira","Shakira","Shakira","Shakira","Shakira","Shakira","Shakira","Shakira","Lisse","Lisse",null,null,null,null,null,null,null,{"$f":"IF(NOT(ISBLANK((INDIRECT(CONCATENATE(\"TabDécorInt[\",RELEVE_COTES!$C$11,\"]\"))))),INDIRECT(CONCATENATE(\"TabDécorInt[\",RELEVE_COTES!$C$11,\"]\",\"\")),\"\")","v":{"$error":"#VALUE!"}},{"$error":"#VALUE!"},null,"GRIS DAUPHIN G044","GRIS DAUPHIN G044","GRIS DAUPHIN G044","GRIS DAUPHIN G044","GRIS DAUPHIN G044","GRIS DAUPHIN G044","GRIS DAUPHIN G044","GRIS DAUPHIN G044","GRIS DAUPHIN G044","GRIS DAUPHIN G044","GRIS DAUPHIN G044","GRIS DAUPHIN G044","GRIS DAUPHIN G044","RAL 5002 Bleu outremer","RAL 5002 Bleu outremer","RAL 5010 Bleu gentiane","RAL 5002 Bleu outremer","RAL 5010 Bleu gentiane","RAL 5002 Bleu outremer","RAL 5002 Bleu outremer","RAL 5010 Bleu gentiane","RAL 5010 Bleu gentiane","RAL 5002 Bleu outremer","RAL 5002 Bleu outremer","RAL 6003 Vert olive",null,"RAL 6003 Vert olive","RAL 6003 Vert olive","RAL 6003 Vert olive","RAL 6003 Vert olive",null,{"$f":"IF(NOT(ISBLANK((INDIRECT(CONCATENATE(\"TabFinInt[\",RELEVE_COTES!$C$11,\"]\"))))),INDIRECT(CONCATENATE(\"TabFinInt[\",RELEVE_COTES!$C$11,\"]\",\"\")),\"\")","v":{"$error":"#VALUE!"}},{"$error":"#VALUE!"},null,"GRIS TOURTERELLE G029","G029","STRATIFIE",null,null,null,null,null,null,null,"RAL 6005 Vert mousse",6005]
[null,null,null,null,null,null,null,null,"SERVIPAC",27,null,1,null,null,null,null,null,null,null,null,null,null,null,null,null,null,null,null,null,null,null,null,null,null,null,null,null,null,null,null,null,null,null,null,null,null,null,null,null,null,null,null,null,null,null,null,null,null,null,null,null,null,null,null,null,null,null,null,null,null,null,null,null,null,null,null,null,null,null,null,null,null,null,null,null,null,null,null,null,null,null,null,null,null,null,null,null,null,"Seuil acier isophonique RPES 40 mm",40,null,null,"3 pts A2P* BRICARD 8161/A1 - T2040 - axe à 50","3 pts A2P** VACHETTE 5000 SGN2 - T1700 - axe à 50","3 pts A2P* BRICARD 8161/A1 - T2040 - axe à 50","3 pts A2P** VACHETTE 5000 SGN2 - T1700 - axe à 50","3 pts A2P** VACHETTE 5000 SGN2 - T1700 - axe à 50","5 pts A2P* VACHETTE 5900 SGN1 - T2040 - axe à 120","3 pts A2P* BRICARD 8161/A1 - T2040 - axe à 50","5 pts A2P* VACHETTE 5900 SGN1 - T2040 - axe à 120","3 pts A2P* BRICARD 8161/A1 - T2040 - axe à 50","5 pts A2P* VACHETTE 5900 SGN1 - T2040 - axe à 120","3 pts A2P* VACHETTE 5000 SPN1 - T1700 - axe à 50","3 pts A2P* BRICARD 8161/A1 - T2040 - axe à 50","élect. ABLOY 8778 Mesure Conserv. - axe à 50 - têtière 250x20","GAUDI FREE TURN",null,null,"5 pts BRICARD 8162A4 A2P** avec entrebailleur intégré - axe à 50","3 pts VACHETTE V5000 standard avec entrebailleur intégré - axe à 120","5 pts BRICARD 8162A4 A2P** avec entrebailleur intégré - axe à 50","3 pts VACHETTE V5000 standard avec entrebailleur intégré - axe à 120","3 pts VACHETTE V5000 standard avec entrebailleur intégré - axe à 120","5 pts BRICARD 8162A4 A2P** avec entrebailleur intégré - axe à 50","5 pts BRICARD 8162A4 A2P** avec entrebailleur intégré - axe à 50","5 pts BRICARD 8161-A3 A2P* - axe à 50",null,null,null,null,null,null,null,null,{"$f":"IF(NOT(ISBLANK((INDIRECT(CONCATENATE(\"TabSerrure[\",RELEVE_COTES!$C$11,\"]\"))))),INDIRECT(CONCATENATE(\"TabSerrure[\",RELEVE_COTES!$C$11,\"]\")),\"\")","v":{"$error":"#VALUE!"}},{"$f":"IF(REF!$EE28<>\"\",1,0)","v":{"$error":"#VALUE!"}},null,"3 pts FERCO Secury PP MR2 - T1700 - axe à 50","3PTS_V5000",1045,1020,25,1830,"SANS",null,null,null,null,null,null,null,null,null,null,null,null,null,null,null,null,null,"Lalie","Shannel","Shannel","Shannel","Shannel","Shannel","Shannel","Shannel",null,"Littoral","Littoral",null,null,null,null,null,null,null,{"$f":"IF(NOT(ISBLANK((INDIRECT(CONCATENATE(\"TabDécorExt[\",RELEVE_COTES!$C$11,\"]\"))))),INDIRECT(CONCATENATE(\"TabDécorExt[\",RELEVE_COTES!$C$11,\"]\",\"\")),\"\")","v":{"$error":"#VALUE!"}},{"$error":"#VALUE!"},null,null,null,null,"GRIS ORAGE G059","GRIS ORAGE G059","GRIS ORAGE G059","GRIS ORAGE G059","GRIS ORAGE G059","GRIS ORAGE G059","GRIS ORAGE G059","GRIS ORAGE G059","GRIS ORAGE G059","GRIS ORAGE G059","GRIS ORAGE G059","GRIS ORAGE G059","GRIS ORAGE G059","RAL 6005 Vert mousse","RAL 6005 Vert mousse","RAL 6005 Vert mousse","RAL 6005 Vert mousse","RAL 6005 Vert mousse","RAL 6005 Vert mousse","RAL 6005 Vert mousse","RAL 5008 Bleu gris","RAL 5011 Bleu acier",null,"RAL 6005 Vert mousse","RAL 6005 Vert mousse","RAL 6005 Vert mousse","RAL 6005 Vert mousse","RAL 6005 Vert mousse","RAL 6005 Vert mousse","RAL 6005 Vert mousse","RAL 6005 Vert mousse",null,{"$f":"IF(NOT(ISBLANK((INDIRECT(CONCATENATE(\"TabFinExt[\",RELEVE_COTES!$C$11,\"]\"))))),INDIRECT(CONCATENATE(\"TabFinExt[\",RELEVE_COTES!$C$11,\"]\",\"\")),\"\")","v":{"$error":"#VALUE!"}},{"$error":"#VALUE!"},null,null,null,null,null,null,null,null,null,null,null,null,null,null,"Littoral","Shannel","Shannel","Shannel","Shannel","Shannel","Shannel","Shannel","Shannel","Littoral","Littoral",null,null,null,null,null,null,null,{"$f":"IF(NOT(ISBLANK((INDIRECT(CONCATENATE(\"TabDécorInt[\",RELEVE_COTES!$C$11,\"]\"))))),INDIRECT(CONCATENATE(\"TabDécorInt[\",RELEVE_COTES!$C$11,\"]\",\"\")),\"\")","v":{"$error":"#VALUE!"}},{"$error":"#VALUE!"},null,"GRIS ORAGE G059","GRIS ORAGE G059","GRIS ORAGE G059","GRIS ORAGE G059","GRIS ORAGE G059","GRIS ORAGE G059","GRIS ORAGE G059","GRIS ORAGE G059","GRIS ORAGE G059","GRIS ORAGE G059","GRIS ORAGE G059","GRIS ORAGE G059","GRIS ORAGE G059","RAL 5008 Bleu gris","RAL 5008 Bleu gris","RAL 5011 Bleu acier","RAL 5008 Bleu gris","RAL 5011 Bleu acier","RAL 5008 Bleu gris","RAL 5008 Bleu gris","RAL 5011 Bleu acier","RAL 5011 Bleu acier","RAL 5008 Bleu gris","RAL 5008 Bleu gris","RAL 6005 Vert mousse",null,"RAL 6005 Vert mousse","RAL 6005 Vert mousse","RAL 6005 Vert mousse","RAL 6005 Vert mousse",null,{"$f":"IF(NOT(ISBLANK((INDIRECT(CONCATENATE(\"TabFinInt[\",RELEVE_COTES!$C$11,\"]\"))))),INDIRECT(CONCATENATE(\"TabFinInt[\",RELEVE_COTES!$C$11,\"]\",\"\")),\"\")","v":{"$error":"#VALUE!"}},{"$error":"#VALUE!"},null,"MARBLE GREEN F8245","F8245","STRATIFIE",null,null,null,null,null,null,null,"RAL 6011 Vert réséda",6011]
[null,null,null,null,null,null,null,null,"STABICAVE",28,null,1,null,null,null,null,null,null,null,null,null,null,null,null,null,null,null,null,null,null,null,null,null,null,null,null,null,null,null,null,null,null,null,null,null,null,null,null,null,null,null,null,null,null,null,null,null,null,null,null,null,null,null,null,null,null,null,null,null,null,null,null,null,null,null,null,null,null,null,null,null,null,null,null,null,null,null,null,null,null,null,null,null,null,null,null,null,null,"Seuil inox isophonique RPES PMR 20 mm",20,null,null,"3 pts A2P* FERCO Secury PP MR2 - T1700 - axe à 50","3 pts A2P** VACHETTE 5000 SGN2 - T1700 et entrebailleur - axe à 50","3 pts A2P* FERCO Secury PP MR2 - T1700 - axe à 50","3 pts A2P** VACHETTE 5000 SGN2 - T1700 et entrebailleur - axe à 50","3 pts A2P** VACHETTE 5000 SGN2 - T1700 et entrebailleur - axe à 50","5 pts A2P* VACHETTE 5900 SPN1 - T1700 - axe à 50","3 pts A2P* FERCO Secury PP MR2 - T1700 - axe à 50","5 pts A2P* VACHETTE 5900 SPN1 - T1700 - axe à 50","3 pts A2P* FERCO Secury PP MR2 - T1700 - axe à 50","5 pts A2P* VACHETTE 5900 SPN1 - T1700 - axe à 50","3 pts A2P* VACHETTE 5000 SPN1 - T2040 - axe à 50","3 pts A2P* FERCO Secury PP MR2 - T1700 - axe à 50","élect. ABLOY EL524 - axe à 50 - têtière 250x20","SERRURE A CARTE",null,null,"5 pts BRICARD 8162-A8 A2P** - axe à 50","5 pts BRICARD 8120A3 standard - axe à 120","5 pts BRICARD 8162-A8 A2P** - axe à 50","5 pts BRICARD 8120A3 standard - axe à 120","5 pts BRICARD 8120A3 standard - axe à 120","5 pts BRICARD 8162-A8 A2P** - axe à 50","5 pts BRICARD 8162-A8 A2P** - axe à 50","5 pts BRICARD 8161-A4  A2P* - axe à 50",null,null,null,null,null,null,null,null,{"$f":"IF(NOT(ISBLANK((INDIRECT(CONCATENATE(\"TabSerrure[\",RELEVE_COTES!$C$11,\"]\"))))),INDIRECT(CONCATENATE(\"TabSerrure[\",RELEVE_COTES!$C$11,\"]\")),\"\")","v":{"$error":"#VALUE!"}},{"$f":"IF(REF!$EE29<>\"\",1,0)","v":{"$error":"#VALUE!"}},null,"3 pts VACHETTE 5000 - T1700 - axe à 120","3PTS_V5000",1045,1020,25,1830,"SANS",null,null,null,null,null,null,null,null,null,null,null,null,null,null,null,null,null,"Laura","Sirielle","Sirielle","Sirielle","Sirielle","Sirielle","Sirielle","Sirielle",null,"Lyse","Lyse",null,null,null,null,null,null,null,{"$f":"IF(NOT(ISBLANK((INDIRECT(CONCATENATE(\"TabDécorExt[\",RELEVE_COTES!$C$11,\"]\"))))),INDIRECT(CONCATENATE(\"TabDécorExt[\",RELEVE_COTES!$C$11,\"]\",\"\")),\"\")","v":{"$error":"#VALUE!"}},{"$error":"#VALUE!"},null,null,null,null,"GRIS TOURTERELLE G029","GRIS TOURTERELLE G029","GRIS TOURTERELLE G029","GRIS TOURTERELLE G029","GRIS TOURTERELLE G029","GRIS TOURTERELLE G029","GRIS TOURTERELLE G029","GRIS TOURTERELLE G029","GRIS TOURTERELLE G029","GRIS TOURTERELLE G029","GRIS TOURTERELLE G029","GRIS TOURTERELLE G029","GRIS TOURTERELLE G029","RAL 6011 Vert réséda","RAL 6011 Vert réséda","RAL 6011 Vert réséda","RAL 6011 Vert réséda","RAL 6011 Vert réséda","RAL 6011 Vert réséda","RAL 6011 Vert réséda","RAL 5010 Bleu gentiane","RAL 5014 Bleu pigeon",null,"RAL 6011 Vert réséda","RAL 6011 Vert réséda","RAL 6011 Vert réséda","RAL 6011 Vert réséda","RAL 6011 Vert réséda","RAL 6011 Vert réséda","RAL 6011 Vert réséda","RAL 6011 Vert réséda",null,{"$f":"IF(NOT(ISBLANK((INDIRECT(CONCATENATE(\"TabFinExt[\",RELEVE_COTES!$C$11,\"]\"))))),INDIRECT(CONCATENATE(\"TabFinExt[\",RELEVE_COTES!$C$11,\"]\",\"\")),\"\")","v":{"$error":"#VALUE!"}},{"$error":"#VALUE!"},null,null,null,null,null,null,null,null,null,null,null,null,null,null,"Lyse","Sirielle","Sirielle","Sirielle","Sirielle","Sirielle","Sirielle","Sirielle","Sirielle","Lyse","Lyse",null,null,null,null,null,null,null,{"$f":"IF(NOT(ISBLANK((INDIRECT(CONCATENATE(\"TabDécorInt[\",RELEVE_COTES!$C$11,\"]\"))))),INDIRECT(CONCATENATE(\"TabDécorInt[\",RELEVE_COTES!$C$11,\"]\",\"\")),\"\")","v":{"$error":"#VALUE!"}},{"$error":"#VALUE!"},null,"GRIS TOURTERELLE G029","GRIS TOURTERELLE G029","GRIS TOURTERELLE G029","GRIS TOURTERELLE G029","GRIS TOURTERELLE G029","GRIS TOURTERELLE G029","GRIS TOURTERELLE G029","GRIS TOURTERELLE G029","GRIS TOURTERELLE G029","GRIS TOURTERELLE G029","GRIS TOURTERELLE G029","GRIS TOURTERELLE G029","GRIS TOURTERELLE G029","RAL 5010 Bleu gentiane","RAL 5010 Bleu gentiane","RAL 5014 Bleu pigeon","RAL 5010 Bleu gentiane","RAL 5014 Bleu pigeon","RAL 5010 Bleu gentiane","RAL 5010 Bleu gentiane","RAL 5014 Bleu pigeon","RAL 5014 Bleu pigeon","RAL 5010 Bleu gentiane","RAL 5010 Bleu gentiane","RAL 6011 Vert réséda",null,"RAL 6011 Vert réséda","RAL 6011 Vert réséda","RAL 6011 Vert réséda","RAL 6011 Vert réséda",null,{"$f":"IF(NOT(ISBLANK((INDIRECT(CONCATENATE(\"TabFinInt[\",RELEVE_COTES!$C$11,\"]\"))))),INDIRECT(CONCATENATE(\"TabFinInt[\",RELEVE_COTES!$C$11,\"]\",\"\")),\"\")","v":{"$error":"#VALUE!"}},{"$error":"#VALUE!"},null,"NEVIS OAK OH894","OH894","STRATIFIE",null,null,null,null,null,null,null,"RAL 6018 Vert jaune",6018]
[null,null,null,null,null,null,null,null,"STABIPAC52 EXT",29,null,1,null,null,null,null,null,null,null,null,null,null,null,null,null,null,null,null,null,null,null,null,null,null,null,null,null,null,null,null,null,null,null,null,null,null,null,null,null,null,null,null,null,null,null,null,null,null,null,null,null,null,null,null,null,null,null,null,null,null,null,null,null,null,null,null,null,null,null,null,null,null,null,null,null,null,null,null,null,null,null,null,null,null,null,null,null,null,"Seuil inox isophonique RPES 25 mm",25,null,null,"3 pts A2P* FERCO Secury PP MR2 - T2040 - axe à 120","3 pts A2P** VACHETTE 5000 SGN2 - T2040 - axe à 50","3 pts A2P* FERCO Secury PP MR2 - T2040 - axe à 120","3 pts A2P** VACHETTE 5000 SGN2 - T2040 - axe à 50","3 pts A2P** VACHETTE 5000 SGN2 - T2040 - axe à 50","5 pts A2P* VACHETTE 5900 SPN1 - T2040 - axe à 50","3 pts A2P* FERCO Secury PP MR2 - T2040 - axe à 120","5 pts A2P* VACHETTE 5900 SPN1 - T2040 - axe à 50","3 pts A2P* FERCO Secury PP MR2 - T2040 - axe à 120","5 pts A2P* VACHETTE 5900 SPN1 - T2040 - axe à 50","3 pts A2P* VACHETTE 5000 SPN1 - T2040 et entrebailleur - axe à 50","3 pts A2P* FERCO Secury PP MR2 - T2040 - axe à 120","élect. ABLOY EL564 - axe à 50 - têtière 250x20","SERRURE ELECTRIQUE  1 PT",null,null,"5 pts FERCO SECURY PP 50/70 MR4 A2P* - axe à 50","5 pts BRICARD 8120A3 standard avec entrebailleur intégré - axe à 120","5 pts FERCO SECURY PP 50/70 MR4 A2P* - axe à 50","5 pts BRICARD 8120A3 standard avec entrebailleur intégré - axe à 120","5 pts BRICARD 8120A3 standard avec entrebailleur intégré - axe à 120","5 pts FERCO SECURY PP 50/70 MR4 A2P* - axe à 50","5 pts FERCO SECURY PP 50/70 MR4 A2P* - axe à 50","5 pts FERCO Europa R2 A2P*- axe à 50",null,null,null,null,null,null,null,null,{"$f":"IF(NOT(ISBLANK((INDIRECT(CONCATENATE(\"TabSerrure[\",RELEVE_COTES!$C$11,\"]\"))))),INDIRECT(CONCATENATE(\"TabSerrure[\",RELEVE_COTES!$C$11,\"]\")),\"\")","v":{"$error":"#VALUE!"}},{"$f":"IF(REF!$EE30<>\"\",1,0)","v":{"$error":"#VALUE!"}},null,"3 pts FERCO Secury PP MR2 - T2040 - axe à 120","3PTS_V5000",1045,1020,25,1830,"SANS",null,null,null,null,null,null,null,null,null,null,null,null,null,null,null,null,null,"Laurianne","Solène","Solène","Solène","Solène","Solène","Solène","Solène",null,"Marina","Marina",null,null,null,null,null,null,null,{"$f":"IF(NOT(ISBLANK((INDIRECT(CONCATENATE(\"TabDécorExt[\",RELEVE_COTES!$C$11,\"]\"))))),INDIRECT(CONCATENATE(\"TabDécorExt[\",RELEVE_COTES!$C$11,\"]\",\"\")),\"\")","v":{"$error":"#VALUE!"}},{"$error":"#VALUE!"},null,null,null,null,"MARBLE GREEN F8245","MARBLE GREEN F8245","MARBLE GREEN F8245","MARBLE GREEN F8245","MARBLE GREEN F8245","MARBLE GREEN F8245","MARBLE GREEN F8245","MARBLE GREEN F8245","MARBLE GREEN F8245","MARBLE GREEN F8245","MARBLE GREEN F8245","MARBLE GREEN F8245","MARBLE GREEN F8245","RAL 6018 Vert jaune","RAL 6018 Vert jaune","RAL 6018 Vert jaune","RAL 6018 Vert jaune","RAL 6018 Vert jaune","RAL 6018 Vert jaune","RAL 6018 Vert jaune","RAL 5011 Bleu acier","RAL 5015 Bleu ciel",null,"RAL 6018 Vert jaune","RAL 6018 Vert jaune","RAL 6018 Vert jaune","RAL 6018 Vert jaune","RAL 6018 Vert jaune","RAL 6018 Vert jaune","RAL 6018 Vert jaune","RAL 6018 Vert jaune",null,{"$f":"IF(NOT(ISBLANK((INDIRECT(CONCATENATE(\"TabFinExt[\",RELEVE_COTES!$C$11,\"]\"))))),INDIRECT(CONCATENATE(\"TabFinExt[\",RELEVE_COTES!$C$11,\"]\",\"\")),\"\")","v":{"$error":"#VALUE!"}},{"$error":"#VALUE!"},null,null,null,null,null,null,null,null,null,null,null,null,null,null,"Marina","Solène","Solène","Solène","Solène","Solène","Solène","Solène","Solène","Marina","Marina",null,null,null,null,null,null,null,{"$f":"IF(NOT(ISBLANK((INDIRECT(CONCATENATE(\"TabDécorInt[\",RELEVE_COTES!$C$11,\"]\"))))),INDIRECT(CONCATENATE(\"TabDécorInt[\",RELEVE_COTES!$C$11,\"]\",\"\")),\"\")","v":{"$error":"#VALUE!"}},{"$error":"#VALUE!"},null,"MARBLE GREEN F8245","MARBLE GREEN F8245","MARBLE GREEN F8245","MARBLE GREEN F8245","MARBLE GREEN F8245","MARBLE GREEN F8245","MARBLE GREEN F8245","MARBLE GREEN F8245","MARBLE GREEN F8245","MARBLE GREEN F8245","MARBLE GREEN F8245","MARBLE GREEN F8245","MARBLE GREEN F8245","RAL 5011 Bleu acier","RAL 5011 Bleu acier","RAL 5015 Bleu ciel","RAL 5011 Bleu acier","RAL 5015 Bleu ciel","RAL 5011 Bleu acier","RAL 5011 Bleu acier","RAL 5015 Bleu ciel","RAL 5015 Bleu ciel","RAL 5011 Bleu acier","RAL 5011 Bleu acier","RAL 6018 Vert jaune",null,"RAL 6018 Vert jaune","RAL 6018 Vert jaune","RAL 6018 Vert jaune","RAL 6018 Vert jaune",null,{"$f":"IF(NOT(ISBLANK((INDIRECT(CONCATENATE(\"TabFinInt[\",RELEVE_COTES!$C$11,\"]\"))))),INDIRECT(CONCATENATE(\"TabFinInt[\",RELEVE_COTES!$C$11,\"]\",\"\")),\"\")","v":{"$error":"#VALUE!"}},{"$error":"#VALUE!"},null,"NOIR VITA F2253","F2253","STRATIFIE",null,null,null,null,null,null,null,"RAL 6021 Vert pâle",6021]
[null,null,null,null,null,null,null,null,"STABIPAC52 INT",30,null,1,null,null,null,null,null,null,null,null,null,null,null,null,null,null,null,null,null,null,null,null,null,null,null,null,null,null,null,null,null,null,null,null,null,null,null,null,null,null,null,null,null,null,null,null,null,null,null,null,null,null,null,null,null,null,null,null,null,null,null,null,null,null,null,null,null,null,null,null,null,null,null,null,null,null,null,null,null,null,null,null,null,null,null,null,null,null,"Seuil inox isophonique RPES 30 mm",30,null,null,"3 pts A2P* FERCO Secury PP MR2 - T2040 - axe à 50","3 pts A2P** VACHETTE 5000 TN2/FN2 - T1700 - axe à 50","3 pts A2P* FERCO Secury PP MR2 - T2040 - axe à 50","3 pts A2P** VACHETTE 5000 TN2/FN2 - T1700 - axe à 50","3 pts A2P** VACHETTE 5000 TN2/FN2 - T1700 - axe à 50","5 pts A2P* VACHETTE 5900 SPN1 - T2040 et entrebailleur - axe à 50","3 pts A2P* FERCO Secury PP MR2 - T2040 - axe à 50","5 pts A2P* VACHETTE 5900 SPN1 - T2040 et entrebailleur - axe à 50","3 pts A2P* FERCO Secury PP MR2 - T2040 - axe à 50","5 pts A2P* VACHETTE 5900 SPN1 - T2040 et entrebailleur - axe à 50","3 pts BRICARD 8120 - T1700 - axe à 120","3 pts A2P* FERCO Secury PP MR2 - T2040 - axe à 50","élect. ABLOY EL565 - axe à 50 - têtière 250x20","SERRURE ELECTRIQUE 3 PTS",null,null,"5 pts VACHETTE V5090 A2P* A120 XL SGN1 - axe à 120","5 pts BRICARD 8120A4 standard - axe à 120","5 pts VACHETTE V5090 A2P* A120 XL SGN1 - axe à 120","5 pts BRICARD 8120A4 standard - axe à 120","5 pts BRICARD 8120A4 standard - axe à 120","5 pts VACHETTE V5090 A2P* A120 XL SGN1 - axe à 120","5 pts VACHETTE V5090 A2P* A120 XL SGN1 - axe à 120","5 pts FERCO Fercomatic R2 A2P*- axe à 50",null,null,null,null,null,null,null,null,{"$f":"IF(NOT(ISBLANK((INDIRECT(CONCATENATE(\"TabSerrure[\",RELEVE_COTES!$C$11,\"]\"))))),INDIRECT(CONCATENATE(\"TabSerrure[\",RELEVE_COTES!$C$11,\"]\")),\"\")","v":{"$error":"#VALUE!"}},{"$f":"IF(REF!$EE31<>\"\",1,0)","v":{"$error":"#VALUE!"}},null,"3 pts BRICARD 8120 - T2040 - axe à 120","3PTS_V5000",1045,1020,25,1830,"SANS",null,null,null,null,null,null,null,null,null,null,null,null,null,null,null,null,null,"Léa","Soline","Soline","Soline","Soline","Soline","Soline","Soline",null,"Nicole","Nicole",null,null,null,null,null,null,null,{"$f":"IF(NOT(ISBLANK((INDIRECT(CONCATENATE(\"TabDécorExt[\",RELEVE_COTES!$C$11,\"]\"))))),INDIRECT(CONCATENATE(\"TabDécorExt[\",RELEVE_COTES!$C$11,\"]\",\"\")),\"\")","v":{"$error":"#VALUE!"}},{"$error":"#VALUE!"},null,null,null,null,"NEVIS OAK OH894","NEVIS OAK OH894","NEVIS OAK OH894","NEVIS OAK OH894","NEVIS OAK OH894","NEVIS OAK OH894","NEVIS OAK OH894","NEVIS OAK OH894","NEVIS OAK OH894","NEVIS OAK OH894","NEVIS OAK OH894","NEVIS OAK OH894","NEVIS OAK OH894","RAL 6021 Vert pâle","RAL 6021 Vert pâle","RAL 6021 Vert pâle","RAL 6021 Vert pâle","RAL 6021 Vert pâle","RAL 6021 Vert pâle","RAL 6021 Vert pâle","RAL 5014 Bleu pigeon","RAL 6003 Vert olive",null,"RAL 6021 Vert pâle","RAL 6021 Vert pâle","RAL 6021 Vert pâle","RAL 6021 Vert pâle","RAL 6021 Vert pâle","RAL 6021 Vert pâle","RAL 6021 Vert pâle","RAL 6021 Vert pâle",null,{"$f":"IF(NOT(ISBLANK((INDIRECT(CONCATENATE(\"TabFinExt[\",RELEVE_COTES!$C$11,\"]\"))))),INDIRECT(CONCATENATE(\"TabFinExt[\",RELEVE_COTES!$C$11,\"]\",\"\")),\"\")","v":{"$error":"#VALUE!"}},{"$error":"#VALUE!"},null,null,null,null,null,null,null,null,null,null,null,null,null,null,"Nicole","Soline","Soline","Soline","Soline","Soline","Soline","Soline","Soline","Nicole","Nicole",null,null,null,null,null,null,null,{"$f":"IF(NOT(ISBLANK((INDIRECT(CONCATENATE(\"TabDécorInt[\",RELEVE_COTES!$C$11,\"]\"))))),INDIRECT(CONCATENATE(\"TabDécorInt[\",RELEVE_COTES!$C$11,\"]\",\"\")),\"\")","v":{"$error":"#VALUE!"}},{"$error":"#VALUE!"},null,"NEVIS OAK OH894","NEVIS OAK OH894","NEVIS OAK OH894","NEVIS OAK OH894","NEVIS OAK OH894","NEVIS OAK OH894","NEVIS OAK OH894","NEVIS OAK OH894","NEVIS OAK OH894","NEVIS OAK OH894","NEVIS OAK OH894","NEVIS OAK OH894","NEVIS OAK OH894","RAL 5014 Bleu pigeon","RAL 5014 Bleu pigeon","RAL 6003 Vert olive","RAL 5014 Bleu pigeon","RAL 6003 Vert olive","RAL 5014 Bleu pigeon","RAL 5014 Bleu pigeon","RAL 6003 Vert olive","RAL 6003 Vert olive","RAL 5014 Bleu pigeon","RAL 5014 Bleu pigeon","RAL 6021 Vert pâle",null,"RAL 6021 Vert pâle","RAL 6021 Vert pâle","RAL 6021 Vert pâle","RAL 6021 Vert pâle",null,{"$f":"IF(NOT(ISBLANK((INDIRECT(CONCATENATE(\"TabFinInt[\",RELEVE_COTES!$C$11,\"]\"))))),INDIRECT(CONCATENATE(\"TabFinInt[\",RELEVE_COTES!$C$11,\"]\",\"\")),\"\")","v":{"$error":"#VALUE!"}},{"$error":"#VALUE!"},null,"NOISETIER NATUREL N056","N056","STRATIFIE",null,null,null,null,null,null,null,"RAL 7006 Gris beige",7006]
[null,null,null,null,null,null,null,null,null,31,null,1,null,null,null,null,null,null,null,null,null,null,null,null,null,null,null,null,null,null,null,null,null,null,null,null,null,null,null,null,null,null,null,null,null,null,null,null,null,null,null,null,null,null,null,null,null,null,null,null,null,null,null,null,null,null,null,null,null,null,null,null,null,null,null,null,null,null,null,null,null,null,null,null,null,null,null,null,null,null,null,null,null,null,null,null,null,null,"Seuil inox isophonique RPES 35 mm",35,null,null,"3 pts A2P* VACHETTE 5000 SGN1 - T2040 - axe à 120","3 pts A2P** VACHETTE 5000 TN2/FN2 - T2040 - axe à 50","3 pts A2P* VACHETTE 5000 SGN1 - T2040 - axe à 120","3 pts A2P** VACHETTE 5000 TN2/FN2 - T2040 - axe à 50","3 pts A2P** VACHETTE 5000 TN2/FN2 - T2040 - axe à 50","5 pts A2P** BRICARD 8162/A4 - T2040 - axe à 50","3 pts A2P* VACHETTE 5000 SGN1 - T2040 - axe à 120","5 pts A2P** BRICARD 8162/A4 - T2040 - axe à 50","3 pts A2P* VACHETTE 5000 SGN1 - T2040 - axe à 120","5 pts A2P** BRICARD 8162/A4 - T2040 - axe à 50","3 pts BRICARD 8120 - T2040 - axe à 120","3 pts A2P* VACHETTE 5000 SGN1 - T2040 - axe à 120","INHOVA DONNA (Coffre EURO 2UBO) - axe à 60",null,null,null,"5 pts VACHETTE V5090 SGN2 A2P** - axe à 50","5 pts BRICARD 8120A4 standard avec entrebailleur intégré - axe à 120","5 pts VACHETTE V5090 SGN2 A2P** - axe à 50","5 pts BRICARD 8120A4 standard avec entrebailleur intégré - axe à 120","5 pts BRICARD 8120A4 standard avec entrebailleur intégré - axe à 120","5 pts VACHETTE V5090 SGN2 A2P** - axe à 50","5 pts VACHETTE V5090 SGN2 A2P** - axe à 50","5 pts VACHETTE V5700 SPN1 A2P* - axe à 50",null,null,null,null,null,null,null,null,{"$f":"IF(NOT(ISBLANK((INDIRECT(CONCATENATE(\"TabSerrure[\",RELEVE_COTES!$C$11,\"]\"))))),INDIRECT(CONCATENATE(\"TabSerrure[\",RELEVE_COTES!$C$11,\"]\")),\"\")","v":{"$error":"#VALUE!"}},{"$f":"IF(REF!$EE32<>\"\",1,0)","v":{"$error":"#VALUE!"}},null,"3 pts BRICARD 8120 - T1700 - axe à 120","3PTS_V5000",1045,1020,25,1830,"SANS",null,null,null,null,null,null,null,null,null,null,null,null,null,null,null,null,null,"Liberté","Sonia","Sonia","Sonia","Sonia","Sonia","Sonia","Sonia",null,"Nicoletta","Nicoletta",null,null,null,null,null,null,null,{"$f":"IF(NOT(ISBLANK((INDIRECT(CONCATENATE(\"TabDécorExt[\",RELEVE_COTES!$C$11,\"]\"))))),INDIRECT(CONCATENATE(\"TabDécorExt[\",RELEVE_COTES!$C$11,\"]\",\"\")),\"\")","v":{"$error":"#VALUE!"}},{"$error":"#VALUE!"},null,null,null,null,"NOIR VITA F2253","NOIR VITA F2253","NOIR VITA F2253","NOIR VITA F2253","NOIR VITA F2253","NOIR VITA F2253","NOIR VITA F2253","NOIR VITA F2253","NOIR VITA F2253","NOIR VITA F2253","NOIR VITA F2253","NOIR VITA F2253","NOIR VITA F2253","RAL 7006 Gris beige","RAL 7006 Gris beige","RAL 7006 Gris beige","RAL 7006 Gris beige","RAL 7006 Gris beige","RAL 7006 Gris beige","RAL 7006 Gris beige","RAL 5015 Bleu ciel","RAL 6005 Vert mousse",null,"RAL 7006 Gris beige","RAL 7006 Gris beige","RAL 7006 Gris beige","RAL 7006 Gris beige","RAL 7006 Gris beige","RAL 7006 Gris beige","RAL 7006 Gris beige","RAL 7006 Gris beige",null,{"$f":"IF(NOT(ISBLANK((INDIRECT(CONCATENATE(\"TabFinExt[\",RELEVE_COTES!$C$11,\"]\"))))),INDIRECT(CONCATENATE(\"TabFinExt[\",RELEVE_COTES!$C$11,\"]\",\"\")),\"\")","v":{"$error":"#VALUE!"}},{"$error":"#VALUE!"},null,null,null,null,null,null,null,null,null,null,null,null,null,null,"Nicoletta","Sonia","Sonia","Sonia","Sonia","Sonia","Sonia","Sonia","Sonia","Nicoletta","Nicoletta",null,null,null,null,null,null,null,{"$f":"IF(NOT(ISBLANK((INDIRECT(CONCATENATE(\"TabDécorInt[\",RELEVE_COTES!$C$11,\"]\"))))),INDIRECT(CONCATENATE(\"TabDécorInt[\",RELEVE_COTES!$C$11,\"]\",\"\")),\"\")","v":{"$error":"#VALUE!"}},{"$error":"#VALUE!"},null,"NOIR VITA F2253","NOIR VITA F2253","NOIR VITA F2253","NOIR VITA F2253","NOIR VITA F2253","NOIR VITA F2253","NOIR VITA F2253","NOIR VITA F2253","NOIR VITA F2253","NOIR VITA F2253","NOIR VITA F2253","NOIR VITA F2253","NOIR VITA F2253","RAL 5015 Bleu ciel","RAL 5015 Bleu ciel","RAL 6005 Vert mousse","RAL 5015 Bleu ciel","RAL 6005 Vert mousse","RAL 5015 Bleu ciel","RAL 5015 Bleu ciel","RAL 6005 Vert mousse","RAL 6005 Vert mousse","RAL 5015 Bleu ciel","RAL 5015 Bleu ciel","RAL 7006 Gris beige",null,"RAL 7006 Gris beige","RAL 7006 Gris beige","RAL 7006 Gris beige","RAL 7006 Gris beige",null,{"$f":"IF(NOT(ISBLANK((INDIRECT(CONCATENATE(\"TabFinInt[\",RELEVE_COTES!$C$11,\"]\"))))),INDIRECT(CONCATENATE(\"TabFinInt[\",RELEVE_COTES!$C$11,\"]\",\"\")),\"\")","v":{"$error":"#VALUE!"}},{"$error":"#VALUE!"},null,"NOYER CHESTERFIELD N117","N117","STRATIFIE",null,null,null,null,null,null,null,"RAL 7012 Gris basalte",7012]
[null,null,null,null,null,null,null,null,null,32,null,1,null,null,null,null,null,null,null,null,null,null,null,null,null,null,null,null,null,null,null,null,null,null,null,null,null,null,null,null,null,null,null,null,null,null,null,null,null,null,null,null,null,null,null,null,null,null,null,null,null,null,null,null,null,null,null,null,null,null,null,null,null,null,null,null,null,null,null,null,null,null,null,null,null,null,null,null,null,null,null,null,null,null,null,null,null,null,"Seuil inox isophonique RPES 40 mm",50,null,null,"3 pts A2P* VACHETTE 5000 SGN1 - T2040 et entrebailleur - axe à 120","3 pts A2P*** VACHETTE 5000 - T1700 - axe à 50","3 pts A2P* VACHETTE 5000 SGN1 - T2040 et entrebailleur - axe à 120","3 pts A2P*** VACHETTE 5000 - T1700 - axe à 50","3 pts A2P*** VACHETTE 5000 - T1700 - axe à 50","5 pts A2P** VACHETTE 5900 SGN2 - T1700 - axe à 50","3 pts A2P* VACHETTE 5000 SGN1 - T2040 et entrebailleur - axe à 120","5 pts A2P** VACHETTE 5900 SGN2 - T1700 - axe à 50","3 pts A2P* VACHETTE 5000 SGN1 - T2040 et entrebailleur - axe à 120","5 pts A2P** VACHETTE 5900 SGN2 - T1700 - axe à 50","3 pts BRICARD 8150/341 - T1700 - axe à 50","3 pts A2P* VACHETTE 5000 SGN1 - T2040 et entrebailleur - axe à 120","INHOVA DONNA (Coffre EURO 2UBO) - axe à 70",null,null,null,"5 pts VACHETTE V5090 SPN1 A2P* - axe à 50","5 pts BRICARD 8121A3 A2P* - axe à 120","5 pts VACHETTE V5090 SPN1 A2P* - axe à 50","5 pts BRICARD 8121A3 A2P* - axe à 120","5 pts BRICARD 8121A3 A2P* - axe à 120","5 pts VACHETTE V5090 SPN1 A2P* - axe à 50","5 pts VACHETTE V5090 SPN1 A2P* - axe à 50","5 pts VACHETTE V5700 standard - axe à 50",null,null,null,null,null,null,null,null,{"$f":"IF(NOT(ISBLANK((INDIRECT(CONCATENATE(\"TabSerrure[\",RELEVE_COTES!$C$11,\"]\"))))),INDIRECT(CONCATENATE(\"TabSerrure[\",RELEVE_COTES!$C$11,\"]\")),\"\")","v":{"$error":"#VALUE!"}},{"$f":"IF(REF!$EE33<>\"\",1,0)","v":{"$error":"#VALUE!"}},null,"3 pts A2P* VACHETTE 5000 SPN1 - T2040 et entrebailleur - axe à 50","3PTS_V5000_E",1045,1020,25,1830,"SANS",null,null,null,null,null,null,null,null,null,null,null,null,null,null,null,null,null,"Linda","Sophia","Sophia","Sophia","Sophia","Sophia","Sophia","Sophia",null,"Nina","Nina",null,null,null,null,null,null,null,{"$f":"IF(NOT(ISBLANK((INDIRECT(CONCATENATE(\"TabDécorExt[\",RELEVE_COTES!$C$11,\"]\"))))),INDIRECT(CONCATENATE(\"TabDécorExt[\",RELEVE_COTES!$C$11,\"]\",\"\")),\"\")","v":{"$error":"#VALUE!"}},{"$error":"#VALUE!"},null,null,null,null,"NOISETIER NATUREL N056","NOISETIER NATUREL N056","NOISETIER NATUREL N056","NOISETIER NATUREL N056","NOISETIER NATUREL N056","NOISETIER NATUREL N056","NOISETIER NATUREL N056","NOISETIER NATUREL N056","NOISETIER NATUREL N056","NOISETIER NATUREL N056","NOISETIER NATUREL N056","NOISETIER NATUREL N056","NOISETIER NATUREL N056","RAL 7012 Gris basalte","RAL 7012 Gris basalte","RAL 7012 Gris basalte","RAL 7012 Gris basalte","RAL 7012 Gris basalte","RAL 7012 Gris basalte","RAL 7012 Gris basalte","RAL 6003 Vert olive","RAL 6011 Vert réséda",null,"RAL 7012 Gris basalte","RAL 7012 Gris basalte","RAL 7012 Gris basalte","RAL 7012 Gris basalte","RAL 7012 Gris basalte","RAL 7012 Gris basalte","RAL 7012 Gris basalte","RAL 7012 Gris basalte",null,{"$f":"IF(NOT(ISBLANK((INDIRECT(CONCATENATE(\"TabFinExt[\",RELEVE_COTES!$C$11,\"]\"))))),INDIRECT(CONCATENATE(\"TabFinExt[\",RELEVE_COTES!$C$11,\"]\",\"\")),\"\")","v":{"$error":"#VALUE!"}},{"$error":"#VALUE!"},null,null,null,null,null,null,null,null,null,null,null,null,null,null,"Nina","Sophia","Sophia","Sophia","Sophia","Sophia","Sophia","Sophia","Sophia","Nina","Nina",null,null,null,null,null,null,null,{"$f":"IF(NOT(ISBLANK((INDIRECT(CONCATENATE(\"TabDécorInt[\",RELEVE_COTES!$C$11,\"]\"))))),INDIRECT(CONCATENATE(\"TabDécorInt[\",RELEVE_COTES!$C$11,\"]\",\"\")),\"\")","v":{"$error":"#VALUE!"}},{"$error":"#VALUE!"},null,"NOISETIER NATUREL N056","NOISETIER NATUREL N056","NOISETIER NATUREL N056","NOISETIER NATUREL N056","NOISETIER NATUREL N056","NOISETIER NATUREL N056","NOISETIER NATUREL N056","NOISETIER NATUREL N056","NOISETIER NATUREL N056","NOISETIER NATUREL N056","NOISETIER NATUREL N056","NOISETIER NATUREL N056","NOISETIER NATUREL N056","RAL 6003 Vert olive","RAL 6003 Vert olive","RAL 6011 Vert réséda","RAL 6003 Vert olive","RAL 6011 Vert réséda","RAL 6003 Vert olive","RAL 6003 Vert olive","RAL 6011 Vert réséda","RAL 6011 Vert réséda","RAL 6003 Vert olive","RAL 6003 Vert olive","RAL 7012 Gris basalte",null,"RAL 7012 Gris basalte","RAL 7012 Gris basalte","RAL 7012 Gris basalte","RAL 7012 Gris basalte",null,{"$f":"IF(NOT(ISBLANK((INDIRECT(CONCATENATE(\"TabFinInt[\",RELEVE_COTES!$C$11,\"]\"))))),INDIRECT(CONCATENATE(\"TabFinInt[\",RELEVE_COTES!$C$11,\"]\",\"\")),\"\")","v":{"$error":"#VALUE!"}},{"$error":"#VALUE!"},null,"OYSTER GREY F7929","F7929","STRATIFIE",null,null,null,null,null,null,null,"RAL 7015 Gris ardoise",7015]
[null,null,null,null,null,null,null,null,null,33,null,1,null,null,null,null,null,null,null,null,null,null,null,null,null,null,null,null,null,null,null,null,null,null,null,null,null,null,null,null,null,null,null,null,null,null,null,null,null,null,null,null,null,null,null,null,null,null,null,null,null,null,null,null,null,null,null,null,null,null,null,null,null,null,null,null,null,null,null,null,null,null,null,null,null,null,null,null,null,null,null,null,null,null,null,null,null,null,"Seuil acier \"droit\" isophonique RPES90 20 mm",20,null,null,"3 pts A2P* VACHETTE 5000 SPN1 - T1700 - axe à 50","3 pts BRICARD 8150/341 - T1700 - axe à 50","3 pts A2P* VACHETTE 5000 SPN1 - T1700 - axe à 50","3 pts BRICARD 8150/341 - T1700 - axe à 50","3 pts BRICARD 8150/341 - T1700 - axe à 50","5 pts A2P** VACHETTE 5900 SGN2 - T2040 - axe à 50","3 pts A2P* VACHETTE 5000 SPN1 - T1700 - axe à 50","5 pts A2P** VACHETTE 5900 SGN2 - T2040 - axe à 50","3 pts A2P* VACHETTE 5000 SPN1 - T1700 - axe à 50","5 pts A2P** VACHETTE 5900 SGN2 - T2040 - axe à 50","3 pts BRICARD 8150/381 - T2040 - axe à 50","3 pts A2P* VACHETTE 5000 SPN1 - T1700 - axe à 50","ONITY ADVANCE MAG (Coffre EURO) - axe à 70",null,null,null,"5 pts VACHETTE V5090 SPN1 A2P* avec entrebailleur - axe à 50","5 pts BRICARD 8121A3 A2P* avec entrebailleur intégré - axe à 120","5 pts VACHETTE V5090 SPN1 A2P* avec entrebailleur - axe à 50","5 pts BRICARD 8121A3 A2P* avec entrebailleur intégré - axe à 120","5 pts BRICARD 8121A3 A2P* avec entrebailleur intégré - axe à 120","5 pts VACHETTE V5090 SPN1 A2P* avec entrebailleur - axe à 50","5 pts VACHETTE V5090 SPN1 A2P* avec entrebailleur - axe à 50","5 pts VACHETTE V5900 SPN1 A2P* - axe à 50",null,null,null,null,null,null,null,null,{"$f":"IF(NOT(ISBLANK((INDIRECT(CONCATENATE(\"TabSerrure[\",RELEVE_COTES!$C$11,\"]\"))))),INDIRECT(CONCATENATE(\"TabSerrure[\",RELEVE_COTES!$C$11,\"]\")),\"\")","v":{"$error":"#VALUE!"}},{"$f":"IF(REF!$EE34<>\"\",1,0)","v":{"$error":"#VALUE!"}},null,"3 pts A2P* BRICARD 8161/A1 - T2040 - axe à 50","3PTS_V5000",1045,1020,25,1830,"SANS",null,null,null,null,null,null,null,null,null,null,null,null,null,null,null,null,null,"Lisse","Sophie","Sophie","Sophie","Sophie","Sophie","Sophie","Sophie",null,"Noémie","Noémie",null,null,null,null,null,null,null,{"$f":"IF(NOT(ISBLANK((INDIRECT(CONCATENATE(\"TabDécorExt[\",RELEVE_COTES!$C$11,\"]\"))))),INDIRECT(CONCATENATE(\"TabDécorExt[\",RELEVE_COTES!$C$11,\"]\",\"\")),\"\")","v":{"$error":"#VALUE!"}},{"$error":"#VALUE!"},null,null,null,null,"NOYER CHESTERFIELD N117","NOYER CHESTERFIELD N117","NOYER CHESTERFIELD N117","NOYER CHESTERFIELD N117","NOYER CHESTERFIELD N117","NOYER CHESTERFIELD N117","NOYER CHESTERFIELD N117","NOYER CHESTERFIELD N117","NOYER CHESTERFIELD N117","NOYER CHESTERFIELD N117","NOYER CHESTERFIELD N117","NOYER CHESTERFIELD N117","NOYER CHESTERFIELD N117","RAL 7015 Gris ardoise","RAL 7015 Gris ardoise","RAL 7015 Gris ardoise","RAL 7015 Gris ardoise","RAL 7015 Gris ardoise","RAL 7015 Gris ardoise","RAL 7015 Gris ardoise","RAL 6005 Vert mousse","RAL 6018 Vert jaune",null,"RAL 7015 Gris ardoise","RAL 7015 Gris ardoise","RAL 7015 Gris ardoise","RAL 7015 Gris ardoise","RAL 7015 Gris ardoise","RAL 7015 Gris ardoise","RAL 7015 Gris ardoise","RAL 7015 Gris ardoise",null,{"$f":"IF(NOT(ISBLANK((INDIRECT(CONCATENATE(\"TabFinExt[\",RELEVE_COTES!$C$11,\"]\"))))),INDIRECT(CONCATENATE(\"TabFinExt[\",RELEVE_COTES!$C$11,\"]\",\"\")),\"\")","v":{"$error":"#VALUE!"}},{"$error":"#VALUE!"},null,null,null,null,null,null,null,null,null,null,null,null,null,null,"Noémie","Sophie","Sophie","Sophie","Sophie","Sophie","Sophie","Sophie","Sophie","Noémie","Noémie",null,null,null,null,null,null,null,{"$f":"IF(NOT(ISBLANK((INDIRECT(CONCATENATE(\"TabDécorInt[\",RELEVE_COTES!$C$11,\"]\"))))),INDIRECT(CONCATENATE(\"TabDécorInt[\",RELEVE_COTES!$C$11,\"]\",\"\")),\"\")","v":{"$error":"#VALUE!"}},{"$error":"#VALUE!"},null,"NOYER CHESTERFIELD N117","NOYER CHESTERFIELD N117","NOYER CHESTERFIELD N117","NOYER CHESTERFIELD N117","NOYER CHESTERFIELD N117","NOYER CHESTERFIELD N117","NOYER CHESTERFIELD N117","NOYER CHESTERFIELD N117","NOYER CHESTERFIELD N117","NOYER CHESTERFIELD N117","NOYER CHESTERFIELD N117","NOYER CHESTERFIELD N117","NOYER CHESTERFIELD N117","RAL 6005 Vert mousse","RAL 6005 Vert mousse","RAL 6018 Vert jaune","RAL 6005 Vert mousse","RAL 6018 Vert jaune","RAL 6005 Vert mousse","RAL 6005 Vert mousse","RAL 6018 Vert jaune","RAL 6018 Vert jaune","RAL 6005 Vert mousse","RAL 6005 Vert mousse","RAL 7015 Gris ardoise",null,"RAL 7015 Gris ardoise","RAL 7015 Gris ardoise","RAL 7015 Gris ardoise","RAL 7015 Gris ardoise",null,{"$f":"IF(NOT(ISBLANK((INDIRECT(CONCATENATE(\"TabFinInt[\",RELEVE_COTES!$C$11,\"]\"))))),INDIRECT(CONCATENATE(\"TabFinInt[\",RELEVE_COTES!$C$11,\"]\",\"\")),\"\")","v":{"$error":"#VALUE!"}},{"$error":"#VALUE!"},null,"PIN ALAND BLANC H3430","H3430","STRATIFIE",null,null,null,null,null,null,null,"RAL 7021 Gris noir",7021]
[null,null,null,null,null,null,null,null,null,34,null,1,null,null,null,null,null,null,null,null,null,null,null,null,null,null,null,null,null,null,null,null,null,null,null,null,null,null,null,null,null,null,null,null,null,null,null,null,null,null,null,null,null,null,null,null,null,null,null,null,null,null,null,null,null,null,null,null,null,null,null,null,null,null,null,null,null,null,null,null,null,null,null,null,null,null,null,null,null,null,null,null,null,null,null,null,null,null,"Seuil acier \"droit\" isophonique RPES90 25 mm",25,null,null,"3 pts A2P* VACHETTE 5000 SPN1 - T2040 - axe à 50","3 pts BRICARD 8150/381 - T2040 - axe à 50","3 pts A2P* VACHETTE 5000 SPN1 - T2040 - axe à 50","3 pts BRICARD 8150/381 - T2040 - axe à 50","3 pts BRICARD 8150/381 - T2040 - axe à 50","5 pts A2P** VACHETTE 5900 TN2/FN2 - T1700 - axe à 50","3 pts A2P* VACHETTE 5000 SPN1 - T2040 - axe à 50","5 pts A2P** VACHETTE 5900 TN2/FN2 - T1700 - axe à 50","3 pts A2P* VACHETTE 5000 SPN1 - T2040 - axe à 50","5 pts A2P** VACHETTE 5900 TN2/FN2 - T1700 - axe à 50","3 pts FERCO Secury PP MR2 - T1700 - axe à 50","3 pts A2P* VACHETTE 5000 SPN1 - T2040 - axe à 50","ONITY ADVANCE RFID (Coffre EURO) - axe à 60",null,null,null,"5 pts VACHETTE V5700 SGN2 A2P** avec entrebailleur - axe à 50","5 pts BRICARD 8121A4 A2P* - axe à 120","5 pts VACHETTE V5700 SGN2 A2P** - axe à 50","5 pts BRICARD 8121A4 A2P* - axe à 120","5 pts BRICARD 8121A4 A2P* - axe à 120","5 pts VACHETTE V5700 SGN2 A2P** - axe à 50","5 pts VACHETTE V5700 SGN2 A2P** - axe à 50","5 pts VACHETTE V5900 standard - axe à 50",null,null,null,null,null,null,null,null,{"$f":"IF(NOT(ISBLANK((INDIRECT(CONCATENATE(\"TabSerrure[\",RELEVE_COTES!$C$11,\"]\"))))),INDIRECT(CONCATENATE(\"TabSerrure[\",RELEVE_COTES!$C$11,\"]\")),\"\")","v":{"$error":"#VALUE!"}},{"$f":"IF(REF!$EE35<>\"\",1,0)","v":{"$error":"#VALUE!"}},null,"3 pts A2P* FERCO Secury PP MR2 - T2040 - axe à 50","3PTS_V5000",1045,1020,25,1830,"SANS",null,null,null,null,null,null,null,null,null,null,null,null,null,null,null,null,null,"Littoral","Stéphanie","Stéphanie","Stéphanie","Stéphanie","Stéphanie","Stéphanie","Stéphanie",null,"Nora","Nora",null,null,null,null,null,null,null,{"$f":"IF(NOT(ISBLANK((INDIRECT(CONCATENATE(\"TabDécorExt[\",RELEVE_COTES!$C$11,\"]\"))))),INDIRECT(CONCATENATE(\"TabDécorExt[\",RELEVE_COTES!$C$11,\"]\",\"\")),\"\")","v":{"$error":"#VALUE!"}},{"$error":"#VALUE!"},null,null,null,null,"OYSTER GREY F7929","OYSTER GREY F7929","OYSTER GREY F7929","OYSTER GREY F7929","OYSTER GREY F7929","OYSTER GREY F7929","OYSTER GREY F7929","OYSTER GREY F7929","OYSTER GREY F7929","OYSTER GREY F7929","OYSTER GREY F7929","OYSTER GREY F7929","OYSTER GREY F7929","RAL 7021 Gris noir","RAL 7021 Gris noir","RAL 7021 Gris noir","RAL 7021 Gris noir","RAL 7021 Gris noir","RAL 7021 Gris noir","RAL 7021 Gris noir","RAL 6011 Vert réséda","RAL 6021 Vert pâle",null,"RAL 7021 Gris noir","RAL 7021 Gris noir","RAL 7021 Gris noir","RAL 7021 Gris noir","RAL 7021 Gris noir","RAL 7021 Gris noir","RAL 7021 Gris noir","RAL 7021 Gris noir",null,{"$f":"IF(NOT(ISBLANK((INDIRECT(CONCATENATE(\"TabFinExt[\",RELEVE_COTES!$C$11,\"]\"))))),INDIRECT(CONCATENATE(\"TabFinExt[\",RELEVE_COTES!$C$11,\"]\",\"\")),\"\")","v":{"$error":"#VALUE!"}},{"$error":"#VALUE!"},null,null,null,null,null,null,null,null,null,null,null,null,null,null,"Nora","Stéphanie","Stéphanie","Stéphanie","Stéphanie","Stéphanie","Stéphanie","Stéphanie","Stéphanie","Nora","Nora",null,null,null,null,null,null,null,{"$f":"IF(NOT(ISBLANK((INDIRECT(CONCATENATE(\"TabDécorInt[\",RELEVE_COTES!$C$11,\"]\"))))),INDIRECT(CONCATENATE(\"TabDécorInt[\",RELEVE_COTES!$C$11,\"]\",\"\")),\"\")","v":{"$error":"#VALUE!"}},{"$error":"#VALUE!"},null,"OYSTER GREY F7929","OYSTER GREY F7929","OYSTER GREY F7929","OYSTER GREY F7929","OYSTER GREY F7929","OYSTER GREY F7929","OYSTER GREY F7929","OYSTER GREY F7929","OYSTER GREY F7929","OYSTER GREY F7929","OYSTER GREY F7929","OYSTER GREY F7929","OYSTER GREY F7929","RAL 6011 Vert réséda","RAL 6011 Vert réséda","RAL 6021 Vert pâle","RAL 6011 Vert réséda","RAL 6021 Vert pâle","RAL 6011 Vert réséda","RAL 6011 Vert réséda","RAL 6021 Vert pâle","RAL 6021 Vert pâle","RAL 6011 Vert réséda","RAL 6011 Vert réséda","RAL 7021 Gris noir",null,"RAL 7021 Gris noir","RAL 7021 Gris noir","RAL 7021 Gris noir","RAL 7021 Gris noir",null,{"$f":"IF(NOT(ISBLANK((INDIRECT(CONCATENATE(\"TabFinInt[\",RELEVE_COTES!$C$11,\"]\"))))),INDIRECT(CONCATENATE(\"TabFinInt[\",RELEVE_COTES!$C$11,\"]\",\"\")),\"\")","v":{"$error":"#VALUE!"}},{"$error":"#VALUE!"},null,"TORNADO F1535","F1535","STRATIFIE",null,null,null,null,null,null,null,"RAL 7030 Gris pierre",7030]
[null,null,null,null,null,null,null,null,null,35,null,1,null,null,null,null,null,null,null,null,null,null,null,null,null,null,null,null,null,null,null,null,null,null,null,null,null,null,null,null,null,null,null,null,null,null,null,null,null,null,null,null,null,null,null,null,null,null,null,null,null,null,null,null,null,null,null,null,null,null,null,null,null,null,null,null,null,null,null,null,null,null,null,null,null,null,null,null,null,null,null,null,null,null,null,null,null,null,"Seuil acier \"droit\" isophonique RPES90 30 mm",30,null,null,"3 pts A2P* VACHETTE 5000 SPN1 - T2040 et entrebailleur - axe à 50","3 pts FERCO Secury PP MR2 - T1700 - axe à 50","3 pts A2P* VACHETTE 5000 SPN1 - T2040 et entrebailleur - axe à 50","3 pts FERCO Secury PP MR2 - T1700 - axe à 50","3 pts FERCO Secury PP MR2 - T1700 - axe à 50","5 pts A2P** VACHETTE 5900 TN2/FN2 - T2040 - axe à 50","3 pts A2P* VACHETTE 5000 SPN1 - T2040 et entrebailleur - axe à 50","5 pts A2P** VACHETTE 5900 TN2/FN2 - T2040 - axe à 50","3 pts A2P* VACHETTE 5000 SPN1 - T2040 et entrebailleur - axe à 50","5 pts A2P** VACHETTE 5900 TN2/FN2 - T2040 - axe à 50","3 pts FERCO Secury PP MR2 - T2040 - axe à 120","3 pts A2P* VACHETTE 5000 SPN1 - T2040 et entrebailleur - axe à 50","ONITY ADVANCE RFID (Coffre EURO) - axe à 70",null,null,null,"5 pts VACHETTE V5700 SGN2 A2P2* - axe à 50","5 pts BRICARD 8121A4 A2P* avec entrebailleur intégré - axe à 120","5 pts VACHETTE V5700 SGN2 A2P** avec entrebailleur - axe à 50","5 pts BRICARD 8121A4 A2P* avec entrebailleur intégré - axe à 120","5 pts BRICARD 8121A4 A2P* avec entrebailleur intégré - axe à 120","5 pts VACHETTE V5700 SGN2 A2P** avec entrebailleur - axe à 50","5 pts VACHETTE V5700 SGN2 A2P** avec entrebailleur - axe à 50","6 pts VACHETTE V20500 SGN1 A2P* - axe à 50",null,null,null,null,null,null,null,null,{"$f":"IF(NOT(ISBLANK((INDIRECT(CONCATENATE(\"TabSerrure[\",RELEVE_COTES!$C$11,\"]\"))))),INDIRECT(CONCATENATE(\"TabSerrure[\",RELEVE_COTES!$C$11,\"]\")),\"\")","v":{"$error":"#VALUE!"}},{"$f":"IF(REF!$EE36<>\"\",1,0)","v":{"$error":"#VALUE!"}},null,"3 pts A2P* VACHETTE 5000 SPN1 - T1700 - axe à 50","3PTS_V5000",1045,1020,25,1830,"SANS",null,null,null,null,null,null,null,null,null,null,null,null,null,null,null,null,null,"Lyse","Suzanna","Suzanna","Suzanna","Suzanna","Suzanna","Suzanna","Suzanna",null,"Nuance","Nuance",null,null,null,null,null,null,null,{"$f":"IF(NOT(ISBLANK((INDIRECT(CONCATENATE(\"TabDécorExt[\",RELEVE_COTES!$C$11,\"]\"))))),INDIRECT(CONCATENATE(\"TabDécorExt[\",RELEVE_COTES!$C$11,\"]\",\"\")),\"\")","v":{"$error":"#VALUE!"}},{"$error":"#VALUE!"},null,null,null,null,"PIN ALAND BLANC H3430","PIN ALAND BLANC H3430","PIN ALAND BLANC H3430","PIN ALAND BLANC H3430","PIN ALAND BLANC H3430","PIN ALAND BLANC H3430","PIN ALAND BLANC H3430","PIN ALAND BLANC H3430","PIN ALAND BLANC H3430","PIN ALAND BLANC H3430","PIN ALAND BLANC H3430","PIN ALAND BLANC H3430","PIN ALAND BLANC H3430","RAL 7030 Gris pierre","RAL 7030 Gris pierre","RAL 7030 Gris pierre","RAL 7030 Gris pierre","RAL 7030 Gris pierre","RAL 7030 Gris pierre","RAL 7030 Gris pierre","RAL 6018 Vert jaune","RAL 7006 Gris beige",null,"RAL 7030 Gris pierre","RAL 7030 Gris pierre","RAL 7030 Gris pierre","RAL 7030 Gris pierre","RAL 7030 Gris pierre","RAL 7030 Gris pierre","RAL 7030 Gris pierre","RAL 7030 Gris pierre",null,{"$f":"IF(NOT(ISBLANK((INDIRECT(CONCATENATE(\"TabFinExt[\",RELEVE_COTES!$C$11,\"]\"))))),INDIRECT(CONCATENATE(\"TabFinExt[\",RELEVE_COTES!$C$11,\"]\",\"\")),\"\")","v":{"$error":"#VALUE!"}},{"$error":"#VALUE!"},null,null,null,null,null,null,null,null,null,null,null,null,null,null,"Nuance","Suzanna","Suzanna","Suzanna","Suzanna","Suzanna","Suzanna","Suzanna","Suzanna","Nuance","Nuance",null,null,null,null,null,null,null,{"$f":"IF(NOT(ISBLANK((INDIRECT(CONCATENATE(\"TabDécorInt[\",RELEVE_COTES!$C$11,\"]\"))))),INDIRECT(CONCATENATE(\"TabDécorInt[\",RELEVE_COTES!$C$11,\"]\",\"\")),\"\")","v":{"$error":"#VALUE!"}},{"$error":"#VALUE!"},null,"PIN ALAND BLANC H3430","PIN ALAND BLANC H3430","PIN ALAND BLANC H3430","PIN ALAND BLANC H3430","PIN ALAND BLANC H3430","PIN ALAND BLANC H3430","PIN ALAND BLANC H3430","PIN ALAND BLANC H3430","PIN ALAND BLANC H3430","PIN ALAND BLANC H3430","PIN ALAND BLANC H3430","PIN ALAND BLANC H3430","PIN ALAND BLANC H3430","RAL 6018 Vert jaune","RAL 6018 Vert jaune","RAL 7006 Gris beige","RAL 6018 Vert jaune","RAL 7006 Gris beige","RAL 6018 Vert jaune","RAL 6018 Vert jaune","RAL 7006 Gris beige","RAL 7006 Gris beige","RAL 6018 Vert jaune","RAL 6018 Vert jaune","RAL 7030 Gris pierre",null,"RAL 7030 Gris pierre","RAL 7030 Gris pierre","RAL 7030 Gris pierre","RAL 7030 Gris pierre",null,{"$f":"IF(NOT(ISBLANK((INDIRECT(CONCATENATE(\"TabFinInt[\",RELEVE_COTES!$C$11,\"]\"))))),INDIRECT(CONCATENATE(\"TabFinInt[\",RELEVE_COTES!$C$11,\"]\",\"\")),\"\")","v":{"$error":"#VALUE!"}},{"$error":"#VALUE!"},null,"ROUGE CERISE R036","R036","STRATIFIE",null,null,null,null,null,null,null,"RAL 7037 Gris poussière",7037]
[null,null,null,null,null,null,null,null,null,36,null,1,null,null,null,null,null,null,null,null,null,null,null,null,null,null,null,null,null,null,null,null,null,null,null,null,null,null,null,null,null,null,null,null,null,null,null,null,null,null,null,null,null,null,null,null,null,null,null,null,null,null,null,null,null,null,null,null,null,null,null,null,null,null,null,null,null,null,null,null,null,null,null,null,null,null,null,null,null,null,null,null,null,null,null,null,null,null,"Seuil acier \"droit\" isophonique RPES90 35 mm",35,null,null,"3 pts A2P** BRICARD 8162 - T1700 - axe à 50","3 pts FERCO Secury PP MR2 - T2040 - axe à 50","3 pts A2P** BRICARD 8162 - T1700 - axe à 50","3 pts FERCO Secury PP MR2 - T2040 - axe à 50","3 pts FERCO Secury PP MR2 - T2040 - axe à 50","SALTO XS4 (Coffre EURO Bricard 8161/A1) - axe à 50","3 pts A2P** BRICARD 8162 - T1700 - axe à 50","SALTO XS4 (Coffre EURO Bricard 8161/A1) - axe à 50","3 pts A2P** BRICARD 8162 - T1700 - axe à 50","SALTO XS4 (Coffre EURO Bricard 8161/A1) - axe à 50","3 pts FERCO Secury PP MR2 - T2040 - axe à 50","3 pts A2P** BRICARD 8162 - T1700 - axe à 50","ONITY HT 22 RFID (Coffre EURO) - axe à 60",null,null,null,"5 pts VACHETTE V5700 SPN1 A2P* - axe à 50","5 pts BRICARD 8150-A3 standard - axe à 50","5 pts VACHETTE V5700 SPN1 A2P* - axe à 50","5 pts BRICARD 8150-A3 standard - axe à 50","5 pts BRICARD 8150-A3 standard - axe à 50","5 pts VACHETTE V5700 SPN1 A2P* - axe à 50","5 pts VACHETTE V5700 SPN1 A2P* - axe à 50","non référencée",null,null,null,null,null,null,null,null,{"$f":"IF(NOT(ISBLANK((INDIRECT(CONCATENATE(\"TabSerrure[\",RELEVE_COTES!$C$11,\"]\"))))),INDIRECT(CONCATENATE(\"TabSerrure[\",RELEVE_COTES!$C$11,\"]\")),\"\")","v":{"$error":"#VALUE!"}},{"$f":"IF(REF!$EE37<>\"\",1,0)","v":{"$error":"#VALUE!"}},null,"3 pts A2P* VACHETTE 5000 SPN1 - T2040 - axe à 50","3PTS_V5000",1045,1020,25,1830,"SANS",null,null,null,null,null,null,null,null,null,null,null,null,null,null,null,null,null,"Marina","Sybille","Sybille","Sybille","Sybille","Sybille","Sybille","Sybille",null,"Océane","Océane",null,null,null,null,null,null,null,{"$f":"IF(NOT(ISBLANK((INDIRECT(CONCATENATE(\"TabDécorExt[\",RELEVE_COTES!$C$11,\"]\"))))),INDIRECT(CONCATENATE(\"TabDécorExt[\",RELEVE_COTES!$C$11,\"]\",\"\")),\"\")","v":{"$error":"#VALUE!"}},{"$error":"#VALUE!"},null,null,null,null,"TORNADO F1535","TORNADO F1535","TORNADO F1535","TORNADO F1535","TORNADO F1535","TORNADO F1535","TORNADO F1535","TORNADO F1535","TORNADO F1535","TORNADO F1535","TORNADO F1535","TORNADO F1535","TORNADO F1535","RAL 7037 Gris poussière","RAL 7037 Gris poussière","RAL 7037 Gris poussière","RAL 7037 Gris poussière","RAL 7037 Gris poussière","RAL 7037 Gris poussière","RAL 7037 Gris poussière","RAL 6021 Vert pâle","RAL 7012 Gris basalte",null,"RAL 7037 Gris poussière","RAL 7037 Gris poussière","RAL 7037 Gris poussière","RAL 7037 Gris poussière","RAL 7037 Gris poussière","RAL 7037 Gris poussière","RAL 7037 Gris poussière","RAL 7037 Gris poussière",null,{"$f":"IF(NOT(ISBLANK((INDIRECT(CONCATENATE(\"TabFinExt[\",RELEVE_COTES!$C$11,\"]\"))))),INDIRECT(CONCATENATE(\"TabFinExt[\",RELEVE_COTES!$C$11,\"]\",\"\")),\"\")","v":{"$error":"#VALUE!"}},{"$error":"#VALUE!"},null,null,null,null,null,null,null,null,null,null,null,null,null,null,"Océane","Sybille","Sybille","Sybille","Sybille","Sybille","Sybille","Sybille","Sybille","Océane","Océane",null,null,null,null,null,null,null,{"$f":"IF(NOT(ISBLANK((INDIRECT(CONCATENATE(\"TabDécorInt[\",RELEVE_COTES!$C$11,\"]\"))))),INDIRECT(CONCATENATE(\"TabDécorInt[\",RELEVE_COTES!$C$11,\"]\",\"\")),\"\")","v":{"$error":"#VALUE!"}},{"$error":"#VALUE!"},null,"TORNADO F1535","TORNADO F1535","TORNADO F1535","TORNADO F1535","TORNADO F1535","TORNADO F1535","TORNADO F1535","TORNADO F1535","TORNADO F1535","TORNADO F1535","TORNADO F1535","TORNADO F1535","TORNADO F1535","RAL 6021 Vert pâle","RAL 6021 Vert pâle","RAL 7012 Gris basalte","RAL 6021 Vert pâle","RAL 7012 Gris basalte","RAL 6021 Vert pâle","RAL 6021 Vert pâle","RAL 7012 Gris basalte","RAL 7012 Gris basalte","RAL 6021 Vert pâle","RAL 6021 Vert pâle","RAL 7037 Gris poussière",null,"RAL 7037 Gris poussière","RAL 7037 Gris poussière","RAL 7037 Gris poussière","RAL 7037 Gris poussière",null,{"$f":"IF(NOT(ISBLANK((INDIRECT(CONCATENATE(\"TabFinInt[\",RELEVE_COTES!$C$11,\"]\"))))),INDIRECT(CONCATENATE(\"TabFinInt[\",RELEVE_COTES!$C$11,\"]\",\"\")),\"\")","v":{"$error":"#VALUE!"}},{"$error":"#VALUE!"},null,"SOFT WHITE F7949","F7949","STRATIFIE",null,null,null,null,null,null,null,"RAL 7038 Gris agate",7038]
[null,null,null,null,null,null,null,null,null,37,null,1,null,null,null,null,null,null,null,null,null,null,null,null,null,null,null,null,null,null,null,null,null,null,null,null,null,null,null,null,null,null,null,null,null,null,null,null,null,null,null,null,null,null,null,null,null,null,null,null,null,null,null,null,null,null,null,null,null,null,null,null,null,null,null,null,null,null,null,null,null,null,null,null,null,null,null,null,null,null,null,null,null,null,null,null,null,null,"Barre d'écartement",0,null,null,"3 pts A2P** BRICARD 8162 - T2040 - axe à 50","3 pts VACHETTE 5000 - T1700 - axe à 50","3 pts A2P** BRICARD 8162 - T2040 - axe à 50","3 pts VACHETTE 5000 - T1700 - axe à 50","3 pts VACHETTE 5000 - T1700 - axe à 50","SALTO XS4 (Coffre EURO Marques) - axe à 50","3 pts A2P** BRICARD 8162 - T2040 - axe à 50","SALTO XS4 (Coffre EURO Marques) - axe à 50","3 pts A2P** BRICARD 8162 - T2040 - axe à 50","SALTO XS4 (Coffre EURO Marques) - axe à 50","3 pts VACHETTE 5000 - T1700 - axe à 120","3 pts A2P** BRICARD 8162 - T2040 - axe à 50","ONITY HT 22 RFID (Coffre EURO) - axe à 70",null,null,null,"5 pts VACHETTE V5700 SPN1 A2P* avec entrebailleur - axe à 50","5 pts BRICARD 8150A3 standard avec entrebailleur intégré - axe à 50","5 pts VACHETTE V5700 SPN1 A2P* avec entrebailleur - axe à 50","5 pts BRICARD 8150A3 standard avec entrebailleur intégré - axe à 50","5 pts BRICARD 8150A3 standard avec entrebailleur intégré - axe à 50","5 pts VACHETTE V5700 SPN1 A2P* avec entrebailleur - axe à 50","5 pts VACHETTE V5700 SPN1 A2P* avec entrebailleur - axe à 50",null,null,null,null,null,null,null,null,null,{"$f":"IF(NOT(ISBLANK((INDIRECT(CONCATENATE(\"TabSerrure[\",RELEVE_COTES!$C$11,\"]\"))))),INDIRECT(CONCATENATE(\"TabSerrure[\",RELEVE_COTES!$C$11,\"]\")),\"\")","v":{"$error":"#VALUE!"}},{"$f":"IF(REF!$EE38<>\"\",1,0)","v":{"$error":"#VALUE!"}},null,"3 pts A2P* FERCO Secury PP MR2 - T1700 - axe à 50","3PTS_V5000",1045,1020,25,1830,"SANS",null,null,null,null,null,null,null,null,null,null,null,null,null,null,null,null,null,"Mezzo","Sylvaine","Sylvaine","Sylvaine","Sylvaine","Sylvaine","Sylvaine","Sylvaine",null,"Océanie","Océanie",null,null,null,null,null,null,null,{"$f":"IF(NOT(ISBLANK((INDIRECT(CONCATENATE(\"TabDécorExt[\",RELEVE_COTES!$C$11,\"]\"))))),INDIRECT(CONCATENATE(\"TabDécorExt[\",RELEVE_COTES!$C$11,\"]\",\"\")),\"\")","v":{"$error":"#VALUE!"}},{"$error":"#VALUE!"},null,null,null,null,"ROUGE CERISE R036","ROUGE CERISE R036","ROUGE CERISE R036","ROUGE CERISE R036","ROUGE CERISE R036","ROUGE CERISE R036","ROUGE CERISE R036","ROUGE CERISE R036","ROUGE CERISE R036","ROUGE CERISE R036","ROUGE CERISE R036","ROUGE CERISE R036","ROUGE CERISE R036","RAL 7038 Gris agate","RAL 7038 Gris agate","RAL 7038 Gris agate","RAL 7038 Gris agate","RAL 7038 Gris agate","RAL 7038 Gris agate","RAL 7038 Gris agate","RAL 7006 Gris beige","RAL 7015 Gris ardoise",null,"RAL 7038 Gris agate","RAL 7038 Gris agate","RAL 7038 Gris agate","RAL 7038 Gris agate","RAL 7038 Gris agate","RAL 7038 Gris agate","RAL 7038 Gris agate","RAL 7038 Gris agate",null,{"$f":"IF(NOT(ISBLANK((INDIRECT(CONCATENATE(\"TabFinExt[\",RELEVE_COTES!$C$11,\"]\"))))),INDIRECT(CONCATENATE(\"TabFinExt[\",RELEVE_COTES!$C$11,\"]\",\"\")),\"\")","v":{"$error":"#VALUE!"}},{"$error":"#VALUE!"},null,null,null,null,null,null,null,null,null,null,null,null,null,null,"Océanie","Sylvaine","Sylvaine","Sylvaine","Sylvaine","Sylvaine","Sylvaine","Sylvaine","Sylvaine","Océanie","Océanie",null,null,null,null,null,null,null,{"$f":"IF(NOT(ISBLANK((INDIRECT(CONCATENATE(\"TabDécorInt[\",RELEVE_COTES!$C$11,\"]\"))))),INDIRECT(CONCATENATE(\"TabDécorInt[\",RELEVE_COTES!$C$11,\"]\",\"\")),\"\")","v":{"$error":"#VALUE!"}},{"$error":"#VALUE!"},null,"ROUGE CERISE R036","ROUGE CERISE R036","ROUGE CERISE R036","ROUGE CERISE R036","ROUGE CERISE R036","ROUGE CERISE R036","ROUGE CERISE R036","ROUGE CERISE R036","ROUGE CERISE R036","ROUGE CERISE R036","ROUGE CERISE R036","ROUGE CERISE R036","ROUGE CERISE R036","RAL 7006 Gris beige","RAL 7006 Gris beige","RAL 7015 Gris ardoise","RAL 7006 Gris beige","RAL 7015 Gris ardoise","RAL 7006 Gris beige","RAL 7006 Gris beige","RAL 7015 Gris ardoise","RAL 7015 Gris ardoise","RAL 7006 Gris beige","RAL 7006 Gris beige","RAL 7038 Gris agate",null,"RAL 7038 Gris agate","RAL 7038 Gris agate","RAL 7038 Gris agate","RAL 7038 Gris agate",null,{"$f":"IF(NOT(ISBLANK((INDIRECT(CONCATENATE(\"TabFinInt[\",RELEVE_COTES!$C$11,\"]\"))))),INDIRECT(CONCATENATE(\"TabFinInt[\",RELEVE_COTES!$C$11,\"]\",\"\")),\"\")","v":{"$error":"#VALUE!"}},{"$error":"#VALUE!"},null,"SURF F7923","F7923","STRATIFIE",null,null,null,null,null,null,null,"RAL 7039 Gris quartz",7039]
[null,null,null,null,null,null,null,null,null,null,null,null,null,null,null,null,null,null,null,null,null,null,null,null,null,null,null,null,null,null,null,null,null,null,null,null,null,null,null,null,null,null,null,null,null,null,null,null,null,null,null,null,null,null,null,null,null,null,null,null,null,null,null,null,null,null,null,null,null,null,null,null,null,null,null,null,null,null,null,null,null,null,null,null,null,null,null,null,null,null,null,null,null,null,null,null,null,null,"Seuil Doucine BER 18 x 56 mm ",18,null,null,"3 pts A2P** BRICARD 8162/A1 - T1700 - axe à 50","3 pts VACHETTE 5000 - T2040 - axe à 50","3 pts A2P** BRICARD 8162/A1 - T1700 - axe à 50","3 pts VACHETTE 5000 - T2040 - axe à 50","3 pts VACHETTE 5000 - T2040 - axe à 50","SALTO XS4 (Coffre EURO Vachette) - axe à 50","3 pts A2P** BRICARD 8162/A1 - T1700 - axe à 50","SALTO XS4 (Coffre EURO Vachette) - axe à 50","3 pts A2P** BRICARD 8162/A1 - T1700 - axe à 50","SALTO XS4 (Coffre EURO Vachette) - axe à 50","3 pts VACHETTE 5000 - T1700 - axe à 50","3 pts A2P** BRICARD 8162/A1 - T1700 - axe à 50","ONITY HT 24 RFID (Coffre EURO) - axe à 60",null,null,null,"5 pts VACHETTE V5900 A2P*XL SGN1 avec entrebailleur intégré - axe à 120","5 pts BRICARD 8150-A4  standard - axe à 50","5 pts VACHETTE V5900 A2P*XL SGN1 avec entrebailleur intégré - axe à 120","5 pts BRICARD 8150-A4  standard - axe à 50","5 pts BRICARD 8150-A4  standard - axe à 50","5 pts VACHETTE V5900 A2P*XL SGN1 avec entrebailleur intégré - axe à 120","5 pts VACHETTE V5900 A2P*XL SGN1 avec entrebailleur intégré - axe à 120",null,null,null,null,null,null,null,null,null,{"$f":"IF(NOT(ISBLANK((INDIRECT(CONCATENATE(\"TabSerrure[\",RELEVE_COTES!$C$11,\"]\"))))),INDIRECT(CONCATENATE(\"TabSerrure[\",RELEVE_COTES!$C$11,\"]\")),\"\")","v":{"$error":"#VALUE!"}},{"$f":"IF(REF!$EE39<>\"\",1,0)","v":{"$error":"#VALUE!"}},null,"3 pts A2P* BRICARD 8161/A1 - T1700 - axe à 50","3PTS_V5000",1045,1020,25,1830,"SANS",null,null,null,null,null,null,null,null,null,null,null,null,null,null,null,null,null,"Miro","Sylvia","Sylvia","Sylvia","Sylvia","Sylvia","Sylvia","Sylvia",null,"Octavia","Octavia",null,null,null,null,null,null,null,{"$f":"IF(NOT(ISBLANK((INDIRECT(CONCATENATE(\"TabDécorExt[\",RELEVE_COTES!$C$11,\"]\"))))),INDIRECT(CONCATENATE(\"TabDécorExt[\",RELEVE_COTES!$C$11,\"]\",\"\")),\"\")","v":{"$error":"#VALUE!"}},{"$error":"#VALUE!"},null,null,null,null,"SOFT WHITE F7949","SOFT WHITE F7949","SOFT WHITE F7949","SOFT WHITE F7949","SOFT WHITE F7949","SOFT WHITE F7949","SOFT WHITE F7949","SOFT WHITE F7949","SOFT WHITE F7949","SOFT WHITE F7949","SOFT WHITE F7949","SOFT WHITE F7949","SOFT WHITE F7949","RAL 7039 Gris quartz","RAL 7039 Gris quartz","RAL 7039 Gris quartz","RAL 7039 Gris quartz","RAL 7039 Gris quartz","RAL 7039 Gris quartz","RAL 7039 Gris quartz","RAL 7012 Gris basalte","RAL 7021 Gris noir",null,"RAL 7039 Gris quartz","RAL 7039 Gris quartz","RAL 7039 Gris quartz","RAL 7039 Gris quartz","RAL 7039 Gris quartz","RAL 7039 Gris quartz","RAL 7039 Gris quartz","RAL 7039 Gris quartz",null,{"$f":"IF(NOT(ISBLANK((INDIRECT(CONCATENATE(\"TabFinExt[\",RELEVE_COTES!$C$11,\"]\"))))),INDIRECT(CONCATENATE(\"TabFinExt[\",RELEVE_COTES!$C$11,\"]\",\"\")),\"\")","v":{"$error":"#VALUE!"}},{"$error":"#VALUE!"},null,null,null,null,null,null,null,null,null,null,null,null,null,null,"Octavia","Sylvia","Sylvia","Sylvia","Sylvia","Sylvia","Sylvia","Sylvia","Sylvia","Octavia","Octavia",null,null,null,null,null,null,null,{"$f":"IF(NOT(ISBLANK((INDIRECT(CONCATENATE(\"TabDécorInt[\",RELEVE_COTES!$C$11,\"]\"))))),INDIRECT(CONCATENATE(\"TabDécorInt[\",RELEVE_COTES!$C$11,\"]\",\"\")),\"\")","v":{"$error":"#VALUE!"}},{"$error":"#VALUE!"},null,"SOFT WHITE F7949","SOFT WHITE F7949","SOFT WHITE F7949","SOFT WHITE F7949","SOFT WHITE F7949","SOFT WHITE F7949","SOFT WHITE F7949","SOFT WHITE F7949","SOFT WHITE F7949","SOFT WHITE F7949","SOFT WHITE F7949","SOFT WHITE F7949","SOFT WHITE F7949","RAL 7012 Gris basalte","RAL 7012 Gris basalte","RAL 7021 Gris noir","RAL 7012 Gris basalte","RAL 7021 Gris noir","RAL 7012 Gris basalte","RAL 7012 Gris basalte","RAL 7021 Gris noir","RAL 7021 Gris noir","RAL 7012 Gris basalte","RAL 7012 Gris basalte","RAL 7039 Gris quartz",null,"RAL 7039 Gris quartz","RAL 7039 Gris quartz","RAL 7039 Gris quartz","RAL 7039 Gris quartz",null,{"$f":"IF(NOT(ISBLANK((INDIRECT(CONCATENATE(\"TabFinInt[\",RELEVE_COTES!$C$11,\"]\"))))),INDIRECT(CONCATENATE(\"TabFinInt[\",RELEVE_COTES!$C$11,\"]\",\"\")),\"\")","v":{"$error":"#VALUE!"}},{"$error":"#VALUE!"},null,"TERRACOTTA F4161","F4161","STRATIFIE",null,null,null,null,null,null,null,"RAL 7040 Gris fenêtre",7040]
[null,null,null,null,null,null,null,null,null,null,null,null,null,null,null,null,null,null,null,null,null,null,null,null,null,null,null,null,null,null,null,null,null,null,null,null,null,null,null,null,null,null,null,null,null,null,null,null,null,null,null,null,null,null,null,null,null,null,null,null,null,null,null,null,null,null,null,null,null,null,null,null,null,null,null,null,null,null,null,null,null,null,null,null,null,null,null,null,null,null,null,null,null,null,null,null,null,null,"Seuil Doucine BER 18 x 56 mm Capotage Inox",20,null,null,"3 pts A2P** VACHETTE 5000 SGN2 - T1700 - axe à 50","3 pts VACHETTE 5000 - T2040 et entrebailleur - axe à 50","3 pts A2P** VACHETTE 5000 SGN2 - T1700 - axe à 50","3 pts VACHETTE 5000 - T2040 et entrebailleur - axe à 50","3 pts VACHETTE 5000 - T2040 et entrebailleur - axe à 50","SALTO XS4 One (Coffre EURO Bricard 8161/A1) - axe à 50","3 pts A2P** VACHETTE 5000 SGN2 - T1700 - axe à 50","SALTO XS4 One (Coffre EURO Bricard 8161/A1) - axe à 50","3 pts A2P** VACHETTE 5000 SGN2 - T1700 - axe à 50","SALTO XS4 One (Coffre EURO Bricard 8161/A1) - axe à 50","3 pts VACHETTE 5000 - T2040 - axe à 120","3 pts A2P** VACHETTE 5000 SGN2 - T1700 - axe à 50","ONITY HT 24 RFID (Coffre EURO) - axe à 70",null,null,null,"5 pts VACHETTE V5900 SGN2 A2P** avec entrebailleur - axe à 50","5 pts BRICARD 8150A4  standard avec entrebailleur intégré - axe à 50","5 pts VACHETTE V5900 SGN2 A2P** - axe à 50","5 pts BRICARD 8150A4  standard avec entrebailleur intégré - axe à 50","5 pts BRICARD 8150A4  standard avec entrebailleur intégré - axe à 50","5 pts VACHETTE V5900 SGN2 A2P** - axe à 50","5 pts VACHETTE V5900 SGN2 A2P** - axe à 50",null,null,null,null,null,null,null,null,null,{"$f":"IF(NOT(ISBLANK((INDIRECT(CONCATENATE(\"TabSerrure[\",RELEVE_COTES!$C$11,\"]\"))))),INDIRECT(CONCATENATE(\"TabSerrure[\",RELEVE_COTES!$C$11,\"]\")),\"\")","v":{"$error":"#VALUE!"}},{"$f":"IF(REF!$EE40<>\"\",1,0)","v":{"$error":"#VALUE!"}},null,"3 pts A2P* FERCO Secury PP MR2 - T2040 - axe à 120","3PTS_V5000",1045,1020,25,1830,"SANS",null,null,null,null,null,null,null,null,null,null,null,null,null,null,null,null,null,"Neo","Trio","Trio","Trio","Trio","Trio","Trio","Trio",null,"Odile","Odile",null,null,null,null,null,null,null,{"$f":"IF(NOT(ISBLANK((INDIRECT(CONCATENATE(\"TabDécorExt[\",RELEVE_COTES!$C$11,\"]\"))))),INDIRECT(CONCATENATE(\"TabDécorExt[\",RELEVE_COTES!$C$11,\"]\",\"\")),\"\")","v":{"$error":"#VALUE!"}},{"$error":"#VALUE!"},null,null,null,null,"SURF F7923","SURF F7923","SURF F7923","SURF F7923","SURF F7923","SURF F7923","SURF F7923","SURF F7923","SURF F7923","SURF F7923","SURF F7923","SURF F7923","SURF F7923","RAL 7040 Gris fenêtre","RAL 7040 Gris fenêtre","RAL 7040 Gris fenêtre","RAL 7040 Gris fenêtre","RAL 7040 Gris fenêtre","RAL 7040 Gris fenêtre","RAL 7040 Gris fenêtre","RAL 7015 Gris ardoise","RAL 7030 Gris pierre",null,"RAL 7040 Gris fenêtre","RAL 7040 Gris fenêtre","RAL 7040 Gris fenêtre","RAL 7040 Gris fenêtre","RAL 7040 Gris fenêtre","RAL 7040 Gris fenêtre","RAL 7040 Gris fenêtre","RAL 7040 Gris fenêtre",null,{"$f":"IF(NOT(ISBLANK((INDIRECT(CONCATENATE(\"TabFinExt[\",RELEVE_COTES!$C$11,\"]\"))))),INDIRECT(CONCATENATE(\"TabFinExt[\",RELEVE_COTES!$C$11,\"]\",\"\")),\"\")","v":{"$error":"#VALUE!"}},{"$error":"#VALUE!"},null,null,null,null,null,null,null,null,null,null,null,null,null,null,"Odile","Trio","Trio","Trio","Trio","Trio","Trio","Trio","Trio","Odile","Odile",null,null,null,null,null,null,null,{"$f":"IF(NOT(ISBLANK((INDIRECT(CONCATENATE(\"TabDécorInt[\",RELEVE_COTES!$C$11,\"]\"))))),INDIRECT(CONCATENATE(\"TabDécorInt[\",RELEVE_COTES!$C$11,\"]\",\"\")),\"\")","v":{"$error":"#VALUE!"}},{"$error":"#VALUE!"},null,"SURF F7923","SURF F7923","SURF F7923","SURF F7923","SURF F7923","SURF F7923","SURF F7923","SURF F7923","SURF F7923","SURF F7923","SURF F7923","SURF F7923","SURF F7923","RAL 7015 Gris ardoise","RAL 7015 Gris ardoise","RAL 7030 Gris pierre","RAL 7015 Gris ardoise","RAL 7030 Gris pierre","RAL 7015 Gris ardoise","RAL 7015 Gris ardoise","RAL 7030 Gris pierre","RAL 7030 Gris pierre","RAL 7015 Gris ardoise","RAL 7015 Gris ardoise","RAL 7040 Gris fenêtre",null,"RAL 7040 Gris fenêtre","RAL 7040 Gris fenêtre","RAL 7040 Gris fenêtre","RAL 7040 Gris fenêtre",null,{"$f":"IF(NOT(ISBLANK((INDIRECT(CONCATENATE(\"TabFinInt[\",RELEVE_COTES!$C$11,\"]\"))))),INDIRECT(CONCATENATE(\"TabFinInt[\",RELEVE_COTES!$C$11,\"]\",\"\")),\"\")","v":{"$error":"#VALUE!"}},{"$error":"#VALUE!"},null,"VERT SAUGE V113","V113","STRATIFIE",null,null,null,null,null,null,null,"RAL 7042 Gris signalisation",7042]
[null,null,null,null,null,null,null,null,null,null,null,null,null,null,null,null,null,null,null,null,null,null,null,null,null,null,null,null,null,null,null,null,null,null,null,null,null,null,null,null,null,null,null,null,null,null,null,null,null,null,null,null,null,null,null,null,null,null,null,null,null,null,null,null,null,null,null,null,null,null,null,null,null,null,null,null,null,null,null,null,null,null,null,null,null,null,null,null,null,null,null,null,null,null,null,null,null,null,"Seuil Doucine BER 18 x 70 mm ",18,null,null,"3 pts A2P** VACHETTE 5000 SGN2 - T1700 et entrebailleur - axe à 50","5 pts A2P* BRICARD 8161/A3 - T2040 - axe à 50","3 pts A2P** VACHETTE 5000 SGN2 - T1700 et entrebailleur - axe à 50","5 pts A2P* BRICARD 8161/A3 - T2040 - axe à 50","5 pts A2P* BRICARD 8161/A3 - T2040 - axe à 50","SALTO XS4 One (Coffre EURO Marques) - axe à 50","3 pts A2P** VACHETTE 5000 SGN2 - T1700 et entrebailleur - axe à 50","SALTO XS4 One (Coffre EURO Marques) - axe à 50","3 pts A2P** VACHETTE 5000 SGN2 - T1700 et entrebailleur - axe à 50","SALTO XS4 One (Coffre EURO Marques) - axe à 50","3 pts VACHETTE 5000 - T2040 - axe à 50","3 pts A2P** VACHETTE 5000 SGN2 - T1700 et entrebailleur - axe à 50","ONITY HT 28 RFID (Coffre EURO) - axe à 60",null,null,null,"5 pts VACHETTE V5900 SGN2 A2P2* - axe à 50","5 pts BRICARD 8161-A3 A2P* - axe à 50","5 pts VACHETTE V5900 SGN2 A2P** avec entrebailleur - axe à 50","5 pts BRICARD 8161-A3 A2P* - axe à 50","5 pts BRICARD 8161-A3 A2P* - axe à 50","5 pts VACHETTE V5900 SGN2 A2P** avec entrebailleur - axe à 50","5 pts VACHETTE V5900 SGN2 A2P** avec entrebailleur - axe à 50",null,null,null,null,null,null,null,null,null,{"$f":"IF(NOT(ISBLANK((INDIRECT(CONCATENATE(\"TabSerrure[\",RELEVE_COTES!$C$11,\"]\"))))),INDIRECT(CONCATENATE(\"TabSerrure[\",RELEVE_COTES!$C$11,\"]\")),\"\")","v":{"$error":"#VALUE!"}},{"$f":"IF(REF!$EE41<>\"\",1,0)","v":{"$error":"#VALUE!"}},null,"3 pts A2P* BRICARD 8121/A1 - T2040 - axe à 120","3PTS_V5000",1045,1020,25,1830,"SANS",null,null,null,null,null,null,null,null,null,null,null,null,null,null,null,null,null,"Nicole",null,null,null,null,null,null,null,null,"Olga","Olga",null,null,null,null,null,null,null,{"$f":"IF(NOT(ISBLANK((INDIRECT(CONCATENATE(\"TabDécorExt[\",RELEVE_COTES!$C$11,\"]\"))))),INDIRECT(CONCATENATE(\"TabDécorExt[\",RELEVE_COTES!$C$11,\"]\",\"\")),\"\")","v":{"$error":"#VALUE!"}},{"$error":"#VALUE!"},null,null,null,null,"TERRACOTTA F4161","TERRACOTTA F4161","TERRACOTTA F4161","TERRACOTTA F4161","TERRACOTTA F4161","TERRACOTTA F4161","TERRACOTTA F4161","TERRACOTTA F4161","TERRACOTTA F4161","TERRACOTTA F4161","TERRACOTTA F4161","TERRACOTTA F4161","TERRACOTTA F4161","RAL 7042 Gris signalisation","RAL 7042 Gris signalisation","RAL 7042 Gris signalisation","RAL 7042 Gris signalisation","RAL 7042 Gris signalisation","RAL 7042 Gris signalisation","RAL 7042 Gris signalisation","RAL 7021 Gris noir","RAL 7037 Gris poussière",null,"RAL 7042 Gris signalisation","RAL 7042 Gris signalisation","RAL 7042 Gris signalisation","RAL 7042 Gris signalisation","RAL 7042 Gris signalisation","RAL 7042 Gris signalisation","RAL 7042 Gris signalisation","RAL 7042 Gris signalisation",null,{"$f":"IF(NOT(ISBLANK((INDIRECT(CONCATENATE(\"TabFinExt[\",RELEVE_COTES!$C$11,\"]\"))))),INDIRECT(CONCATENATE(\"TabFinExt[\",RELEVE_COTES!$C$11,\"]\",\"\")),\"\")","v":{"$error":"#VALUE!"}},{"$error":"#VALUE!"},null,null,null,null,null,null,null,null,null,null,null,null,null,null,"Olga",null,null,null,null,null,null,null,null,"Olga","Olga",null,null,null,null,null,null,null,{"$f":"IF(NOT(ISBLANK((INDIRECT(CONCATENATE(\"TabDécorInt[\",RELEVE_COTES!$C$11,\"]\"))))),INDIRECT(CONCATENATE(\"TabDécorInt[\",RELEVE_COTES!$C$11,\"]\",\"\")),\"\")","v":{"$error":"#VALUE!"}},{"$error":"#VALUE!"},null,"TERRACOTTA F4161","TERRACOTTA F4161","TERRACOTTA F4161","TERRACOTTA F4161","TERRACOTTA F4161","TERRACOTTA F4161","TERRACOTTA F4161","TERRACOTTA F4161","TERRACOTTA F4161","TERRACOTTA F4161","TERRACOTTA F4161","TERRACOTTA F4161","TERRACOTTA F4161","RAL 7021 Gris noir","RAL 7021 Gris noir","RAL 7037 Gris poussière","RAL 7021 Gris noir","RAL 7037 Gris poussière","RAL 7021 Gris noir","RAL 7021 Gris noir","RAL 7037 Gris poussière","RAL 7037 Gris poussière","RAL 7021 Gris noir","RAL 7021 Gris noir","RAL 7042 Gris signalisation",null,"RAL 7042 Gris signalisation","RAL 7042 Gris signalisation","RAL 7042 Gris signalisation","RAL 7042 Gris signalisation",null,{"$f":"IF(NOT(ISBLANK((INDIRECT(CONCATENATE(\"TabFinInt[\",RELEVE_COTES!$C$11,\"]\"))))),INDIRECT(CONCATENATE(\"TabFinInt[\",RELEVE_COTES!$C$11,\"]\",\"\")),\"\")","v":{"$error":"#VALUE!"}},{"$error":"#VALUE!"},null,"Pr.Peint","PAP","PAP",null,null,null,null,null,null,null,"RAL 7044 Gris soie",7044]
[null,null,null,null,null,null,null,null,null,null,null,null,null,null,null,null,null,null,null,null,null,null,null,null,null,null,null,null,null,null,null,null,null,null,null,null,null,null,null,null,null,null,null,null,null,null,null,null,null,null,null,null,null,null,null,null,null,null,null,null,null,null,null,null,null,null,null,null,null,null,null,null,null,null,null,null,null,null,null,null,null,null,null,null,null,null,null,null,null,null,null,null,null,null,null,null,null,null,"Seuil Doucine BER 18 x 70 mm Capotage Inox",20,null,null,"3 pts A2P** VACHETTE 5000 SGN2 - T2040 - axe à 50","5 pts A2P* BRICARD 8161/A4 - T2040 - axe à 50","3 pts A2P** VACHETTE 5000 SGN2 - T2040 - axe à 50","5 pts A2P* BRICARD 8161/A4 - T2040 - axe à 50","5 pts A2P* BRICARD 8161/A4 - T2040 - axe à 50","SALTO XS4 One (Coffre EURO Vachette) - axe à 50","3 pts A2P** VACHETTE 5000 SGN2 - T2040 - axe à 50","SALTO XS4 One (Coffre EURO Vachette) - axe à 50","3 pts A2P** VACHETTE 5000 SGN2 - T2040 - axe à 50","SALTO XS4 One (Coffre EURO Vachette) - axe à 50","3 pts VACHETTE 5000 - T2040 et entrebailleur - axe à 120","3 pts A2P** VACHETTE 5000 SGN2 - T2040 - axe à 50","ONITY HT 28 RFID (Coffre EURO) - axe à 70",null,null,null,"5 pts VACHETTE V5900 SPN1 A2P* - axe à 50","5 pts BRICARD 8161A3 A2P* avec entrebailleur intégré - axe à 50","5 pts VACHETTE V5900 SPN1 A2P* - axe à 50","5 pts BRICARD 8161A3 A2P* avec entrebailleur intégré - axe à 50","5 pts BRICARD 8161A3 A2P* avec entrebailleur intégré - axe à 50","5 pts VACHETTE V5900 SPN1 A2P* - axe à 50","5 pts VACHETTE V5900 SPN1 A2P* - axe à 50",null,null,null,null,null,null,null,null,null,{"$f":"IF(NOT(ISBLANK((INDIRECT(CONCATENATE(\"TabSerrure[\",RELEVE_COTES!$C$11,\"]\"))))),INDIRECT(CONCATENATE(\"TabSerrure[\",RELEVE_COTES!$C$11,\"]\")),\"\")","v":{"$error":"#VALUE!"}},{"$f":"IF(REF!$EE42<>\"\",1,0)","v":{"$error":"#VALUE!"}},null,"3 pts A2P* VACHETTE 5000 SGN1 - T2040 - axe à 120","3PTS_V5000",1045,1020,25,1830,"SANS",null,null,null,null,null,null,null,null,null,null,null,null,null,null,null,null,null,"Nicoletta",null,null,null,null,null,null,null,null,"Olivia","Olivia",null,null,null,null,null,null,null,{"$f":"IF(NOT(ISBLANK((INDIRECT(CONCATENATE(\"TabDécorExt[\",RELEVE_COTES!$C$11,\"]\"))))),INDIRECT(CONCATENATE(\"TabDécorExt[\",RELEVE_COTES!$C$11,\"]\",\"\")),\"\")","v":{"$error":"#VALUE!"}},{"$error":"#VALUE!"},null,null,null,null,"VERT SAUGE V113","VERT SAUGE V113","VERT SAUGE V113","VERT SAUGE V113","VERT SAUGE V113","VERT SAUGE V113","VERT SAUGE V113","VERT SAUGE V113","VERT SAUGE V113","VERT SAUGE V113","VERT SAUGE V113","VERT SAUGE V113","VERT SAUGE V113","RAL 7044 Gris soie","RAL 7044 Gris soie","RAL 7044 Gris soie","RAL 7044 Gris soie","RAL 7044 Gris soie","RAL 7044 Gris soie","RAL 7044 Gris soie","RAL 7030 Gris pierre","RAL 7038 Gris agate",null,"RAL 7044 Gris soie","RAL 7044 Gris soie","RAL 7044 Gris soie","RAL 7044 Gris soie","RAL 7044 Gris soie","RAL 7044 Gris soie","RAL 7044 Gris soie","RAL 7044 Gris soie",null,{"$f":"IF(NOT(ISBLANK((INDIRECT(CONCATENATE(\"TabFinExt[\",RELEVE_COTES!$C$11,\"]\"))))),INDIRECT(CONCATENATE(\"TabFinExt[\",RELEVE_COTES!$C$11,\"]\",\"\")),\"\")","v":{"$error":"#VALUE!"}},{"$error":"#VALUE!"},null,null,null,null,null,null,null,null,null,null,null,null,null,null,"Olivia",null,null,null,null,null,null,null,null,"Olivia","Olivia",null,null,null,null,null,null,null,{"$f":"IF(NOT(ISBLANK((INDIRECT(CONCATENATE(\"TabDécorInt[\",RELEVE_COTES!$C$11,\"]\"))))),INDIRECT(CONCATENATE(\"TabDécorInt[\",RELEVE_COTES!$C$11,\"]\",\"\")),\"\")","v":{"$error":"#VALUE!"}},{"$error":"#VALUE!"},null,"VERT SAUGE V113","VERT SAUGE V113","VERT SAUGE V113","VERT SAUGE V113","VERT SAUGE V113","VERT SAUGE V113","VERT SAUGE V113","VERT SAUGE V113","VERT SAUGE V113","VERT SAUGE V113","VERT SAUGE V113","VERT SAUGE V113","VERT SAUGE V113","RAL 7030 Gris pierre","RAL 7030 Gris pierre","RAL 7038 Gris agate","RAL 7030 Gris pierre","RAL 7038 Gris agate","RAL 7030 Gris pierre","RAL 7030 Gris pierre","RAL 7038 Gris agate","RAL 7038 Gris agate","RAL 7030 Gris pierre","RAL 7030 Gris pierre","RAL 7044 Gris soie",null,"RAL 7044 Gris soie","RAL 7044 Gris soie","RAL 7044 Gris soie","RAL 7044 Gris soie",null,{"$f":"IF(NOT(ISBLANK((INDIRECT(CONCATENATE(\"TabFinInt[\",RELEVE_COTES!$C$11,\"]\"))))),INDIRECT(CONCATENATE(\"TabFinInt[\",RELEVE_COTES!$C$11,\"]\",\"\")),\"\")","v":{"$error":"#VALUE!"}},{"$error":"#VALUE!"},null,"Acajou","Acajou","SKINPLATE",null,null,null,null,null,null,null,"RAL 8012 Brun rouge",8012]
[null,null,null,null,null,null,null,null,null,null,null,null,null,null,null,null,null,null,null,null,null,null,null,null,null,null,null,null,null,null,null,null,null,null,null,null,null,null,null,null,null,null,null,null,null,null,null,null,null,null,null,null,null,null,null,null,null,null,null,null,null,null,null,null,null,null,null,null,null,null,null,null,null,null,null,null,null,null,null,null,null,null,null,null,null,null,null,null,null,null,null,null,null,null,null,null,null,null,null,null,null,null,"3 pts A2P** VACHETTE 5000 TN2/FN2 - T1700 - axe à 50","5 pts A2P* VACHETTE 5700 SPN1 - T1700 - axe à 50","3 pts A2P** VACHETTE 5000 TN2/FN2 - T1700 - axe à 50","5 pts A2P* VACHETTE 5700 SPN1 - T1700 - axe à 50","5 pts A2P* VACHETTE 5700 SPN1 - T1700 - axe à 50",null,"3 pts A2P** VACHETTE 5000 TN2/FN2 - T1700 - axe à 50",null,"3 pts A2P** VACHETTE 5000 TN2/FN2 - T1700 - axe à 50",null,"3 pts VACHETTE 5000 - T2040 et entrebailleur - axe à 50","3 pts A2P** VACHETTE 5000 TN2/FN2 - T1700 - axe à 50","ONITY TRILLIUM MAG (Coffre EURO) - axe à 60",null,null,null,"5 pts VACHETTE V5900 SPN1 A2P* avec entrebailleur - axe à 50","5 pts BRICARD 8161-A4  A2P* - axe à 50","5 pts VACHETTE V5900 SPN1 A2P* avec entrebailleur - axe à 50","5 pts BRICARD 8161-A4  A2P* - axe à 50","5 pts BRICARD 8161-A4  A2P* - axe à 50","5 pts VACHETTE V5900 SPN1 A2P* avec entrebailleur - axe à 50","5 pts VACHETTE V5900 SPN1 A2P* avec entrebailleur - axe à 50",null,null,null,null,null,null,null,null,null,{"$f":"IF(NOT(ISBLANK((INDIRECT(CONCATENATE(\"TabSerrure[\",RELEVE_COTES!$C$11,\"]\"))))),INDIRECT(CONCATENATE(\"TabSerrure[\",RELEVE_COTES!$C$11,\"]\")),\"\")","v":{"$error":"#VALUE!"}},{"$f":"IF(REF!$EE43<>\"\",1,0)","v":{"$error":"#VALUE!"}},null,"3 pts A2P* VACHETTE 5000 SGN1 - T2040 et entrebailleur - axe à 120","3PTS_V5000_E",1045,1020,25,1830,"SANS",null,null,null,null,null,null,null,null,null,null,null,null,null,null,null,null,null,"Nina",null,null,null,null,null,null,null,null,"Olivia centre","Olivia centre",null,null,null,null,null,null,null,{"$f":"IF(NOT(ISBLANK((INDIRECT(CONCATENATE(\"TabDécorExt[\",RELEVE_COTES!$C$11,\"]\"))))),INDIRECT(CONCATENATE(\"TabDécorExt[\",RELEVE_COTES!$C$11,\"]\",\"\")),\"\")","v":{"$error":"#VALUE!"}},{"$error":"#VALUE!"},null,null,null,null,null,null,null,null,null,null,null,null,null,null,null,null,null,"RAL 8012 Brun rouge","RAL 8012 Brun rouge","RAL 8012 Brun rouge","RAL 8012 Brun rouge","RAL 8012 Brun rouge","RAL 8012 Brun rouge","RAL 8012 Brun rouge","RAL 7037 Gris poussière","RAL 7039 Gris quartz",null,"RAL 8012 Brun rouge","RAL 8012 Brun rouge","RAL 8012 Brun rouge","RAL 8012 Brun rouge","RAL 8012 Brun rouge","RAL 8012 Brun rouge","RAL 8012 Brun rouge","RAL 8012 Brun rouge",null,{"$f":"IF(NOT(ISBLANK((INDIRECT(CONCATENATE(\"TabFinExt[\",RELEVE_COTES!$C$11,\"]\"))))),INDIRECT(CONCATENATE(\"TabFinExt[\",RELEVE_COTES!$C$11,\"]\",\"\")),\"\")","v":{"$error":"#VALUE!"}},{"$error":"#VALUE!"},null,null,null,null,null,null,null,null,null,null,null,null,null,null,"Olivia centre",null,null,null,null,null,null,null,null,"Olivia centre","Olivia centre",null,null,null,null,null,null,null,{"$f":"IF(NOT(ISBLANK((INDIRECT(CONCATENATE(\"TabDécorInt[\",RELEVE_COTES!$C$11,\"]\"))))),INDIRECT(CONCATENATE(\"TabDécorInt[\",RELEVE_COTES!$C$11,\"]\",\"\")),\"\")","v":{"$error":"#VALUE!"}},{"$error":"#VALUE!"},null,null,null,null,null,null,null,null,null,null,null,null,null,null,"RAL 7037 Gris poussière","RAL 7037 Gris poussière","RAL 7039 Gris quartz","RAL 7037 Gris poussière","RAL 7039 Gris quartz","RAL 7037 Gris poussière","RAL 7037 Gris poussière","RAL 7039 Gris quartz","RAL 7039 Gris quartz","RAL 7037 Gris poussière","RAL 7037 Gris poussière","RAL 8012 Brun rouge",null,"RAL 8012 Brun rouge","RAL 8012 Brun rouge","RAL 8012 Brun rouge","RAL 8012 Brun rouge",null,{"$f":"IF(NOT(ISBLANK((INDIRECT(CONCATENATE(\"TabFinInt[\",RELEVE_COTES!$C$11,\"]\"))))),INDIRECT(CONCATENATE(\"TabFinInt[\",RELEVE_COTES!$C$11,\"]\",\"\")),\"\")","v":{"$error":"#VALUE!"}},{"$error":"#VALUE!"},null,"Chêne verade","Chêne verade","SKINPLATE",null,null,null,null,null,null,null,"RAL 8019 Brun gris",8019]
[null,null,null,null,null,null,null,null,null,null,null,null,null,null,null,null,null,null,null,null,null,null,null,null,null,null,null,null,null,null,null,null,null,null,null,null,null,null,null,null,null,null,null,null,null,null,null,null,null,null,null,null,null,null,null,null,null,null,null,null,null,null,null,null,null,null,null,null,null,null,null,null,null,null,null,null,null,null,null,null,null,null,null,null,null,null,null,null,null,null,null,null,null,null,null,null,null,null,null,null,null,null,"3 pts A2P** VACHETTE 5000 TN2/FN2 - T2040 - axe à 50","5 pts A2P* VACHETTE 5700 SPN1 - T2040 - axe à 50","3 pts A2P** VACHETTE 5000 TN2/FN2 - T2040 - axe à 50","5 pts A2P* VACHETTE 5700 SPN1 - T2040 - axe à 50","5 pts A2P* VACHETTE 5700 SPN1 - T2040 - axe à 50",null,"3 pts A2P** VACHETTE 5000 TN2/FN2 - T2040 - axe à 50",null,"3 pts A2P** VACHETTE 5000 TN2/FN2 - T2040 - axe à 50",null,"5 pts A2P* BRICARD 8121/A3 - T2040 - axe à 120","3 pts A2P** VACHETTE 5000 TN2/FN2 - T2040 - axe à 50","ONITY TRILLIUM MAG (Coffre EURO) - axe à 70",null,null,null,"5 pts FERCO Europa R2 A2P*- axe à 50","5 pts BRICARD 8161A4 A2P* avec entrebailleur intégré - axe à 50","non référencée","5 pts BRICARD 8161A4 A2P* avec entrebailleur intégré - axe à 50","5 pts BRICARD 8161A4 A2P* avec entrebailleur intégré - axe à 50","non référencée","non référencée",null,null,null,null,null,null,null,null,null,{"$f":"IF(NOT(ISBLANK((INDIRECT(CONCATENATE(\"TabSerrure[\",RELEVE_COTES!$C$11,\"]\"))))),INDIRECT(CONCATENATE(\"TabSerrure[\",RELEVE_COTES!$C$11,\"]\")),\"\")","v":{"$error":"#VALUE!"}},{"$f":"IF(REF!$EE44<>\"\",1,0)","v":{"$error":"#VALUE!"}},null,"5 pts VACHETTE 5700 - T2040 - axe à 50","5PTS_V5700",1045,1020,25,1830,"SANS",null,null,null,null,null,null,null,null,null,null,null,null,null,null,null,null,null,"Noémie",null,null,null,null,null,null,null,null,"Olivia CS","Olivia CS",null,null,null,null,null,null,null,{"$f":"IF(NOT(ISBLANK((INDIRECT(CONCATENATE(\"TabDécorExt[\",RELEVE_COTES!$C$11,\"]\"))))),INDIRECT(CONCATENATE(\"TabDécorExt[\",RELEVE_COTES!$C$11,\"]\",\"\")),\"\")","v":{"$error":"#VALUE!"}},{"$error":"#VALUE!"},null,null,null,null,null,null,null,null,null,null,null,null,null,null,null,null,null,"RAL 8019 Brun gris","RAL 8019 Brun gris","RAL 8019 Brun gris","RAL 8019 Brun gris","RAL 8019 Brun gris","RAL 8019 Brun gris","RAL 8019 Brun gris","RAL 7038 Gris agate","RAL 7040 Gris fenêtre",null,"RAL 8019 Brun gris","RAL 8019 Brun gris","RAL 8019 Brun gris","RAL 8019 Brun gris","RAL 8019 Brun gris","RAL 8019 Brun gris","RAL 8019 Brun gris","RAL 8019 Brun gris",null,{"$f":"IF(NOT(ISBLANK((INDIRECT(CONCATENATE(\"TabFinExt[\",RELEVE_COTES!$C$11,\"]\"))))),INDIRECT(CONCATENATE(\"TabFinExt[\",RELEVE_COTES!$C$11,\"]\",\"\")),\"\")","v":{"$error":"#VALUE!"}},{"$error":"#VALUE!"},null,null,null,null,null,null,null,null,null,null,null,null,null,null,"Olivia CS",null,null,null,null,null,null,null,null,"Olivia CS","Olivia CS",null,null,null,null,null,null,null,{"$f":"IF(NOT(ISBLANK((INDIRECT(CONCATENATE(\"TabDécorInt[\",RELEVE_COTES!$C$11,\"]\"))))),INDIRECT(CONCATENATE(\"TabDécorInt[\",RELEVE_COTES!$C$11,\"]\",\"\")),\"\")","v":{"$error":"#VALUE!"}},{"$error":"#VALUE!"},null,null,null,null,null,null,null,null,null,null,null,null,null,null,"RAL 7038 Gris agate","RAL 7038 Gris agate","RAL 7040 Gris fenêtre","RAL 7038 Gris agate","RAL 7040 Gris fenêtre","RAL 7038 Gris agate","RAL 7038 Gris agate","RAL 7040 Gris fenêtre","RAL 7040 Gris fenêtre","RAL 7038 Gris agate","RAL 7038 Gris agate","RAL 8019 Brun gris",null,"RAL 8019 Brun gris","RAL 8019 Brun gris","RAL 8019 Brun gris","RAL 8019 Brun gris",null,{"$f":"IF(NOT(ISBLANK((INDIRECT(CONCATENATE(\"TabFinInt[\",RELEVE_COTES!$C$11,\"]\"))))),INDIRECT(CONCATENATE(\"TabFinInt[\",RELEVE_COTES!$C$11,\"]\",\"\")),\"\")","v":{"$error":"#VALUE!"}},{"$error":"#VALUE!"},null,"Merisier","Merisier","SKINPLATE",null,null,null,null,null,null,null,"RAL 8025 Brun pâle",8025]
[null,null,null,null,null,null,null,null,null,null,null,null,null,null,null,null,null,null,null,null,null,null,null,null,null,null,null,null,null,null,null,null,null,null,null,null,null,null,null,null,null,null,null,null,null,null,null,null,null,null,null,null,null,null,null,null,null,null,null,null,null,null,null,null,null,null,null,null,null,null,null,null,null,null,null,null,null,null,null,null,null,null,null,null,null,null,null,null,null,null,null,null,null,null,null,null,null,null,null,null,null,null,"3 pts A2P*** VACHETTE 5000 - T1700 - axe à 50","5 pts A2P* VACHETTE 5700 SPN1 - T2040 et entrebailleur - axe à 50","3 pts A2P*** VACHETTE 5000 - T1700 - axe à 50","5 pts A2P* VACHETTE 5700 SPN1 - T2040 et entrebailleur - axe à 50","5 pts A2P* VACHETTE 5700 SPN1 - T2040 et entrebailleur - axe à 50",null,"3 pts A2P*** VACHETTE 5000 - T1700 - axe à 50",null,"3 pts A2P*** VACHETTE 5000 - T1700 - axe à 50",null,"5 pts A2P* BRICARD 8161/A3 - T2040 - axe à 50","3 pts A2P*** VACHETTE 5000 - T1700 - axe à 50","ONITY TRILLIUM RFID (Coffre EURO) - axe à 60",null,null,null,"5 pts FERCO Fercomatic R2 A2P*- axe à 50","5 pts BRICARD 8161-A8 A2P* - axe à 50",null,"5 pts BRICARD 8161-A8 A2P* - axe à 50","5 pts BRICARD 8161-A8 A2P* - axe à 50",null,null,null,null,null,null,null,null,null,null,null,{"$f":"IF(NOT(ISBLANK((INDIRECT(CONCATENATE(\"TabSerrure[\",RELEVE_COTES!$C$11,\"]\"))))),INDIRECT(CONCATENATE(\"TabSerrure[\",RELEVE_COTES!$C$11,\"]\")),\"\")","v":{"$error":"#VALUE!"}},{"$f":"IF(REF!$EE45<>\"\",1,0)","v":{"$error":"#VALUE!"}},null,"5 pts VACHETTE 5900 - T1700 - axe à 50","5PTS_V5900",1045,1020,25,1830,"SANS",null,null,null,null,null,null,null,null,null,null,null,null,null,null,null,null,null,"Nora",null,null,null,null,null,null,null,null,"Olympe","Olympe",null,null,null,null,null,null,null,{"$f":"IF(NOT(ISBLANK((INDIRECT(CONCATENATE(\"TabDécorExt[\",RELEVE_COTES!$C$11,\"]\"))))),INDIRECT(CONCATENATE(\"TabDécorExt[\",RELEVE_COTES!$C$11,\"]\",\"\")),\"\")","v":{"$error":"#VALUE!"}},{"$error":"#VALUE!"},null,null,null,null,null,null,null,null,null,null,null,null,null,null,null,null,null,"RAL 8025 Brun pâle","RAL 8025 Brun pâle","RAL 8025 Brun pâle","RAL 8025 Brun pâle","RAL 8025 Brun pâle","RAL 8025 Brun pâle","RAL 8025 Brun pâle","RAL 7039 Gris quartz","RAL 7042 Gris signalisation",null,"RAL 8025 Brun pâle","RAL 8025 Brun pâle","RAL 8025 Brun pâle","RAL 8025 Brun pâle","RAL 8025 Brun pâle","RAL 8025 Brun pâle","RAL 8025 Brun pâle","RAL 8025 Brun pâle",null,{"$f":"IF(NOT(ISBLANK((INDIRECT(CONCATENATE(\"TabFinExt[\",RELEVE_COTES!$C$11,\"]\"))))),INDIRECT(CONCATENATE(\"TabFinExt[\",RELEVE_COTES!$C$11,\"]\",\"\")),\"\")","v":{"$error":"#VALUE!"}},{"$error":"#VALUE!"},null,null,null,null,null,null,null,null,null,null,null,null,null,null,"Olympe",null,null,null,null,null,null,null,null,"Olympe","Olympe",null,null,null,null,null,null,null,{"$f":"IF(NOT(ISBLANK((INDIRECT(CONCATENATE(\"TabDécorInt[\",RELEVE_COTES!$C$11,\"]\"))))),INDIRECT(CONCATENATE(\"TabDécorInt[\",RELEVE_COTES!$C$11,\"]\",\"\")),\"\")","v":{"$error":"#VALUE!"}},{"$error":"#VALUE!"},null,null,null,null,null,null,null,null,null,null,null,null,null,null,"RAL 7039 Gris quartz","RAL 7039 Gris quartz","RAL 7042 Gris signalisation","RAL 7039 Gris quartz","RAL 7042 Gris signalisation","RAL 7039 Gris quartz","RAL 7039 Gris quartz","RAL 7042 Gris signalisation","RAL 7042 Gris signalisation","RAL 7039 Gris quartz","RAL 7039 Gris quartz","RAL 8025 Brun pâle",null,"RAL 8025 Brun pâle","RAL 8025 Brun pâle","RAL 8025 Brun pâle","RAL 8025 Brun pâle",null,{"$f":"IF(NOT(ISBLANK((INDIRECT(CONCATENATE(\"TabFinInt[\",RELEVE_COTES!$C$11,\"]\"))))),INDIRECT(CONCATENATE(\"TabFinInt[\",RELEVE_COTES!$C$11,\"]\",\"\")),\"\")","v":{"$error":"#VALUE!"}},{"$error":"#VALUE!"},null,"A peindre / à décorer","A peindre / à décorer","LAQUE",null,null,null,null,null,null,null,"RAL 9001 Blanc crème",9001]
[null,null,null,null,null,null,null,null,null,null,null,null,null,null,null,null,null,null,null,null,null,null,null,null,null,null,null,null,null,null,null,null,null,null,null,null,null,null,null,null,null,null,null,null,null,null,null,null,null,null,null,null,null,null,null,null,null,null,null,null,null,null,null,null,null,null,null,null,null,null,null,null,null,null,null,null,null,null,null,null,null,null,null,null,null,null,null,null,null,null,null,null,null,null,null,null,null,null,null,null,null,null,"3 pts BRICARD 8120 - T1700 - axe à 120","5 pts A2P* VACHETTE 5900 SPN1 - T1700 - axe à 50","3 pts BRICARD 8120 - T1700 - axe à 120","5 pts A2P* VACHETTE 5900 SPN1 - T1700 - axe à 50","5 pts A2P* VACHETTE 5900 SPN1 - T1700 - axe à 50",null,"3 pts BRICARD 8120 - T1700 - axe à 120",null,"3 pts BRICARD 8120 - T1700 - axe à 120",null,"5 pts A2P* BRICARD 8161/A4 - T2040 - axe à 50","3 pts BRICARD 8120 - T1700 - axe à 120","ONITY TRILLIUM RFID (Coffre EURO) - axe à 70",null,null,null,"non référencée","5 pts BRICARD 8162-A3 A2P** - axe à 50",null,"5 pts BRICARD 8162-A3 A2P** - axe à 50","5 pts BRICARD 8162-A3 A2P** - axe à 50",null,null,null,null,null,null,null,null,null,null,null,{"$f":"IF(NOT(ISBLANK((INDIRECT(CONCATENATE(\"TabSerrure[\",RELEVE_COTES!$C$11,\"]\"))))),INDIRECT(CONCATENATE(\"TabSerrure[\",RELEVE_COTES!$C$11,\"]\")),\"\")","v":{"$error":"#VALUE!"}},{"$f":"IF(REF!$EE46<>\"\",1,0)","v":{"$error":"#VALUE!"}},null,"5 pts VACHETTE 5900 - T2040 - axe à 120","5PTS_V5900",1045,1020,25,1830,"SANS",null,null,null,null,null,null,null,null,null,null,null,null,null,null,null,null,null,"Nuance",null,null,null,null,null,null,null,null,"Ophélie","Ophélie",null,null,null,null,null,null,null,{"$f":"IF(NOT(ISBLANK((INDIRECT(CONCATENATE(\"TabDécorExt[\",RELEVE_COTES!$C$11,\"]\"))))),INDIRECT(CONCATENATE(\"TabDécorExt[\",RELEVE_COTES!$C$11,\"]\",\"\")),\"\")","v":{"$error":"#VALUE!"}},{"$error":"#VALUE!"},null,null,null,null,null,null,null,null,null,null,null,null,null,null,null,null,null,"RAL 9001 Blanc crème","RAL 9001 Blanc crème","RAL 9001 Blanc crème","RAL 9001 Blanc crème","RAL 9001 Blanc crème","RAL 9001 Blanc crème","RAL 9001 Blanc crème","RAL 7040 Gris fenêtre","RAL 7044 Gris soie",null,"RAL 9001 Blanc crème","RAL 9001 Blanc crème","RAL 9001 Blanc crème","RAL 9001 Blanc crème","RAL 9001 Blanc crème","RAL 9001 Blanc crème","RAL 9001 Blanc crème","RAL 9001 Blanc crème",null,{"$f":"IF(NOT(ISBLANK((INDIRECT(CONCATENATE(\"TabFinExt[\",RELEVE_COTES!$C$11,\"]\"))))),INDIRECT(CONCATENATE(\"TabFinExt[\",RELEVE_COTES!$C$11,\"]\",\"\")),\"\")","v":{"$error":"#VALUE!"}},{"$error":"#VALUE!"},null,null,null,null,null,null,null,null,null,null,null,null,null,null,"Ophélie",null,null,null,null,null,null,null,null,"Ophélie","Ophélie",null,null,null,null,null,null,null,{"$f":"IF(NOT(ISBLANK((INDIRECT(CONCATENATE(\"TabDécorInt[\",RELEVE_COTES!$C$11,\"]\"))))),INDIRECT(CONCATENATE(\"TabDécorInt[\",RELEVE_COTES!$C$11,\"]\",\"\")),\"\")","v":{"$error":"#VALUE!"}},{"$error":"#VALUE!"},null,null,null,null,null,null,null,null,null,null,null,null,null,null,"RAL 7040 Gris fenêtre","RAL 7040 Gris fenêtre","RAL 7044 Gris soie","RAL 7040 Gris fenêtre","RAL 7044 Gris soie","RAL 7040 Gris fenêtre","RAL 7040 Gris fenêtre","RAL 7044 Gris soie","RAL 7044 Gris soie","RAL 7040 Gris fenêtre","RAL 7040 Gris fenêtre","RAL 9001 Blanc crème",null,"RAL 9001 Blanc crème","RAL 9001 Blanc crème","RAL 9001 Blanc crème","RAL 9001 Blanc crème",null,{"$f":"IF(NOT(ISBLANK((INDIRECT(CONCATENATE(\"TabFinInt[\",RELEVE_COTES!$C$11,\"]\"))))),INDIRECT(CONCATENATE(\"TabFinInt[\",RELEVE_COTES!$C$11,\"]\",\"\")),\"\")","v":{"$error":"#VALUE!"}},{"$error":"#VALUE!"},null,"Acacia clair","Acacia clair","LAQUE",null,null,null,null,null,null,null,"RAL 9002 Blanc gris",9002]
[null,null,null,null,null,null,null,null,null,null,null,null,null,null,null,null,null,null,null,null,null,null,null,null,null,null,null,null,null,null,null,null,null,null,null,null,null,null,null,null,null,null,null,null,null,null,null,null,null,null,null,null,null,null,null,null,null,null,null,null,null,null,null,null,null,null,null,null,null,null,null,null,null,null,null,null,null,null,null,null,null,null,null,null,null,null,null,null,null,null,null,null,null,null,null,null,null,null,null,null,null,null,"3 pts BRICARD 8120 - T2040 - axe à 120","5 pts A2P* VACHETTE 5900 SPN1 - T2040 - axe à 50","3 pts BRICARD 8120 - T2040 - axe à 120","5 pts A2P* VACHETTE 5900 SPN1 - T2040 - axe à 50","5 pts A2P* VACHETTE 5900 SPN1 - T2040 - axe à 50",null,"3 pts BRICARD 8120 - T2040 - axe à 120",null,"3 pts BRICARD 8120 - T2040 - axe à 120",null,"5 pts A2P* VACHETTE 5700 SPN1 - T1700 - axe à 50","3 pts BRICARD 8120 - T2040 - axe à 120","SALTO XS4 (Coffre EURO Marques) - axe à 50",null,null,null,null,"5 pts BRICARD 8162A3 A2P** avec entrebailleur intégré - axe à 50",null,"5 pts BRICARD 8162A3 A2P** avec entrebailleur intégré - axe à 50","5 pts BRICARD 8162A3 A2P** avec entrebailleur intégré - axe à 50",null,null,null,null,null,null,null,null,null,null,null,{"$f":"IF(NOT(ISBLANK((INDIRECT(CONCATENATE(\"TabSerrure[\",RELEVE_COTES!$C$11,\"]\"))))),INDIRECT(CONCATENATE(\"TabSerrure[\",RELEVE_COTES!$C$11,\"]\")),\"\")","v":{"$error":"#VALUE!"}},{"$f":"IF(REF!$EE47<>\"\",1,0)","v":{"$error":"#VALUE!"}},null,"5 pts VACHETTE 5900 - T1700 - axe à 120","5PTS_V5900",1045,1020,25,1830,"SANS",null,null,null,null,null,null,null,null,null,null,null,null,null,null,null,null,null,"Océane",null,null,null,null,null,null,null,null,"Orlane","Orlane",null,null,null,null,null,null,null,{"$f":"IF(NOT(ISBLANK((INDIRECT(CONCATENATE(\"TabDécorExt[\",RELEVE_COTES!$C$11,\"]\"))))),INDIRECT(CONCATENATE(\"TabDécorExt[\",RELEVE_COTES!$C$11,\"]\",\"\")),\"\")","v":{"$error":"#VALUE!"}},{"$error":"#VALUE!"},null,null,null,null,null,null,null,null,null,null,null,null,null,null,null,null,null,"RAL 9002 Blanc gris","RAL 9002 Blanc gris","RAL 9002 Blanc gris","RAL 9002 Blanc gris","RAL 9002 Blanc gris","RAL 9002 Blanc gris","RAL 9002 Blanc gris","RAL 7042 Gris signalisation","RAL 8012 Brun rouge",null,"RAL 9002 Blanc gris","RAL 9002 Blanc gris","RAL 9002 Blanc gris","RAL 9002 Blanc gris","RAL 9002 Blanc gris","RAL 9002 Blanc gris","RAL 9002 Blanc gris","RAL 9002 Blanc gris",null,{"$f":"IF(NOT(ISBLANK((INDIRECT(CONCATENATE(\"TabFinExt[\",RELEVE_COTES!$C$11,\"]\"))))),INDIRECT(CONCATENATE(\"TabFinExt[\",RELEVE_COTES!$C$11,\"]\",\"\")),\"\")","v":{"$error":"#VALUE!"}},{"$error":"#VALUE!"},null,null,null,null,null,null,null,null,null,null,null,null,null,null,"Orlane",null,null,null,null,null,null,null,null,"Orlane","Orlane",null,null,null,null,null,null,null,{"$f":"IF(NOT(ISBLANK((INDIRECT(CONCATENATE(\"TabDécorInt[\",RELEVE_COTES!$C$11,\"]\"))))),INDIRECT(CONCATENATE(\"TabDécorInt[\",RELEVE_COTES!$C$11,\"]\",\"\")),\"\")","v":{"$error":"#VALUE!"}},{"$error":"#VALUE!"},null,null,null,null,null,null,null,null,null,null,null,null,null,null,"RAL 7042 Gris signalisation","RAL 7042 Gris signalisation","RAL 8012 Brun rouge","RAL 7042 Gris signalisation","RAL 8012 Brun rouge","RAL 7042 Gris signalisation","RAL 7042 Gris signalisation","RAL 8012 Brun rouge","RAL 8012 Brun rouge","RAL 7042 Gris signalisation","RAL 7042 Gris signalisation","RAL 9002 Blanc gris",null,"RAL 9002 Blanc gris","RAL 9002 Blanc gris","RAL 9002 Blanc gris","RAL 9002 Blanc gris",null,{"$f":"IF(NOT(ISBLANK((INDIRECT(CONCATENATE(\"TabFinInt[\",RELEVE_COTES!$C$11,\"]\"))))),INDIRECT(CONCATENATE(\"TabFinInt[\",RELEVE_COTES!$C$11,\"]\",\"\")),\"\")","v":{"$error":"#VALUE!"}},{"$error":"#VALUE!"},null,"Bois fumé brut","Bois fumé brut","LAQUE",null,null,null,null,null,null,null,"RAL 9003 Blanc de sécurité",9003]
[null,null,null,null,null,null,null,null,null,null,null,null,null,null,null,null,null,null,null,null,null,null,null,null,null,null,null,null,null,null,null,null,null,null,null,null,null,null,null,null,null,null,null,null,null,null,null,null,null,null,null,null,null,null,null,null,null,null,null,null,null,null,null,null,null,null,null,null,null,null,null,null,null,null,null,null,null,null,null,null,null,null,null,null,null,null,null,null,null,null,null,null,null,null,null,null,null,null,null,null,null,null,"3 pts BRICARD 8150/341 - T1700 - axe à 50","5 pts A2P* VACHETTE 5900 SPN1 - T2040 et entrebailleur - axe à 50","3 pts BRICARD 8150/341 - T1700 - axe à 50","5 pts A2P* VACHETTE 5900 SPN1 - T2040 et entrebailleur - axe à 50","5 pts A2P* VACHETTE 5900 SPN1 - T2040 et entrebailleur - axe à 50",null,"3 pts BRICARD 8150/341 - T1700 - axe à 50",null,"3 pts BRICARD 8150/341 - T1700 - axe à 50",null,"5 pts A2P* VACHETTE 5700 SPN1 - T2040 - axe à 50","3 pts BRICARD 8150/341 - T1700 - axe à 50","SALTO XS4 (Coffre EURO Vachette) - axe à 50",null,null,null,null,"5 pts BRICARD 8162-A4  A2P** - axe à 50",null,"5 pts BRICARD 8162-A4  A2P** - axe à 50","5 pts BRICARD 8162-A4  A2P** - axe à 50",null,null,null,null,null,null,null,null,null,null,null,{"$f":"IF(NOT(ISBLANK((INDIRECT(CONCATENATE(\"TabSerrure[\",RELEVE_COTES!$C$11,\"]\"))))),INDIRECT(CONCATENATE(\"TabSerrure[\",RELEVE_COTES!$C$11,\"]\")),\"\")","v":{"$error":"#VALUE!"}},{"$f":"IF(REF!$EE48<>\"\",1,0)","v":{"$error":"#VALUE!"}},null,"5 pts A2P* VACHETTE 5900 SPN1 - T2040 et entrebailleur - axe à 50","5PTS_V5900_E",1045,1020,25,1830,"SANS",null,null,null,null,null,null,null,null,null,null,null,null,null,null,null,null,null,"Océanie",null,null,null,null,null,null,null,null,"Ornella","Ornella",null,null,null,null,null,null,null,{"$f":"IF(NOT(ISBLANK((INDIRECT(CONCATENATE(\"TabDécorExt[\",RELEVE_COTES!$C$11,\"]\"))))),INDIRECT(CONCATENATE(\"TabDécorExt[\",RELEVE_COTES!$C$11,\"]\",\"\")),\"\")","v":{"$error":"#VALUE!"}},{"$error":"#VALUE!"},null,null,null,null,null,null,null,null,null,null,null,null,null,null,null,null,null,"RAL 9003 Blanc de sécurité","RAL 9003 Blanc de sécurité","RAL 9003 Blanc de sécurité","RAL 9003 Blanc de sécurité","RAL 9003 Blanc de sécurité","RAL 9003 Blanc de sécurité","RAL 9003 Blanc de sécurité","RAL 7044 Gris soie","RAL 8019 Brun gris",null,"RAL 9003 Blanc de sécurité","RAL 9003 Blanc de sécurité","RAL 9003 Blanc de sécurité","RAL 9003 Blanc de sécurité","RAL 9003 Blanc de sécurité","RAL 9003 Blanc de sécurité","RAL 9003 Blanc de sécurité","RAL 9003 Blanc de sécurité",null,{"$f":"IF(NOT(ISBLANK((INDIRECT(CONCATENATE(\"TabFinExt[\",RELEVE_COTES!$C$11,\"]\"))))),INDIRECT(CONCATENATE(\"TabFinExt[\",RELEVE_COTES!$C$11,\"]\",\"\")),\"\")","v":{"$error":"#VALUE!"}},{"$error":"#VALUE!"},null,null,null,null,null,null,null,null,null,null,null,null,null,null,"Ornella",null,null,null,null,null,null,null,null,"Ornella","Ornella",null,null,null,null,null,null,null,{"$f":"IF(NOT(ISBLANK((INDIRECT(CONCATENATE(\"TabDécorInt[\",RELEVE_COTES!$C$11,\"]\"))))),INDIRECT(CONCATENATE(\"TabDécorInt[\",RELEVE_COTES!$C$11,\"]\",\"\")),\"\")","v":{"$error":"#VALUE!"}},{"$error":"#VALUE!"},null,null,null,null,null,null,null,null,null,null,null,null,null,null,"RAL 7044 Gris soie","RAL 7044 Gris soie","RAL 8019 Brun gris","RAL 7044 Gris soie","RAL 8019 Brun gris","RAL 7044 Gris soie","RAL 7044 Gris soie","RAL 8019 Brun gris","RAL 8019 Brun gris","RAL 7044 Gris soie","RAL 7044 Gris soie","RAL 9003 Blanc de sécurité",null,"RAL 9003 Blanc de sécurité","RAL 9003 Blanc de sécurité","RAL 9003 Blanc de sécurité","RAL 9003 Blanc de sécurité",null,{"$f":"IF(NOT(ISBLANK((INDIRECT(CONCATENATE(\"TabFinInt[\",RELEVE_COTES!$C$11,\"]\"))))),INDIRECT(CONCATENATE(\"TabFinInt[\",RELEVE_COTES!$C$11,\"]\",\"\")),\"\")","v":{"$error":"#VALUE!"}},{"$error":"#VALUE!"},null,"Cérusé blanc","Cérusé blanc","LAQUE",null,null,null,null,null,null,null,"RAL 9016 Blanc signalisation",9016]
[null,null,null,null,null,null,null,null,null,null,null,null,null,null,null,null,null,null,null,null,null,null,null,null,null,null,null,null,null,null,null,null,null,null,null,null,null,null,null,null,null,null,null,null,null,null,null,null,null,null,null,null,null,null,null,null,null,null,null,null,null,null,null,null,null,null,null,null,null,null,null,null,null,null,null,null,null,null,null,null,null,null,null,null,null,null,null,null,null,null,null,null,null,null,null,null,null,null,null,null,null,null,"3 pts BRICARD 8150/381 - T2040 - axe à 50","5 pts A2P** BRICARD 8162/A4 - T2040 - axe à 50","3 pts BRICARD 8150/381 - T2040 - axe à 50","5 pts A2P** BRICARD 8162/A4 - T2040 - axe à 50","5 pts A2P** BRICARD 8162/A4 - T2040 - axe à 50",null,"3 pts BRICARD 8150/381 - T2040 - axe à 50",null,"3 pts BRICARD 8150/381 - T2040 - axe à 50",null,"5 pts A2P* VACHETTE 5700 SPN1 - T2040 et entrebailleur - axe à 50","3 pts BRICARD 8150/381 - T2040 - axe à 50","SALTO XS4 One (Coffre EURO Marques) - axe à 50",null,null,null,null,"5 pts BRICARD 8162A4 A2P** avec entrebailleur intégré - axe à 50",null,"5 pts BRICARD 8162A4 A2P** avec entrebailleur intégré - axe à 50","5 pts BRICARD 8162A4 A2P** avec entrebailleur intégré - axe à 50",null,null,null,null,null,null,null,null,null,null,null,{"$f":"IF(NOT(ISBLANK((INDIRECT(CONCATENATE(\"TabSerrure[\",RELEVE_COTES!$C$11,\"]\"))))),INDIRECT(CONCATENATE(\"TabSerrure[\",RELEVE_COTES!$C$11,\"]\")),\"\")","v":{"$error":"#VALUE!"}},{"$f":"IF(REF!$EE49<>\"\",1,0)","v":{"$error":"#VALUE!"}},null,"5 pts A2P* VACHETTE 5700 SPN1 - T2040 et entrebailleur - axe à 50","5PTS_V5700_E",1045,1020,25,1830,"SANS",null,null,null,null,null,null,null,null,null,null,null,null,null,null,null,null,null,"Octavia",null,null,null,null,null,null,null,null,"Orphée","Orphée",null,null,null,null,null,null,null,{"$f":"IF(NOT(ISBLANK((INDIRECT(CONCATENATE(\"TabDécorExt[\",RELEVE_COTES!$C$11,\"]\"))))),INDIRECT(CONCATENATE(\"TabDécorExt[\",RELEVE_COTES!$C$11,\"]\",\"\")),\"\")","v":{"$error":"#VALUE!"}},{"$error":"#VALUE!"},null,null,null,null,null,null,null,null,null,null,null,null,null,null,null,null,null,"RAL 9016 Blanc signalisation","RAL 9016 Blanc signalisation","RAL 9016 Blanc signalisation","RAL 9016 Blanc signalisation","RAL 9016 Blanc signalisation","RAL 9016 Blanc signalisation","RAL 9016 Blanc signalisation","RAL 8012 Brun rouge","RAL 8025 Brun pâle",null,"RAL 9016 Blanc signalisation","RAL 9016 Blanc signalisation","RAL 9016 Blanc signalisation","RAL 9016 Blanc signalisation","RAL 9016 Blanc signalisation","RAL 9016 Blanc signalisation","RAL 9016 Blanc signalisation","RAL 9016 Blanc signalisation",null,{"$f":"IF(NOT(ISBLANK((INDIRECT(CONCATENATE(\"TabFinExt[\",RELEVE_COTES!$C$11,\"]\"))))),INDIRECT(CONCATENATE(\"TabFinExt[\",RELEVE_COTES!$C$11,\"]\",\"\")),\"\")","v":{"$error":"#VALUE!"}},{"$error":"#VALUE!"},null,null,null,null,null,null,null,null,null,null,null,null,null,null,"Orphée",null,null,null,null,null,null,null,null,"Orphée","Orphée",null,null,null,null,null,null,null,{"$f":"IF(NOT(ISBLANK((INDIRECT(CONCATENATE(\"TabDécorInt[\",RELEVE_COTES!$C$11,\"]\"))))),INDIRECT(CONCATENATE(\"TabDécorInt[\",RELEVE_COTES!$C$11,\"]\",\"\")),\"\")","v":{"$error":"#VALUE!"}},{"$error":"#VALUE!"},null,null,null,null,null,null,null,null,null,null,null,null,null,null,"RAL 8012 Brun rouge","RAL 8012 Brun rouge","RAL 8025 Brun pâle","RAL 8012 Brun rouge","RAL 8025 Brun pâle","RAL 8012 Brun rouge","RAL 8012 Brun rouge","RAL 8025 Brun pâle","RAL 8025 Brun pâle","RAL 8012 Brun rouge","RAL 8012 Brun rouge","RAL 9016 Blanc signalisation",null,"RAL 9016 Blanc signalisation","RAL 9016 Blanc signalisation","RAL 9016 Blanc signalisation","RAL 9016 Blanc signalisation",null,{"$f":"IF(NOT(ISBLANK((INDIRECT(CONCATENATE(\"TabFinInt[\",RELEVE_COTES!$C$11,\"]\"))))),INDIRECT(CONCATENATE(\"TabFinInt[\",RELEVE_COTES!$C$11,\"]\",\"\")),\"\")","v":{"$error":"#VALUE!"}},{"$error":"#VALUE!"},null,"Chêne cigare brut","Chêne cigare brut","LAQUE"]
[null,null,null,null,null,null,null,null,null,null,null,null,null,null,null,null,null,null,null,null,null,null,null,null,null,null,null,null,null,null,null,null,null,null,null,null,null,null,null,null,null,null,null,null,null,null,null,null,null,null,null,null,null,null,null,null,null,null,null,null,null,null,null,null,null,null,null,null,null,null,null,null,null,null,null,null,null,null,null,null,null,null,null,null,null,null,null,null,null,null,null,null,null,null,null,null,null,null,null,null,null,null,"3 pts FERCO Secury PP MR2 - T1700 - axe à 50","5 pts A2P** VACHETTE 5900 SGN2 - T1700 - axe à 50","3 pts FERCO Secury PP MR2 - T1700 - axe à 50","5 pts A2P** VACHETTE 5900 SGN2 - T1700 - axe à 50","5 pts A2P** VACHETTE 5900 SGN2 - T1700 - axe à 50",null,"3 pts FERCO Secury PP MR2 - T1700 - axe à 50",null,"3 pts FERCO Secury PP MR2 - T1700 - axe à 50",null,"5 pts A2P* VACHETTE 5900 SGN1 - T2040 - axe à 120","3 pts FERCO Secury PP MR2 - T1700 - axe à 50","SALTO XS4 One (Coffre EURO Vachette) - axe à 50",null,null,null,null,"5 pts BRICARD 8162-A8 A2P** - axe à 50",null,"5 pts BRICARD 8162-A8 A2P** - axe à 50","5 pts BRICARD 8162-A8 A2P** - axe à 50",null,null,null,null,null,null,null,null,null,null,null,{"$f":"IF(NOT(ISBLANK((INDIRECT(CONCATENATE(\"TabSerrure[\",RELEVE_COTES!$C$11,\"]\"))))),INDIRECT(CONCATENATE(\"TabSerrure[\",RELEVE_COTES!$C$11,\"]\")),\"\")","v":{"$error":"#VALUE!"}},{"$f":"IF(REF!$EE50<>\"\",1,0)","v":{"$error":"#VALUE!"}},null,"5 pts A2P* VACHETTE 5700 SPN1 - T2040 - axe à 50","5PTS_V5700",1045,1020,25,1830,"SANS",null,null,null,null,null,null,null,null,null,null,null,null,null,null,null,null,null,"Odile",null,null,null,null,null,null,null,null,"Osiris","Osiris",null,null,null,null,null,null,null,{"$f":"IF(NOT(ISBLANK((INDIRECT(CONCATENATE(\"TabDécorExt[\",RELEVE_COTES!$C$11,\"]\"))))),INDIRECT(CONCATENATE(\"TabDécorExt[\",RELEVE_COTES!$C$11,\"]\",\"\")),\"\")","v":{"$error":"#VALUE!"}},{"$error":"#VALUE!"},null,null,null,null,null,null,null,null,null,null,null,null,null,null,null,null,null,null,null,null,null,null,null,null,"RAL 8019 Brun gris","RAL 9001 Blanc crème",null,null,null,null,null,null,null,null,null,null,{"$f":"IF(NOT(ISBLANK((INDIRECT(CONCATENATE(\"TabFinExt[\",RELEVE_COTES!$C$11,\"]\"))))),INDIRECT(CONCATENATE(\"TabFinExt[\",RELEVE_COTES!$C$11,\"]\",\"\")),\"\")","v":{"$error":"#VALUE!"}},{"$error":"#VALUE!"},null,null,null,null,null,null,null,null,null,null,null,null,null,null,"Osiris",null,null,null,null,null,null,null,null,"Osiris","Osiris",null,null,null,null,null,null,null,{"$f":"IF(NOT(ISBLANK((INDIRECT(CONCATENATE(\"TabDécorInt[\",RELEVE_COTES!$C$11,\"]\"))))),INDIRECT(CONCATENATE(\"TabDécorInt[\",RELEVE_COTES!$C$11,\"]\",\"\")),\"\")","v":{"$error":"#VALUE!"}},{"$error":"#VALUE!"},null,null,null,null,null,null,null,null,null,null,null,null,null,null,"RAL 8019 Brun gris","RAL 8019 Brun gris","RAL 9001 Blanc crème","RAL 8019 Brun gris","RAL 9001 Blanc crème","RAL 8019 Brun gris","RAL 8019 Brun gris","RAL 9001 Blanc crème","RAL 9001 Blanc crème","RAL 8019 Brun gris","RAL 8019 Brun gris",null,null,null,null,null,null,null,{"$f":"IF(NOT(ISBLANK((INDIRECT(CONCATENATE(\"TabFinInt[\",RELEVE_COTES!$C$11,\"]\"))))),INDIRECT(CONCATENATE(\"TabFinInt[\",RELEVE_COTES!$C$11,\"]\",\"\")),\"\")","v":{"$error":"#VALUE!"}},{"$error":"#VALUE!"},null,"Chêne flanelle brut","Chêne flanelle brut","LAQUE"]
[null,null,null,null,null,null,null,null,null,null,null,null,null,null,null,null,null,null,null,null,null,null,null,null,null,null,null,null,null,null,null,null,null,null,null,null,null,null,null,null,null,null,null,null,null,null,null,null,null,null,null,null,null,null,null,null,null,null,null,null,null,null,null,null,null,null,null,null,null,null,null,null,null,null,null,null,null,null,null,null,null,null,null,null,null,null,null,null,null,null,null,null,null,null,null,null,null,null,null,null,null,null,"3 pts FERCO Secury PP MR2 - T2040 - axe à 120","5 pts A2P** VACHETTE 5900 SGN2 - T2040 - axe à 50","3 pts FERCO Secury PP MR2 - T2040 - axe à 120","5 pts A2P** VACHETTE 5900 SGN2 - T2040 - axe à 50","5 pts A2P** VACHETTE 5900 SGN2 - T2040 - axe à 50",null,"3 pts FERCO Secury PP MR2 - T2040 - axe à 120",null,"3 pts FERCO Secury PP MR2 - T2040 - axe à 120",null,"5 pts A2P* VACHETTE 5900 SPN1 - T1700 - axe à 50","3 pts FERCO Secury PP MR2 - T2040 - axe à 120",null,null,null,null,null,"5 pts FERCO SECURY PP 50/70 MR4 A2P* - axe à 50",null,"5 pts FERCO SECURY PP 50/70 MR4 A2P* - axe à 50","5 pts FERCO SECURY PP 50/70 MR4 A2P* - axe à 50",null,null,null,null,null,null,null,null,null,null,null,{"$f":"IF(NOT(ISBLANK((INDIRECT(CONCATENATE(\"TabSerrure[\",RELEVE_COTES!$C$11,\"]\"))))),INDIRECT(CONCATENATE(\"TabSerrure[\",RELEVE_COTES!$C$11,\"]\")),\"\")","v":{"$error":"#VALUE!"}},{"$f":"IF(REF!$EE51<>\"\",1,0)","v":{"$error":"#VALUE!"}},null,"5 pts A2P* VACHETTE 5900 SPN1 - T1700 - axe à 50","5PTS_V5900",1045,1020,25,1830,"SANS",null,null,null,null,null,null,null,null,null,null,null,null,null,null,null,null,null,"Olga",null,null,null,null,null,null,null,null,"Osmose","Osmose",null,null,null,null,null,null,null,{"$f":"IF(NOT(ISBLANK((INDIRECT(CONCATENATE(\"TabDécorExt[\",RELEVE_COTES!$C$11,\"]\"))))),INDIRECT(CONCATENATE(\"TabDécorExt[\",RELEVE_COTES!$C$11,\"]\",\"\")),\"\")","v":{"$error":"#VALUE!"}},{"$error":"#VALUE!"},null,null,null,null,null,null,null,null,null,null,null,null,null,null,null,null,null,null,null,null,null,null,null,null,"RAL 8025 Brun pâle","RAL 9002 Blanc gris",null,null,null,null,null,null,null,null,null,null,{"$f":"IF(NOT(ISBLANK((INDIRECT(CONCATENATE(\"TabFinExt[\",RELEVE_COTES!$C$11,\"]\"))))),INDIRECT(CONCATENATE(\"TabFinExt[\",RELEVE_COTES!$C$11,\"]\",\"\")),\"\")","v":{"$error":"#VALUE!"}},{"$error":"#VALUE!"},null,null,null,null,null,null,null,null,null,null,null,null,null,null,"Osmose",null,null,null,null,null,null,null,null,"Osmose","Osmose",null,null,null,null,null,null,null,{"$f":"IF(NOT(ISBLANK((INDIRECT(CONCATENATE(\"TabDécorInt[\",RELEVE_COTES!$C$11,\"]\"))))),INDIRECT(CONCATENATE(\"TabDécorInt[\",RELEVE_COTES!$C$11,\"]\",\"\")),\"\")","v":{"$error":"#VALUE!"}},{"$error":"#VALUE!"},null,null,null,null,null,null,null,null,null,null,null,null,null,null,"RAL 8025 Brun pâle","RAL 8025 Brun pâle","RAL 9002 Blanc gris","RAL 8025 Brun pâle","RAL 9002 Blanc gris","RAL 8025 Brun pâle","RAL 8025 Brun pâle","RAL 9002 Blanc gris","RAL 9002 Blanc gris","RAL 8025 Brun pâle","RAL 8025 Brun pâle",null,null,null,null,null,null,null,{"$f":"IF(NOT(ISBLANK((INDIRECT(CONCATENATE(\"TabFinInt[\",RELEVE_COTES!$C$11,\"]\"))))),INDIRECT(CONCATENATE(\"TabFinInt[\",RELEVE_COTES!$C$11,\"]\",\"\")),\"\")","v":{"$error":"#VALUE!"}},{"$error":"#VALUE!"},null,"Chêne naturel","Chêne naturel","LAQUE"]
[null,null,null,null,null,null,null,null,null,null,null,null,null,null,null,null,null,null,null,null,null,null,null,null,null,null,null,null,null,null,null,null,null,null,null,null,null,null,null,null,null,null,null,null,null,null,null,null,null,null,null,null,null,null,null,null,null,null,null,null,null,null,null,null,null,null,null,null,null,null,null,null,null,null,null,null,null,null,null,null,null,null,null,null,null,null,null,null,null,null,null,null,null,null,null,null,null,null,null,null,null,null,"3 pts FERCO Secury PP MR2 - T2040 - axe à 50","5 pts A2P** VACHETTE 5900 TN2/FN2 - T1700 - axe à 50","3 pts FERCO Secury PP MR2 - T2040 - axe à 50","5 pts A2P** VACHETTE 5900 TN2/FN2 - T1700 - axe à 50","5 pts A2P** VACHETTE 5900 TN2/FN2 - T1700 - axe à 50",null,"3 pts FERCO Secury PP MR2 - T2040 - axe à 50",null,"3 pts FERCO Secury PP MR2 - T2040 - axe à 50",null,"5 pts A2P* VACHETTE 5900 SPN1 - T2040 - axe à 50","3 pts FERCO Secury PP MR2 - T2040 - axe à 50",null,null,null,null,null,"5 pts VACHETTE V5090 A2P* A120 XL SGN1 - axe à 120",null,"5 pts VACHETTE V5090 A2P* A120 XL SGN1 - axe à 120","5 pts VACHETTE V5090 A2P* A120 XL SGN1 - axe à 120",null,null,null,null,null,null,null,null,null,null,null,{"$f":"IF(NOT(ISBLANK((INDIRECT(CONCATENATE(\"TabSerrure[\",RELEVE_COTES!$C$11,\"]\"))))),INDIRECT(CONCATENATE(\"TabSerrure[\",RELEVE_COTES!$C$11,\"]\")),\"\")","v":{"$error":"#VALUE!"}},{"$f":"IF(REF!$EE52<>\"\",1,0)","v":{"$error":"#VALUE!"}},null,"5 pts A2P* VACHETTE 5900 SPN1 - T2040 - axe à 50","5PTS_V5900",1045,1020,25,1830,"SANS",null,null,null,null,null,null,null,null,null,null,null,null,null,null,null,null,null,"Olivia",null,null,null,null,null,null,null,null,"Paola","Paola",null,null,null,null,null,null,null,{"$f":"IF(NOT(ISBLANK((INDIRECT(CONCATENATE(\"TabDécorExt[\",RELEVE_COTES!$C$11,\"]\"))))),INDIRECT(CONCATENATE(\"TabDécorExt[\",RELEVE_COTES!$C$11,\"]\",\"\")),\"\")","v":{"$error":"#VALUE!"}},{"$error":"#VALUE!"},null,null,null,null,null,null,null,null,null,null,null,null,null,null,null,null,null,null,null,null,null,null,null,null,"RAL 9001 Blanc crème","RAL 9003 Blanc de sécurité",null,null,null,null,null,null,null,null,null,null,{"$f":"IF(NOT(ISBLANK((INDIRECT(CONCATENATE(\"TabFinExt[\",RELEVE_COTES!$C$11,\"]\"))))),INDIRECT(CONCATENATE(\"TabFinExt[\",RELEVE_COTES!$C$11,\"]\",\"\")),\"\")","v":{"$error":"#VALUE!"}},{"$error":"#VALUE!"},null,null,null,null,null,null,null,null,null,null,null,null,null,null,"Paola",null,null,null,null,null,null,null,null,"Paola","Paola",null,null,null,null,null,null,null,{"$f":"IF(NOT(ISBLANK((INDIRECT(CONCATENATE(\"TabDécorInt[\",RELEVE_COTES!$C$11,\"]\"))))),INDIRECT(CONCATENATE(\"TabDécorInt[\",RELEVE_COTES!$C$11,\"]\",\"\")),\"\")","v":{"$error":"#VALUE!"}},{"$error":"#VALUE!"},null,null,null,null,null,null,null,null,null,null,null,null,null,null,"RAL 9001 Blanc crème","RAL 9001 Blanc crème","RAL 9003 Blanc de sécurité","RAL 9001 Blanc crème","RAL 9003 Blanc de sécurité","RAL 9001 Blanc crème","RAL 9001 Blanc crème","RAL 9003 Blanc de sécurité","RAL 9003 Blanc de sécurité","RAL 9001 Blanc crème","RAL 9001 Blanc crème",null,null,null,null,null,null,null,{"$f":"IF(NOT(ISBLANK((INDIRECT(CONCATENATE(\"TabFinInt[\",RELEVE_COTES!$C$11,\"]\"))))),INDIRECT(CONCATENATE(\"TabFinInt[\",RELEVE_COTES!$C$11,\"]\",\"\")),\"\")","v":{"$error":"#VALUE!"}},{"$error":"#VALUE!"},null,"Frêne blanc","Frêne blanc","LAQUE"]
[null,null,null,null,null,null,null,null,null,null,null,null,null,null,null,null,null,null,null,null,null,null,null,null,null,null,null,null,null,null,null,null,null,null,null,null,null,null,null,null,null,null,null,null,null,null,null,null,null,null,null,null,null,null,null,null,null,null,null,null,null,null,null,null,null,null,null,null,null,null,null,null,null,null,null,null,null,null,null,null,null,null,null,null,null,null,null,null,null,null,null,null,null,null,null,null,null,null,null,null,null,null,"3 pts VACHETTE 5000 - T1700 - axe à 120","5 pts A2P** VACHETTE 5900 TN2/FN2 - T2040 - axe à 50","3 pts VACHETTE 5000 - T1700 - axe à 120","5 pts A2P** VACHETTE 5900 TN2/FN2 - T2040 - axe à 50","5 pts A2P** VACHETTE 5900 TN2/FN2 - T2040 - axe à 50",null,"3 pts VACHETTE 5000 - T1700 - axe à 120",null,"3 pts VACHETTE 5000 - T1700 - axe à 120",null,"5 pts A2P* VACHETTE 5900 SPN1 - T2040 et entrebailleur - axe à 50","3 pts VACHETTE 5000 - T1700 - axe à 120",null,null,null,null,null,"5 pts VACHETTE V5090 SGN2 A2P** - axe à 50",null,"5 pts VACHETTE V5090 SGN2 A2P** - axe à 50","5 pts VACHETTE V5090 SGN2 A2P** - axe à 50",null,null,null,null,null,null,null,null,null,null,null,{"$f":"IF(NOT(ISBLANK((INDIRECT(CONCATENATE(\"TabSerrure[\",RELEVE_COTES!$C$11,\"]\"))))),INDIRECT(CONCATENATE(\"TabSerrure[\",RELEVE_COTES!$C$11,\"]\")),\"\")","v":{"$error":"#VALUE!"}},{"$f":"IF(REF!$EE53<>\"\",1,0)","v":{"$error":"#VALUE!"}},null,"5 pts A2P* BRICARD 8161/A3 - T2040 - axe à 50","3PTS_V5700",1045,1020,25,1830,"SANS",null,null,null,null,null,null,null,null,null,null,null,null,null,null,null,null,null,"Olivia centre",null,null,null,null,null,null,null,null,"Plénitude","Plénitude",null,null,null,null,null,null,null,{"$f":"IF(NOT(ISBLANK((INDIRECT(CONCATENATE(\"TabDécorExt[\",RELEVE_COTES!$C$11,\"]\"))))),INDIRECT(CONCATENATE(\"TabDécorExt[\",RELEVE_COTES!$C$11,\"]\",\"\")),\"\")","v":{"$error":"#VALUE!"}},{"$error":"#VALUE!"},null,null,null,null,null,null,null,null,null,null,null,null,null,null,null,null,null,null,null,null,null,null,null,null,"RAL 9002 Blanc gris","RAL 9016 Blanc signalisation",null,null,null,null,null,null,null,null,null,null,{"$f":"IF(NOT(ISBLANK((INDIRECT(CONCATENATE(\"TabFinExt[\",RELEVE_COTES!$C$11,\"]\"))))),INDIRECT(CONCATENATE(\"TabFinExt[\",RELEVE_COTES!$C$11,\"]\",\"\")),\"\")","v":{"$error":"#VALUE!"}},{"$error":"#VALUE!"},null,null,null,null,null,null,null,null,null,null,null,null,null,null,"Plénitude",null,null,null,null,null,null,null,null,"Plénitude","Plénitude",null,null,null,null,null,null,null,{"$f":"IF(NOT(ISBLANK((INDIRECT(CONCATENATE(\"TabDécorInt[\",RELEVE_COTES!$C$11,\"]\"))))),INDIRECT(CONCATENATE(\"TabDécorInt[\",RELEVE_COTES!$C$11,\"]\",\"\")),\"\")","v":{"$error":"#VALUE!"}},{"$error":"#VALUE!"},null,null,null,null,null,null,null,null,null,null,null,null,null,null,"RAL 9002 Blanc gris","RAL 9002 Blanc gris","RAL 9016 Blanc signalisation","RAL 9002 Blanc gris","RAL 9016 Blanc signalisation","RAL 9002 Blanc gris","RAL 9002 Blanc gris","RAL 9016 Blanc signalisation","RAL 9016 Blanc signalisation","RAL 9002 Blanc gris","RAL 9002 Blanc gris",null,null,null,null,null,null,null,{"$f":"IF(NOT(ISBLANK((INDIRECT(CONCATENATE(\"TabFinInt[\",RELEVE_COTES!$C$11,\"]\"))))),INDIRECT(CONCATENATE(\"TabFinInt[\",RELEVE_COTES!$C$11,\"]\",\"\")),\"\")","v":{"$error":"#VALUE!"}},{"$error":"#VALUE!"},null,"Hêtre naturel","Hêtre naturel","LAQUE"]
[null,null,null,null,null,null,null,null,null,null,null,null,null,null,null,null,null,null,null,null,null,null,null,null,null,null,null,null,null,null,null,null,null,null,null,null,null,null,null,null,null,null,null,null,null,null,null,null,null,null,null,null,null,null,null,null,null,null,null,null,null,null,null,null,null,null,null,null,null,null,null,null,null,null,null,null,null,null,null,null,null,null,null,null,null,null,null,null,null,null,null,null,null,null,null,null,null,null,null,null,null,null,"3 pts VACHETTE 5000 - T1700 - axe à 50","5 pts VACHETTE 5700 - T2040 - axe à 50","3 pts VACHETTE 5000 - T1700 - axe à 50","5 pts VACHETTE 5700 - T2040 - axe à 50","5 pts VACHETTE 5700 - T2040 - axe à 50",null,"3 pts VACHETTE 5000 - T1700 - axe à 50",null,"3 pts VACHETTE 5000 - T1700 - axe à 50",null,"5 pts VACHETTE 5700 - T2040 - axe à 50","3 pts VACHETTE 5000 - T1700 - axe à 50",null,null,null,null,null,"5 pts VACHETTE V5090 SPN1 A2P* - axe à 50",null,"5 pts VACHETTE V5090 SPN1 A2P* - axe à 50","5 pts VACHETTE V5090 SPN1 A2P* - axe à 50",null,null,null,null,null,null,null,null,null,null,null,{"$f":"IF(NOT(ISBLANK((INDIRECT(CONCATENATE(\"TabSerrure[\",RELEVE_COTES!$C$11,\"]\"))))),INDIRECT(CONCATENATE(\"TabSerrure[\",RELEVE_COTES!$C$11,\"]\")),\"\")","v":{"$error":"#VALUE!"}},{"$f":"IF(REF!$EE54<>\"\",1,0)","v":{"$error":"#VALUE!"}},null,"5 pts A2P* BRICARD 8161/A4 - T2040 - axe à 50","3PTS_V5900",1045,1020,25,1830,"SANS",null,null,null,null,null,null,null,null,null,null,null,null,null,null,null,null,null,"Olivia CS",null,null,null,null,null,null,null,null,"Régate","Régate",null,null,null,null,null,null,null,{"$f":"IF(NOT(ISBLANK((INDIRECT(CONCATENATE(\"TabDécorExt[\",RELEVE_COTES!$C$11,\"]\"))))),INDIRECT(CONCATENATE(\"TabDécorExt[\",RELEVE_COTES!$C$11,\"]\",\"\")),\"\")","v":{"$error":"#VALUE!"}},{"$error":"#VALUE!"},null,null,null,null,null,null,null,null,null,null,null,null,null,null,null,null,null,null,null,null,null,null,null,null,"RAL 9003 Blanc de sécurité",null,null,null,null,null,null,null,null,null,null,null,{"$f":"IF(NOT(ISBLANK((INDIRECT(CONCATENATE(\"TabFinExt[\",RELEVE_COTES!$C$11,\"]\"))))),INDIRECT(CONCATENATE(\"TabFinExt[\",RELEVE_COTES!$C$11,\"]\",\"\")),\"\")","v":{"$error":"#VALUE!"}},{"$error":"#VALUE!"},null,null,null,null,null,null,null,null,null,null,null,null,null,null,"Régate",null,null,null,null,null,null,null,null,"Régate","Régate",null,null,null,null,null,null,null,{"$f":"IF(NOT(ISBLANK((INDIRECT(CONCATENATE(\"TabDécorInt[\",RELEVE_COTES!$C$11,\"]\"))))),INDIRECT(CONCATENATE(\"TabDécorInt[\",RELEVE_COTES!$C$11,\"]\",\"\")),\"\")","v":{"$error":"#VALUE!"}},{"$error":"#VALUE!"},null,null,null,null,null,null,null,null,null,null,null,null,null,null,"RAL 9003 Blanc de sécurité","RAL 9003 Blanc de sécurité",null,"RAL 9003 Blanc de sécurité",null,"RAL 9003 Blanc de sécurité","RAL 9003 Blanc de sécurité",null,null,"RAL 9003 Blanc de sécurité","RAL 9003 Blanc de sécurité",null,null,null,null,null,null,null,{"$f":"IF(NOT(ISBLANK((INDIRECT(CONCATENATE(\"TabFinInt[\",RELEVE_COTES!$C$11,\"]\"))))),INDIRECT(CONCATENATE(\"TabFinInt[\",RELEVE_COTES!$C$11,\"]\",\"\")),\"\")","v":{"$error":"#VALUE!"}},{"$error":"#VALUE!"},null,"Merisier romana","Merisier romana","LAQUE"]
[null,null,null,null,null,null,null,null,null,null,null,null,null,null,null,null,null,null,null,null,null,null,null,null,null,null,null,null,null,null,null,null,null,null,null,null,null,null,null,null,null,null,null,null,null,null,null,null,null,null,null,null,null,null,null,null,null,null,null,null,null,null,null,null,null,null,null,null,null,null,null,null,null,null,null,null,null,null,null,null,null,null,null,null,null,null,null,null,null,null,null,null,null,null,null,null,null,null,null,null,null,null,"3 pts VACHETTE 5000 - T2040 - axe à 120","5 pts VACHETTE 5900 - T1700 - axe à 50","3 pts VACHETTE 5000 - T2040 - axe à 120","5 pts VACHETTE 5900 - T1700 - axe à 50","5 pts VACHETTE 5900 - T1700 - axe à 50",null,"3 pts VACHETTE 5000 - T2040 - axe à 120",null,"3 pts VACHETTE 5000 - T2040 - axe à 120",null,"5 pts VACHETTE 5900 - T1700 - axe à 120","3 pts VACHETTE 5000 - T2040 - axe à 120",null,null,null,null,null,"5 pts VACHETTE V5700 SGN2 A2P** - axe à 50",null,"5 pts VACHETTE V5700 SGN2 A2P** - axe à 50","5 pts VACHETTE V5090 SPN1 A2P* avec entrebailleur - axe à 50",null,null,null,null,null,null,null,null,null,null,null,{"$f":"IF(NOT(ISBLANK((INDIRECT(CONCATENATE(\"TabSerrure[\",RELEVE_COTES!$C$11,\"]\"))))),INDIRECT(CONCATENATE(\"TabSerrure[\",RELEVE_COTES!$C$11,\"]\")),\"\")","v":{"$error":"#VALUE!"}},{"$f":"IF(REF!$EE55<>\"\",1,0)","v":{"$error":"#VALUE!"}},null,"5 pts A2P* BRICARD 8121/A3 - T2040 - axe à 120","5PTS_V5700",1045,1020,25,1830,"SANS",null,null,null,null,null,null,null,null,null,null,null,null,null,null,null,null,null,"Olympe",null,null,null,null,null,null,null,null,"Rivage","Rivage",null,null,null,null,null,null,null,{"$f":"IF(NOT(ISBLANK((INDIRECT(CONCATENATE(\"TabDécorExt[\",RELEVE_COTES!$C$11,\"]\"))))),INDIRECT(CONCATENATE(\"TabDécorExt[\",RELEVE_COTES!$C$11,\"]\",\"\")),\"\")","v":{"$error":"#VALUE!"}},{"$error":"#VALUE!"},null,null,null,null,null,null,null,null,null,null,null,null,null,null,null,null,null,null,null,null,null,null,null,null,"RAL 9016 Blanc signalisation",null,null,null,null,null,null,null,null,null,null,null,{"$f":"IF(NOT(ISBLANK((INDIRECT(CONCATENATE(\"TabFinExt[\",RELEVE_COTES!$C$11,\"]\"))))),INDIRECT(CONCATENATE(\"TabFinExt[\",RELEVE_COTES!$C$11,\"]\",\"\")),\"\")","v":{"$error":"#VALUE!"}},{"$error":"#VALUE!"},null,null,null,null,null,null,null,null,null,null,null,null,null,null,"Rivage",null,null,null,null,null,null,null,null,"Rivage","Rivage",null,null,null,null,null,null,null,{"$f":"IF(NOT(ISBLANK((INDIRECT(CONCATENATE(\"TabDécorInt[\",RELEVE_COTES!$C$11,\"]\"))))),INDIRECT(CONCATENATE(\"TabDécorInt[\",RELEVE_COTES!$C$11,\"]\",\"\")),\"\")","v":{"$error":"#VALUE!"}},{"$error":"#VALUE!"},null,null,null,null,null,null,null,null,null,null,null,null,null,null,"RAL 9016 Blanc signalisation","RAL 9016 Blanc signalisation",null,"RAL 9016 Blanc signalisation",null,"RAL 9016 Blanc signalisation","RAL 9016 Blanc signalisation",null,null,"RAL 9016 Blanc signalisation","RAL 9016 Blanc signalisation",null,null,null,null,null,null,null,{"$f":"IF(NOT(ISBLANK((INDIRECT(CONCATENATE(\"TabFinInt[\",RELEVE_COTES!$C$11,\"]\"))))),INDIRECT(CONCATENATE(\"TabFinInt[\",RELEVE_COTES!$C$11,\"]\",\"\")),\"\")","v":{"$error":"#VALUE!"}},{"$error":"#VALUE!"},null,"Noyer des Andes","Noyer des Andes","LAQUE"]
[null,null,null,null,null,null,null,null,null,null,null,null,null,null,null,null,null,null,null,null,null,null,null,null,null,null,null,null,null,null,null,null,null,null,null,null,null,null,null,null,null,null,null,null,null,null,null,null,null,null,null,null,null,null,null,null,null,null,null,null,null,null,null,null,null,null,null,null,null,null,null,null,null,null,null,null,null,null,null,null,null,null,null,null,null,null,null,null,null,null,null,null,null,null,null,null,null,null,null,null,null,null,"3 pts VACHETTE 5000 - T2040 - axe à 50","ASSA ABLOY APERIO E100 BASIC (Coffre EURO Bricard 8161/A1) - axe à 50","3 pts VACHETTE 5000 - T2040 - axe à 50","ASSA ABLOY APERIO E100 BASIC (Coffre EURO Bricard 8161/A1) - axe à 50","ASSA ABLOY APERIO E100 BASIC (Coffre EURO Bricard 8161/A1) - axe à 50",null,"3 pts VACHETTE 5000 - T2040 - axe à 50",null,"3 pts VACHETTE 5000 - T2040 - axe à 50",null,"5 pts VACHETTE 5900 - T1700 - axe à 50","3 pts VACHETTE 5000 - T2040 - axe à 50",null,null,null,null,null,"5 pts VACHETTE V5700 SGN2 A2P** avec entrebailleur - axe à 50",null,"5 pts VACHETTE V5700 SGN2 A2P** avec entrebailleur - axe à 50","5 pts VACHETTE V5700 SGN2 A2P** - axe à 50",null,null,null,null,null,null,null,null,null,null,null,{"$f":"IF(NOT(ISBLANK((INDIRECT(CONCATENATE(\"TabSerrure[\",RELEVE_COTES!$C$11,\"]\"))))),INDIRECT(CONCATENATE(\"TabSerrure[\",RELEVE_COTES!$C$11,\"]\")),\"\")","v":{"$error":"#VALUE!"}},{"$f":"IF(REF!$EE56<>\"\",1,0)","v":{"$error":"#VALUE!"}},null,"5 pts A2P* VACHETTE 5900 SGN1 - T2040 - axe à 120","5PTS_V5900",1045,1020,25,1830,"SANS",null,null,null,null,null,null,null,null,null,null,null,null,null,null,null,null,null,"Ophélie",null,null,null,null,null,null,null,null,"Romane","Romane",null,null,null,null,null,null,null,{"$f":"IF(NOT(ISBLANK((INDIRECT(CONCATENATE(\"TabDécorExt[\",RELEVE_COTES!$C$11,\"]\"))))),INDIRECT(CONCATENATE(\"TabDécorExt[\",RELEVE_COTES!$C$11,\"]\",\"\")),\"\")","v":{"$error":"#VALUE!"}},{"$error":"#VALUE!"},null,null,null,null,null,null,null,null,null,null,null,null,null,null,null,null,null,null,null,null,null,null,null,null,null,null,null,null,null,null,null,null,null,null,null,null,null,null,null,null,null,null,null,null,null,null,null,null,null,null,null,null,"Romane",null,null,null,null,null,null,null,null,"Romane","Romane",null,null,null,null,null,null,null,{"$f":"IF(NOT(ISBLANK((INDIRECT(CONCATENATE(\"TabDécorInt[\",RELEVE_COTES!$C$11,\"]\"))))),INDIRECT(CONCATENATE(\"TabDécorInt[\",RELEVE_COTES!$C$11,\"]\",\"\")),\"\")","v":{"$error":"#VALUE!"}},{"$error":"#VALUE!"},null,null,null,null,null,null,null,null,null,null,null,null,null,null,null,null,null,null,null,null,null,null,null,null,null,null,null,null,null,null,null,null,null,null,null,"Sésame","Sésame","LAQUE"]
[null,null,null,null,null,null,null,null,null,null,null,null,null,null,null,null,null,null,null,null,null,null,null,null,null,null,null,null,null,null,null,null,null,null,null,null,null,null,null,null,null,null,null,null,null,null,null,null,null,null,null,null,null,null,null,null,null,null,null,null,null,null,null,null,null,null,null,null,null,null,null,null,null,null,null,null,null,null,null,null,null,null,null,null,null,null,null,null,null,null,null,null,null,null,null,null,null,null,null,null,null,null,"3 pts VACHETTE 5000 - T2040 et entrebailleur - axe à 120","ASSA ABLOY APERIO E100 BASIC (Coffre EURO Marques) - axe à 50","3 pts VACHETTE 5000 - T2040 et entrebailleur - axe à 120","ASSA ABLOY APERIO E100 BASIC (Coffre EURO Marques) - axe à 50","ASSA ABLOY APERIO E100 BASIC (Coffre EURO Marques) - axe à 50",null,"3 pts VACHETTE 5000 - T2040 et entrebailleur - axe à 120",null,"3 pts VACHETTE 5000 - T2040 et entrebailleur - axe à 120",null,"5 pts VACHETTE 5900 - T2040 - axe à 120","3 pts VACHETTE 5000 - T2040 et entrebailleur - axe à 120",null,null,null,null,null,"5 pts VACHETTE V5700 SPN1 A2P* - axe à 50",null,"5 pts VACHETTE V5700 SPN1 A2P* - axe à 50","5 pts VACHETTE V5700 SGN2 A2P** avec entrebailleur - axe à 50",null,null,null,null,null,null,null,null,null,null,null,{"$f":"IF(NOT(ISBLANK((INDIRECT(CONCATENATE(\"TabSerrure[\",RELEVE_COTES!$C$11,\"]\"))))),INDIRECT(CONCATENATE(\"TabSerrure[\",RELEVE_COTES!$C$11,\"]\")),\"\")","v":{"$error":"#VALUE!"}},{"$f":"IF(REF!$EE57<>\"\",1,0)","v":{"$error":"#VALUE!"}},null,"5 pts A2P* VACHETTE 5700 SPN1 - T1700 - axe à 50","5PTS_V5700",1045,1020,25,1830,"SANS",null,null,null,null,null,null,null,null,null,null,null,null,null,null,null,null,null,"Orlane",null,null,null,null,null,null,null,null,"Rythme","Rythme",null,null,null,null,null,null,null,{"$f":"IF(NOT(ISBLANK((INDIRECT(CONCATENATE(\"TabDécorExt[\",RELEVE_COTES!$C$11,\"]\"))))),INDIRECT(CONCATENATE(\"TabDécorExt[\",RELEVE_COTES!$C$11,\"]\",\"\")),\"\")","v":{"$error":"#VALUE!"}},{"$error":"#VALUE!"},null,null,null,null,null,null,null,null,null,null,null,null,null,null,null,null,null,null,null,null,null,null,null,null,null,null,null,null,null,null,null,null,null,null,null,null,null,null,null,null,null,null,null,null,null,null,null,null,null,null,null,null,"Rythme",null,null,null,null,null,null,null,null,"Rythme","Rythme",null,null,null,null,null,null,null,{"$f":"IF(NOT(ISBLANK((INDIRECT(CONCATENATE(\"TabDécorInt[\",RELEVE_COTES!$C$11,\"]\"))))),INDIRECT(CONCATENATE(\"TabDécorInt[\",RELEVE_COTES!$C$11,\"]\",\"\")),\"\")","v":{"$error":"#VALUE!"}},{"$error":"#VALUE!"},null,null,null,null,null,null,null,null,null,null,null,null,null,null,null,null,null,null,null,null,null,null,null,null,null,null,null,null,null,null,null,null,null,null,null,"Wengé cannelé","Wengé cannelé","LAQUE"]
[null,null,null,null,null,null,null,null,null,null,null,null,null,null,null,null,null,null,null,null,null,null,null,null,null,null,null,null,null,null,null,null,null,null,null,null,null,null,null,null,null,null,null,null,null,null,null,null,null,null,null,null,null,null,null,null,null,null,null,null,null,null,null,null,null,null,null,null,null,null,null,null,null,null,null,null,null,null,null,null,null,null,null,null,null,null,null,null,null,null,null,null,null,null,null,null,null,null,null,null,null,null,"3 pts VACHETTE 5000 - T2040 et entrebailleur - axe à 50","ASSA ABLOY APERIO E100 BASIC (Coffre EURO Vachette) - axe à 50","3 pts VACHETTE 5000 - T2040 et entrebailleur - axe à 50","ASSA ABLOY APERIO E100 BASIC (Coffre EURO Vachette) - axe à 50","ASSA ABLOY APERIO E100 BASIC (Coffre EURO Vachette) - axe à 50",null,"3 pts VACHETTE 5000 - T2040 et entrebailleur - axe à 50",null,"3 pts VACHETTE 5000 - T2040 et entrebailleur - axe à 50",null,null,"3 pts VACHETTE 5000 - T2040 et entrebailleur - axe à 50",null,null,null,null,null,"5 pts VACHETTE V5700 SPN1 A2P* avec entrebailleur - axe à 50",null,"5 pts VACHETTE V5700 SPN1 A2P* avec entrebailleur - axe à 50","5 pts VACHETTE V5700 SPN1 A2P* - axe à 50",null,null,null,null,null,null,null,null,null,null,null,{"$f":"IF(NOT(ISBLANK((INDIRECT(CONCATENATE(\"TabSerrure[\",RELEVE_COTES!$C$11,\"]\"))))),INDIRECT(CONCATENATE(\"TabSerrure[\",RELEVE_COTES!$C$11,\"]\")),\"\")","v":{"$error":"#VALUE!"}},{"$f":"IF(REF!$EE58<>\"\",1,0)","v":{"$error":"#VALUE!"}},null,"ASSA ABLOY APERIO E100 BASIC (Coffre EURO Bricard 8161/A1) - axe à 50","3PTS_V5000",1045,1020,25,0,"SANS",null,null,null,null,null,null,null,null,null,null,null,null,null,null,null,null,null,"Ornella",null,null,null,null,null,null,null,null,"Sabine-","Sabine-",null,null,null,null,null,null,null,{"$f":"IF(NOT(ISBLANK((INDIRECT(CONCATENATE(\"TabDécorExt[\",RELEVE_COTES!$C$11,\"]\"))))),INDIRECT(CONCATENATE(\"TabDécorExt[\",RELEVE_COTES!$C$11,\"]\",\"\")),\"\")","v":{"$error":"#VALUE!"}},{"$error":"#VALUE!"},null,null,null,null,null,null,null,null,null,null,null,null,null,null,null,null,null,null,null,null,null,null,null,null,null,null,null,null,null,null,null,null,null,null,null,null,null,null,null,null,null,null,null,null,null,null,null,null,null,null,null,null,"Sabine-",null,null,null,null,null,null,null,null,"Sabine-","Sabine-",null,null,null,null,null,null,null,{"$f":"IF(NOT(ISBLANK((INDIRECT(CONCATENATE(\"TabDécorInt[\",RELEVE_COTES!$C$11,\"]\"))))),INDIRECT(CONCATENATE(\"TabDécorInt[\",RELEVE_COTES!$C$11,\"]\",\"\")),\"\")","v":{"$error":"#VALUE!"}},{"$error":"#VALUE!"},null,null,null,null,null,null,null,null,null,null,null,null,null,null,null,null,null,null,null,null,null,null,null,null,null,null,null,null,null,null,null,null,null,null,null,"Idem Face Extérieure","Idem","LAQUE"]
[null,null,null,null,null,null,null,null,null,null,null,null,null,null,null,null,null,null,null,null,null,null,null,null,null,null,null,null,null,null,null,null,null,null,null,null,null,null,null,null,null,null,null,null,null,null,null,null,null,null,null,null,null,null,null,null,null,null,null,null,null,null,null,null,null,null,null,null,null,null,null,null,null,null,null,null,null,null,null,null,null,null,null,null,null,null,null,null,null,null,null,null,null,null,null,null,null,null,null,null,null,null,"5 pts A2P* BRICARD 8121/A3 - T2040 - axe à 120","ASSA ABLOY APERIO E900 (Coffre EURO Bricard 8161/A1) - axe à 50","5 pts A2P* BRICARD 8121/A3 - T2040 - axe à 120","ASSA ABLOY APERIO E900 (Coffre EURO Bricard 8161/A1) - axe à 50","ASSA ABLOY APERIO E900 (Coffre EURO Bricard 8161/A1) - axe à 50",null,"5 pts A2P* BRICARD 8121/A3 - T2040 - axe à 120",null,"5 pts A2P* BRICARD 8121/A3 - T2040 - axe à 120",null,null,"5 pts A2P* BRICARD 8121/A3 - T2040 - axe à 120",null,null,null,null,null,"5 pts VACHETTE V5700 standard - axe à 50",null,"5 pts VACHETTE V5700 standard - axe à 50","5 pts VACHETTE V5700 SPN1 A2P* avec entrebailleur - axe à 50",null,null,null,null,null,null,null,null,null,null,null,{"$f":"IF(NOT(ISBLANK((INDIRECT(CONCATENATE(\"TabSerrure[\",RELEVE_COTES!$C$11,\"]\"))))),INDIRECT(CONCATENATE(\"TabSerrure[\",RELEVE_COTES!$C$11,\"]\")),\"\")","v":{"$error":"#VALUE!"}},{"$f":"IF(REF!$EE59<>\"\",1,0)","v":{"$error":"#VALUE!"}},null,"ASSA ABLOY APERIO L100 (Coffre EURO AL560) - axe à 55","1PT_D45",1045,1025,20,0,"SANS",null,null,null,null,null,null,null,null,null,null,null,null,null,null,null,null,null,"Orphée",null,null,null,null,null,null,null,null,"Sabrina","Sabrina",null,null,null,null,null,null,null,{"$f":"IF(NOT(ISBLANK((INDIRECT(CONCATENATE(\"TabDécorExt[\",RELEVE_COTES!$C$11,\"]\"))))),INDIRECT(CONCATENATE(\"TabDécorExt[\",RELEVE_COTES!$C$11,\"]\",\"\")),\"\")","v":{"$error":"#VALUE!"}},{"$error":"#VALUE!"},null,null,null,null,null,null,null,null,null,null,null,null,null,null,null,null,null,null,null,null,null,null,null,null,null,null,null,null,null,null,null,null,null,null,null,null,null,null,null,null,null,null,null,null,null,null,null,null,null,null,null,null,"Sabrina",null,null,null,null,null,null,null,null,"Sabrina","Sabrina",null,null,null,null,null,null,null,{"$f":"IF(NOT(ISBLANK((INDIRECT(CONCATENATE(\"TabDécorInt[\",RELEVE_COTES!$C$11,\"]\"))))),INDIRECT(CONCATENATE(\"TabDécorInt[\",RELEVE_COTES!$C$11,\"]\",\"\")),\"\")","v":{"$error":"#VALUE!"}},{"$error":"#VALUE!"},null,null,null,null,null,null,null,null,null,null,null,null,null,null,null,null,null,null,null,null,null,null,null,null,null,null,null,null,null,null,null,null,null,null,null,"RAL 1015 Ivoire clair",1015,"LAQUE"]
[null,null,null,null,null,null,null,null,null,null,null,null,null,null,null,null,null,null,null,null,null,null,null,null,null,null,null,null,null,null,null,null,null,null,null,null,null,null,null,null,null,null,null,null,null,null,null,null,null,null,null,null,null,null,null,null,null,null,null,null,null,null,null,null,null,null,null,null,null,null,null,null,null,null,null,null,null,null,null,null,null,null,null,null,null,null,null,null,null,null,null,null,null,null,null,null,null,null,null,null,null,null,"5 pts A2P* BRICARD 8161/A3 - T2040 - axe à 50","ASSA ABLOY APERIO E900 (Coffre EURO Marques) - axe à 50","5 pts A2P* BRICARD 8161/A3 - T2040 - axe à 50","ASSA ABLOY APERIO E900 (Coffre EURO Marques) - axe à 50","ASSA ABLOY APERIO E900 (Coffre EURO Marques) - axe à 50",null,"5 pts A2P* BRICARD 8161/A3 - T2040 - axe à 50",null,"5 pts A2P* BRICARD 8161/A3 - T2040 - axe à 50",null,null,"5 pts A2P* BRICARD 8161/A3 - T2040 - axe à 50",null,null,null,null,null,"5 pts VACHETTE V5700 standard avec entrebailleur - axe à 50",null,"5 pts VACHETTE V5700 standard avec entrebailleur - axe à 50","5 pts VACHETTE V5700 standard - axe à 50",null,null,null,null,null,null,null,null,null,null,null,{"$f":"IF(NOT(ISBLANK((INDIRECT(CONCATENATE(\"TabSerrure[\",RELEVE_COTES!$C$11,\"]\"))))),INDIRECT(CONCATENATE(\"TabSerrure[\",RELEVE_COTES!$C$11,\"]\")),\"\")","v":{"$error":"#VALUE!"}},{"$f":"IF(REF!$EE60<>\"\",1,0)","v":{"$error":"#VALUE!"}},null,"ASSA ABLOY APERIO L100 (Coffre EURO AL560) - axe à 60","1PT_D45",1045,1025,20,0,"SANS",null,null,null,null,null,null,null,null,null,null,null,null,null,null,null,null,null,"Osiris",null,null,null,null,null,null,null,null,"Sahra","Sahra",null,null,null,null,null,null,null,{"$f":"IF(NOT(ISBLANK((INDIRECT(CONCATENATE(\"TabDécorExt[\",RELEVE_COTES!$C$11,\"]\"))))),INDIRECT(CONCATENATE(\"TabDécorExt[\",RELEVE_COTES!$C$11,\"]\",\"\")),\"\")","v":{"$error":"#VALUE!"}},{"$error":"#VALUE!"},null,null,null,null,null,null,null,null,null,null,null,null,null,null,null,null,null,null,null,null,null,null,null,null,null,null,null,null,null,null,null,null,null,null,null,null,null,null,null,null,null,null,null,null,null,null,null,null,null,null,null,null,"Sahra",null,null,null,null,null,null,null,null,"Sahra","Sahra",null,null,null,null,null,null,null,{"$f":"IF(NOT(ISBLANK((INDIRECT(CONCATENATE(\"TabDécorInt[\",RELEVE_COTES!$C$11,\"]\"))))),INDIRECT(CONCATENATE(\"TabDécorInt[\",RELEVE_COTES!$C$11,\"]\",\"\")),\"\")","v":{"$error":"#VALUE!"}},{"$error":"#VALUE!"},null,null,null,null,null,null,null,null,null,null,null,null,null,null,null,null,null,null,null,null,null,null,null,null,null,null,null,null,null,null,null,null,null,null,null,"RAL 3004 Rouge pourpre",3004,"LAQUE"]
[null,null,null,null,null,null,null,null,null,null,null,null,null,null,null,null,null,null,null,null,null,null,null,null,null,null,null,null,null,null,null,null,null,null,null,null,null,null,null,null,null,null,null,null,null,null,null,null,null,null,null,null,null,null,null,null,null,null,null,null,null,null,null,null,null,null,null,null,null,null,null,null,null,null,null,null,null,null,null,null,null,null,null,null,null,null,null,null,null,null,null,null,null,null,null,null,null,null,null,null,null,null,"5 pts A2P* BRICARD 8161/A4 - T2040 - axe à 50","ASSA ABLOY APERIO E900 (Coffre EURO Vachette) - axe à 50","5 pts A2P* BRICARD 8161/A4 - T2040 - axe à 50","ASSA ABLOY APERIO E900 (Coffre EURO Vachette) - axe à 50","ASSA ABLOY APERIO E900 (Coffre EURO Vachette) - axe à 50",null,"5 pts A2P* BRICARD 8161/A4 - T2040 - axe à 50",null,"5 pts A2P* BRICARD 8161/A4 - T2040 - axe à 50",null,null,"5 pts A2P* BRICARD 8161/A4 - T2040 - axe à 50",null,null,null,null,null,"5 pts VACHETTE V5900 A2P*XL SGN1 avec entrebailleur intégré - axe à 120",null,"5 pts VACHETTE V5900 A2P*XL SGN1 avec entrebailleur intégré - axe à 120","5 pts VACHETTE V5700 standard avec entrebailleur - axe à 50",null,null,null,null,null,null,null,null,null,null,null,{"$f":"IF(NOT(ISBLANK((INDIRECT(CONCATENATE(\"TabSerrure[\",RELEVE_COTES!$C$11,\"]\"))))),INDIRECT(CONCATENATE(\"TabSerrure[\",RELEVE_COTES!$C$11,\"]\")),\"\")","v":{"$error":"#VALUE!"}},{"$f":"IF(REF!$EE61<>\"\",1,0)","v":{"$error":"#VALUE!"}},null,"ASSA ABLOY APERIO E100 BASIC (Coffre EURO Marques) - axe à 50","1PT_D45",1045,1020,25,0,"SANS",null,null,null,null,null,null,null,null,null,null,null,null,null,null,null,null,null,"Osmose",null,null,null,null,null,null,null,null,"Samantha","Samantha",null,null,null,null,null,null,null,{"$f":"IF(NOT(ISBLANK((INDIRECT(CONCATENATE(\"TabDécorExt[\",RELEVE_COTES!$C$11,\"]\"))))),INDIRECT(CONCATENATE(\"TabDécorExt[\",RELEVE_COTES!$C$11,\"]\",\"\")),\"\")","v":{"$error":"#VALUE!"}},{"$error":"#VALUE!"},null,null,null,null,null,null,null,null,null,null,null,null,null,null,null,null,null,null,null,null,null,null,null,null,null,null,null,null,null,null,null,null,null,null,null,null,null,null,null,null,null,null,null,null,null,null,null,null,null,null,null,null,"Samantha",null,null,null,null,null,null,null,null,"Samantha","Samantha",null,null,null,null,null,null,null,{"$f":"IF(NOT(ISBLANK((INDIRECT(CONCATENATE(\"TabDécorInt[\",RELEVE_COTES!$C$11,\"]\"))))),INDIRECT(CONCATENATE(\"TabDécorInt[\",RELEVE_COTES!$C$11,\"]\",\"\")),\"\")","v":{"$error":"#VALUE!"}},{"$error":"#VALUE!"},null,null,null,null,null,null,null,null,null,null,null,null,null,null,null,null,null,null,null,null,null,null,null,null,null,null,null,null,null,null,null,null,null,null,null,"RAL 5013 Bleu cobalt",5013,"LAQUE"]
[null,null,null,null,null,null,null,null,null,null,null,null,null,null,null,null,null,null,null,null,null,null,null,null,null,null,null,null,null,null,null,null,null,null,null,null,null,null,null,null,null,null,null,null,null,null,null,null,null,null,null,null,null,null,null,null,null,null,null,null,null,null,null,null,null,null,null,null,null,null,null,null,null,null,null,null,null,null,null,null,null,null,null,null,null,null,null,null,null,null,null,null,null,null,null,null,null,null,null,null,null,null,"5 pts A2P* VACHETTE 5700 SPN1 - T1700 - axe à 50","ASSA ABLOY APERIO L100 (Coffre EURO AL560) - axe à 55","5 pts A2P* VACHETTE 5700 SPN1 - T1700 - axe à 50","ASSA ABLOY APERIO L100 (Coffre EURO AL560) - axe à 55","ASSA ABLOY APERIO L100 (Coffre EURO AL560) - axe à 55",null,"5 pts A2P* VACHETTE 5700 SPN1 - T1700 - axe à 50",null,"5 pts A2P* VACHETTE 5700 SPN1 - T1700 - axe à 50",null,null,"5 pts A2P* VACHETTE 5700 SPN1 - T1700 - axe à 50",null,null,null,null,null,"5 pts VACHETTE V5900 SGN2 A2P** - axe à 50",null,"5 pts VACHETTE V5900 SGN2 A2P** - axe à 50","5 pts VACHETTE V5900 A2P*XL SGN1 avec entrebailleur intégré - axe à 120",null,null,null,null,null,null,null,null,null,null,null,{"$f":"IF(NOT(ISBLANK((INDIRECT(CONCATENATE(\"TabSerrure[\",RELEVE_COTES!$C$11,\"]\"))))),INDIRECT(CONCATENATE(\"TabSerrure[\",RELEVE_COTES!$C$11,\"]\")),\"\")","v":{"$error":"#VALUE!"}},{"$f":"IF(REF!$EE62<>\"\",1,0)","v":{"$error":"#VALUE!"}},null,"ASSA ABLOY APERIO E100 BASIC (Coffre EURO Vachette) - axe à 50","1PT_D45",1045,1020,25,0,"SANS",null,null,null,null,null,null,null,null,null,null,null,null,null,null,null,null,null,"Paola",null,null,null,null,null,null,null,null,"Samara","Samara",null,null,null,null,null,null,null,{"$f":"IF(NOT(ISBLANK((INDIRECT(CONCATENATE(\"TabDécorExt[\",RELEVE_COTES!$C$11,\"]\"))))),INDIRECT(CONCATENATE(\"TabDécorExt[\",RELEVE_COTES!$C$11,\"]\",\"\")),\"\")","v":{"$error":"#VALUE!"}},{"$error":"#VALUE!"},null,null,null,null,null,null,null,null,null,null,null,null,null,null,null,null,null,null,null,null,null,null,null,null,null,null,null,null,null,null,null,null,null,null,null,null,null,null,null,null,null,null,null,null,null,null,null,null,null,null,null,null,"Samara",null,null,null,null,null,null,null,null,"Samara","Samara",null,null,null,null,null,null,null,{"$f":"IF(NOT(ISBLANK((INDIRECT(CONCATENATE(\"TabDécorInt[\",RELEVE_COTES!$C$11,\"]\"))))),INDIRECT(CONCATENATE(\"TabDécorInt[\",RELEVE_COTES!$C$11,\"]\",\"\")),\"\")","v":{"$error":"#VALUE!"}},{"$error":"#VALUE!"},null,null,null,null,null,null,null,null,null,null,null,null,null,null,null,null,null,null,null,null,null,null,null,null,null,null,null,null,null,null,null,null,null,null,null,"RAL 7016 Gris anthracite",7016,"LAQUE"]
[null,null,null,null,null,null,null,null,null,null,null,null,null,null,null,null,null,null,null,null,null,null,null,null,null,null,null,null,null,null,null,null,null,null,null,null,null,null,null,null,null,null,null,null,null,null,null,null,null,null,null,null,null,null,null,null,null,null,null,null,null,null,null,null,null,null,null,null,null,null,null,null,null,null,null,null,null,null,null,null,null,null,null,null,null,null,null,null,null,null,null,null,null,null,null,null,null,null,null,null,null,null,"5 pts A2P* VACHETTE 5700 SPN1 - T2040 - axe à 50","ASSA ABLOY APERIO L100 (Coffre EURO AL560) - axe à 60","5 pts A2P* VACHETTE 5700 SPN1 - T2040 - axe à 50","ASSA ABLOY APERIO L100 (Coffre EURO AL560) - axe à 60","ASSA ABLOY APERIO L100 (Coffre EURO AL560) - axe à 60",null,"5 pts A2P* VACHETTE 5700 SPN1 - T2040 - axe à 50",null,"5 pts A2P* VACHETTE 5700 SPN1 - T2040 - axe à 50",null,null,"5 pts A2P* VACHETTE 5700 SPN1 - T2040 - axe à 50",null,null,null,null,null,"5 pts VACHETTE V5900 SGN2 A2P** avec entrebailleur - axe à 50",null,"5 pts VACHETTE V5900 SGN2 A2P** avec entrebailleur - axe à 50","5 pts VACHETTE V5900 SGN2 A2P** - axe à 50",null,null,null,null,null,null,null,null,null,null,null,{"$f":"IF(NOT(ISBLANK((INDIRECT(CONCATENATE(\"TabSerrure[\",RELEVE_COTES!$C$11,\"]\"))))),INDIRECT(CONCATENATE(\"TabSerrure[\",RELEVE_COTES!$C$11,\"]\")),\"\")","v":{"$error":"#VALUE!"}},{"$f":"IF(REF!$EE63<>\"\",1,0)","v":{"$error":"#VALUE!"}},null,"ASSA ABLOY APERIO E900 (Coffre EURO Bricard 8161/A1) - axe à 50","3PTS_V5000",1045,1020,25,0,"SANS",null,null,null,null,null,null,null,null,null,null,null,null,null,null,null,null,null,"Plénitude",null,null,null,null,null,null,null,null,"Sandra","Sandra",null,null,null,null,null,null,null,{"$f":"IF(NOT(ISBLANK((INDIRECT(CONCATENATE(\"TabDécorExt[\",RELEVE_COTES!$C$11,\"]\"))))),INDIRECT(CONCATENATE(\"TabDécorExt[\",RELEVE_COTES!$C$11,\"]\",\"\")),\"\")","v":{"$error":"#VALUE!"}},{"$error":"#VALUE!"},null,null,null,null,null,null,null,null,null,null,null,null,null,null,null,null,null,null,null,null,null,null,null,null,null,null,null,null,null,null,null,null,null,null,null,null,null,null,null,null,null,null,null,null,null,null,null,null,null,null,null,null,"Sandra",null,null,null,null,null,null,null,null,"Sandra","Sandra",null,null,null,null,null,null,null,{"$f":"IF(NOT(ISBLANK((INDIRECT(CONCATENATE(\"TabDécorInt[\",RELEVE_COTES!$C$11,\"]\"))))),INDIRECT(CONCATENATE(\"TabDécorInt[\",RELEVE_COTES!$C$11,\"]\",\"\")),\"\")","v":{"$error":"#VALUE!"}},{"$error":"#VALUE!"},null,null,null,null,null,null,null,null,null,null,null,null,null,null,null,null,null,null,null,null,null,null,null,null,null,null,null,null,null,null,null,null,null,null,null,"RAL 7022 Gris terre d’ombre",7022,"LAQUE"]
[null,null,null,null,null,null,null,null,null,null,null,null,null,null,null,null,null,null,null,null,null,null,null,null,null,null,null,null,null,null,null,null,null,null,null,null,null,null,null,null,null,null,null,null,null,null,null,null,null,null,null,null,null,null,null,null,null,null,null,null,null,null,null,null,null,null,null,null,null,null,null,null,null,null,null,null,null,null,null,null,null,null,null,null,null,null,null,null,null,null,null,null,null,null,null,null,null,null,null,null,null,null,"5 pts A2P* VACHETTE 5700 SPN1 - T2040 et entrebailleur - axe à 50","CISA eSIGNO (Coffre EURO APH3) - axe à 60","5 pts A2P* VACHETTE 5700 SPN1 - T2040 et entrebailleur - axe à 50","CISA eSIGNO (Coffre EURO APH3) - axe à 60","CISA eSIGNO (Coffre EURO APH3) - axe à 60",null,"5 pts A2P* VACHETTE 5700 SPN1 - T2040 et entrebailleur - axe à 50",null,"5 pts A2P* VACHETTE 5700 SPN1 - T2040 et entrebailleur - axe à 50",null,null,"5 pts A2P* VACHETTE 5700 SPN1 - T2040 et entrebailleur - axe à 50",null,null,null,null,null,"5 pts VACHETTE V5900 SPN1 A2P* - axe à 50",null,"5 pts VACHETTE V5900 SPN1 A2P* - axe à 50","5 pts VACHETTE V5900 SGN2 A2P** avec entrebailleur - axe à 50",null,null,null,null,null,null,null,null,null,null,null,{"$f":"IF(NOT(ISBLANK((INDIRECT(CONCATENATE(\"TabSerrure[\",RELEVE_COTES!$C$11,\"]\"))))),INDIRECT(CONCATENATE(\"TabSerrure[\",RELEVE_COTES!$C$11,\"]\")),\"\")","v":{"$error":"#VALUE!"}},{"$f":"IF(REF!$EE64<>\"\",1,0)","v":{"$error":"#VALUE!"}},null,"ASSA ABLOY APERIO E900 (Coffre EURO Marques) - axe à 50","1PT_D45",1045,1020,25,0,"SANS",null,null,null,null,null,null,null,null,null,null,null,null,null,null,null,null,null,"Régate",null,null,null,null,null,null,null,null,"Santana","Santana",null,null,null,null,null,null,null,{"$f":"IF(NOT(ISBLANK((INDIRECT(CONCATENATE(\"TabDécorExt[\",RELEVE_COTES!$C$11,\"]\"))))),INDIRECT(CONCATENATE(\"TabDécorExt[\",RELEVE_COTES!$C$11,\"]\",\"\")),\"\")","v":{"$error":"#VALUE!"}},{"$error":"#VALUE!"},null,null,null,null,null,null,null,null,null,null,null,null,null,null,null,null,null,null,null,null,null,null,null,null,null,null,null,null,null,null,null,null,null,null,null,null,null,null,null,null,null,null,null,null,null,null,null,null,null,null,null,null,"Santana",null,null,null,null,null,null,null,null,"Santana","Santana",null,null,null,null,null,null,null,{"$f":"IF(NOT(ISBLANK((INDIRECT(CONCATENATE(\"TabDécorInt[\",RELEVE_COTES!$C$11,\"]\"))))),INDIRECT(CONCATENATE(\"TabDécorInt[\",RELEVE_COTES!$C$11,\"]\",\"\")),\"\")","v":{"$error":"#VALUE!"}},{"$error":"#VALUE!"},null,null,null,null,null,null,null,null,null,null,null,null,null,null,null,null,null,null,null,null,null,null,null,null,null,null,null,null,null,null,null,null,null,null,null,"RAL 7032 Gris silex",7032,"LAQUE"]
[null,null,null,null,null,null,null,null,null,null,null,null,null,null,null,null,null,null,null,null,null,null,null,null,null,null,null,null,null,null,null,null,null,null,null,null,null,null,null,null,null,null,null,null,null,null,null,null,null,null,null,null,null,null,null,null,null,null,null,null,null,null,null,null,null,null,null,null,null,null,null,null,null,null,null,null,null,null,null,null,null,null,null,null,null,null,null,null,null,null,null,null,null,null,null,null,null,null,null,null,null,null,"5 pts A2P* VACHETTE 5900 SGN1 - T2040 - axe à 120","CISA eSIGNO (Coffre EURO APH3) - axe à 70","5 pts A2P* VACHETTE 5900 SGN1 - T2040 - axe à 120","CISA eSIGNO (Coffre EURO APH3) - axe à 70","CISA eSIGNO (Coffre EURO APH3) - axe à 70",null,"5 pts A2P* VACHETTE 5900 SGN1 - T2040 - axe à 120",null,"5 pts A2P* VACHETTE 5900 SGN1 - T2040 - axe à 120",null,null,"5 pts A2P* VACHETTE 5900 SGN1 - T2040 - axe à 120",null,null,null,null,null,"5 pts VACHETTE V5900 SPN1 A2P* avec entrebailleur - axe à 50",null,"5 pts VACHETTE V5900 SPN1 A2P* avec entrebailleur - axe à 50","5 pts VACHETTE V5900 SPN1 A2P* - axe à 50",null,null,null,null,null,null,null,null,null,null,null,{"$f":"IF(NOT(ISBLANK((INDIRECT(CONCATENATE(\"TabSerrure[\",RELEVE_COTES!$C$11,\"]\"))))),INDIRECT(CONCATENATE(\"TabSerrure[\",RELEVE_COTES!$C$11,\"]\")),\"\")","v":{"$error":"#VALUE!"}},{"$f":"IF(REF!$EE65<>\"\",1,0)","v":{"$error":"#VALUE!"}},null,"ASSA ABLOY APERIO E900 (Coffre EURO Vachette) - axe à 50","1PT_D45",1045,1020,25,0,"SANS",null,null,null,null,null,null,null,null,null,null,null,null,null,null,null,null,null,"Rivage",null,null,null,null,null,null,null,null,"Ségolène","Ségolène",null,null,null,null,null,null,null,{"$f":"IF(NOT(ISBLANK((INDIRECT(CONCATENATE(\"TabDécorExt[\",RELEVE_COTES!$C$11,\"]\"))))),INDIRECT(CONCATENATE(\"TabDécorExt[\",RELEVE_COTES!$C$11,\"]\",\"\")),\"\")","v":{"$error":"#VALUE!"}},{"$error":"#VALUE!"},null,null,null,null,null,null,null,null,null,null,null,null,null,null,null,null,null,null,null,null,null,null,null,null,null,null,null,null,null,null,null,null,null,null,null,null,null,null,null,null,null,null,null,null,null,null,null,null,null,null,null,null,"Ségolène",null,null,null,null,null,null,null,null,"Ségolène","Ségolène",null,null,null,null,null,null,null,{"$f":"IF(NOT(ISBLANK((INDIRECT(CONCATENATE(\"TabDécorInt[\",RELEVE_COTES!$C$11,\"]\"))))),INDIRECT(CONCATENATE(\"TabDécorInt[\",RELEVE_COTES!$C$11,\"]\",\"\")),\"\")","v":{"$error":"#VALUE!"}},{"$error":"#VALUE!"},null,null,null,null,null,null,null,null,null,null,null,null,null,null,null,null,null,null,null,null,null,null,null,null,null,null,null,null,null,null,null,null,null,null,null,"RAL 7035 Gris lumière",7035,"LAQUE"]
[null,null,null,null,null,null,null,null,null,null,null,null,null,null,null,null,null,null,null,null,null,null,null,null,null,null,null,null,null,null,null,null,null,null,null,null,null,null,null,null,null,null,null,null,null,null,null,null,null,null,null,null,null,null,null,null,null,null,null,null,null,null,null,null,null,null,null,null,null,null,null,null,null,null,null,null,null,null,null,null,null,null,null,null,null,null,null,null,null,null,null,null,null,null,null,null,null,null,null,null,null,null,"5 pts A2P* VACHETTE 5900 SPN1 - T1700 - axe à 50","CISA eSIGNO (Coffre EURO APH3) - axe à 80","5 pts A2P* VACHETTE 5900 SPN1 - T1700 - axe à 50","CISA eSIGNO (Coffre EURO APH3) - axe à 80","CISA eSIGNO (Coffre EURO APH3) - axe à 80",null,"5 pts A2P* VACHETTE 5900 SPN1 - T1700 - axe à 50",null,"5 pts A2P* VACHETTE 5900 SPN1 - T1700 - axe à 50",null,null,"5 pts A2P* VACHETTE 5900 SPN1 - T1700 - axe à 50",null,null,null,null,null,"5 pts VACHETTE V5900 standard - axe à 50",null,"5 pts VACHETTE V5900 standard - axe à 50","5 pts VACHETTE V5900 SPN1 A2P* avec entrebailleur - axe à 50",null,null,null,null,null,null,null,null,null,null,null,{"$f":"IF(NOT(ISBLANK((INDIRECT(CONCATENATE(\"TabSerrure[\",RELEVE_COTES!$C$11,\"]\"))))),INDIRECT(CONCATENATE(\"TabSerrure[\",RELEVE_COTES!$C$11,\"]\")),\"\")","v":{"$error":"#VALUE!"}},{"$f":"IF(REF!$EE66<>\"\",1,0)","v":{"$error":"#VALUE!"}},null,"CISA eSIGNO (Coffre EURO APH3) - axe à 60","CISA",1045,1013,32,0,"SANS",null,null,null,null,null,null,null,null,null,null,null,null,null,null,null,null,null,"Romane",null,null,null,null,null,null,null,null,"Shakira","Shakira",null,null,null,null,null,null,null,{"$f":"IF(NOT(ISBLANK((INDIRECT(CONCATENATE(\"TabDécorExt[\",RELEVE_COTES!$C$11,\"]\"))))),INDIRECT(CONCATENATE(\"TabDécorExt[\",RELEVE_COTES!$C$11,\"]\",\"\")),\"\")","v":{"$error":"#VALUE!"}},{"$error":"#VALUE!"},null,null,null,null,null,null,null,null,null,null,null,null,null,null,null,null,null,null,null,null,null,null,null,null,null,null,null,null,null,null,null,null,null,null,null,null,null,null,null,null,null,null,null,null,null,null,null,null,null,null,null,null,"Shakira",null,null,null,null,null,null,null,null,"Shakira","Shakira",null,null,null,null,null,null,null,{"$f":"IF(NOT(ISBLANK((INDIRECT(CONCATENATE(\"TabDécorInt[\",RELEVE_COTES!$C$11,\"]\"))))),INDIRECT(CONCATENATE(\"TabDécorInt[\",RELEVE_COTES!$C$11,\"]\",\"\")),\"\")","v":{"$error":"#VALUE!"}},{"$error":"#VALUE!"},null,null,null,null,null,null,null,null,null,null,null,null,null,null,null,null,null,null,null,null,null,null,null,null,null,null,null,null,null,null,null,null,null,null,null,"RAL 8014 Brun sépia",8014,"LAQUE"]
[null,null,null,null,null,null,null,null,null,null,null,null,null,null,null,null,null,null,null,null,null,null,null,null,null,null,null,null,null,null,null,null,null,null,null,null,null,null,null,null,null,null,null,null,null,null,null,null,null,null,null,null,null,null,null,null,null,null,null,null,null,null,null,null,null,null,null,null,null,null,null,null,null,null,null,null,null,null,null,null,null,null,null,null,null,null,null,null,null,null,null,null,null,null,null,null,null,null,null,null,null,null,"5 pts A2P* VACHETTE 5900 SPN1 - T2040 - axe à 50","CISA eSIGNO (Coffre EURO APH3) - axe à 90","5 pts A2P* VACHETTE 5900 SPN1 - T2040 - axe à 50","CISA eSIGNO (Coffre EURO APH3) - axe à 90","CISA eSIGNO (Coffre EURO APH3) - axe à 90",null,"5 pts A2P* VACHETTE 5900 SPN1 - T2040 - axe à 50",null,"5 pts A2P* VACHETTE 5900 SPN1 - T2040 - axe à 50",null,null,"5 pts A2P* VACHETTE 5900 SPN1 - T2040 - axe à 50",null,null,null,null,null,"5 pts VACHETTE V5900 standard avec entrebailleur - axe à 50",null,"5 pts VACHETTE V5900 standard avec entrebailleur - axe à 50","5 pts VACHETTE V5900 standard - axe à 50",null,null,null,null,null,null,null,null,null,null,null,{"$f":"IF(NOT(ISBLANK((INDIRECT(CONCATENATE(\"TabSerrure[\",RELEVE_COTES!$C$11,\"]\"))))),INDIRECT(CONCATENATE(\"TabSerrure[\",RELEVE_COTES!$C$11,\"]\")),\"\")","v":{"$error":"#VALUE!"}},{"$f":"IF(REF!$EE67<>\"\",1,0)","v":{"$error":"#VALUE!"}},null,"CISA eSIGNO (Coffre EURO APH3) - axe à 70","CISA",1045,1013,32,0,"SANS",null,null,null,null,null,null,null,null,null,null,null,null,null,null,null,null,null,"Rythme",null,null,null,null,null,null,null,null,"Shannel","Shannel",null,null,null,null,null,null,null,{"$f":"IF(NOT(ISBLANK((INDIRECT(CONCATENATE(\"TabDécorExt[\",RELEVE_COTES!$C$11,\"]\"))))),INDIRECT(CONCATENATE(\"TabDécorExt[\",RELEVE_COTES!$C$11,\"]\",\"\")),\"\")","v":{"$error":"#VALUE!"}},{"$f":"IF(FX67<>\"\",1,0)","v":{"$error":"#VALUE!"}},null,null,null,null,null,null,null,null,null,null,null,null,null,null,null,null,null,null,null,null,null,null,null,null,null,null,null,null,null,null,null,null,null,null,null,null,null,null,null,null,null,null,null,null,null,null,null,null,null,null,null,null,"Shannel",null,null,null,null,null,null,null,null,"Shannel","Shannel",null,null,null,null,null,null,null,{"$f":"IF(NOT(ISBLANK((INDIRECT(CONCATENATE(\"TabDécorInt[\",RELEVE_COTES!$C$11,\"]\"))))),INDIRECT(CONCATENATE(\"TabDécorInt[\",RELEVE_COTES!$C$11,\"]\",\"\")),\"\")","v":{"$error":"#VALUE!"}},{"$f":"IF(IR67<>\"\",1,0)","v":{"$error":"#VALUE!"}},null,null,null,null,null,null,null,null,null,null,null,null,null,null,null,null,null,null,null,null,null,null,null,null,null,null,null,null,null,null,null,null,null,null,null,"RAL 9005 Noir foncé",9005,"LAQUE"]
[null,null,null,null,null,null,null,null,null,null,null,null,null,null,null,null,null,null,null,null,null,null,null,null,null,null,null,null,null,null,null,null,null,null,null,null,null,null,null,null,null,null,null,null,null,null,null,null,null,null,null,null,null,null,null,null,null,null,null,null,null,null,null,null,null,null,null,null,null,null,null,null,null,null,null,null,null,null,null,null,null,null,null,null,null,null,null,null,null,null,null,null,null,null,null,null,null,null,null,null,null,null,"5 pts A2P* VACHETTE 5900 SPN1 - T2040 et entrebailleur - axe à 50","DORMA KABA 660 E (Coffre ESM) - axe à 70","5 pts A2P* VACHETTE 5900 SPN1 - T2040 et entrebailleur - axe à 50","DORMA KABA 660 E (Coffre ESM) - axe à 70","DORMA KABA 660 E (Coffre ESM) - axe à 70",null,"5 pts A2P* VACHETTE 5900 SPN1 - T2040 et entrebailleur - axe à 50",null,"5 pts A2P* VACHETTE 5900 SPN1 - T2040 et entrebailleur - axe à 50",null,null,"5 pts A2P* VACHETTE 5900 SPN1 - T2040 et entrebailleur - axe à 50",null,null,null,null,null,"non référencée",null,"non référencée","5 pts VACHETTE V5900 standard avec entrebailleur - axe à 50",null,null,null,null,null,null,null,null,null,null,null,{"$f":"IF(NOT(ISBLANK((INDIRECT(CONCATENATE(\"TabSerrure[\",RELEVE_COTES!$C$11,\"]\"))))),INDIRECT(CONCATENATE(\"TabSerrure[\",RELEVE_COTES!$C$11,\"]\")),\"\")","v":{"$error":"#VALUE!"}},{"$f":"IF(REF!$EE68<>\"\",1,0)","v":{"$error":"#VALUE!"}},null,"CISA eSIGNO (Coffre EURO APH3) - axe à 80","CISA",1045,1013,32,0,"SANS",null,null,null,null,null,null,null,null,null,null,null,null,null,null,null,null,null,"Sabine-",null,null,null,null,null,null,null,null,"Sirielle","Sirielle",null,null,null,null,null,null,null,{"$f":"IF(NOT(ISBLANK((INDIRECT(CONCATENATE(\"TabDécorExt[\",RELEVE_COTES!$C$11,\"]\"))))),INDIRECT(CONCATENATE(\"TabDécorExt[\",RELEVE_COTES!$C$11,\"]\",\"\")),\"\")","v":{"$error":"#VALUE!"}},{"$error":"#VALUE!"},null,null,null,null,null,null,null,null,null,null,null,null,null,null,null,null,null,null,null,null,null,null,null,null,null,null,null,null,null,null,null,null,null,null,null,null,null,null,null,null,null,null,null,null,null,null,null,null,null,null,null,null,"Sirielle",null,null,null,null,null,null,null,null,"Sirielle","Sirielle",null,null,null,null,null,null,null,{"$f":"IF(NOT(ISBLANK((INDIRECT(CONCATENATE(\"TabDécorInt[\",RELEVE_COTES!$C$11,\"]\"))))),INDIRECT(CONCATENATE(\"TabDécorInt[\",RELEVE_COTES!$C$11,\"]\",\"\")),\"\")","v":{"$error":"#VALUE!"}},{"$error":"#VALUE!"},null,null,null,null,null,null,null,null,null,null,null,null,null,null,null,null,null,null,null,null,null,null,null,null,null,null,null,null,null,null,null,null,null,null,null,"RAL 9010 Blanc pur",9010,"LAQUE"]
[null,null,null,null,null,null,null,null,null,null,null,null,null,null,null,null,null,null,null,null,null,null,null,null,null,null,null,null,null,null,null,null,null,null,null,null,null,null,null,null,null,null,null,null,null,null,null,null,null,null,null,null,null,null,null,null,null,null,null,null,null,null,null,null,null,null,null,null,null,null,null,null,null,null,null,null,null,null,null,null,null,null,null,null,null,null,null,null,null,null,null,null,null,null,null,null,null,null,null,null,null,null,"5 pts A2P** BRICARD 8162/A4 - T2040 - axe à 50","DORMA KABA 660 i (Coffre ESM) - axe à 70","5 pts A2P** BRICARD 8162/A4 - T2040 - axe à 50","DORMA KABA 660 i (Coffre ESM) - axe à 70","DORMA KABA 660 i (Coffre ESM) - axe à 70",null,"5 pts A2P** BRICARD 8162/A4 - T2040 - axe à 50",null,"5 pts A2P** BRICARD 8162/A4 - T2040 - axe à 50",null,null,"5 pts VACHETTE 5700 - T2040 - axe à 50",null,null,null,null,null,"Onity HT 22/24 Coffre EURO - axe à 70",null,"Onity HT 22/24 Coffre EURO - axe à 70","non référencée",null,null,null,null,null,null,null,null,null,null,null,{"$f":"IF(NOT(ISBLANK((INDIRECT(CONCATENATE(\"TabSerrure[\",RELEVE_COTES!$C$11,\"]\"))))),INDIRECT(CONCATENATE(\"TabSerrure[\",RELEVE_COTES!$C$11,\"]\")),\"\")","v":{"$error":"#VALUE!"}},{"$f":"IF(REF!$EE69<>\"\",1,0)","v":{"$error":"#VALUE!"}},null,"CISA eSIGNO (Coffre EURO APH3) - axe à 90","CISA",1045,1013,32,0,"SANS",null,null,null,null,null,null,null,null,null,null,null,null,null,null,null,null,null,"Sabrina",null,null,null,null,null,null,null,null,"Solène","Solène",null,null,null,null,null,null,null,{"$f":"IF(NOT(ISBLANK((INDIRECT(CONCATENATE(\"TabDécorExt[\",RELEVE_COTES!$C$11,\"]\"))))),INDIRECT(CONCATENATE(\"TabDécorExt[\",RELEVE_COTES!$C$11,\"]\",\"\")),\"\")","v":{"$error":"#VALUE!"}},{"$error":"#VALUE!"},null,null,null,null,null,null,null,null,null,null,null,null,null,null,null,null,null,null,null,null,null,null,null,null,null,null,null,null,null,null,null,null,null,null,null,null,null,null,null,null,null,null,null,null,null,null,null,null,null,null,null,null,"Solène",null,null,null,null,null,null,null,null,"Solène","Solène",null,null,null,null,null,null,null,{"$f":"IF(NOT(ISBLANK((INDIRECT(CONCATENATE(\"TabDécorInt[\",RELEVE_COTES!$C$11,\"]\"))))),INDIRECT(CONCATENATE(\"TabDécorInt[\",RELEVE_COTES!$C$11,\"]\",\"\")),\"\")","v":{"$error":"#VALUE!"}},{"$error":"#VALUE!"},null,null,null,null,null,null,null,null,null,null,null,null,null,null,null,null,null,null,null,null,null,null,null,null,null,null,null,null,null,null,null,null,null,null,null,"RAL 1019 Beige gris",1019,"LAQUE"]
[null,null,null,null,null,null,null,null,null,null,null,null,null,null,null,null,null,null,null,null,null,null,null,null,null,null,null,null,null,null,null,null,null,null,null,null,null,null,null,null,null,null,null,null,null,null,null,null,null,null,null,null,null,null,null,null,null,null,null,null,null,null,null,null,null,null,null,null,null,null,null,null,null,null,null,null,null,null,null,null,null,null,null,null,null,null,null,null,null,null,null,null,null,null,null,null,null,null,null,null,null,null,"5 pts A2P** VACHETTE 5900 SGN2 - T1700 - axe à 50","DORMA KABA 660 K (Coffre ESM) - axe à 70","5 pts A2P** VACHETTE 5900 SGN2 - T1700 - axe à 50","DORMA KABA 660 K (Coffre ESM) - axe à 70","DORMA KABA 660 K (Coffre ESM) - axe à 70",null,"5 pts A2P** VACHETTE 5900 SGN2 - T1700 - axe à 50",null,"5 pts A2P** VACHETTE 5900 SGN2 - T1700 - axe à 50",null,null,"5 pts VACHETTE 5900 - T1700 - axe à 120",null,null,null,null,null,"Vingcard Classic - axe à 80",null,"Vingcard Classic - axe à 80",null,null,null,null,null,null,null,null,null,null,null,null,{"$f":"IF(NOT(ISBLANK((INDIRECT(CONCATENATE(\"TabSerrure[\",RELEVE_COTES!$C$11,\"]\"))))),INDIRECT(CONCATENATE(\"TabSerrure[\",RELEVE_COTES!$C$11,\"]\")),\"\")","v":{"$error":"#VALUE!"}},{"$f":"IF(REF!$EE70<>\"\",1,0)","v":{"$error":"#VALUE!"}},null,"INHOVA DONNA (Coffre EURO 2UBO) - axe à 60","DONNA_INHOVA",1045,1012.5,32.5,0,"SANS",null,null,null,null,null,null,null,null,null,null,null,null,null,null,null,null,null,"Sahra",null,null,null,null,null,null,null,null,"Soline","Soline",null,null,null,null,null,null,null,{"$f":"IF(NOT(ISBLANK((INDIRECT(CONCATENATE(\"TabDécorExt[\",RELEVE_COTES!$C$11,\"]\"))))),INDIRECT(CONCATENATE(\"TabDécorExt[\",RELEVE_COTES!$C$11,\"]\",\"\")),\"\")","v":{"$error":"#VALUE!"}},{"$error":"#VALUE!"},null,null,null,null,null,null,null,null,null,null,null,null,null,null,null,null,null,null,null,null,null,null,null,null,null,null,null,null,null,null,null,null,null,null,null,null,null,null,null,null,null,null,null,null,null,null,null,null,null,null,null,null,"Soline",null,null,null,null,null,null,null,null,"Soline","Soline",null,null,null,null,null,null,null,{"$f":"IF(NOT(ISBLANK((INDIRECT(CONCATENATE(\"TabDécorInt[\",RELEVE_COTES!$C$11,\"]\"))))),INDIRECT(CONCATENATE(\"TabDécorInt[\",RELEVE_COTES!$C$11,\"]\",\"\")),\"\")","v":{"$error":"#VALUE!"}},{"$error":"#VALUE!"},null,null,null,null,null,null,null,null,null,null,null,null,null,null,null,null,null,null,null,null,null,null,null,null,null,null,null,null,null,null,null,null,null,null,null,"RAL 2001 Orangé rouge",2001,"LAQUE"]
[null,null,null,null,null,null,null,null,null,null,null,null,null,null,null,null,null,null,null,null,null,null,null,null,null,null,null,null,null,null,null,null,null,null,null,null,null,null,null,null,null,null,null,null,null,null,null,null,null,null,null,null,null,null,null,null,null,null,null,null,null,null,null,null,null,null,null,null,null,null,null,null,null,null,null,null,null,null,null,null,null,null,null,null,null,null,null,null,null,null,null,null,null,null,null,null,null,null,null,null,null,null,"5 pts A2P** VACHETTE 5900 SGN2 - T2040 - axe à 50","DORMA KABA 760 E (Coffre ESM) - axe à 70","5 pts A2P** VACHETTE 5900 SGN2 - T2040 - axe à 50","DORMA KABA 760 E (Coffre ESM) - axe à 70","DORMA KABA 760 E (Coffre ESM) - axe à 70",null,"5 pts A2P** VACHETTE 5900 SGN2 - T2040 - axe à 50",null,"5 pts A2P** VACHETTE 5900 SGN2 - T2040 - axe à 50",null,null,"5 pts VACHETTE 5900 - T1700 - axe à 50",null,null,null,null,null,"Vingcard Signature - axe à 80",null,"Vingcard Signature - axe à 80",null,null,null,null,null,null,null,null,null,null,null,null,{"$f":"IF(NOT(ISBLANK((INDIRECT(CONCATENATE(\"TabSerrure[\",RELEVE_COTES!$C$11,\"]\"))))),INDIRECT(CONCATENATE(\"TabSerrure[\",RELEVE_COTES!$C$11,\"]\")),\"\")","v":{"$error":"#VALUE!"}},{"$f":"IF(REF!$EE71<>\"\",1,0)","v":{"$error":"#VALUE!"}},null,"INHOVA DONNA (Coffre EURO 2UBO) - axe à 70","DONNA_INHOVA",1045,1012.5,32.5,0,"SANS",null,null,null,null,null,null,null,null,null,null,null,null,null,null,null,null,null,"Samantha",null,null,null,null,null,null,null,null,"Sonia","Sonia",null,null,null,null,null,null,null,{"$f":"IF(NOT(ISBLANK((INDIRECT(CONCATENATE(\"TabDécorExt[\",RELEVE_COTES!$C$11,\"]\"))))),INDIRECT(CONCATENATE(\"TabDécorExt[\",RELEVE_COTES!$C$11,\"]\",\"\")),\"\")","v":{"$error":"#VALUE!"}},{"$error":"#VALUE!"},null,null,null,null,null,null,null,null,null,null,null,null,null,null,null,null,null,null,null,null,null,null,null,null,null,null,null,null,null,null,null,null,null,null,null,null,null,null,null,null,null,null,null,null,null,null,null,null,null,null,null,null,"Sonia",null,null,null,null,null,null,null,null,"Sonia","Sonia",null,null,null,null,null,null,null,{"$f":"IF(NOT(ISBLANK((INDIRECT(CONCATENATE(\"TabDécorInt[\",RELEVE_COTES!$C$11,\"]\"))))),INDIRECT(CONCATENATE(\"TabDécorInt[\",RELEVE_COTES!$C$11,\"]\",\"\")),\"\")","v":{"$error":"#VALUE!"}},{"$error":"#VALUE!"},null,null,null,null,null,null,null,null,null,null,null,null,null,null,null,null,null,null,null,null,null,null,null,null,null,null,null,null,null,null,null,null,null,null,null,"RAL 3000 Rouge feu",3000,"LAQUE"]
[null,null,null,null,null,null,null,null,null,null,null,null,null,null,null,null,null,null,null,null,null,null,null,null,null,null,null,null,null,null,null,null,null,null,null,null,null,null,null,null,null,null,null,null,null,null,null,null,null,null,null,null,null,null,null,null,null,null,null,null,null,null,null,null,null,null,null,null,null,null,null,null,null,null,null,null,null,null,null,null,null,null,null,null,null,null,null,null,null,null,null,null,null,null,null,null,null,null,null,null,null,null,"5 pts A2P** VACHETTE 5900 TN2/FN2 - T1700 - axe à 50","DORMA KABA 760 K (Coffre ESM) - axe à 70","5 pts A2P** VACHETTE 5900 TN2/FN2 - T1700 - axe à 50","DORMA KABA 760 K (Coffre ESM) - axe à 70","DORMA KABA 760 K (Coffre ESM) - axe à 70",null,"5 pts A2P** VACHETTE 5900 TN2/FN2 - T1700 - axe à 50",null,"5 pts A2P** VACHETTE 5900 TN2/FN2 - T1700 - axe à 50",null,null,"5 pts VACHETTE 5900 - T2040 - axe à 120",null,null,null,null,null,null,null,null,null,null,null,null,null,null,null,null,null,null,null,null,{"$f":"IF(NOT(ISBLANK((INDIRECT(CONCATENATE(\"TabSerrure[\",RELEVE_COTES!$C$11,\"]\"))))),INDIRECT(CONCATENATE(\"TabSerrure[\",RELEVE_COTES!$C$11,\"]\")),\"\")","v":{"$error":"#VALUE!"}},{"$f":"IF(REF!$EE72<>\"\",1,0)","v":{"$error":"#VALUE!"}},null,"DORMA KABA 660 E (Coffre ESM) - axe à 70","KABA_ESM",1045,1080,-35,0,"SANS",null,null,null,null,null,null,null,null,null,null,null,null,null,null,null,null,null,"Samara",null,null,null,null,null,null,null,null,"Sophia","Sophia",null,null,null,null,null,null,null,{"$f":"IF(NOT(ISBLANK((INDIRECT(CONCATENATE(\"TabDécorExt[\",RELEVE_COTES!$C$11,\"]\"))))),INDIRECT(CONCATENATE(\"TabDécorExt[\",RELEVE_COTES!$C$11,\"]\",\"\")),\"\")","v":{"$error":"#VALUE!"}},{"$error":"#VALUE!"},null,null,null,null,null,null,null,null,null,null,null,null,null,null,null,null,null,null,null,null,null,null,null,null,null,null,null,null,null,null,null,null,null,null,null,null,null,null,null,null,null,null,null,null,null,null,null,null,null,null,null,null,"Sophia",null,null,null,null,null,null,null,null,"Sophia","Sophia",null,null,null,null,null,null,null,{"$f":"IF(NOT(ISBLANK((INDIRECT(CONCATENATE(\"TabDécorInt[\",RELEVE_COTES!$C$11,\"]\"))))),INDIRECT(CONCATENATE(\"TabDécorInt[\",RELEVE_COTES!$C$11,\"]\",\"\")),\"\")","v":{"$error":"#VALUE!"}},{"$error":"#VALUE!"},null,null,null,null,null,null,null,null,null,null,null,null,null,null,null,null,null,null,null,null,null,null,null,null,null,null,null,null,null,null,null,null,null,null,null,"RAL 3003 Rouge rubis",3003,"LAQUE"]
[null,null,null,null,null,null,null,null,null,null,null,null,null,null,null,null,null,null,null,null,null,null,null,null,null,null,null,null,null,null,null,null,null,null,null,null,null,null,null,null,null,null,null,null,null,null,null,null,null,null,null,null,null,null,null,null,null,null,null,null,null,null,null,null,null,null,null,null,null,null,null,null,null,null,null,null,null,null,null,null,null,null,null,null,null,null,null,null,null,null,null,null,null,null,null,null,null,null,null,null,null,null,"5 pts A2P** VACHETTE 5900 TN2/FN2 - T2040 - axe à 50","DORMA KABA 770 E (Coffre ESM) - axe à 70","5 pts A2P** VACHETTE 5900 TN2/FN2 - T2040 - axe à 50","DORMA KABA 770 E (Coffre ESM) - axe à 70","DORMA KABA 770 E (Coffre ESM) - axe à 70",null,"5 pts A2P** VACHETTE 5900 TN2/FN2 - T2040 - axe à 50",null,"5 pts A2P** VACHETTE 5900 TN2/FN2 - T2040 - axe à 50",null,null,"ASSA ABLOY APERIO E100 BASIC (Coffre EURO Bricard 8161/A1) - axe à 50",null,null,null,null,null,null,null,null,null,null,null,null,null,null,null,null,null,null,null,null,{"$f":"IF(NOT(ISBLANK((INDIRECT(CONCATENATE(\"TabSerrure[\",RELEVE_COTES!$C$11,\"]\"))))),INDIRECT(CONCATENATE(\"TabSerrure[\",RELEVE_COTES!$C$11,\"]\")),\"\")","v":{"$error":"#VALUE!"}},{"$f":"IF(REF!$EE73<>\"\",1,0)","v":{"$error":"#VALUE!"}},null,"DORMA KABA 660 i (Coffre ESM) - axe à 70","KABA_ESM",1045,1080,-35,0,"SANS",null,null,null,null,null,null,null,null,null,null,null,null,null,null,null,null,null,"Sandra",null,null,null,null,null,null,null,null,"Sophie","Sophie",null,null,null,null,null,null,null,{"$f":"IF(NOT(ISBLANK((INDIRECT(CONCATENATE(\"TabDécorExt[\",RELEVE_COTES!$C$11,\"]\"))))),INDIRECT(CONCATENATE(\"TabDécorExt[\",RELEVE_COTES!$C$11,\"]\",\"\")),\"\")","v":{"$error":"#VALUE!"}},{"$error":"#VALUE!"},null,null,null,null,null,null,null,null,null,null,null,null,null,null,null,null,null,null,null,null,null,null,null,null,null,null,null,null,null,null,null,null,null,null,null,null,null,null,null,null,null,null,null,null,null,null,null,null,null,null,null,null,"Sophie",null,null,null,null,null,null,null,null,"Sophie","Sophie",null,null,null,null,null,null,null,{"$f":"IF(NOT(ISBLANK((INDIRECT(CONCATENATE(\"TabDécorInt[\",RELEVE_COTES!$C$11,\"]\"))))),INDIRECT(CONCATENATE(\"TabDécorInt[\",RELEVE_COTES!$C$11,\"]\",\"\")),\"\")","v":{"$error":"#VALUE!"}},{"$error":"#VALUE!"},null,null,null,null,null,null,null,null,null,null,null,null,null,null,null,null,null,null,null,null,null,null,null,null,null,null,null,null,null,null,null,null,null,null,null,"RAL 3020 Rouge signalisation",3020,"LAQUE"]
[null,null,null,null,null,null,null,null,null,null,null,null,null,null,null,null,null,null,null,null,null,null,null,null,null,null,null,null,null,null,null,null,null,null,null,null,null,null,null,null,null,null,null,null,null,null,null,null,null,null,null,null,null,null,null,null,null,null,null,null,null,null,null,null,null,null,null,null,null,null,null,null,null,null,null,null,null,null,null,null,null,null,null,null,null,null,null,null,null,null,null,null,null,null,null,null,null,null,null,null,null,null,"5 pts VACHETTE 5700 - T2040 - axe à 50","DORMA KABA 770 K (Coffre ESM) - axe à 70","5 pts VACHETTE 5700 - T2040 - axe à 50","DORMA KABA 770 K (Coffre ESM) - axe à 70","DORMA KABA 770 K (Coffre ESM) - axe à 70",null,"5 pts VACHETTE 5700 - T2040 - axe à 50",null,"5 pts VACHETTE 5700 - T2040 - axe à 50",null,null,"ASSA ABLOY APERIO E100 BASIC (Coffre EURO Marques) - axe à 50",null,null,null,null,null,null,null,null,null,null,null,null,null,null,null,null,null,null,null,null,{"$f":"IF(NOT(ISBLANK((INDIRECT(CONCATENATE(\"TabSerrure[\",RELEVE_COTES!$C$11,\"]\"))))),INDIRECT(CONCATENATE(\"TabSerrure[\",RELEVE_COTES!$C$11,\"]\")),\"\")","v":{"$error":"#VALUE!"}},{"$f":"IF(REF!$EE74<>\"\",1,0)","v":{"$error":"#VALUE!"}},null,"DORMA KABA 660 K (Coffre ESM) - axe à 70","KABA_ESM",1045,1080,-35,0,"SANS",null,null,null,null,null,null,null,null,null,null,null,null,null,null,null,null,null,"Santana",null,null,null,null,null,null,null,null,"Stéphanie","Stéphanie",null,null,null,null,null,null,null,{"$f":"IF(NOT(ISBLANK((INDIRECT(CONCATENATE(\"TabDécorExt[\",RELEVE_COTES!$C$11,\"]\"))))),INDIRECT(CONCATENATE(\"TabDécorExt[\",RELEVE_COTES!$C$11,\"]\",\"\")),\"\")","v":{"$error":"#VALUE!"}},{"$error":"#VALUE!"},null,null,null,null,null,null,null,null,null,null,null,null,null,null,null,null,null,null,null,null,null,null,null,null,null,null,null,null,null,null,null,null,null,null,null,null,null,null,null,null,null,null,null,null,null,null,null,null,null,null,null,null,"Stéphanie",null,null,null,null,null,null,null,null,"Stéphanie","Stéphanie",null,null,null,null,null,null,null,{"$f":"IF(NOT(ISBLANK((INDIRECT(CONCATENATE(\"TabDécorInt[\",RELEVE_COTES!$C$11,\"]\"))))),INDIRECT(CONCATENATE(\"TabDécorInt[\",RELEVE_COTES!$C$11,\"]\",\"\")),\"\")","v":{"$error":"#VALUE!"}},{"$error":"#VALUE!"},null,null,null,null,null,null,null,null,null,null,null,null,null,null,null,null,null,null,null,null,null,null,null,null,null,null,null,null,null,null,null,null,null,null,null,"RAL 5002 Bleu outremer",5002,"LAQUE"]
[null,null,null,null,null,null,null,null,null,null,null,null,null,null,null,null,null,null,null,null,null,null,null,null,null,null,null,null,null,null,null,null,null,null,null,null,null,null,null,null,null,null,null,null,null,null,null,null,null,null,null,null,null,null,null,null,null,null,null,null,null,null,null,null,null,null,null,null,null,null,null,null,null,null,null,null,null,null,null,null,null,null,null,null,null,null,null,null,null,null,null,null,null,null,null,null,null,null,null,null,null,null,"5 pts VACHETTE 5900 - T1700 - axe à 120","DORMA KABA 790 E (Coffre ESM) - axe à 70","5 pts VACHETTE 5900 - T1700 - axe à 120","DORMA KABA 790 E (Coffre ESM) - axe à 70","DORMA KABA 790 E (Coffre ESM) - axe à 70",null,"5 pts VACHETTE 5900 - T1700 - axe à 120",null,"5 pts VACHETTE 5900 - T1700 - axe à 120",null,null,"ASSA ABLOY APERIO E100 BASIC (Coffre EURO Vachette) - axe à 50",null,null,null,null,null,null,null,null,null,null,null,null,null,null,null,null,null,null,null,null,{"$f":"IF(NOT(ISBLANK((INDIRECT(CONCATENATE(\"TabSerrure[\",RELEVE_COTES!$C$11,\"]\"))))),INDIRECT(CONCATENATE(\"TabSerrure[\",RELEVE_COTES!$C$11,\"]\")),\"\")","v":{"$error":"#VALUE!"}},{"$f":"IF(REF!$EE75<>\"\",1,0)","v":{"$error":"#VALUE!"}},null,"DORMA KABA 760 E (Coffre ESM) - axe à 70","KABA_ESM",1045,1080,-35,0,"SANS",null,null,null,null,null,null,null,null,null,null,null,null,null,null,null,null,null,"Ségolène",null,null,null,null,null,null,null,null,"Suzanna","Suzanna",null,null,null,null,null,null,null,{"$f":"IF(NOT(ISBLANK((INDIRECT(CONCATENATE(\"TabDécorExt[\",RELEVE_COTES!$C$11,\"]\"))))),INDIRECT(CONCATENATE(\"TabDécorExt[\",RELEVE_COTES!$C$11,\"]\",\"\")),\"\")","v":{"$error":"#VALUE!"}},{"$error":"#VALUE!"},null,null,null,null,null,null,null,null,null,null,null,null,null,null,null,null,null,null,null,null,null,null,null,null,null,null,null,null,null,null,null,null,null,null,null,null,null,null,null,null,null,null,null,null,null,null,null,null,null,null,null,null,"Suzanna",null,null,null,null,null,null,null,null,"Suzanna","Suzanna",null,null,null,null,null,null,null,{"$f":"IF(NOT(ISBLANK((INDIRECT(CONCATENATE(\"TabDécorInt[\",RELEVE_COTES!$C$11,\"]\"))))),INDIRECT(CONCATENATE(\"TabDécorInt[\",RELEVE_COTES!$C$11,\"]\",\"\")),\"\")","v":{"$error":"#VALUE!"}},{"$error":"#VALUE!"},null,null,null,null,null,null,null,null,null,null,null,null,null,null,null,null,null,null,null,null,null,null,null,null,null,null,null,null,null,null,null,null,null,null,null,"RAL 5008 Bleu gris",5008,"LAQUE"]
[null,null,null,null,null,null,null,null,null,null,null,null,null,null,null,null,null,null,null,null,null,null,null,null,null,null,null,null,null,null,null,null,null,null,null,null,null,null,null,null,null,null,null,null,null,null,null,null,null,null,null,null,null,null,null,null,null,null,null,null,null,null,null,null,null,null,null,null,null,null,null,null,null,null,null,null,null,null,null,null,null,null,null,null,null,null,null,null,null,null,null,null,null,null,null,null,null,null,null,null,null,null,"5 pts VACHETTE 5900 - T1700 - axe à 50","DORMA KABA 790 K (Coffre ESM) - axe à 70","5 pts VACHETTE 5900 - T1700 - axe à 50","DORMA KABA 790 K (Coffre ESM) - axe à 70","DORMA KABA 790 K (Coffre ESM) - axe à 70",null,"5 pts VACHETTE 5900 - T1700 - axe à 50",null,"5 pts VACHETTE 5900 - T1700 - axe à 50",null,null,"ASSA ABLOY APERIO E900 (Coffre EURO Bricard 8161/A1) - axe à 50",null,null,null,null,null,null,null,null,null,null,null,null,null,null,null,null,null,null,null,null,{"$f":"IF(NOT(ISBLANK((INDIRECT(CONCATENATE(\"TabSerrure[\",RELEVE_COTES!$C$11,\"]\"))))),INDIRECT(CONCATENATE(\"TabSerrure[\",RELEVE_COTES!$C$11,\"]\")),\"\")","v":{"$error":"#VALUE!"}},{"$f":"IF(REF!$EE76<>\"\",1,0)","v":{"$error":"#VALUE!"}},null,"DORMA KABA 760 K (Coffre ESM) - axe à 70","KABA_ESM",1045,1080,-35,0,"SANS",null,null,null,null,null,null,null,null,null,null,null,null,null,null,null,null,null,"Shakira",null,null,null,null,null,null,null,null,"Sybille","Sybille",null,null,null,null,null,null,null,{"$f":"IF(NOT(ISBLANK((INDIRECT(CONCATENATE(\"TabDécorExt[\",RELEVE_COTES!$C$11,\"]\"))))),INDIRECT(CONCATENATE(\"TabDécorExt[\",RELEVE_COTES!$C$11,\"]\",\"\")),\"\")","v":{"$error":"#VALUE!"}},{"$error":"#VALUE!"},null,null,null,null,null,null,null,null,null,null,null,null,null,null,null,null,null,null,null,null,null,null,null,null,null,null,null,null,null,null,null,null,null,null,null,null,null,null,null,null,null,null,null,null,null,null,null,null,null,null,null,null,"Sybille",null,null,null,null,null,null,null,null,"Sybille","Sybille",null,null,null,null,null,null,null,{"$f":"IF(NOT(ISBLANK((INDIRECT(CONCATENATE(\"TabDécorInt[\",RELEVE_COTES!$C$11,\"]\"))))),INDIRECT(CONCATENATE(\"TabDécorInt[\",RELEVE_COTES!$C$11,\"]\",\"\")),\"\")","v":{"$error":"#VALUE!"}},{"$error":"#VALUE!"},null,null,null,null,null,null,null,null,null,null,null,null,null,null,null,null,null,null,null,null,null,null,null,null,null,null,null,null,null,null,null,null,null,null,null,"RAL 5010 Bleu gentiane",5010,"LAQUE"]
[null,null,null,null,null,null,null,null,null,null,null,null,null,null,null,null,null,null,null,null,null,null,null,null,null,null,null,null,null,null,null,null,null,null,null,null,null,null,null,null,null,null,null,null,null,null,null,null,null,null,null,null,null,null,null,null,null,null,null,null,null,null,null,null,null,null,null,null,null,null,null,null,null,null,null,null,null,null,null,null,null,null,null,null,null,null,null,null,null,null,null,null,null,null,null,null,null,null,null,null,null,null,"5 pts VACHETTE 5900 - T2040 - axe à 120","DORMA KABA Confidant RFID (Coffre EURO) - axe à 55","5 pts VACHETTE 5900 - T2040 - axe à 120","DORMA KABA Confidant RFID (Coffre EURO) - axe à 55","DORMA KABA Confidant RFID (Coffre EURO) - axe à 55",null,"5 pts VACHETTE 5900 - T2040 - axe à 120",null,"5 pts VACHETTE 5900 - T2040 - axe à 120",null,null,"ASSA ABLOY APERIO E900 (Coffre EURO Marques) - axe à 50",null,null,null,null,null,null,null,null,null,null,null,null,null,null,null,null,null,null,null,null,{"$f":"IF(NOT(ISBLANK((INDIRECT(CONCATENATE(\"TabSerrure[\",RELEVE_COTES!$C$11,\"]\"))))),INDIRECT(CONCATENATE(\"TabSerrure[\",RELEVE_COTES!$C$11,\"]\")),\"\")","v":{"$error":"#VALUE!"}},{"$f":"IF(REF!$EE77<>\"\",1,0)","v":{"$error":"#VALUE!"}},null,"DORMA KABA 770 E (Coffre ESM) - axe à 70","KABA_ESM",1045,1080,-35,0,"SANS",null,null,null,null,null,null,null,null,null,null,null,null,null,null,null,null,null,"Shannel",null,null,null,null,null,null,null,null,"Sylvaine","Sylvaine",null,null,null,null,null,null,null,{"$f":"IF(NOT(ISBLANK((INDIRECT(CONCATENATE(\"TabDécorExt[\",RELEVE_COTES!$C$11,\"]\"))))),INDIRECT(CONCATENATE(\"TabDécorExt[\",RELEVE_COTES!$C$11,\"]\",\"\")),\"\")","v":{"$error":"#VALUE!"}},{"$error":"#VALUE!"},null,null,null,null,null,null,null,null,null,null,null,null,null,null,null,null,null,null,null,null,null,null,null,null,null,null,null,null,null,null,null,null,null,null,null,null,null,null,null,null,null,null,null,null,null,null,null,null,null,null,null,null,"Sylvaine",null,null,null,null,null,null,null,null,"Sylvaine","Sylvaine",null,null,null,null,null,null,null,{"$f":"IF(NOT(ISBLANK((INDIRECT(CONCATENATE(\"TabDécorInt[\",RELEVE_COTES!$C$11,\"]\"))))),INDIRECT(CONCATENATE(\"TabDécorInt[\",RELEVE_COTES!$C$11,\"]\",\"\")),\"\")","v":{"$error":"#VALUE!"}},{"$error":"#VALUE!"},null,null,null,null,null,null,null,null,null,null,null,null,null,null,null,null,null,null,null,null,null,null,null,null,null,null,null,null,null,null,null,null,null,null,null,"RAL 5011 Bleu acier",5011,"LAQUE"]
[null,null,null,null,null,null,null,null,null,null,null,null,null,null,null,null,null,null,null,null,null,null,null,null,null,null,null,null,null,null,null,null,null,null,null,null,null,null,null,null,null,null,null,null,null,null,null,null,null,null,null,null,null,null,null,null,null,null,null,null,null,null,null,null,null,null,null,null,null,null,null,null,null,null,null,null,null,null,null,null,null,null,null,null,null,null,null,null,null,null,null,null,null,null,null,null,null,null,null,null,null,null,"ASSA ABLOY APERIO E100 BASIC (Coffre EURO Bricard 8161/A1) - axe à 50","DORMA KABA RT (Coffre ESM) - axe à 70","ASSA ABLOY APERIO E100 BASIC (Coffre EURO Bricard 8161/A1) - axe à 50","DORMA KABA RT (Coffre ESM) - axe à 70","DORMA KABA RT (Coffre ESM) - axe à 70",null,"ASSA ABLOY APERIO E100 BASIC (Coffre EURO Bricard 8161/A1) - axe à 50",null,"ASSA ABLOY APERIO E100 BASIC (Coffre EURO Bricard 8161/A1) - axe à 50",null,null,"ASSA ABLOY APERIO E900 (Coffre EURO Vachette) - axe à 50",null,null,null,null,null,null,null,null,null,null,null,null,null,null,null,null,null,null,null,null,{"$f":"IF(NOT(ISBLANK((INDIRECT(CONCATENATE(\"TabSerrure[\",RELEVE_COTES!$C$11,\"]\"))))),INDIRECT(CONCATENATE(\"TabSerrure[\",RELEVE_COTES!$C$11,\"]\")),\"\")","v":{"$error":"#VALUE!"}},{"$f":"IF(REF!$EE78<>\"\",1,0)","v":{"$error":"#VALUE!"}},null,"DORMA KABA 770 K (Coffre ESM) - axe à 70","KABA_ESM",1045,1080,-35,0,"SANS",null,null,null,null,null,null,null,null,null,null,null,null,null,null,null,null,null,"Silhouette",null,null,null,null,null,null,null,null,"Sylvia","Sylvia",null,null,null,null,null,null,null,{"$f":"IF(NOT(ISBLANK((INDIRECT(CONCATENATE(\"TabDécorExt[\",RELEVE_COTES!$C$11,\"]\"))))),INDIRECT(CONCATENATE(\"TabDécorExt[\",RELEVE_COTES!$C$11,\"]\",\"\")),\"\")","v":{"$error":"#VALUE!"}},{"$error":"#VALUE!"},null,null,null,null,null,null,null,null,null,null,null,null,null,null,null,null,null,null,null,null,null,null,null,null,null,null,null,null,null,null,null,null,null,null,null,null,null,null,null,null,null,null,null,null,null,null,null,null,null,null,null,null,"Sylvia",null,null,null,null,null,null,null,null,"Sylvia","Sylvia",null,null,null,null,null,null,null,{"$f":"IF(NOT(ISBLANK((INDIRECT(CONCATENATE(\"TabDécorInt[\",RELEVE_COTES!$C$11,\"]\"))))),INDIRECT(CONCATENATE(\"TabDécorInt[\",RELEVE_COTES!$C$11,\"]\",\"\")),\"\")","v":{"$error":"#VALUE!"}},{"$error":"#VALUE!"},null,null,null,null,null,null,null,null,null,null,null,null,null,null,null,null,null,null,null,null,null,null,null,null,null,null,null,null,null,null,null,null,null,null,null,"RAL 5014 Bleu pigeon",5014,"LAQUE"]
[null,null,null,null,null,null,null,null,null,null,null,null,null,null,null,null,null,null,null,null,null,null,null,null,null,null,null,null,null,null,null,null,null,null,null,null,null,null,null,null,null,null,null,null,null,null,null,null,null,null,null,null,null,null,null,null,null,null,null,null,null,null,null,null,null,null,null,null,null,null,null,null,null,null,null,null,null,null,null,null,null,null,null,null,null,null,null,null,null,null,null,null,null,null,null,null,null,null,null,null,null,null,"ASSA ABLOY APERIO E100 BASIC (Coffre EURO Marques) - axe à 50","DORMA KABA RT Messenger (Coffre ESM) - axe à 70","ASSA ABLOY APERIO E100 BASIC (Coffre EURO Marques) - axe à 50","DORMA KABA RT Messenger (Coffre ESM) - axe à 70","DORMA KABA RT Messenger (Coffre ESM) - axe à 70",null,"ASSA ABLOY APERIO E100 BASIC (Coffre EURO Marques) - axe à 50",null,"ASSA ABLOY APERIO E100 BASIC (Coffre EURO Marques) - axe à 50",null,null,"ASSA ABLOY APERIO L100 (Coffre EURO AL560) - axe à 55",null,null,null,null,null,null,null,null,null,null,null,null,null,null,null,null,null,null,null,null,{"$f":"IF(NOT(ISBLANK((INDIRECT(CONCATENATE(\"TabSerrure[\",RELEVE_COTES!$C$11,\"]\"))))),INDIRECT(CONCATENATE(\"TabSerrure[\",RELEVE_COTES!$C$11,\"]\")),\"\")","v":{"$error":"#VALUE!"}},{"$f":"IF(REF!$EE79<>\"\",1,0)","v":{"$error":"#VALUE!"}},null,"DORMA KABA 790 E (Coffre ESM) - axe à 70","KABA_ESM",1045,1080,-35,0,"SANS",null,null,null,null,null,null,null,null,null,null,null,null,null,null,null,null,null,"Sirielle",null,null,null,null,null,null,null,null,"Sylvie","Sylvie",null,null,null,null,null,null,null,{"$f":"IF(NOT(ISBLANK((INDIRECT(CONCATENATE(\"TabDécorExt[\",RELEVE_COTES!$C$11,\"]\"))))),INDIRECT(CONCATENATE(\"TabDécorExt[\",RELEVE_COTES!$C$11,\"]\",\"\")),\"\")","v":{"$error":"#VALUE!"}},{"$error":"#VALUE!"},null,null,null,null,null,null,null,null,null,null,null,null,null,null,null,null,null,null,null,null,null,null,null,null,null,null,null,null,null,null,null,null,null,null,null,null,null,null,null,null,null,null,null,null,null,null,null,null,null,null,null,null,"Sylvie",null,null,null,null,null,null,null,null,"Sylvie","Sylvie",null,null,null,null,null,null,null,{"$f":"IF(NOT(ISBLANK((INDIRECT(CONCATENATE(\"TabDécorInt[\",RELEVE_COTES!$C$11,\"]\"))))),INDIRECT(CONCATENATE(\"TabDécorInt[\",RELEVE_COTES!$C$11,\"]\",\"\")),\"\")","v":{"$error":"#VALUE!"}},{"$error":"#VALUE!"},null,null,null,null,null,null,null,null,null,null,null,null,null,null,null,null,null,null,null,null,null,null,null,null,null,null,null,null,null,null,null,null,null,null,null,"RAL 5015 Bleu ciel",5015,"LAQUE"]
[null,null,null,null,null,null,null,null,null,null,null,null,null,null,null,null,null,null,null,null,null,null,null,null,null,null,null,null,null,null,null,null,null,null,null,null,null,null,null,null,null,null,null,null,null,null,null,null,null,null,null,null,null,null,null,null,null,null,null,null,null,null,null,null,null,null,null,null,null,null,null,null,null,null,null,null,null,null,null,null,null,null,null,null,null,null,null,null,null,null,null,null,null,null,null,null,null,null,null,null,null,null,"ASSA ABLOY APERIO E100 BASIC (Coffre EURO Vachette) - axe à 50","élect. 3 pts ABLOY EL567 - axe à 55 - têtière 1760x24","ASSA ABLOY APERIO E100 BASIC (Coffre EURO Vachette) - axe à 50","élect. 3 pts ABLOY EL567 - axe à 55 - têtière 1760x24","élect. 3 pts ABLOY EL567 - axe à 55 - têtière 1760x24",null,"ASSA ABLOY APERIO E100 BASIC (Coffre EURO Vachette) - axe à 50",null,"ASSA ABLOY APERIO E100 BASIC (Coffre EURO Vachette) - axe à 50",null,null,"ASSA ABLOY APERIO L100 (Coffre EURO AL560) - axe à 60",null,null,null,null,null,null,null,null,null,null,null,null,null,null,null,null,null,null,null,null,{"$f":"IF(NOT(ISBLANK((INDIRECT(CONCATENATE(\"TabSerrure[\",RELEVE_COTES!$C$11,\"]\"))))),INDIRECT(CONCATENATE(\"TabSerrure[\",RELEVE_COTES!$C$11,\"]\")),\"\")","v":{"$error":"#VALUE!"}},{"$f":"IF(REF!$EE80<>\"\",1,0)","v":{"$error":"#VALUE!"}},null,"DORMA KABA 790 K (Coffre ESM) - axe à 70","KABA_ESM",1045,1080,-35,0,"SANS",null,null,null,null,null,null,null,null,null,null,null,null,null,null,null,null,null,"Solène",null,null,null,null,null,null,null,null,"Symétrie","Symétrie",null,null,null,null,null,null,null,{"$f":"IF(NOT(ISBLANK((INDIRECT(CONCATENATE(\"TabDécorExt[\",RELEVE_COTES!$C$11,\"]\"))))),INDIRECT(CONCATENATE(\"TabDécorExt[\",RELEVE_COTES!$C$11,\"]\",\"\")),\"\")","v":{"$error":"#VALUE!"}},{"$error":"#VALUE!"},null,null,null,null,null,null,null,null,null,null,null,null,null,null,null,null,null,null,null,null,null,null,null,null,null,null,null,null,null,null,null,null,null,null,null,null,null,null,null,null,null,null,null,null,null,null,null,null,null,null,null,null,"Symétrie",null,null,null,null,null,null,null,null,"Symétrie","Symétrie",null,null,null,null,null,null,null,{"$f":"IF(NOT(ISBLANK((INDIRECT(CONCATENATE(\"TabDécorInt[\",RELEVE_COTES!$C$11,\"]\"))))),INDIRECT(CONCATENATE(\"TabDécorInt[\",RELEVE_COTES!$C$11,\"]\",\"\")),\"\")","v":{"$error":"#VALUE!"}},{"$error":"#VALUE!"},null,null,null,null,null,null,null,null,null,null,null,null,null,null,null,null,null,null,null,null,null,null,null,null,null,null,null,null,null,null,null,null,null,null,null,"RAL 6003 Vert olive",6003,"LAQUE"]
[null,null,null,null,null,null,null,null,null,null,null,null,null,null,null,null,null,null,null,null,null,null,null,null,null,null,null,null,null,null,null,null,null,null,null,null,null,null,null,null,null,null,null,null,null,null,null,null,null,null,null,null,null,null,null,null,null,null,null,null,null,null,null,null,null,null,null,null,null,null,null,null,null,null,null,null,null,null,null,null,null,null,null,null,null,null,null,null,null,null,null,null,null,null,null,null,null,null,null,null,null,null,"ASSA ABLOY APERIO E900 (Coffre EURO Bricard 8161/A1) - axe à 50","élect. 3 pts ABLOY MP565 - axe à 50 - têtière 1760x24","ASSA ABLOY APERIO E900 (Coffre EURO Bricard 8161/A1) - axe à 50","élect. 3 pts ABLOY MP565 - axe à 50 - têtière 1760x24","élect. 3 pts ABLOY MP565 - axe à 50 - têtière 1760x24",null,"ASSA ABLOY APERIO E900 (Coffre EURO Bricard 8161/A1) - axe à 50",null,"ASSA ABLOY APERIO E900 (Coffre EURO Bricard 8161/A1) - axe à 50",null,null,"CISA eSIGNO (Coffre EURO APH3) - axe à 60",null,null,null,null,null,null,null,null,null,null,null,null,null,null,null,null,null,null,null,null,{"$f":"IF(NOT(ISBLANK((INDIRECT(CONCATENATE(\"TabSerrure[\",RELEVE_COTES!$C$11,\"]\"))))),INDIRECT(CONCATENATE(\"TabSerrure[\",RELEVE_COTES!$C$11,\"]\")),\"\")","v":{"$error":"#VALUE!"}},{"$f":"IF(REF!$EE81<>\"\",1,0)","v":{"$error":"#VALUE!"}},null,"DORMA KABA Confidant RFID (Coffre EURO) - axe à 55","KABA_RFID",1045,1026,19,0,"SANS",null,null,null,null,null,null,null,null,null,null,null,null,null,null,null,null,null,"Soline",null,null,null,null,null,null,null,null,"Trio","Trio",null,null,null,null,null,null,null,{"$f":"IF(NOT(ISBLANK((INDIRECT(CONCATENATE(\"TabDécorExt[\",RELEVE_COTES!$C$11,\"]\"))))),INDIRECT(CONCATENATE(\"TabDécorExt[\",RELEVE_COTES!$C$11,\"]\",\"\")),\"\")","v":{"$error":"#VALUE!"}},{"$error":"#VALUE!"},null,null,null,null,null,null,null,null,null,null,null,null,null,null,null,null,null,null,null,null,null,null,null,null,null,null,null,null,null,null,null,null,null,null,null,null,null,null,null,null,null,null,null,null,null,null,null,null,null,null,null,null,"Trio",null,null,null,null,null,null,null,null,"Trio","Trio",null,null,null,null,null,null,null,{"$f":"IF(NOT(ISBLANK((INDIRECT(CONCATENATE(\"TabDécorInt[\",RELEVE_COTES!$C$11,\"]\"))))),INDIRECT(CONCATENATE(\"TabDécorInt[\",RELEVE_COTES!$C$11,\"]\",\"\")),\"\")","v":{"$error":"#VALUE!"}},{"$error":"#VALUE!"},null,null,null,null,null,null,null,null,null,null,null,null,null,null,null,null,null,null,null,null,null,null,null,null,null,null,null,null,null,null,null,null,null,null,null,"RAL 6005 Vert mousse",6005,"LAQUE"]
[null,null,null,null,null,null,null,null,null,null,null,null,null,null,null,null,null,null,null,null,null,null,null,null,null,null,null,null,null,null,null,null,null,null,null,null,null,null,null,null,null,null,null,null,null,null,null,null,null,null,null,null,null,null,null,null,null,null,null,null,null,null,null,null,null,null,null,null,null,null,null,null,null,null,null,null,null,null,null,null,null,null,null,null,null,null,null,null,null,null,null,null,null,null,null,null,null,null,null,null,null,null,"ASSA ABLOY APERIO E900 (Coffre EURO Marques) - axe à 50","élect. ABLOY 8458 Mesure Conserv. - axe à 50 - têtière 250x20","ASSA ABLOY APERIO E900 (Coffre EURO Marques) - axe à 50","élect. ABLOY 8458 Mesure Conserv. - axe à 50 - têtière 250x20","élect. ABLOY 8458 Mesure Conserv. - axe à 50 - têtière 250x20",null,"ASSA ABLOY APERIO E900 (Coffre EURO Marques) - axe à 50",null,"ASSA ABLOY APERIO E900 (Coffre EURO Marques) - axe à 50",null,null,"CISA eSIGNO (Coffre EURO APH3) - axe à 70",null,null,null,null,null,null,null,null,null,null,null,null,null,null,null,null,null,null,null,null,{"$f":"IF(NOT(ISBLANK((INDIRECT(CONCATENATE(\"TabSerrure[\",RELEVE_COTES!$C$11,\"]\"))))),INDIRECT(CONCATENATE(\"TabSerrure[\",RELEVE_COTES!$C$11,\"]\")),\"\")","v":{"$error":"#VALUE!"}},{"$f":"IF(REF!$EE82<>\"\",1,0)","v":{"$error":"#VALUE!"}},null,"DORMA KABA RT (Coffre ESM) - axe à 70","KABA_ESM",1045,1080,-35,0,"SANS",null,null,null,null,null,null,null,null,null,null,null,null,null,null,null,null,null,"Sonia",null,null,null,null,null,null,null,null,"Vision","Vision",null,null,null,null,null,null,null,{"$f":"IF(NOT(ISBLANK((INDIRECT(CONCATENATE(\"TabDécorExt[\",RELEVE_COTES!$C$11,\"]\"))))),INDIRECT(CONCATENATE(\"TabDécorExt[\",RELEVE_COTES!$C$11,\"]\",\"\")),\"\")","v":{"$error":"#VALUE!"}},{"$error":"#VALUE!"},null,null,null,null,null,null,null,null,null,null,null,null,null,null,null,null,null,null,null,null,null,null,null,null,null,null,null,null,null,null,null,null,null,null,null,null,null,null,null,null,null,null,null,null,null,null,null,null,null,null,null,null,"Vision",null,null,null,null,null,null,null,null,"Vision","Vision",null,null,null,null,null,null,null,{"$f":"IF(NOT(ISBLANK((INDIRECT(CONCATENATE(\"TabDécorInt[\",RELEVE_COTES!$C$11,\"]\"))))),INDIRECT(CONCATENATE(\"TabDécorInt[\",RELEVE_COTES!$C$11,\"]\",\"\")),\"\")","v":{"$error":"#VALUE!"}},{"$error":"#VALUE!"},null,null,null,null,null,null,null,null,null,null,null,null,null,null,null,null,null,null,null,null,null,null,null,null,null,null,null,null,null,null,null,null,null,null,null,"RAL 6011 Vert réséda",6011,"LAQUE"]
[null,null,null,null,null,null,null,null,null,null,null,null,null,null,null,null,null,null,null,null,null,null,null,null,null,null,null,null,null,null,null,null,null,null,null,null,null,null,null,null,null,null,null,null,null,null,null,null,null,null,null,null,null,null,null,null,null,null,null,null,null,null,null,null,null,null,null,null,null,null,null,null,null,null,null,null,null,null,null,null,null,null,null,null,null,null,null,null,null,null,null,null,null,null,null,null,null,null,null,null,null,null,"ASSA ABLOY APERIO E900 (Coffre EURO Vachette) - axe à 50","élect. ABLOY 8458 Mesure Conserv. - axe à 50 - têtière 250x25","ASSA ABLOY APERIO E900 (Coffre EURO Vachette) - axe à 50","élect. ABLOY 8458 Mesure Conserv. - axe à 50 - têtière 250x25","élect. ABLOY 8458 Mesure Conserv. - axe à 50 - têtière 250x25",null,"ASSA ABLOY APERIO E900 (Coffre EURO Vachette) - axe à 50",null,"ASSA ABLOY APERIO E900 (Coffre EURO Vachette) - axe à 50",null,null,"CISA eSIGNO (Coffre EURO APH3) - axe à 80",null,null,null,null,null,null,null,null,null,null,null,null,null,null,null,null,null,null,null,null,{"$f":"IF(NOT(ISBLANK((INDIRECT(CONCATENATE(\"TabSerrure[\",RELEVE_COTES!$C$11,\"]\"))))),INDIRECT(CONCATENATE(\"TabSerrure[\",RELEVE_COTES!$C$11,\"]\")),\"\")","v":{"$error":"#VALUE!"}},{"$f":"IF(REF!$EE83<>\"\",1,0)","v":{"$error":"#VALUE!"}},null,"DORMA KABA RT Messenger (Coffre ESM) - axe à 70","KABA_ESM",1045,1080,-35,0,"SANS",null,null,null,null,null,null,null,null,null,null,null,null,null,null,null,null,null,"Sophia",null,null,null,null,null,null,null,null,null,null,null,null,null,null,null,null,null,{"$f":"IF(NOT(ISBLANK((INDIRECT(CONCATENATE(\"TabDécorExt[\",RELEVE_COTES!$C$11,\"]\"))))),INDIRECT(CONCATENATE(\"TabDécorExt[\",RELEVE_COTES!$C$11,\"]\",\"\")),\"\")","v":{"$error":"#VALUE!"}},{"$error":"#VALUE!"},null,null,null,null,null,null,null,null,null,null,null,null,null,null,null,null,null,null,null,null,null,null,null,null,null,null,null,null,null,null,null,null,null,null,null,null,null,null,null,null,null,null,null,null,null,null,null,null,null,null,null,null,null,null,null,null,null,null,null,null,null,null,null,null,null,null,null,null,null,null,null,null,null,null,null,null,null,null,null,null,null,null,null,null,null,null,null,null,null,null,null,null,null,null,null,null,null,null,null,null,null,null,null,null,null,null,null,"RAL 6018 Vert jaune",6018,"LAQUE"]
[null,null,null,null,null,null,null,null,null,null,null,null,null,null,null,null,null,null,null,null,null,null,null,null,null,null,null,null,null,null,null,null,null,null,null,null,null,null,null,null,null,null,null,null,null,null,null,null,null,null,null,null,null,null,null,null,null,null,null,null,null,null,null,null,null,null,null,null,null,null,null,null,null,null,null,null,null,null,null,null,null,null,null,null,null,null,null,null,null,null,null,null,null,null,null,null,null,null,null,null,null,null,"ASSA ABLOY APERIO L100 (Coffre EURO AL560) - axe à 55","élect. ABLOY 8778 Mesure Conserv. - axe à 50 - têtière 250x20","ASSA ABLOY APERIO L100 (Coffre EURO AL560) - axe à 55","élect. ABLOY 8778 Mesure Conserv. - axe à 50 - têtière 250x20","élect. ABLOY 8778 Mesure Conserv. - axe à 50 - têtière 250x20",null,"ASSA ABLOY APERIO L100 (Coffre EURO AL560) - axe à 55",null,"ASSA ABLOY APERIO L100 (Coffre EURO AL560) - axe à 55",null,null,"CISA eSIGNO (Coffre EURO APH3) - axe à 90",null,null,null,null,null,null,null,null,null,null,null,null,null,null,null,null,null,null,null,null,{"$f":"IF(NOT(ISBLANK((INDIRECT(CONCATENATE(\"TabSerrure[\",RELEVE_COTES!$C$11,\"]\"))))),INDIRECT(CONCATENATE(\"TabSerrure[\",RELEVE_COTES!$C$11,\"]\")),\"\")","v":{"$error":"#VALUE!"}},{"$f":"IF(REF!$EE84<>\"\",1,0)","v":{"$error":"#VALUE!"}},null,"ONITY HT 22 RFID (Coffre EURO) - axe à 60","DONNA_INHOVA",1045,1012.5,32.5,0,"SANS",null,null,null,null,null,null,null,null,null,null,null,null,null,null,null,null,null,"Sophie",null,null,null,null,null,null,null,null,null,null,null,null,null,null,null,null,null,{"$f":"IF(NOT(ISBLANK((INDIRECT(CONCATENATE(\"TabDécorExt[\",RELEVE_COTES!$C$11,\"]\"))))),INDIRECT(CONCATENATE(\"TabDécorExt[\",RELEVE_COTES!$C$11,\"]\",\"\")),\"\")","v":{"$error":"#VALUE!"}},{"$error":"#VALUE!"},null,null,null,null,null,null,null,null,null,null,null,null,null,null,null,null,null,null,null,null,null,null,null,null,null,null,null,null,null,null,null,null,null,null,null,null,null,null,null,null,null,null,null,null,null,null,null,null,null,null,null,null,null,null,null,null,null,null,null,null,null,null,null,null,null,null,null,null,null,null,null,null,null,null,null,null,null,null,null,null,null,null,null,null,null,null,null,null,null,null,null,null,null,null,null,null,null,null,null,null,null,null,null,null,null,null,null,"RAL 6021 Vert pâle",6021,"LAQUE"]
[null,null,null,null,null,null,null,null,null,null,null,null,null,null,null,null,null,null,null,null,null,null,null,null,null,null,null,null,null,null,null,null,null,null,null,null,null,null,null,null,null,null,null,null,null,null,null,null,null,null,null,null,null,null,null,null,null,null,null,null,null,null,null,null,null,null,null,null,null,null,null,null,null,null,null,null,null,null,null,null,null,null,null,null,null,null,null,null,null,null,null,null,null,null,null,null,null,null,null,null,null,null,"ASSA ABLOY APERIO L100 (Coffre EURO AL560) - axe à 60","élect. ABLOY 8778 Mesure Conserv. - axe à 50 - têtière 250x25","ASSA ABLOY APERIO L100 (Coffre EURO AL560) - axe à 60","élect. ABLOY 8778 Mesure Conserv. - axe à 50 - têtière 250x25","élect. ABLOY 8778 Mesure Conserv. - axe à 50 - têtière 250x25",null,"ASSA ABLOY APERIO L100 (Coffre EURO AL560) - axe à 60",null,"ASSA ABLOY APERIO L100 (Coffre EURO AL560) - axe à 60",null,null,"DORMA KABA 660 E (Coffre ESM) - axe à 70",null,null,null,null,null,null,null,null,null,null,null,null,null,null,null,null,null,null,null,null,{"$f":"IF(NOT(ISBLANK((INDIRECT(CONCATENATE(\"TabSerrure[\",RELEVE_COTES!$C$11,\"]\"))))),INDIRECT(CONCATENATE(\"TabSerrure[\",RELEVE_COTES!$C$11,\"]\")),\"\")","v":{"$error":"#VALUE!"}},{"$f":"IF(REF!$EE85<>\"\",1,0)","v":{"$error":"#VALUE!"}},null,"ONITY HT 22 RFID (Coffre EURO) - axe à 70","DONNA_INHOVA",1045,1012.5,32.5,0,"SANS",null,null,null,null,null,null,null,null,null,null,null,null,null,null,null,null,null,"Stéphanie",null,null,null,null,null,null,null,null,null,null,null,null,null,null,null,null,null,{"$f":"IF(NOT(ISBLANK((INDIRECT(CONCATENATE(\"TabDécorExt[\",RELEVE_COTES!$C$11,\"]\"))))),INDIRECT(CONCATENATE(\"TabDécorExt[\",RELEVE_COTES!$C$11,\"]\",\"\")),\"\")","v":{"$error":"#VALUE!"}},{"$error":"#VALUE!"},null,null,null,null,null,null,null,null,null,null,null,null,null,null,null,null,null,null,null,null,null,null,null,null,null,null,null,null,null,null,null,null,null,null,null,null,null,null,null,null,null,null,null,null,null,null,null,null,null,null,null,null,null,null,null,null,null,null,null,null,null,null,null,null,null,null,null,null,null,null,null,null,null,null,null,null,null,null,null,null,null,null,null,null,null,null,null,null,null,null,null,null,null,null,null,null,null,null,null,null,null,null,null,null,null,null,null,"RAL 7006 Gris beige",7006,"LAQUE"]
[null,null,null,null,null,null,null,null,null,null,null,null,null,null,null,null,null,null,null,null,null,null,null,null,null,null,null,null,null,null,null,null,null,null,null,null,null,null,null,null,null,null,null,null,null,null,null,null,null,null,null,null,null,null,null,null,null,null,null,null,null,null,null,null,null,null,null,null,null,null,null,null,null,null,null,null,null,null,null,null,null,null,null,null,null,null,null,null,null,null,null,null,null,null,null,null,null,null,null,null,null,null,"CISA eSIGNO (Coffre EURO APH3) - axe à 60","élect. ABLOY EL524 - axe à 50 - têtière 250x20","CISA eSIGNO (Coffre EURO APH3) - axe à 60","élect. ABLOY EL524 - axe à 50 - têtière 250x20","élect. ABLOY EL524 - axe à 50 - têtière 250x20",null,"CISA eSIGNO (Coffre EURO APH3) - axe à 60",null,"CISA eSIGNO (Coffre EURO APH3) - axe à 60",null,null,"DORMA KABA 660 i (Coffre ESM) - axe à 70",null,null,null,null,null,null,null,null,null,null,null,null,null,null,null,null,null,null,null,null,{"$f":"IF(NOT(ISBLANK((INDIRECT(CONCATENATE(\"TabSerrure[\",RELEVE_COTES!$C$11,\"]\"))))),INDIRECT(CONCATENATE(\"TabSerrure[\",RELEVE_COTES!$C$11,\"]\")),\"\")","v":{"$error":"#VALUE!"}},{"$f":"IF(REF!$EE86<>\"\",1,0)","v":{"$error":"#VALUE!"}},null,"ONITY ADVANCE RFID (Coffre EURO) - axe à 60","DONNA_INHOVA",1045,1012.5,32.5,0,"SANS",null,null,null,null,null,null,null,null,null,null,null,null,null,null,null,null,null,"Suzanna",null,null,null,null,null,null,null,null,null,null,null,null,null,null,null,null,null,{"$f":"IF(NOT(ISBLANK((INDIRECT(CONCATENATE(\"TabDécorExt[\",RELEVE_COTES!$C$11,\"]\"))))),INDIRECT(CONCATENATE(\"TabDécorExt[\",RELEVE_COTES!$C$11,\"]\",\"\")),\"\")","v":{"$error":"#VALUE!"}},{"$error":"#VALUE!"},null,null,null,null,null,null,null,null,null,null,null,null,null,null,null,null,null,null,null,null,null,null,null,null,null,null,null,null,null,null,null,null,null,null,null,null,null,null,null,null,null,null,null,null,null,null,null,null,null,null,null,null,null,null,null,null,null,null,null,null,null,null,null,null,null,null,null,null,null,null,null,null,null,null,null,null,null,null,null,null,null,null,null,null,null,null,null,null,null,null,null,null,null,null,null,null,null,null,null,null,null,null,null,null,null,null,null,"RAL 7012 Gris basalte",7012,"LAQUE"]
[null,null,null,null,null,null,null,null,null,null,null,null,null,null,null,null,null,null,null,null,null,null,null,null,null,null,null,null,null,null,null,null,null,null,null,null,null,null,null,null,null,null,null,null,null,null,null,null,null,null,null,null,null,null,null,null,null,null,null,null,null,null,null,null,null,null,null,null,null,null,null,null,null,null,null,null,null,null,null,null,null,null,null,null,null,null,null,null,null,null,null,null,null,null,null,null,null,null,null,null,null,null,"CISA eSIGNO (Coffre EURO APH3) - axe à 70","élect. ABLOY EL524 - axe à 50 - têtière 250x25","CISA eSIGNO (Coffre EURO APH3) - axe à 70","élect. ABLOY EL524 - axe à 50 - têtière 250x25","élect. ABLOY EL524 - axe à 50 - têtière 250x25",null,"CISA eSIGNO (Coffre EURO APH3) - axe à 70",null,"CISA eSIGNO (Coffre EURO APH3) - axe à 70",null,null,"DORMA KABA 660 K (Coffre ESM) - axe à 70",null,null,null,null,null,null,null,null,null,null,null,null,null,null,null,null,null,null,null,null,{"$f":"IF(NOT(ISBLANK((INDIRECT(CONCATENATE(\"TabSerrure[\",RELEVE_COTES!$C$11,\"]\"))))),INDIRECT(CONCATENATE(\"TabSerrure[\",RELEVE_COTES!$C$11,\"]\")),\"\")","v":{"$error":"#VALUE!"}},{"$f":"IF(REF!$EE87<>\"\",1,0)","v":{"$error":"#VALUE!"}},null,"ONITY ADVANCE MAG (Coffre EURO) - axe à 70","DONNA_INHOVA",1045,1012.5,32.5,0,"SANS",null,null,null,null,null,null,null,null,null,null,null,null,null,null,null,null,null,"Sybille",null,null,null,null,null,null,null,null,null,null,null,null,null,null,null,null,null,{"$f":"IF(NOT(ISBLANK((INDIRECT(CONCATENATE(\"TabDécorExt[\",RELEVE_COTES!$C$11,\"]\"))))),INDIRECT(CONCATENATE(\"TabDécorExt[\",RELEVE_COTES!$C$11,\"]\",\"\")),\"\")","v":{"$error":"#VALUE!"}},{"$error":"#VALUE!"},null,null,null,null,null,null,null,null,null,null,null,null,null,null,null,null,null,null,null,null,null,null,null,null,null,null,null,null,null,null,null,null,null,null,null,null,null,null,null,null,null,null,null,null,null,null,null,null,null,null,null,null,null,null,null,null,null,null,null,null,null,null,null,null,null,null,null,null,null,null,null,null,null,null,null,null,null,null,null,null,null,null,null,null,null,null,null,null,null,null,null,null,null,null,null,null,null,null,null,null,null,null,null,null,null,null,null,"RAL 7015 Gris ardoise",7015,"LAQUE"]
[null,null,null,null,null,null,null,null,null,null,null,null,null,null,null,null,null,null,null,null,null,null,null,null,null,null,null,null,null,null,null,null,null,null,null,null,null,null,null,null,null,null,null,null,null,null,null,null,null,null,null,null,null,null,null,null,null,null,null,null,null,null,null,null,null,null,null,null,null,null,null,null,null,null,null,null,null,null,null,null,null,null,null,null,null,null,null,null,null,null,null,null,null,null,null,null,null,null,null,null,null,null,"CISA eSIGNO (Coffre EURO APH3) - axe à 80","élect. ABLOY EL564 - axe à 50 - têtière 250x20","CISA eSIGNO (Coffre EURO APH3) - axe à 80","élect. ABLOY EL564 - axe à 50 - têtière 250x20","élect. ABLOY EL564 - axe à 50 - têtière 250x20",null,"CISA eSIGNO (Coffre EURO APH3) - axe à 80",null,"CISA eSIGNO (Coffre EURO APH3) - axe à 80",null,null,"DORMA KABA 760 E (Coffre ESM) - axe à 70",null,null,null,null,null,null,null,null,null,null,null,null,null,null,null,null,null,null,null,null,{"$f":"IF(NOT(ISBLANK((INDIRECT(CONCATENATE(\"TabSerrure[\",RELEVE_COTES!$C$11,\"]\"))))),INDIRECT(CONCATENATE(\"TabSerrure[\",RELEVE_COTES!$C$11,\"]\")),\"\")","v":{"$error":"#VALUE!"}},{"$f":"IF(REF!$EE88<>\"\",1,0)","v":{"$error":"#VALUE!"}},null,"ONITY HT 24 RFID (Coffre EURO) - axe à 60","DONNA_INHOVA",1045,1012.5,32.5,0,"SANS",null,null,null,null,null,null,null,null,null,null,null,null,null,null,null,null,null,"Sylvaine",null,null,null,null,null,null,null,null,null,null,null,null,null,null,null,null,null,{"$f":"IF(NOT(ISBLANK((INDIRECT(CONCATENATE(\"TabDécorExt[\",RELEVE_COTES!$C$11,\"]\"))))),INDIRECT(CONCATENATE(\"TabDécorExt[\",RELEVE_COTES!$C$11,\"]\",\"\")),\"\")","v":{"$error":"#VALUE!"}},{"$error":"#VALUE!"},null,null,null,null,null,null,null,null,null,null,null,null,null,null,null,null,null,null,null,null,null,null,null,null,null,null,null,null,null,null,null,null,null,null,null,null,null,null,null,null,null,null,null,null,null,null,null,null,null,null,null,null,null,null,null,null,null,null,null,null,null,null,null,null,null,null,null,null,null,null,null,null,null,null,null,null,null,null,null,null,null,null,null,null,null,null,null,null,null,null,null,null,null,null,null,null,null,null,null,null,null,null,null,null,null,null,null,"RAL 7021 Gris noir",7021,"LAQUE"]
[null,null,null,null,null,null,null,null,null,null,null,null,null,null,null,null,null,null,null,null,null,null,null,null,null,null,null,null,null,null,null,null,null,null,null,null,null,null,null,null,null,null,null,null,null,null,null,null,null,null,null,null,null,null,null,null,null,null,null,null,null,null,null,null,null,null,null,null,null,null,null,null,null,null,null,null,null,null,null,null,null,null,null,null,null,null,null,null,null,null,null,null,null,null,null,null,null,null,null,null,null,null,"CISA eSIGNO (Coffre EURO APH3) - axe à 90","élect. ABLOY EL564 - axe à 50 - têtière 250x25","CISA eSIGNO (Coffre EURO APH3) - axe à 90","élect. ABLOY EL564 - axe à 50 - têtière 250x25","élect. ABLOY EL564 - axe à 50 - têtière 250x25",null,"CISA eSIGNO (Coffre EURO APH3) - axe à 90",null,"CISA eSIGNO (Coffre EURO APH3) - axe à 90",null,null,"DORMA KABA 760 K (Coffre ESM) - axe à 70",null,null,null,null,null,null,null,null,null,null,null,null,null,null,null,null,null,null,null,null,{"$f":"IF(NOT(ISBLANK((INDIRECT(CONCATENATE(\"TabSerrure[\",RELEVE_COTES!$C$11,\"]\"))))),INDIRECT(CONCATENATE(\"TabSerrure[\",RELEVE_COTES!$C$11,\"]\")),\"\")","v":{"$error":"#VALUE!"}},{"$f":"IF(REF!$EE89<>\"\",1,0)","v":{"$error":"#VALUE!"}},null,"ONITY ADVANCE RFID (Coffre EURO) - axe à 70","DONNA_INHOVA",1045,1012.5,32.5,0,"SANS",null,null,null,null,null,null,null,null,null,null,null,null,null,null,null,null,null,"Sylvia",null,null,null,null,null,null,null,null,null,null,null,null,null,null,null,null,null,{"$f":"IF(NOT(ISBLANK((INDIRECT(CONCATENATE(\"TabDécorExt[\",RELEVE_COTES!$C$11,\"]\"))))),INDIRECT(CONCATENATE(\"TabDécorExt[\",RELEVE_COTES!$C$11,\"]\",\"\")),\"\")","v":{"$error":"#VALUE!"}},{"$error":"#VALUE!"},null,null,null,null,null,null,null,null,null,null,null,null,null,null,null,null,null,null,null,null,null,null,null,null,null,null,null,null,null,null,null,null,null,null,null,null,null,null,null,null,null,null,null,null,null,null,null,null,null,null,null,null,null,null,null,null,null,null,null,null,null,null,null,null,null,null,null,null,null,null,null,null,null,null,null,null,null,null,null,null,null,null,null,null,null,null,null,null,null,null,null,null,null,null,null,null,null,null,null,null,null,null,null,null,null,null,null,"RAL 7030 Gris pierre",7030,"LAQUE"]
[null,null,null,null,null,null,null,null,null,null,null,null,null,null,null,null,null,null,null,null,null,null,null,null,null,null,null,null,null,null,null,null,null,null,null,null,null,null,null,null,null,null,null,null,null,null,null,null,null,null,null,null,null,null,null,null,null,null,null,null,null,null,null,null,null,null,null,null,null,null,null,null,null,null,null,null,null,null,null,null,null,null,null,null,null,null,null,null,null,null,null,null,null,null,null,null,null,null,null,null,null,null,"DORMA KABA 660 E (Coffre ESM) - axe à 70","élect. ABLOY EL565 - axe à 50 - têtière 250x20","DORMA KABA 660 E (Coffre ESM) - axe à 70","élect. ABLOY EL565 - axe à 50 - têtière 250x20","élect. ABLOY EL565 - axe à 50 - têtière 250x20",null,"DORMA KABA 660 E (Coffre ESM) - axe à 70",null,"DORMA KABA 660 E (Coffre ESM) - axe à 70",null,null,"DORMA KABA 770 E (Coffre ESM) - axe à 70",null,null,null,null,null,null,null,null,null,null,null,null,null,null,null,null,null,null,null,null,{"$f":"IF(NOT(ISBLANK((INDIRECT(CONCATENATE(\"TabSerrure[\",RELEVE_COTES!$C$11,\"]\"))))),INDIRECT(CONCATENATE(\"TabSerrure[\",RELEVE_COTES!$C$11,\"]\")),\"\")","v":{"$error":"#VALUE!"}},{"$f":"IF(REF!$EE90<>\"\",1,0)","v":{"$error":"#VALUE!"}},null,"ONITY HT 28 RFID (Coffre EURO) - axe à 60","DONNA_INHOVA",1045,1012.5,32.5,0,"SANS",null,null,null,null,null,null,null,null,null,null,null,null,null,null,null,null,null,"Sylvie",null,null,null,null,null,null,null,null,null,null,null,null,null,null,null,null,null,{"$f":"IF(NOT(ISBLANK((INDIRECT(CONCATENATE(\"TabDécorExt[\",RELEVE_COTES!$C$11,\"]\"))))),INDIRECT(CONCATENATE(\"TabDécorExt[\",RELEVE_COTES!$C$11,\"]\",\"\")),\"\")","v":{"$error":"#VALUE!"}},{"$error":"#VALUE!"},null,null,null,null,null,null,null,null,null,null,null,null,null,null,null,null,null,null,null,null,null,null,null,null,null,null,null,null,null,null,null,null,null,null,null,null,null,null,null,null,null,null,null,null,null,null,null,null,null,null,null,null,null,null,null,null,null,null,null,null,null,null,null,null,null,null,null,null,null,null,null,null,null,null,null,null,null,null,null,null,null,null,null,null,null,null,null,null,null,null,null,null,null,null,null,null,null,null,null,null,null,null,null,null,null,null,null,"RAL 7037 Gris poussière",7037,"LAQUE"]
[null,null,null,null,null,null,null,null,null,null,null,null,null,null,null,null,null,null,null,null,null,null,null,null,null,null,null,null,null,null,null,null,null,null,null,null,null,null,null,null,null,null,null,null,null,null,null,null,null,null,null,null,null,null,null,null,null,null,null,null,null,null,null,null,null,null,null,null,null,null,null,null,null,null,null,null,null,null,null,null,null,null,null,null,null,null,null,null,null,null,null,null,null,null,null,null,null,null,null,null,null,null,"DORMA KABA 660 i (Coffre ESM) - axe à 70","élect. ABLOY EL565 - axe à 50 - têtière 250x25","DORMA KABA 660 i (Coffre ESM) - axe à 70","élect. ABLOY EL565 - axe à 50 - têtière 250x25","élect. ABLOY EL565 - axe à 50 - têtière 250x25",null,"DORMA KABA 660 i (Coffre ESM) - axe à 70",null,"DORMA KABA 660 i (Coffre ESM) - axe à 70",null,null,"DORMA KABA 770 K (Coffre ESM) - axe à 70",null,null,null,null,null,null,null,null,null,null,null,null,null,null,null,null,null,null,null,null,{"$f":"IF(NOT(ISBLANK((INDIRECT(CONCATENATE(\"TabSerrure[\",RELEVE_COTES!$C$11,\"]\"))))),INDIRECT(CONCATENATE(\"TabSerrure[\",RELEVE_COTES!$C$11,\"]\")),\"\")","v":{"$error":"#VALUE!"}},{"$f":"IF(REF!$EE91<>\"\",1,0)","v":{"$error":"#VALUE!"}},null,"ONITY HT 24 RFID (Coffre EURO) - axe à 70","DONNA_INHOVA",1045,1012.5,32.5,0,"SANS",null,null,null,null,null,null,null,null,null,null,null,null,null,null,null,null,null,"Symétrie",null,null,null,null,null,null,null,null,null,null,null,null,null,null,null,null,null,{"$f":"IF(NOT(ISBLANK((INDIRECT(CONCATENATE(\"TabDécorExt[\",RELEVE_COTES!$C$11,\"]\"))))),INDIRECT(CONCATENATE(\"TabDécorExt[\",RELEVE_COTES!$C$11,\"]\",\"\")),\"\")","v":{"$error":"#VALUE!"}},{"$error":"#VALUE!"},null,null,null,null,null,null,null,null,null,null,null,null,null,null,null,null,null,null,null,null,null,null,null,null,null,null,null,null,null,null,null,null,null,null,null,null,null,null,null,null,null,null,null,null,null,null,null,null,null,null,null,null,null,null,null,null,null,null,null,null,null,null,null,null,null,null,null,null,null,null,null,null,null,null,null,null,null,null,null,null,null,null,null,null,null,null,null,null,null,null,null,null,null,null,null,null,null,null,null,null,null,null,null,null,null,null,null,"RAL 7038 Gris agate",7038,"LAQUE"]
[null,null,null,null,null,null,null,null,null,null,null,null,null,null,null,null,null,null,null,null,null,null,null,null,null,null,null,null,null,null,null,null,null,null,null,null,null,null,null,null,null,null,null,null,null,null,null,null,null,null,null,null,null,null,null,null,null,null,null,null,null,null,null,null,null,null,null,null,null,null,null,null,null,null,null,null,null,null,null,null,null,null,null,null,null,null,null,null,null,null,null,null,null,null,null,null,null,null,null,null,null,null,"DORMA KABA 660 K (Coffre ESM) - axe à 70","INHOVA DONNA (Coffre EURO 2UBO) - axe à 60","DORMA KABA 660 K (Coffre ESM) - axe à 70","INHOVA DONNA (Coffre EURO 2UBO) - axe à 60","INHOVA DONNA (Coffre EURO 2UBO) - axe à 60",null,"DORMA KABA 660 K (Coffre ESM) - axe à 70",null,"DORMA KABA 660 K (Coffre ESM) - axe à 70",null,null,"DORMA KABA 790 E (Coffre ESM) - axe à 70",null,null,null,null,null,null,null,null,null,null,null,null,null,null,null,null,null,null,null,null,{"$f":"IF(NOT(ISBLANK((INDIRECT(CONCATENATE(\"TabSerrure[\",RELEVE_COTES!$C$11,\"]\"))))),INDIRECT(CONCATENATE(\"TabSerrure[\",RELEVE_COTES!$C$11,\"]\")),\"\")","v":{"$error":"#VALUE!"}},{"$f":"IF(REF!$EE92<>\"\",1,0)","v":{"$error":"#VALUE!"}},null,"ONITY TRILLIUM MAG (Coffre EURO) - axe à 60","DONNA_INHOVA",1045,1012.5,32.5,0,"SANS",null,null,null,null,null,null,null,null,null,null,null,null,null,null,null,null,null,"Trio",null,null,null,null,null,null,null,null,null,null,null,null,null,null,null,null,null,{"$f":"IF(NOT(ISBLANK((INDIRECT(CONCATENATE(\"TabDécorExt[\",RELEVE_COTES!$C$11,\"]\"))))),INDIRECT(CONCATENATE(\"TabDécorExt[\",RELEVE_COTES!$C$11,\"]\",\"\")),\"\")","v":{"$error":"#VALUE!"}},{"$error":"#VALUE!"},null,null,null,null,null,null,null,null,null,null,null,null,null,null,null,null,null,null,null,null,null,null,null,null,null,null,null,null,null,null,null,null,null,null,null,null,null,null,null,null,null,null,null,null,null,null,null,null,null,null,null,null,null,null,null,null,null,null,null,null,null,null,null,null,null,null,null,null,null,null,null,null,null,null,null,null,null,null,null,null,null,null,null,null,null,null,null,null,null,null,null,null,null,null,null,null,null,null,null,null,null,null,null,null,null,null,null,"RAL 7039 Gris quartz",7039,"LAQUE"]
[null,null,null,null,null,null,null,null,null,null,null,null,null,null,null,null,null,null,null,null,null,null,null,null,null,null,null,null,null,null,null,null,null,null,null,null,null,null,null,null,null,null,null,null,null,null,null,null,null,null,null,null,null,null,null,null,null,null,null,null,null,null,null,null,null,null,null,null,null,null,null,null,null,null,null,null,null,null,null,null,null,null,null,null,null,null,null,null,null,null,null,null,null,null,null,null,null,null,null,null,null,null,"DORMA KABA 760 E (Coffre ESM) - axe à 70","INHOVA DONNA (Coffre EURO 2UBO) - axe à 70","DORMA KABA 760 E (Coffre ESM) - axe à 70","INHOVA DONNA (Coffre EURO 2UBO) - axe à 70","INHOVA DONNA (Coffre EURO 2UBO) - axe à 70",null,"DORMA KABA 760 E (Coffre ESM) - axe à 70",null,"DORMA KABA 760 E (Coffre ESM) - axe à 70",null,null,"DORMA KABA 790 K (Coffre ESM) - axe à 70",null,null,null,null,null,null,null,null,null,null,null,null,null,null,null,null,null,null,null,null,{"$f":"IF(NOT(ISBLANK((INDIRECT(CONCATENATE(\"TabSerrure[\",RELEVE_COTES!$C$11,\"]\"))))),INDIRECT(CONCATENATE(\"TabSerrure[\",RELEVE_COTES!$C$11,\"]\")),\"\")","v":{"$error":"#VALUE!"}},{"$f":"IF(REF!$EE93<>\"\",1,0)","v":{"$error":"#VALUE!"}},null,"ONITY HT 28 RFID (Coffre EURO) - axe à 70","DONNA_INHOVA",1045,1012.5,32.5,0,"SANS",null,null,null,null,null,null,null,null,null,null,null,null,null,null,null,null,null,"Vision",null,null,null,null,null,null,null,null,null,null,null,null,null,null,null,null,null,{"$f":"IF(NOT(ISBLANK((INDIRECT(CONCATENATE(\"TabDécorExt[\",RELEVE_COTES!$C$11,\"]\"))))),INDIRECT(CONCATENATE(\"TabDécorExt[\",RELEVE_COTES!$C$11,\"]\",\"\")),\"\")","v":{"$error":"#VALUE!"}},{"$error":"#VALUE!"},null,null,null,null,null,null,null,null,null,null,null,null,null,null,null,null,null,null,null,null,null,null,null,null,null,null,null,null,null,null,null,null,null,null,null,null,null,null,null,null,null,null,null,null,null,null,null,null,null,null,null,null,null,null,null,null,null,null,null,null,null,null,null,null,null,null,null,null,null,null,null,null,null,null,null,null,null,null,null,null,null,null,null,null,null,null,null,null,null,null,null,null,null,null,null,null,null,null,null,null,null,null,null,null,null,null,null,"RAL 7040 Gris fenêtre",7040,"LAQUE"]
[null,null,null,null,null,null,null,null,null,null,null,null,null,null,null,null,null,null,null,null,null,null,null,null,null,null,null,null,null,null,null,null,null,null,null,null,null,null,null,null,null,null,null,null,null,null,null,null,null,null,null,null,null,null,null,null,null,null,null,null,null,null,null,null,null,null,null,null,null,null,null,null,null,null,null,null,null,null,null,null,null,null,null,null,null,null,null,null,null,null,null,null,null,null,null,null,null,null,null,null,null,null,"DORMA KABA 760 K (Coffre ESM) - axe à 70","ONITY ADVANCE MAG (Coffre EURO) - axe à 70","DORMA KABA 760 K (Coffre ESM) - axe à 70","ONITY ADVANCE MAG (Coffre EURO) - axe à 70","ONITY ADVANCE MAG (Coffre EURO) - axe à 70",null,"DORMA KABA 760 K (Coffre ESM) - axe à 70",null,"DORMA KABA 760 K (Coffre ESM) - axe à 70",null,null,"DORMA KABA Confidant RFID (Coffre EURO) - axe à 55",null,null,null,null,null,null,null,null,null,null,null,null,null,null,null,null,null,null,null,null,{"$f":"IF(NOT(ISBLANK((INDIRECT(CONCATENATE(\"TabSerrure[\",RELEVE_COTES!$C$11,\"]\"))))),INDIRECT(CONCATENATE(\"TabSerrure[\",RELEVE_COTES!$C$11,\"]\")),\"\")","v":{"$error":"#VALUE!"}},{"$f":"IF(REF!$EE94<>\"\",1,0)","v":{"$error":"#VALUE!"}},null,"ONITY TRILLIUM RFID (Coffre EURO) - axe à 60","DONNA_INHOVA",1045,1012.5,32.5,0,"SANS",null,null,null,null,null,null,null,null,null,null,null,null,null,null,null,null,null,null,null,null,null,null,null,null,null,null,null,null,null,null,null,null,null,null,null,null,null,null,null,null,null,null,null,null,null,null,null,null,null,null,null,null,null,null,null,null,null,null,null,null,null,null,null,null,null,null,null,null,null,null,null,null,null,null,null,null,null,null,null,null,null,null,null,null,null,null,null,null,null,null,null,null,null,null,null,null,null,null,null,null,null,null,null,null,null,null,null,null,null,null,null,null,null,null,null,null,null,null,null,null,null,null,null,null,null,null,null,null,null,null,null,null,null,null,null,null,null,null,null,null,null,null,null,null,"RAL 7042 Gris signalisation",7042,"LAQUE"]
[null,null,null,null,null,null,null,null,null,null,null,null,null,null,null,null,null,null,null,null,null,null,null,null,null,null,null,null,null,null,null,null,null,null,null,null,null,null,null,null,null,null,null,null,null,null,null,null,null,null,null,null,null,null,null,null,null,null,null,null,null,null,null,null,null,null,null,null,null,null,null,null,null,null,null,null,null,null,null,null,null,null,null,null,null,null,null,null,null,null,null,null,null,null,null,null,null,null,null,null,null,null,"DORMA KABA 770 E (Coffre ESM) - axe à 70","ONITY ADVANCE RFID (Coffre EURO) - axe à 60","DORMA KABA 770 E (Coffre ESM) - axe à 70","ONITY ADVANCE RFID (Coffre EURO) - axe à 60","ONITY ADVANCE RFID (Coffre EURO) - axe à 60",null,"DORMA KABA 770 E (Coffre ESM) - axe à 70",null,"DORMA KABA 770 E (Coffre ESM) - axe à 70",null,null,"DORMA KABA RT (Coffre ESM) - axe à 70",null,null,null,null,null,null,null,null,null,null,null,null,null,null,null,null,null,null,null,null,{"$f":"IF(NOT(ISBLANK((INDIRECT(CONCATENATE(\"TabSerrure[\",RELEVE_COTES!$C$11,\"]\"))))),INDIRECT(CONCATENATE(\"TabSerrure[\",RELEVE_COTES!$C$11,\"]\")),\"\")","v":{"$error":"#VALUE!"}},{"$f":"IF(REF!$EE95<>\"\",1,0)","v":{"$error":"#VALUE!"}},null,"ONITY TRILLIUM MAG (Coffre EURO) - axe à 70","DONNA_INHOVA",1045,1012.5,32.5,0,"SANS",null,null,null,null,null,null,null,null,null,null,null,null,null,null,null,null,null,null,null,null,null,null,null,null,null,null,null,null,null,null,null,null,null,null,null,null,null,null,null,null,null,null,null,null,null,null,null,null,null,null,null,null,null,null,null,null,null,null,null,null,null,null,null,null,null,null,null,null,null,null,null,null,null,null,null,null,null,null,null,null,null,null,null,null,null,null,null,null,null,null,null,null,null,null,null,null,null,null,null,null,null,null,null,null,null,null,null,null,null,null,null,null,null,null,null,null,null,null,null,null,null,null,null,null,null,null,null,null,null,null,null,null,null,null,null,null,null,null,null,null,null,null,null,null,"RAL 7044 Gris soie",7044,"LAQUE"]
[null,null,null,null,null,null,null,null,null,null,null,null,null,null,null,null,null,null,null,null,null,null,null,null,null,null,null,null,null,null,null,null,null,null,null,null,null,null,null,null,null,null,null,null,null,null,null,null,null,null,null,null,null,null,null,null,null,null,null,null,null,null,null,null,null,null,null,null,null,null,null,null,null,null,null,null,null,null,null,null,null,null,null,null,null,null,null,null,null,null,null,null,null,null,null,null,null,null,null,null,null,null,"DORMA KABA 770 K (Coffre ESM) - axe à 70","ONITY ADVANCE RFID (Coffre EURO) - axe à 70","DORMA KABA 770 K (Coffre ESM) - axe à 70","ONITY ADVANCE RFID (Coffre EURO) - axe à 70","ONITY ADVANCE RFID (Coffre EURO) - axe à 70",null,"DORMA KABA 770 K (Coffre ESM) - axe à 70",null,"DORMA KABA 770 K (Coffre ESM) - axe à 70",null,null,"DORMA KABA RT Messenger (Coffre ESM) - axe à 70",null,null,null,null,null,null,null,null,null,null,null,null,null,null,null,null,null,null,null,null,{"$f":"IF(NOT(ISBLANK((INDIRECT(CONCATENATE(\"TabSerrure[\",RELEVE_COTES!$C$11,\"]\"))))),INDIRECT(CONCATENATE(\"TabSerrure[\",RELEVE_COTES!$C$11,\"]\")),\"\")","v":{"$error":"#VALUE!"}},{"$f":"IF(REF!$EE96<>\"\",1,0)","v":{"$error":"#VALUE!"}},null,"ONITY TRILLIUM RFID (Coffre EURO) - axe à 70","DONNA_INHOVA",1045,1012.5,32.5,0,"SANS",null,null,null,null,null,null,null,null,null,null,null,null,null,null,null,null,null,null,null,null,null,null,null,null,null,null,null,null,null,null,null,null,null,null,null,null,null,null,null,null,null,null,null,null,null,null,null,null,null,null,null,null,null,null,null,null,null,null,null,null,null,null,null,null,null,null,null,null,null,null,null,null,null,null,null,null,null,null,null,null,null,null,null,null,null,null,null,null,null,null,null,null,null,null,null,null,null,null,null,null,null,null,null,null,null,null,null,null,null,null,null,null,null,null,null,null,null,null,null,null,null,null,null,null,null,null,null,null,null,null,null,null,null,null,null,null,null,null,null,null,null,null,null,null,"RAL 8012 Brun rouge",8012,"LAQUE"]
[null,null,null,null,null,null,null,null,null,null,null,null,null,null,null,null,null,null,null,null,null,null,null,null,null,null,null,null,null,null,null,null,null,null,null,null,null,null,null,null,null,null,null,null,null,null,null,null,null,null,null,null,null,null,null,null,null,null,null,null,null,null,null,null,null,null,null,null,null,null,null,null,null,null,null,null,null,null,null,null,null,null,null,null,null,null,null,null,null,null,null,null,null,null,null,null,null,null,null,null,null,null,"DORMA KABA 790 E (Coffre ESM) - axe à 70","ONITY HT 22 RFID (Coffre EURO) - axe à 60","DORMA KABA 790 E (Coffre ESM) - axe à 70","ONITY HT 22 RFID (Coffre EURO) - axe à 60","ONITY HT 22 RFID (Coffre EURO) - axe à 60",null,"DORMA KABA 790 E (Coffre ESM) - axe à 70",null,"DORMA KABA 790 E (Coffre ESM) - axe à 70",null,null,"élect. 3 pts ABLOY EL567 - axe à 55 - têtière 1760x24",null,null,null,null,null,null,null,null,null,null,null,null,null,null,null,null,null,null,null,null,{"$f":"IF(NOT(ISBLANK((INDIRECT(CONCATENATE(\"TabSerrure[\",RELEVE_COTES!$C$11,\"]\"))))),INDIRECT(CONCATENATE(\"TabSerrure[\",RELEVE_COTES!$C$11,\"]\")),\"\")","v":{"$error":"#VALUE!"}},{"$f":"IF(REF!$EE97<>\"\",1,0)","v":{"$error":"#VALUE!"}},null,"SALTO XS4 (Coffre EURO Bricard 8161/A1) - axe à 50","3PTS_V5000",1045,1020,25,0,"SANS",null,null,null,null,null,null,null,null,null,null,null,null,null,null,null,null,null,null,null,null,null,null,null,null,null,null,null,null,null,null,null,null,null,null,null,null,null,null,null,null,null,null,null,null,null,null,null,null,null,null,null,null,null,null,null,null,null,null,null,null,null,null,null,null,null,null,null,null,null,null,null,null,null,null,null,null,null,null,null,null,null,null,null,null,null,null,null,null,null,null,null,null,null,null,null,null,null,null,null,null,null,null,null,null,null,null,null,null,null,null,null,null,null,null,null,null,null,null,null,null,null,null,null,null,null,null,null,null,null,null,null,null,null,null,null,null,null,null,null,null,null,null,null,null,"RAL 8019 Brun gris",8019,"LAQUE"]
[null,null,null,null,null,null,null,null,null,null,null,null,null,null,null,null,null,null,null,null,null,null,null,null,null,null,null,null,null,null,null,null,null,null,null,null,null,null,null,null,null,null,null,null,null,null,null,null,null,null,null,null,null,null,null,null,null,null,null,null,null,null,null,null,null,null,null,null,null,null,null,null,null,null,null,null,null,null,null,null,null,null,null,null,null,null,null,null,null,null,null,null,null,null,null,null,null,null,null,null,null,null,"DORMA KABA 790 K (Coffre ESM) - axe à 70","ONITY HT 22 RFID (Coffre EURO) - axe à 70","DORMA KABA 790 K (Coffre ESM) - axe à 70","ONITY HT 22 RFID (Coffre EURO) - axe à 70","ONITY HT 22 RFID (Coffre EURO) - axe à 70",null,"DORMA KABA 790 K (Coffre ESM) - axe à 70",null,"DORMA KABA 790 K (Coffre ESM) - axe à 70",null,null,"élect. 3 pts ABLOY MP565 - axe à 50 - têtière 1760x24",null,null,null,null,null,null,null,null,null,null,null,null,null,null,null,null,null,null,null,null,{"$f":"IF(NOT(ISBLANK((INDIRECT(CONCATENATE(\"TabSerrure[\",RELEVE_COTES!$C$11,\"]\"))))),INDIRECT(CONCATENATE(\"TabSerrure[\",RELEVE_COTES!$C$11,\"]\")),\"\")","v":{"$error":"#VALUE!"}},{"$f":"IF(REF!$EE98<>\"\",1,0)","v":{"$error":"#VALUE!"}},null,"SALTO AELEMENT (Coffre EURO LE7E37) - axe à 55","1PT_D45",1048,1028,20,0,"SANS",null,null,null,null,null,null,null,null,null,null,null,null,null,null,null,null,null,null,null,null,null,null,null,null,null,null,null,null,null,null,null,null,null,null,null,null,null,null,null,null,null,null,null,null,null,null,null,null,null,null,null,null,null,null,null,null,null,null,null,null,null,null,null,null,null,null,null,null,null,null,null,null,null,null,null,null,null,null,null,null,null,null,null,null,null,null,null,null,null,null,null,null,null,null,null,null,null,null,null,null,null,null,null,null,null,null,null,null,null,null,null,null,null,null,null,null,null,null,null,null,null,null,null,null,null,null,null,null,null,null,null,null,null,null,null,null,null,null,null,null,null,null,null,null,"RAL 8025 Brun pâle",8025,"LAQUE"]
[null,null,null,null,null,null,null,null,null,null,null,null,null,null,null,null,null,null,null,null,null,null,null,null,null,null,null,null,null,null,null,null,null,null,null,null,null,null,null,null,null,null,null,null,null,null,null,null,null,null,null,null,null,null,null,null,null,null,null,null,null,null,null,null,null,null,null,null,null,null,null,null,null,null,null,null,null,null,null,null,null,null,null,null,null,null,null,null,null,null,null,null,null,null,null,null,null,null,null,null,null,null,"DORMA KABA Confidant RFID (Coffre EURO) - axe à 55","ONITY HT 24 RFID (Coffre EURO) - axe à 60","DORMA KABA Confidant RFID (Coffre EURO) - axe à 55","ONITY HT 24 RFID (Coffre EURO) - axe à 60","ONITY HT 24 RFID (Coffre EURO) - axe à 60",null,"DORMA KABA Confidant RFID (Coffre EURO) - axe à 55",null,"DORMA KABA Confidant RFID (Coffre EURO) - axe à 55",null,null,"élect. ABLOY 8458 Mesure Conserv. - axe à 50 - têtière 250x20",null,null,null,null,null,null,null,null,null,null,null,null,null,null,null,null,null,null,null,null,{"$f":"IF(NOT(ISBLANK((INDIRECT(CONCATENATE(\"TabSerrure[\",RELEVE_COTES!$C$11,\"]\"))))),INDIRECT(CONCATENATE(\"TabSerrure[\",RELEVE_COTES!$C$11,\"]\")),\"\")","v":{"$error":"#VALUE!"}},{"$f":"IF(REF!$EE99<>\"\",1,0)","v":{"$error":"#VALUE!"}},null,"SALTO AELEMENT (Coffre EURO LE7E37) - axe à 65","1PT_D45",1048,1028,20,0,"SANS",null,null,null,null,null,null,null,null,null,null,null,null,null,null,null,null,null,null,null,null,null,null,null,null,null,null,null,null,null,null,null,null,null,null,null,null,null,null,null,null,null,null,null,null,null,null,null,null,null,null,null,null,null,null,null,null,null,null,null,null,null,null,null,null,null,null,null,null,null,null,null,null,null,null,null,null,null,null,null,null,null,null,null,null,null,null,null,null,null,null,null,null,null,null,null,null,null,null,null,null,null,null,null,null,null,null,null,null,null,null,null,null,null,null,null,null,null,null,null,null,null,null,null,null,null,null,null,null,null,null,null,null,null,null,null,null,null,null,null,null,null,null,null,null,"RAL 9001 Blanc crème",9001,"LAQUE"]
[null,null,null,null,null,null,null,null,null,null,null,null,null,null,null,null,null,null,null,null,null,null,null,null,null,null,null,null,null,null,null,null,null,null,null,null,null,null,null,null,null,null,null,null,null,null,null,null,null,null,null,null,null,null,null,null,null,null,null,null,null,null,null,null,null,null,null,null,null,null,null,null,null,null,null,null,null,null,null,null,null,null,null,null,null,null,null,null,null,null,null,null,null,null,null,null,null,null,null,null,null,null,"DORMA KABA RT (Coffre ESM) - axe à 70","ONITY HT 24 RFID (Coffre EURO) - axe à 70","DORMA KABA RT (Coffre ESM) - axe à 70","ONITY HT 24 RFID (Coffre EURO) - axe à 70","ONITY HT 24 RFID (Coffre EURO) - axe à 70",null,"DORMA KABA RT (Coffre ESM) - axe à 70",null,"DORMA KABA RT (Coffre ESM) - axe à 70",null,null,"élect. ABLOY 8458 Mesure Conserv. - axe à 50 - têtière 250x25",null,null,null,null,null,null,null,null,null,null,null,null,null,null,null,null,null,null,null,null,{"$f":"IF(NOT(ISBLANK((INDIRECT(CONCATENATE(\"TabSerrure[\",RELEVE_COTES!$C$11,\"]\"))))),INDIRECT(CONCATENATE(\"TabSerrure[\",RELEVE_COTES!$C$11,\"]\")),\"\")","v":{"$error":"#VALUE!"}},{"$f":"IF(REF!$EE100<>\"\",1,0)","v":{"$error":"#VALUE!"}},null,"SALTO XS4 (Coffre EURO Marques) - axe à 50","1PT_D45",1045,1020,25,0,"SANS",null,null,null,null,null,null,null,null,null,null,null,null,null,null,null,null,null,null,null,null,null,null,null,null,null,null,null,null,null,null,null,null,null,null,null,null,null,null,null,null,null,null,null,null,null,null,null,null,null,null,null,null,null,null,null,null,null,null,null,null,null,null,null,null,null,null,null,null,null,null,null,null,null,null,null,null,null,null,null,null,null,null,null,null,null,null,null,null,null,null,null,null,null,null,null,null,null,null,null,null,null,null,null,null,null,null,null,null,null,null,null,null,null,null,null,null,null,null,null,null,null,null,null,null,null,null,null,null,null,null,null,null,null,null,null,null,null,null,null,null,null,null,null,null,"RAL 9002 Blanc gris",9002,"LAQUE"]
[null,null,null,null,null,null,null,null,null,null,null,null,null,null,null,null,null,null,null,null,null,null,null,null,null,null,null,null,null,null,null,null,null,null,null,null,null,null,null,null,null,null,null,null,null,null,null,null,null,null,null,null,null,null,null,null,null,null,null,null,null,null,null,null,null,null,null,null,null,null,null,null,null,null,null,null,null,null,null,null,null,null,null,null,null,null,null,null,null,null,null,null,null,null,null,null,null,null,null,null,null,null,"DORMA KABA RT Messenger (Coffre ESM) - axe à 70","ONITY HT 28 RFID (Coffre EURO) - axe à 60","DORMA KABA RT Messenger (Coffre ESM) - axe à 70","ONITY HT 28 RFID (Coffre EURO) - axe à 60","ONITY HT 28 RFID (Coffre EURO) - axe à 60",null,"DORMA KABA RT Messenger (Coffre ESM) - axe à 70",null,"DORMA KABA RT Messenger (Coffre ESM) - axe à 70",null,null,"élect. ABLOY 8778 Mesure Conserv. - axe à 50 - têtière 250x20",null,null,null,null,null,null,null,null,null,null,null,null,null,null,null,null,null,null,null,null,{"$f":"IF(NOT(ISBLANK((INDIRECT(CONCATENATE(\"TabSerrure[\",RELEVE_COTES!$C$11,\"]\"))))),INDIRECT(CONCATENATE(\"TabSerrure[\",RELEVE_COTES!$C$11,\"]\")),\"\")","v":{"$error":"#VALUE!"}},{"$f":"IF(REF!$EE101<>\"\",1,0)","v":{"$error":"#VALUE!"}},null,"SALTO XS4 (Coffre EURO Vachette) - axe à 50","1PT_D45",1045,1020,25,0,"SANS",null,null,null,null,null,null,null,null,null,null,null,null,null,null,null,null,null,null,null,null,null,null,null,null,null,null,null,null,null,null,null,null,null,null,null,null,null,null,null,null,null,null,null,null,null,null,null,null,null,null,null,null,null,null,null,null,null,null,null,null,null,null,null,null,null,null,null,null,null,null,null,null,null,null,null,null,null,null,null,null,null,null,null,null,null,null,null,null,null,null,null,null,null,null,null,null,null,null,null,null,null,null,null,null,null,null,null,null,null,null,null,null,null,null,null,null,null,null,null,null,null,null,null,null,null,null,null,null,null,null,null,null,null,null,null,null,null,null,null,null,null,null,null,null,"RAL 9003 Blanc de sécurité",9003,"LAQUE"]
[null,null,null,null,null,null,null,null,null,null,null,null,null,null,null,null,null,null,null,null,null,null,null,null,null,null,null,null,null,null,null,null,null,null,null,null,null,null,null,null,null,null,null,null,null,null,null,null,null,null,null,null,null,null,null,null,null,null,null,null,null,null,null,null,null,null,null,null,null,null,null,null,null,null,null,null,null,null,null,null,null,null,null,null,null,null,null,null,null,null,null,null,null,null,null,null,null,null,null,null,null,null,"élect. 3 pts ABLOY EL567 - axe à 55 - têtière 1760x24","ONITY HT 28 RFID (Coffre EURO) - axe à 70","élect. 3 pts ABLOY EL567 - axe à 55 - têtière 1760x24","ONITY HT 28 RFID (Coffre EURO) - axe à 70","ONITY HT 28 RFID (Coffre EURO) - axe à 70",null,"élect. 3 pts ABLOY EL567 - axe à 55 - têtière 1760x24",null,"élect. 3 pts ABLOY EL567 - axe à 55 - têtière 1760x24",null,null,"élect. ABLOY 8778 Mesure Conserv. - axe à 50 - têtière 250x25",null,null,null,null,null,null,null,null,null,null,null,null,null,null,null,null,null,null,null,null,{"$f":"IF(NOT(ISBLANK((INDIRECT(CONCATENATE(\"TabSerrure[\",RELEVE_COTES!$C$11,\"]\"))))),INDIRECT(CONCATENATE(\"TabSerrure[\",RELEVE_COTES!$C$11,\"]\")),\"\")","v":{"$error":"#VALUE!"}},{"$f":"IF(REF!$EE102<>\"\",1,0)","v":{"$error":"#VALUE!"}},null,"SALTO XS4 One (Coffre EURO Bricard 8161/A1) - axe à 50","3PTS_V5000",1045,1020,25,0,"SANS",null,null,null,null,null,null,null,null,null,null,null,null,null,null,null,null,null,null,null,null,null,null,null,null,null,null,null,null,null,null,null,null,null,null,null,null,null,null,null,null,null,null,null,null,null,null,null,null,null,null,null,null,null,null,null,null,null,null,null,null,null,null,null,null,null,null,null,null,null,null,null,null,null,null,null,null,null,null,null,null,null,null,null,null,null,null,null,null,null,null,null,null,null,null,null,null,null,null,null,null,null,null,null,null,null,null,null,null,null,null,null,null,null,null,null,null,null,null,null,null,null,null,null,null,null,null,null,null,null,null,null,null,null,null,null,null,null,null,null,null,null,null,null,null,"RAL 9016 Blanc signalisation",9016,"LAQUE"]
[null,null,null,null,null,null,null,null,null,null,null,null,null,null,null,null,null,null,null,null,null,null,null,null,null,null,null,null,null,null,null,null,null,null,null,null,null,null,null,null,null,null,null,null,null,null,null,null,null,null,null,null,null,null,null,null,null,null,null,null,null,null,null,null,null,null,null,null,null,null,null,null,null,null,null,null,null,null,null,null,null,null,null,null,null,null,null,null,null,null,null,null,null,null,null,null,null,null,null,null,null,null,"élect. 3 pts ABLOY MP565 - axe à 50 - têtière 1760x24","ONITY TRILLIUM MAG (Coffre EURO) - axe à 60","élect. 3 pts ABLOY MP565 - axe à 50 - têtière 1760x24","ONITY TRILLIUM MAG (Coffre EURO) - axe à 60","ONITY TRILLIUM MAG (Coffre EURO) - axe à 60",null,"élect. 3 pts ABLOY MP565 - axe à 50 - têtière 1760x24",null,"élect. 3 pts ABLOY MP565 - axe à 50 - têtière 1760x24",null,null,"élect. ABLOY EL524 - axe à 50 - têtière 250x20",null,null,null,null,null,null,null,null,null,null,null,null,null,null,null,null,null,null,null,null,{"$f":"IF(NOT(ISBLANK((INDIRECT(CONCATENATE(\"TabSerrure[\",RELEVE_COTES!$C$11,\"]\"))))),INDIRECT(CONCATENATE(\"TabSerrure[\",RELEVE_COTES!$C$11,\"]\")),\"\")","v":{"$error":"#VALUE!"}},{"$f":"IF(REF!$EE103<>\"\",1,0)","v":{"$error":"#VALUE!"}},null,"SALTO XS4 One (Coffre EURO Marques) - axe à 50","1PT_D45",1045,1020,25,0,"SANS"]
[null,null,null,null,null,null,null,null,null,null,null,null,null,null,null,null,null,null,null,null,null,null,null,null,null,null,null,null,null,null,null,null,null,null,null,null,null,null,null,null,null,null,null,null,null,null,null,null,null,null,null,null,null,null,null,null,null,null,null,null,null,null,null,null,null,null,null,null,null,null,null,null,null,null,null,null,null,null,null,null,null,null,null,null,null,null,null,null,null,null,null,null,null,null,null,null,null,null,null,null,null,null,"élect. ABLOY 8458 Mesure Conserv. - axe à 50 - têtière 250x20","ONITY TRILLIUM MAG (Coffre EURO) - axe à 70","élect. ABLOY 8458 Mesure Conserv. - axe à 50 - têtière 250x20","ONITY TRILLIUM MAG (Coffre EURO) - axe à 70","ONITY TRILLIUM MAG (Coffre EURO) - axe à 70",null,"élect. ABLOY 8458 Mesure Conserv. - axe à 50 - têtière 250x20",null,"élect. ABLOY 8458 Mesure Conserv. - axe à 50 - têtière 250x20",null,null,"élect. ABLOY EL524 - axe à 50 - têtière 250x25",null,null,null,null,null,null,null,null,null,null,null,null,null,null,null,null,null,null,null,null,{"$f":"IF(NOT(ISBLANK((INDIRECT(CONCATENATE(\"TabSerrure[\",RELEVE_COTES!$C$11,\"]\"))))),INDIRECT(CONCATENATE(\"TabSerrure[\",RELEVE_COTES!$C$11,\"]\")),\"\")","v":{"$error":"#VALUE!"}},{"$f":"IF(REF!$EE104<>\"\",1,0)","v":{"$error":"#VALUE!"}},null,"SALTO XS4 One (Coffre EURO Vachette) - axe à 50","1PT_D45",1045,1020,25,0,"SANS"]
[null,null,null,null,null,null,null,null,null,null,null,null,null,null,null,null,null,null,null,null,null,null,null,null,null,null,null,null,null,null,null,null,null,null,null,null,null,null,null,null,null,null,null,null,null,null,null,null,null,null,null,null,null,null,null,null,null,null,null,null,null,null,null,null,null,null,null,null,null,null,null,null,null,null,null,null,null,null,null,null,null,null,null,null,null,null,null,null,null,null,null,null,null,null,null,null,null,null,null,null,null,null,"élect. ABLOY 8458 Mesure Conserv. - axe à 50 - têtière 250x25","ONITY TRILLIUM RFID (Coffre EURO) - axe à 60","élect. ABLOY 8458 Mesure Conserv. - axe à 50 - têtière 250x25","ONITY TRILLIUM RFID (Coffre EURO) - axe à 60","ONITY TRILLIUM RFID (Coffre EURO) - axe à 60",null,"élect. ABLOY 8458 Mesure Conserv. - axe à 50 - têtière 250x25",null,"élect. ABLOY 8458 Mesure Conserv. - axe à 50 - têtière 250x25",null,null,"élect. ABLOY EL564 - axe à 50 - têtière 250x20",null,null,null,null,null,null,null,null,null,null,null,null,null,null,null,null,null,null,null,null,{"$f":"IF(NOT(ISBLANK((INDIRECT(CONCATENATE(\"TabSerrure[\",RELEVE_COTES!$C$11,\"]\"))))),INDIRECT(CONCATENATE(\"TabSerrure[\",RELEVE_COTES!$C$11,\"]\")),\"\")","v":{"$error":"#VALUE!"}},{"$f":"IF(REF!$EE105<>\"\",1,0)","v":{"$error":"#VALUE!"}},null,"VINGCARD SIGNATURE RFID (SIGMA RFID) (Coffre EURO) - axe à 65","VINGCARD_EURO",1045,1000,45,0,"SANS"]
[null,null,null,null,null,null,null,null,null,null,null,null,null,null,null,null,null,null,null,null,null,null,null,null,null,null,null,null,null,null,null,null,null,null,null,null,null,null,null,null,null,null,null,null,null,null,null,null,null,null,null,null,null,null,null,null,null,null,null,null,null,null,null,null,null,null,null,null,null,null,null,null,null,null,null,null,null,null,null,null,null,null,null,null,null,null,null,null,null,null,null,null,null,null,null,null,null,null,null,null,null,null,"élect. ABLOY 8778 Mesure Conserv. - axe à 50 - têtière 250x20","ONITY TRILLIUM RFID (Coffre EURO) - axe à 70","élect. ABLOY 8778 Mesure Conserv. - axe à 50 - têtière 250x20","ONITY TRILLIUM RFID (Coffre EURO) - axe à 70","ONITY TRILLIUM RFID (Coffre EURO) - axe à 70",null,"élect. ABLOY 8778 Mesure Conserv. - axe à 50 - têtière 250x20",null,"élect. ABLOY 8778 Mesure Conserv. - axe à 50 - têtière 250x20",null,null,"élect. ABLOY EL564 - axe à 50 - têtière 250x25",null,null,null,null,null,null,null,null,null,null,null,null,null,null,null,null,null,null,null,null,{"$f":"IF(NOT(ISBLANK((INDIRECT(CONCATENATE(\"TabSerrure[\",RELEVE_COTES!$C$11,\"]\"))))),INDIRECT(CONCATENATE(\"TabSerrure[\",RELEVE_COTES!$C$11,\"]\")),\"\")","v":{"$error":"#VALUE!"}},{"$f":"IF(REF!$EE106<>\"\",1,0)","v":{"$error":"#VALUE!"}},null,"VINGCARD SIGNATURE RFID (SIGMA RFID) (Coffre EURO) - axe à 80","VINGCARD_EURO",1045,1000,45,0,"SANS"]
[null,null,null,null,null,null,null,null,null,null,null,null,null,null,null,null,null,null,null,null,null,null,null,null,null,null,null,null,null,null,null,null,null,null,null,null,null,null,null,null,null,null,null,null,null,null,null,null,null,null,null,null,null,null,null,null,null,null,null,null,null,null,null,null,null,null,null,null,null,null,null,null,null,null,null,null,null,null,null,null,null,null,null,null,null,null,null,null,null,null,null,null,null,null,null,null,null,null,null,null,null,null,"élect. ABLOY 8778 Mesure Conserv. - axe à 50 - têtière 250x25","SALTO AELEMENT (Coffre EURO LE7E37) - axe à 55","élect. ABLOY 8778 Mesure Conserv. - axe à 50 - têtière 250x25","SALTO AELEMENT (Coffre EURO LE7E37) - axe à 55","SALTO AELEMENT (Coffre EURO LE7E37) - axe à 55",null,"élect. ABLOY 8778 Mesure Conserv. - axe à 50 - têtière 250x25",null,"élect. ABLOY 8778 Mesure Conserv. - axe à 50 - têtière 250x25",null,null,"élect. ABLOY EL565 - axe à 50 - têtière 250x20",null,null,null,null,null,null,null,null,null,null,null,null,null,null,null,null,null,null,null,null,{"$f":"IF(NOT(ISBLANK((INDIRECT(CONCATENATE(\"TabSerrure[\",RELEVE_COTES!$C$11,\"]\"))))),INDIRECT(CONCATENATE(\"TabSerrure[\",RELEVE_COTES!$C$11,\"]\")),\"\")","v":{"$error":"#VALUE!"}},{"$f":"IF(REF!$EE107<>\"\",1,0)","v":{"$error":"#VALUE!"}},null,"VINGCARD ALLURE (Coffre EURO) - axe à 65",{"$error":"#N/A"},1045,1000,45,0,"SANS"]
[null,null,null,null,null,null,null,null,null,null,null,null,null,null,null,null,null,null,null,null,null,null,null,null,null,null,null,null,null,null,null,null,null,null,null,null,null,null,null,null,null,null,null,null,null,null,null,null,null,null,null,null,null,null,null,null,null,null,null,null,null,null,null,null,null,null,null,null,null,null,null,null,null,null,null,null,null,null,null,null,null,null,null,null,null,null,null,null,null,null,null,null,null,null,null,null,null,null,null,null,null,null,"élect. ABLOY EL524 - axe à 50 - têtière 250x20","SALTO AELEMENT (Coffre EURO LE7E37) - axe à 65","élect. ABLOY EL524 - axe à 50 - têtière 250x20","SALTO AELEMENT (Coffre EURO LE7E37) - axe à 65","SALTO AELEMENT (Coffre EURO LE7E37) - axe à 65",null,"élect. ABLOY EL524 - axe à 50 - têtière 250x20",null,"élect. ABLOY EL524 - axe à 50 - têtière 250x20",null,null,"élect. ABLOY EL565 - axe à 50 - têtière 250x25",null,null,null,null,null,null,null,null,null,null,null,null,null,null,null,null,null,null,null,null,{"$f":"IF(NOT(ISBLANK((INDIRECT(CONCATENATE(\"TabSerrure[\",RELEVE_COTES!$C$11,\"]\"))))),INDIRECT(CONCATENATE(\"TabSerrure[\",RELEVE_COTES!$C$11,\"]\")),\"\")","v":{"$error":"#VALUE!"}},{"$f":"IF(REF!$EE108<>\"\",1,0)","v":{"$error":"#VALUE!"}},null,"VINGCARD ALLURE (Coffre EURO) - axe à 80",{"$error":"#N/A"},1045,1000,45,0,"SANS"]
[null,null,null,null,null,null,null,null,null,null,null,null,null,null,null,null,null,null,null,null,null,null,null,null,null,null,null,null,null,null,null,null,null,null,null,null,null,null,null,null,null,null,null,null,null,null,null,null,null,null,null,null,null,null,null,null,null,null,null,null,null,null,null,null,null,null,null,null,null,null,null,null,null,null,null,null,null,null,null,null,null,null,null,null,null,null,null,null,null,null,null,null,null,null,null,null,null,null,null,null,null,null,"élect. ABLOY EL524 - axe à 50 - têtière 250x25","SALTO XS4 (Coffre EURO Bricard 8161/A1) - axe à 50","élect. ABLOY EL524 - axe à 50 - têtière 250x25","SALTO XS4 (Coffre EURO Bricard 8161/A1) - axe à 50","SALTO XS4 (Coffre EURO Bricard 8161/A1) - axe à 50",null,"élect. ABLOY EL524 - axe à 50 - têtière 250x25",null,"élect. ABLOY EL524 - axe à 50 - têtière 250x25",null,null,"INHOVA DONNA (Coffre EURO 2UBO) - axe à 60",null,null,null,null,null,null,null,null,null,null,null,null,null,null,null,null,null,null,null,null,{"$f":"IF(NOT(ISBLANK((INDIRECT(CONCATENATE(\"TabSerrure[\",RELEVE_COTES!$C$11,\"]\"))))),INDIRECT(CONCATENATE(\"TabSerrure[\",RELEVE_COTES!$C$11,\"]\")),\"\")","v":{"$error":"#VALUE!"}},{"$f":"IF(REF!$EE109<>\"\",1,0)","v":{"$error":"#VALUE!"}},null,"VINGCARD ESSENCE V2 (Coffre EURO) - axe à 65","VINGCARD_EURO",1045,1000,45,0,"SANS"]
[null,null,null,null,null,null,null,null,null,null,null,null,null,null,null,null,null,null,null,null,null,null,null,null,null,null,null,null,null,null,null,null,null,null,null,null,null,null,null,null,null,null,null,null,null,null,null,null,null,null,null,null,null,null,null,null,null,null,null,null,null,null,null,null,null,null,null,null,null,null,null,null,null,null,null,null,null,null,null,null,null,null,null,null,null,null,null,null,null,null,null,null,null,null,null,null,null,null,null,null,null,null,"élect. ABLOY EL564 - axe à 50 - têtière 250x20","SALTO XS4 (Coffre EURO Marques) - axe à 50","élect. ABLOY EL564 - axe à 50 - têtière 250x20","SALTO XS4 (Coffre EURO Marques) - axe à 50","SALTO XS4 (Coffre EURO Marques) - axe à 50",null,"élect. ABLOY EL564 - axe à 50 - têtière 250x20",null,"élect. ABLOY EL564 - axe à 50 - têtière 250x20",null,null,"INHOVA DONNA (Coffre EURO 2UBO) - axe à 70",null,null,null,null,null,null,null,null,null,null,null,null,null,null,null,null,null,null,null,null,{"$f":"IF(NOT(ISBLANK((INDIRECT(CONCATENATE(\"TabSerrure[\",RELEVE_COTES!$C$11,\"]\"))))),INDIRECT(CONCATENATE(\"TabSerrure[\",RELEVE_COTES!$C$11,\"]\")),\"\")","v":{"$error":"#VALUE!"}},{"$f":"IF(REF!$EE110<>\"\",1,0)","v":{"$error":"#VALUE!"}},null,"VINGCARD ESSENCE V2 (Coffre EURO) - axe à 80","VINGCARD_EURO",1045,1000,45,0,"SANS"]
[null,null,null,null,null,null,null,null,null,null,null,null,null,null,null,null,null,null,null,null,null,null,null,null,null,null,null,null,null,null,null,null,null,null,null,null,null,null,null,null,null,null,null,null,null,null,null,null,null,null,null,null,null,null,null,null,null,null,null,null,null,null,null,null,null,null,null,null,null,null,null,null,null,null,null,null,null,null,null,null,null,null,null,null,null,null,null,null,null,null,null,null,null,null,null,null,null,null,null,null,null,null,"élect. ABLOY EL564 - axe à 50 - têtière 250x25","SALTO XS4 (Coffre EURO Vachette) - axe à 50","élect. ABLOY EL564 - axe à 50 - têtière 250x25","SALTO XS4 (Coffre EURO Vachette) - axe à 50","SALTO XS4 (Coffre EURO Vachette) - axe à 50",null,"élect. ABLOY EL564 - axe à 50 - têtière 250x25",null,"élect. ABLOY EL564 - axe à 50 - têtière 250x25",null,null,"ONITY ADVANCE MAG (Coffre EURO) - axe à 70",null,null,null,null,null,null,null,null,null,null,null,null,null,null,null,null,null,null,null,null,{"$f":"IF(NOT(ISBLANK((INDIRECT(CONCATENATE(\"TabSerrure[\",RELEVE_COTES!$C$11,\"]\"))))),INDIRECT(CONCATENATE(\"TabSerrure[\",RELEVE_COTES!$C$11,\"]\")),\"\")","v":{"$error":"#VALUE!"}},{"$f":"IF(REF!$EE111<>\"\",1,0)","v":{"$error":"#VALUE!"}},null,"VINGCARD SIGNATURE RFID (Coffre ANSI) - axe à 70","VINGCARD_ANSI_DB",1045,1000,45,0,"SANS"]
[null,null,null,null,null,null,null,null,null,null,null,null,null,null,null,null,null,null,null,null,null,null,null,null,null,null,null,null,null,null,null,null,null,null,null,null,null,null,null,null,null,null,null,null,null,null,null,null,null,null,null,null,null,null,null,null,null,null,null,null,null,null,null,null,null,null,null,null,null,null,null,null,null,null,null,null,null,null,null,null,null,null,null,null,null,null,null,null,null,null,null,null,null,null,null,null,null,null,null,null,null,null,"élect. ABLOY EL565 - axe à 50 - têtière 250x20","SALTO XS4 One (Coffre EURO Bricard 8161/A1) - axe à 50","élect. ABLOY EL565 - axe à 50 - têtière 250x20","SALTO XS4 One (Coffre EURO Bricard 8161/A1) - axe à 50","SALTO XS4 One (Coffre EURO Bricard 8161/A1) - axe à 50",null,"élect. ABLOY EL565 - axe à 50 - têtière 250x20",null,"élect. ABLOY EL565 - axe à 50 - têtière 250x20",null,null,"ONITY ADVANCE RFID (Coffre EURO) - axe à 60",null,null,null,null,null,null,null,null,null,null,null,null,null,null,null,null,null,null,null,null,{"$f":"IF(NOT(ISBLANK((INDIRECT(CONCATENATE(\"TabSerrure[\",RELEVE_COTES!$C$11,\"]\"))))),INDIRECT(CONCATENATE(\"TabSerrure[\",RELEVE_COTES!$C$11,\"]\")),\"\")","v":{"$error":"#VALUE!"}},{"$f":"IF(REF!$EE112<>\"\",1,0)","v":{"$error":"#VALUE!"}},null,"VINGCARD ESSENCE V2 (Coffre ANSI) - axe à 70","VINGCARD_ANSI_DB",1045,1000,45,0,"SANS"]
[null,null,null,null,null,null,null,null,null,null,null,null,null,null,null,null,null,null,null,null,null,null,null,null,null,null,null,null,null,null,null,null,null,null,null,null,null,null,null,null,null,null,null,null,null,null,null,null,null,null,null,null,null,null,null,null,null,null,null,null,null,null,null,null,null,null,null,null,null,null,null,null,null,null,null,null,null,null,null,null,null,null,null,null,null,null,null,null,null,null,null,null,null,null,null,null,null,null,null,null,null,null,"élect. ABLOY EL565 - axe à 50 - têtière 250x25","SALTO XS4 One (Coffre EURO Marques) - axe à 50","élect. ABLOY EL565 - axe à 50 - têtière 250x25","SALTO XS4 One (Coffre EURO Marques) - axe à 50","SALTO XS4 One (Coffre EURO Marques) - axe à 50",null,"élect. ABLOY EL565 - axe à 50 - têtière 250x25",null,"élect. ABLOY EL565 - axe à 50 - têtière 250x25",null,null,"ONITY ADVANCE RFID (Coffre EURO) - axe à 70",null,null,null,null,null,null,null,null,null,null,null,null,null,null,null,null,null,null,null,null,{"$f":"IF(NOT(ISBLANK((INDIRECT(CONCATENATE(\"TabSerrure[\",RELEVE_COTES!$C$11,\"]\"))))),INDIRECT(CONCATENATE(\"TabSerrure[\",RELEVE_COTES!$C$11,\"]\")),\"\")","v":{"$error":"#VALUE!"}},{"$f":"IF(REF!$EE113<>\"\",1,0)","v":{"$error":"#VALUE!"}},null,"élect. ABLOY EL565 - axe à 50 - têtière 250x25","1PT_D45",1043,1020,23,0,"DORMA_KU260"]
[null,null,null,null,null,null,null,null,null,null,null,null,null,null,null,null,null,null,null,null,null,null,null,null,null,null,null,null,null,null,null,null,null,null,null,null,null,null,null,null,null,null,null,null,null,null,null,null,null,null,null,null,null,null,null,null,null,null,null,null,null,null,null,null,null,null,null,null,null,null,null,null,null,null,null,null,null,null,null,null,null,null,null,null,null,null,null,null,null,null,null,null,null,null,null,null,null,null,null,null,null,null,"INHOVA DONNA (Coffre EURO 2UBO) - axe à 60","SALTO XS4 One (Coffre EURO Vachette) - axe à 50","INHOVA DONNA (Coffre EURO 2UBO) - axe à 60","SALTO XS4 One (Coffre EURO Vachette) - axe à 50","SALTO XS4 One (Coffre EURO Vachette) - axe à 50",null,"INHOVA DONNA (Coffre EURO 2UBO) - axe à 60",null,"INHOVA DONNA (Coffre EURO 2UBO) - axe à 60",null,null,"ONITY HT 22 RFID (Coffre EURO) - axe à 60",null,null,null,null,null,null,null,null,null,null,null,null,null,null,null,null,null,null,null,null,{"$f":"IF(NOT(ISBLANK((INDIRECT(CONCATENATE(\"TabSerrure[\",RELEVE_COTES!$C$11,\"]\"))))),INDIRECT(CONCATENATE(\"TabSerrure[\",RELEVE_COTES!$C$11,\"]\")),\"\")","v":{"$error":"#VALUE!"}},{"$f":"IF(REF!$EE114<>\"\",1,0)","v":{"$error":"#VALUE!"}},null,"élect. ABLOY EL524 - axe à 50 - têtière 250x20","1PT_D45",1043,1020,23,0,"DORMA_KU260"]
[null,null,null,null,null,null,null,null,null,null,null,null,null,null,null,null,null,null,null,null,null,null,null,null,null,null,null,null,null,null,null,null,null,null,null,null,null,null,null,null,null,null,null,null,null,null,null,null,null,null,null,null,null,null,null,null,null,null,null,null,null,null,null,null,null,null,null,null,null,null,null,null,null,null,null,null,null,null,null,null,null,null,null,null,null,null,null,null,null,null,null,null,null,null,null,null,null,null,null,null,null,null,"INHOVA DONNA (Coffre EURO 2UBO) - axe à 70","VINGCARD ALLURE (Coffre EURO) - axe à 65","INHOVA DONNA (Coffre EURO 2UBO) - axe à 70","VINGCARD ALLURE (Coffre EURO) - axe à 65","VINGCARD ALLURE (Coffre EURO) - axe à 65",null,"INHOVA DONNA (Coffre EURO 2UBO) - axe à 70",null,"INHOVA DONNA (Coffre EURO 2UBO) - axe à 70",null,null,"ONITY HT 22 RFID (Coffre EURO) - axe à 70",null,null,null,null,null,null,null,null,null,null,null,null,null,null,null,null,null,null,null,null,{"$f":"IF(NOT(ISBLANK((INDIRECT(CONCATENATE(\"TabSerrure[\",RELEVE_COTES!$C$11,\"]\"))))),INDIRECT(CONCATENATE(\"TabSerrure[\",RELEVE_COTES!$C$11,\"]\")),\"\")","v":{"$error":"#VALUE!"}},{"$f":"IF(REF!$EE115<>\"\",1,0)","v":{"$error":"#VALUE!"}},null,"élect. ABLOY EL524 - axe à 50 - têtière 250x25","1PT_D45",1043,1020,23,0,"DORMA_KU260"]
[null,null,null,null,null,null,null,null,null,null,null,null,null,null,null,null,null,null,null,null,null,null,null,null,null,null,null,null,null,null,null,null,null,null,null,null,null,null,null,null,null,null,null,null,null,null,null,null,null,null,null,null,null,null,null,null,null,null,null,null,null,null,null,null,null,null,null,null,null,null,null,null,null,null,null,null,null,null,null,null,null,null,null,null,null,null,null,null,null,null,null,null,null,null,null,null,null,null,null,null,null,null,"ONITY ADVANCE MAG (Coffre EURO) - axe à 70","VINGCARD ALLURE (Coffre EURO) - axe à 80","ONITY ADVANCE MAG (Coffre EURO) - axe à 70","VINGCARD ALLURE (Coffre EURO) - axe à 80","VINGCARD ALLURE (Coffre EURO) - axe à 80",null,"ONITY ADVANCE MAG (Coffre EURO) - axe à 70",null,"ONITY ADVANCE MAG (Coffre EURO) - axe à 70",null,null,"ONITY HT 24 RFID (Coffre EURO) - axe à 60",null,null,null,null,null,null,null,null,null,null,null,null,null,null,null,null,null,null,null,null,{"$f":"IF(NOT(ISBLANK((INDIRECT(CONCATENATE(\"TabSerrure[\",RELEVE_COTES!$C$11,\"]\"))))),INDIRECT(CONCATENATE(\"TabSerrure[\",RELEVE_COTES!$C$11,\"]\")),\"\")","v":{"$error":"#VALUE!"}},{"$f":"IF(REF!$EE116<>\"\",1,0)","v":{"$error":"#VALUE!"}},null,"élect. ABLOY EL564 - axe à 50 - têtière 250x20","1PT_D45",1043,1020,23,0,"DORMA_KU260"]
[null,null,null,null,null,null,null,null,null,null,null,null,null,null,null,null,null,null,null,null,null,null,null,null,null,null,null,null,null,null,null,null,null,null,null,null,null,null,null,null,null,null,null,null,null,null,null,null,null,null,null,null,null,null,null,null,null,null,null,null,null,null,null,null,null,null,null,null,null,null,null,null,null,null,null,null,null,null,null,null,null,null,null,null,null,null,null,null,null,null,null,null,null,null,null,null,null,null,null,null,null,null,"ONITY ADVANCE RFID (Coffre EURO) - axe à 60","VINGCARD ESSENCE V2 (Coffre ANSI) - axe à 70","ONITY ADVANCE RFID (Coffre EURO) - axe à 60","VINGCARD ESSENCE V2 (Coffre ANSI) - axe à 70","VINGCARD ESSENCE V2 (Coffre ANSI) - axe à 70",null,"ONITY ADVANCE RFID (Coffre EURO) - axe à 60",null,"ONITY ADVANCE RFID (Coffre EURO) - axe à 60",null,null,"ONITY HT 24 RFID (Coffre EURO) - axe à 70",null,null,null,null,null,null,null,null,null,null,null,null,null,null,null,null,null,null,null,null,{"$f":"IF(NOT(ISBLANK((INDIRECT(CONCATENATE(\"TabSerrure[\",RELEVE_COTES!$C$11,\"]\"))))),INDIRECT(CONCATENATE(\"TabSerrure[\",RELEVE_COTES!$C$11,\"]\")),\"\")","v":{"$error":"#VALUE!"}},{"$f":"IF(REF!$EE117<>\"\",1,0)","v":{"$error":"#VALUE!"}},null,"élect. ABLOY EL564 - axe à 50 - têtière 250x25","1PT_D45",1043,1020,23,0,"DORMA_KU260"]
[null,null,null,null,null,null,null,null,null,null,null,null,null,null,null,null,null,null,null,null,null,null,null,null,null,null,null,null,null,null,null,null,null,null,null,null,null,null,null,null,null,null,null,null,null,null,null,null,null,null,null,null,null,null,null,null,null,null,null,null,null,null,null,null,null,null,null,null,null,null,null,null,null,null,null,null,null,null,null,null,null,null,null,null,null,null,null,null,null,null,null,null,null,null,null,null,null,null,null,null,null,null,"ONITY ADVANCE RFID (Coffre EURO) - axe à 70","VINGCARD ESSENCE V2 (Coffre EURO) - axe à 65","ONITY ADVANCE RFID (Coffre EURO) - axe à 70","VINGCARD ESSENCE V2 (Coffre EURO) - axe à 65","VINGCARD ESSENCE V2 (Coffre EURO) - axe à 65",null,"ONITY ADVANCE RFID (Coffre EURO) - axe à 70",null,"ONITY ADVANCE RFID (Coffre EURO) - axe à 70",null,null,"ONITY HT 28 RFID (Coffre EURO) - axe à 60",null,null,null,null,null,null,null,null,null,null,null,null,null,null,null,null,null,null,null,null,{"$f":"IF(NOT(ISBLANK((INDIRECT(CONCATENATE(\"TabSerrure[\",RELEVE_COTES!$C$11,\"]\"))))),INDIRECT(CONCATENATE(\"TabSerrure[\",RELEVE_COTES!$C$11,\"]\")),\"\")","v":{"$error":"#VALUE!"}},{"$f":"IF(REF!$EE118<>\"\",1,0)","v":{"$error":"#VALUE!"}},null,"élect. ABLOY EL565 - axe à 50 - têtière 250x20","1PT_D45",1043,1020,23,0,"DORMA_KU260"]
[null,null,null,null,null,null,null,null,null,null,null,null,null,null,null,null,null,null,null,null,null,null,null,null,null,null,null,null,null,null,null,null,null,null,null,null,null,null,null,null,null,null,null,null,null,null,null,null,null,null,null,null,null,null,null,null,null,null,null,null,null,null,null,null,null,null,null,null,null,null,null,null,null,null,null,null,null,null,null,null,null,null,null,null,null,null,null,null,null,null,null,null,null,null,null,null,null,null,null,null,null,null,"ONITY HT 22 RFID (Coffre EURO) - axe à 60","VINGCARD ESSENCE V2 (Coffre EURO) - axe à 80","ONITY HT 22 RFID (Coffre EURO) - axe à 60","VINGCARD ESSENCE V2 (Coffre EURO) - axe à 80","VINGCARD ESSENCE V2 (Coffre EURO) - axe à 80",null,"ONITY HT 22 RFID (Coffre EURO) - axe à 60",null,"ONITY HT 22 RFID (Coffre EURO) - axe à 60",null,null,"ONITY HT 28 RFID (Coffre EURO) - axe à 70",null,null,null,null,null,null,null,null,null,null,null,null,null,null,null,null,null,null,null,null,{"$f":"IF(NOT(ISBLANK((INDIRECT(CONCATENATE(\"TabSerrure[\",RELEVE_COTES!$C$11,\"]\"))))),INDIRECT(CONCATENATE(\"TabSerrure[\",RELEVE_COTES!$C$11,\"]\")),\"\")","v":{"$error":"#VALUE!"}},{"$f":"IF(REF!$EE119<>\"\",1,0)","v":{"$error":"#VALUE!"}},null,"élect. 3 pts ABLOY MP565 - axe à 50 - têtière 1760x24","3PTS_ABLOY",1045,1027.5,17.5,1900,"DORMA_KU260"]
[null,null,null,null,null,null,null,null,null,null,null,null,null,null,null,null,null,null,null,null,null,null,null,null,null,null,null,null,null,null,null,null,null,null,null,null,null,null,null,null,null,null,null,null,null,null,null,null,null,null,null,null,null,null,null,null,null,null,null,null,null,null,null,null,null,null,null,null,null,null,null,null,null,null,null,null,null,null,null,null,null,null,null,null,null,null,null,null,null,null,null,null,null,null,null,null,null,null,null,null,null,null,"ONITY HT 22 RFID (Coffre EURO) - axe à 70","VINGCARD SIGNATURE RFID (Coffre ANSI) - axe à 70","ONITY HT 22 RFID (Coffre EURO) - axe à 70","VINGCARD SIGNATURE RFID (Coffre ANSI) - axe à 70","VINGCARD SIGNATURE RFID (Coffre ANSI) - axe à 70",null,"ONITY HT 22 RFID (Coffre EURO) - axe à 70",null,"ONITY HT 22 RFID (Coffre EURO) - axe à 70",null,null,"ONITY TRILLIUM MAG (Coffre EURO) - axe à 60",null,null,null,null,null,null,null,null,null,null,null,null,null,null,null,null,null,null,null,null,{"$f":"IF(NOT(ISBLANK((INDIRECT(CONCATENATE(\"TabSerrure[\",RELEVE_COTES!$C$11,\"]\"))))),INDIRECT(CONCATENATE(\"TabSerrure[\",RELEVE_COTES!$C$11,\"]\")),\"\")","v":{"$error":"#VALUE!"}},{"$f":"IF(REF!$EE120<>\"\",1,0)","v":{"$error":"#VALUE!"}},null,"élect. 3 pts ABLOY EL567 - axe à 55 - têtière 1760x24","3PTS_ABLOY",1045,1027.5,17.5,1900,"DORMA_KU260"]
[null,null,null,null,null,null,null,null,null,null,null,null,null,null,null,null,null,null,null,null,null,null,null,null,null,null,null,null,null,null,null,null,null,null,null,null,null,null,null,null,null,null,null,null,null,null,null,null,null,null,null,null,null,null,null,null,null,null,null,null,null,null,null,null,null,null,null,null,null,null,null,null,null,null,null,null,null,null,null,null,null,null,null,null,null,null,null,null,null,null,null,null,null,null,null,null,null,null,null,null,null,null,"ONITY HT 24 RFID (Coffre EURO) - axe à 60","VINGCARD SIGNATURE RFID (SIGMA RFID) (Coffre EURO) - axe à 65","ONITY HT 24 RFID (Coffre EURO) - axe à 60","VINGCARD SIGNATURE RFID (SIGMA RFID) (Coffre EURO) - axe à 65","VINGCARD SIGNATURE RFID (SIGMA RFID) (Coffre EURO) - axe à 65",null,"ONITY HT 24 RFID (Coffre EURO) - axe à 60",null,"ONITY HT 24 RFID (Coffre EURO) - axe à 60",null,null,"ONITY TRILLIUM MAG (Coffre EURO) - axe à 70",null,null,null,null,null,null,null,null,null,null,null,null,null,null,null,null,null,null,null,null,{"$f":"IF(NOT(ISBLANK((INDIRECT(CONCATENATE(\"TabSerrure[\",RELEVE_COTES!$C$11,\"]\"))))),INDIRECT(CONCATENATE(\"TabSerrure[\",RELEVE_COTES!$C$11,\"]\")),\"\")","v":{"$error":"#VALUE!"}},{"$f":"IF(REF!$EE121<>\"\",1,0)","v":{"$error":"#VALUE!"}},null,"élect. ABLOY 8458 Mesure Conserv. - axe à 50 - têtière 250x20","1PT_D45",1045,1022,23,0,"DORMA_KU260"]
[null,null,null,null,null,null,null,null,null,null,null,null,null,null,null,null,null,null,null,null,null,null,null,null,null,null,null,null,null,null,null,null,null,null,null,null,null,null,null,null,null,null,null,null,null,null,null,null,null,null,null,null,null,null,null,null,null,null,null,null,null,null,null,null,null,null,null,null,null,null,null,null,null,null,null,null,null,null,null,null,null,null,null,null,null,null,null,null,null,null,null,null,null,null,null,null,null,null,null,null,null,null,"ONITY HT 24 RFID (Coffre EURO) - axe à 70","VINGCARD SIGNATURE RFID (SIGMA RFID) (Coffre EURO) - axe à 80","ONITY HT 24 RFID (Coffre EURO) - axe à 70","VINGCARD SIGNATURE RFID (SIGMA RFID) (Coffre EURO) - axe à 80","VINGCARD SIGNATURE RFID (SIGMA RFID) (Coffre EURO) - axe à 80",null,"ONITY HT 24 RFID (Coffre EURO) - axe à 70",null,"ONITY HT 24 RFID (Coffre EURO) - axe à 70",null,null,"ONITY TRILLIUM RFID (Coffre EURO) - axe à 60",null,null,null,null,null,null,null,null,null,null,null,null,null,null,null,null,null,null,null,null,{"$f":"IF(NOT(ISBLANK((INDIRECT(CONCATENATE(\"TabSerrure[\",RELEVE_COTES!$C$11,\"]\"))))),INDIRECT(CONCATENATE(\"TabSerrure[\",RELEVE_COTES!$C$11,\"]\")),\"\")","v":{"$error":"#VALUE!"}},{"$f":"IF(REF!$EE122<>\"\",1,0)","v":{"$error":"#VALUE!"}},null,"élect. ABLOY 8458 Mesure Conserv. - axe à 50 - têtière 250x25","1PT_D45",1045,1022,23,0,"DORMA_KU260"]
[null,null,null,null,null,null,null,null,null,null,null,null,null,null,null,null,null,null,null,null,null,null,null,null,null,null,null,null,null,null,null,null,null,null,null,null,null,null,null,null,null,null,null,null,null,null,null,null,null,null,null,null,null,null,null,null,null,null,null,null,null,null,null,null,null,null,null,null,null,null,null,null,null,null,null,null,null,null,null,null,null,null,null,null,null,null,null,null,null,null,null,null,null,null,null,null,null,null,null,null,null,null,"ONITY HT 28 RFID (Coffre EURO) - axe à 60",null,"ONITY HT 28 RFID (Coffre EURO) - axe à 60",null,null,null,"ONITY HT 28 RFID (Coffre EURO) - axe à 60",null,"ONITY HT 28 RFID (Coffre EURO) - axe à 60",null,null,"ONITY TRILLIUM RFID (Coffre EURO) - axe à 70",null,null,null,null,null,null,null,null,null,null,null,null,null,null,null,null,null,null,null,null,{"$f":"IF(NOT(ISBLANK((INDIRECT(CONCATENATE(\"TabSerrure[\",RELEVE_COTES!$C$11,\"]\"))))),INDIRECT(CONCATENATE(\"TabSerrure[\",RELEVE_COTES!$C$11,\"]\")),\"\")","v":{"$error":"#VALUE!"}},{"$f":"IF(REF!$EE123<>\"\",1,0)","v":{"$error":"#VALUE!"}},null,"élect. ABLOY 8778 Mesure Conserv. - axe à 50 - têtière 250x20","1PT_D45",1045,1022,23,0,"DORMA_KU260"]
[null,null,null,null,null,null,null,null,null,null,null,null,null,null,null,null,null,null,null,null,null,null,null,null,null,null,null,null,null,null,null,null,null,null,null,null,null,null,null,null,null,null,null,null,null,null,null,null,null,null,null,null,null,null,null,null,null,null,null,null,null,null,null,null,null,null,null,null,null,null,null,null,null,null,null,null,null,null,null,null,null,null,null,null,null,null,null,null,null,null,null,null,null,null,null,null,null,null,null,null,null,null,"ONITY HT 28 RFID (Coffre EURO) - axe à 70",null,"ONITY HT 28 RFID (Coffre EURO) - axe à 70",null,null,null,"ONITY HT 28 RFID (Coffre EURO) - axe à 70",null,"ONITY HT 28 RFID (Coffre EURO) - axe à 70",null,null,"SALTO AELEMENT (Coffre EURO LE7E37) - axe à 55",null,null,null,null,null,null,null,null,null,null,null,null,null,null,null,null,null,null,null,null,{"$f":"IF(NOT(ISBLANK((INDIRECT(CONCATENATE(\"TabSerrure[\",RELEVE_COTES!$C$11,\"]\"))))),INDIRECT(CONCATENATE(\"TabSerrure[\",RELEVE_COTES!$C$11,\"]\")),\"\")","v":{"$error":"#VALUE!"}},{"$f":"IF(REF!$EE124<>\"\",1,0)","v":{"$error":"#VALUE!"}},null,"élect. ABLOY 8778 Mesure Conserv. - axe à 50 - têtière 250x25","1PT_D45",1045,1022,23,0,"DORMA_KU260"]
[null,null,null,null,null,null,null,null,null,null,null,null,null,null,null,null,null,null,null,null,null,null,null,null,null,null,null,null,null,null,null,null,null,null,null,null,null,null,null,null,null,null,null,null,null,null,null,null,null,null,null,null,null,null,null,null,null,null,null,null,null,null,null,null,null,null,null,null,null,null,null,null,null,null,null,null,null,null,null,null,null,null,null,null,null,null,null,null,null,null,null,null,null,null,null,null,null,null,null,null,null,null,"ONITY TRILLIUM MAG (Coffre EURO) - axe à 60",null,"ONITY TRILLIUM MAG (Coffre EURO) - axe à 60",null,null,null,"ONITY TRILLIUM MAG (Coffre EURO) - axe à 60",null,"ONITY TRILLIUM MAG (Coffre EURO) - axe à 60",null,null,"SALTO AELEMENT (Coffre EURO LE7E37) - axe à 65",null,null,null,null,null,null,null,null,null,null,null,null,null,null,null,null,null,null,null,null,{"$f":"IF(NOT(ISBLANK((INDIRECT(CONCATENATE(\"TabSerrure[\",RELEVE_COTES!$C$11,\"]\"))))),INDIRECT(CONCATENATE(\"TabSerrure[\",RELEVE_COTES!$C$11,\"]\")),\"\")","v":{"$error":"#VALUE!"}},{"$f":"IF(REF!$EE125<>\"\",1,0)","v":{"$error":"#VALUE!"}},null,"1 pt DENY BC 1149011 - axe à 120","1PT_D45",1045,1030,15,0,"SANS"]
[null,null,null,null,null,null,null,null,null,null,null,null,null,null,null,null,null,null,null,null,null,null,null,null,null,null,null,null,null,null,null,null,null,null,null,null,null,null,null,null,null,null,null,null,null,null,null,null,null,null,null,null,null,null,null,null,null,null,null,null,null,null,null,null,null,null,null,null,null,null,null,null,null,null,null,null,null,null,null,null,null,null,null,null,null,null,null,null,null,null,null,null,null,null,null,null,null,null,null,null,null,null,"ONITY TRILLIUM MAG (Coffre EURO) - axe à 70",null,"ONITY TRILLIUM MAG (Coffre EURO) - axe à 70",null,null,null,"ONITY TRILLIUM MAG (Coffre EURO) - axe à 70",null,"ONITY TRILLIUM MAG (Coffre EURO) - axe à 70",null,null,"SALTO XS4 (Coffre EURO Bricard 8161/A1) - axe à 50",null,null,null,null,null,null,null,null,null,null,null,null,null,null,null,null,null,null,null,null,{"$f":"IF(NOT(ISBLANK((INDIRECT(CONCATENATE(\"TabSerrure[\",RELEVE_COTES!$C$11,\"]\"))))),INDIRECT(CONCATENATE(\"TabSerrure[\",RELEVE_COTES!$C$11,\"]\")),\"\")","v":{"$error":"#VALUE!"}},{"$f":"IF(REF!$EE126<>\"\",1,0)","v":{"$error":"#VALUE!"}},null,"1 pt DENY BCC 1149161 - axe à 120","1PT_D45",1045,1030,15,0,"SANS"]
[null,null,null,null,null,null,null,null,null,null,null,null,null,null,null,null,null,null,null,null,null,null,null,null,null,null,null,null,null,null,null,null,null,null,null,null,null,null,null,null,null,null,null,null,null,null,null,null,null,null,null,null,null,null,null,null,null,null,null,null,null,null,null,null,null,null,null,null,null,null,null,null,null,null,null,null,null,null,null,null,null,null,null,null,null,null,null,null,null,null,null,null,null,null,null,null,null,null,null,null,null,null,"ONITY TRILLIUM RFID (Coffre EURO) - axe à 60",null,"ONITY TRILLIUM RFID (Coffre EURO) - axe à 60",null,null,null,"ONITY TRILLIUM RFID (Coffre EURO) - axe à 60",null,"ONITY TRILLIUM RFID (Coffre EURO) - axe à 60",null,null,"SALTO XS4 (Coffre EURO Marques) - axe à 50",null,null,null,null,null,null,null,null,null,null,null,null,null,null,null,null,null,null,null,null,{"$f":"IF(NOT(ISBLANK((INDIRECT(CONCATENATE(\"TabSerrure[\",RELEVE_COTES!$C$11,\"]\"))))),INDIRECT(CONCATENATE(\"TabSerrure[\",RELEVE_COTES!$C$11,\"]\")),\"\")","v":{"$error":"#VALUE!"}},{"$f":"IF(REF!$EE127<>\"\",1,0)","v":{"$error":"#VALUE!"}},null,"1 pt DENY sureté 1149561 - axe à 120","1PT_D45",1045,1030,15,0,"SANS"]
[null,null,null,null,null,null,null,null,null,null,null,null,null,null,null,null,null,null,null,null,null,null,null,null,null,null,null,null,null,null,null,null,null,null,null,null,null,null,null,null,null,null,null,null,null,null,null,null,null,null,null,null,null,null,null,null,null,null,null,null,null,null,null,null,null,null,null,null,null,null,null,null,null,null,null,null,null,null,null,null,null,null,null,null,null,null,null,null,null,null,null,null,null,null,null,null,null,null,null,null,null,null,"ONITY TRILLIUM RFID (Coffre EURO) - axe à 70",null,"ONITY TRILLIUM RFID (Coffre EURO) - axe à 70",null,null,null,"ONITY TRILLIUM RFID (Coffre EURO) - axe à 70",null,"ONITY TRILLIUM RFID (Coffre EURO) - axe à 70",null,null,"SALTO XS4 (Coffre EURO Vachette) - axe à 50",null,null,null,null,null,null,null,null,null,null,null,null,null,null,null,null,null,null,null,null,{"$f":"IF(NOT(ISBLANK((INDIRECT(CONCATENATE(\"TabSerrure[\",RELEVE_COTES!$C$11,\"]\"))))),INDIRECT(CONCATENATE(\"TabSerrure[\",RELEVE_COTES!$C$11,\"]\")),\"\")","v":{"$error":"#VALUE!"}},{"$f":"IF(REF!$EE128<>\"\",1,0)","v":{"$error":"#VALUE!"}},null,"1 pt MARQUES BC 725 - axe à 60","1PT_D45",1045,1020,25,0,"SANS"]
[null,null,null,null,null,null,null,null,null,null,null,null,null,null,null,null,null,null,null,null,null,null,null,null,null,null,null,null,null,null,null,null,null,null,null,null,null,null,null,null,null,null,null,null,null,null,null,null,null,null,null,null,null,null,null,null,null,null,null,null,null,null,null,null,null,null,null,null,null,null,null,null,null,null,null,null,null,null,null,null,null,null,null,null,null,null,null,null,null,null,null,null,null,null,null,null,null,null,null,null,null,null,"SALTO AELEMENT (Coffre EURO LE7E37) - axe à 55",null,"SALTO AELEMENT (Coffre EURO LE7E37) - axe à 55",null,null,null,"SALTO AELEMENT (Coffre EURO LE7E37) - axe à 55",null,"SALTO AELEMENT (Coffre EURO LE7E37) - axe à 55",null,null,"SALTO XS4 One (Coffre EURO Bricard 8161/A1) - axe à 50",null,null,null,null,null,null,null,null,null,null,null,null,null,null,null,null,null,null,null,null,{"$f":"IF(NOT(ISBLANK((INDIRECT(CONCATENATE(\"TabSerrure[\",RELEVE_COTES!$C$11,\"]\"))))),INDIRECT(CONCATENATE(\"TabSerrure[\",RELEVE_COTES!$C$11,\"]\")),\"\")","v":{"$error":"#VALUE!"}},{"$f":"IF(REF!$EE129<>\"\",1,0)","v":{"$error":"#VALUE!"}},null,"1 pt MARQUES sureté 725 - axe à 60","1PT_D45",1045,1020,25,0,"SANS"]
[null,null,null,null,null,null,null,null,null,null,null,null,null,null,null,null,null,null,null,null,null,null,null,null,null,null,null,null,null,null,null,null,null,null,null,null,null,null,null,null,null,null,null,null,null,null,null,null,null,null,null,null,null,null,null,null,null,null,null,null,null,null,null,null,null,null,null,null,null,null,null,null,null,null,null,null,null,null,null,null,null,null,null,null,null,null,null,null,null,null,null,null,null,null,null,null,null,null,null,null,null,null,"SALTO AELEMENT (Coffre EURO LE7E37) - axe à 65",null,"SALTO AELEMENT (Coffre EURO LE7E37) - axe à 65",null,null,null,"SALTO AELEMENT (Coffre EURO LE7E37) - axe à 65",null,"SALTO AELEMENT (Coffre EURO LE7E37) - axe à 65",null,null,"SALTO XS4 One (Coffre EURO Marques) - axe à 50",null,null,null,null,null,null,null,null,null,null,null,null,null,null,null,null,null,null,null,null,{"$f":"IF(NOT(ISBLANK((INDIRECT(CONCATENATE(\"TabSerrure[\",RELEVE_COTES!$C$11,\"]\"))))),INDIRECT(CONCATENATE(\"TabSerrure[\",RELEVE_COTES!$C$11,\"]\")),\"\")","v":{"$error":"#VALUE!"}},{"$f":"IF(REF!$EE130<>\"\",1,0)","v":{"$error":"#VALUE!"}},null,"1 pt MARQUES BCC 725 - axe à 60","1PT_D45",1045,1020,25,0,"SANS"]
[null,null,null,null,null,null,null,null,null,null,null,null,null,null,null,null,null,null,null,null,null,null,null,null,null,null,null,null,null,null,null,null,null,null,null,null,null,null,null,null,null,null,null,null,null,null,null,null,null,null,null,null,null,null,null,null,null,null,null,null,null,null,null,null,null,null,null,null,null,null,null,null,null,null,null,null,null,null,null,null,null,null,null,null,null,null,null,null,null,null,null,null,null,null,null,null,null,null,null,null,null,null,"SALTO XS4 (Coffre EURO Bricard 8161/A1) - axe à 50",null,"SALTO XS4 (Coffre EURO Bricard 8161/A1) - axe à 50",null,null,null,"SALTO XS4 (Coffre EURO Bricard 8161/A1) - axe à 50",null,"SALTO XS4 (Coffre EURO Bricard 8161/A1) - axe à 50",null,null,"SALTO XS4 One (Coffre EURO Vachette) - axe à 50",null,null,null,null,null,null,null,null,null,null,null,null,null,null,null,null,null,null,null,null,{"$f":"IF(NOT(ISBLANK((INDIRECT(CONCATENATE(\"TabSerrure[\",RELEVE_COTES!$C$11,\"]\"))))),INDIRECT(CONCATENATE(\"TabSerrure[\",RELEVE_COTES!$C$11,\"]\")),\"\")","v":{"$error":"#VALUE!"}},{"$f":"IF(REF!$EE131<>\"\",1,0)","v":{"$error":"#VALUE!"}},null,"3 pts A2P** BRICARD 8162 - T2040 - axe à 50","3PTS_V5000",1045,1020,25,1830,"SANS"]
[null,null,null,null,null,null,null,null,null,null,null,null,null,null,null,null,null,null,null,null,null,null,null,null,null,null,null,null,null,null,null,null,null,null,null,null,null,null,null,null,null,null,null,null,null,null,null,null,null,null,null,null,null,null,null,null,null,null,null,null,null,null,null,null,null,null,null,null,null,null,null,null,null,null,null,null,null,null,null,null,null,null,null,null,null,null,null,null,null,null,null,null,null,null,null,null,null,null,null,null,null,null,"SALTO XS4 (Coffre EURO Marques) - axe à 50",null,"SALTO XS4 (Coffre EURO Marques) - axe à 50",null,null,null,"SALTO XS4 (Coffre EURO Marques) - axe à 50",null,"SALTO XS4 (Coffre EURO Marques) - axe à 50",null,null,"VINGCARD ALLURE (Coffre EURO) - axe à 65",null,null,null,null,null,null,null,null,null,null,null,null,null,null,null,null,null,null,null,null,{"$f":"IF(NOT(ISBLANK((INDIRECT(CONCATENATE(\"TabSerrure[\",RELEVE_COTES!$C$11,\"]\"))))),INDIRECT(CONCATENATE(\"TabSerrure[\",RELEVE_COTES!$C$11,\"]\")),\"\")","v":{"$error":"#VALUE!"}},{"$f":"IF(REF!$EE132<>\"\",1,0)","v":{"$error":"#VALUE!"}},null,"3 pts A2P** VACHETTE 5000 SGN2 - T2040 - axe à 50","3PTS_V5000",1045,1020,25,1830,"SANS"]
[null,null,null,null,null,null,null,null,null,null,null,null,null,null,null,null,null,null,null,null,null,null,null,null,null,null,null,null,null,null,null,null,null,null,null,null,null,null,null,null,null,null,null,null,null,null,null,null,null,null,null,null,null,null,null,null,null,null,null,null,null,null,null,null,null,null,null,null,null,null,null,null,null,null,null,null,null,null,null,null,null,null,null,null,null,null,null,null,null,null,null,null,null,null,null,null,null,null,null,null,null,null,"SALTO XS4 (Coffre EURO Vachette) - axe à 50",null,"SALTO XS4 (Coffre EURO Vachette) - axe à 50",null,null,null,"SALTO XS4 (Coffre EURO Vachette) - axe à 50",null,"SALTO XS4 (Coffre EURO Vachette) - axe à 50",null,null,"VINGCARD ALLURE (Coffre EURO) - axe à 80",null,null,null,null,null,null,null,null,null,null,null,null,null,null,null,null,null,null,null,null,{"$f":"IF(NOT(ISBLANK((INDIRECT(CONCATENATE(\"TabSerrure[\",RELEVE_COTES!$C$11,\"]\"))))),INDIRECT(CONCATENATE(\"TabSerrure[\",RELEVE_COTES!$C$11,\"]\")),\"\")","v":{"$error":"#VALUE!"}},{"$f":"IF(REF!$EE133<>\"\",1,0)","v":{"$error":"#VALUE!"}},null,"3 pts A2P** VACHETTE 5000 SGN2 - T1700 - axe à 50","3PTS_V5000",1045,1020,25,1830,"SANS"]
[null,null,null,null,null,null,null,null,null,null,null,null,null,null,null,null,null,null,null,null,null,null,null,null,null,null,null,null,null,null,null,null,null,null,null,null,null,null,null,null,null,null,null,null,null,null,null,null,null,null,null,null,null,null,null,null,null,null,null,null,null,null,null,null,null,null,null,null,null,null,null,null,null,null,null,null,null,null,null,null,null,null,null,null,null,null,null,null,null,null,null,null,null,null,null,null,null,null,null,null,null,null,"SALTO XS4 One (Coffre EURO Bricard 8161/A1) - axe à 50",null,"SALTO XS4 One (Coffre EURO Bricard 8161/A1) - axe à 50",null,null,null,"SALTO XS4 One (Coffre EURO Bricard 8161/A1) - axe à 50",null,"SALTO XS4 One (Coffre EURO Bricard 8161/A1) - axe à 50",null,null,"VINGCARD ESSENCE V2 (Coffre ANSI) - axe à 70",null,null,null,null,null,null,null,null,null,null,null,null,null,null,null,null,null,null,null,null,{"$f":"IF(NOT(ISBLANK((INDIRECT(CONCATENATE(\"TabSerrure[\",RELEVE_COTES!$C$11,\"]\"))))),INDIRECT(CONCATENATE(\"TabSerrure[\",RELEVE_COTES!$C$11,\"]\")),\"\")","v":{"$error":"#VALUE!"}},{"$f":"IF(REF!$EE134<>\"\",1,0)","v":{"$error":"#VALUE!"}},null,"3 pts A2P** VACHETTE 5000 SGN2 - T1700 et entrebailleur - axe à 50","3PTS_V5000_E",1045,1020,25,1830,"SANS"]
[null,null,null,null,null,null,null,null,null,null,null,null,null,null,null,null,null,null,null,null,null,null,null,null,null,null,null,null,null,null,null,null,null,null,null,null,null,null,null,null,null,null,null,null,null,null,null,null,null,null,null,null,null,null,null,null,null,null,null,null,null,null,null,null,null,null,null,null,null,null,null,null,null,null,null,null,null,null,null,null,null,null,null,null,null,null,null,null,null,null,null,null,null,null,null,null,null,null,null,null,null,null,"SALTO XS4 One (Coffre EURO Marques) - axe à 50",null,"SALTO XS4 One (Coffre EURO Marques) - axe à 50",null,null,null,"SALTO XS4 One (Coffre EURO Marques) - axe à 50",null,"SALTO XS4 One (Coffre EURO Marques) - axe à 50",null,null,"VINGCARD ESSENCE V2 (Coffre EURO) - axe à 65",null,null,null,null,null,null,null,null,null,null,null,null,null,null,null,null,null,null,null,null,{"$f":"IF(NOT(ISBLANK((INDIRECT(CONCATENATE(\"TabSerrure[\",RELEVE_COTES!$C$11,\"]\"))))),INDIRECT(CONCATENATE(\"TabSerrure[\",RELEVE_COTES!$C$11,\"]\")),\"\")","v":{"$error":"#VALUE!"}},{"$f":"IF(REF!$EE135<>\"\",1,0)","v":{"$error":"#VALUE!"}},null,"3 pts A2P** VACHETTE 5000 TN2/FN2 - T1700 - axe à 50","3PTS_V5000",1045,1020,25,1830,"SANS"]
[null,null,null,null,null,null,null,null,null,null,null,null,null,null,null,null,null,null,null,null,null,null,null,null,null,null,null,null,null,null,null,null,null,null,null,null,null,null,null,null,null,null,null,null,null,null,null,null,null,null,null,null,null,null,null,null,null,null,null,null,null,null,null,null,null,null,null,null,null,null,null,null,null,null,null,null,null,null,null,null,null,null,null,null,null,null,null,null,null,null,null,null,null,null,null,null,null,null,null,null,null,null,"SALTO XS4 One (Coffre EURO Vachette) - axe à 50",null,"SALTO XS4 One (Coffre EURO Vachette) - axe à 50",null,null,null,"SALTO XS4 One (Coffre EURO Vachette) - axe à 50",null,"SALTO XS4 One (Coffre EURO Vachette) - axe à 50",null,null,"VINGCARD ESSENCE V2 (Coffre EURO) - axe à 80",null,null,null,null,null,null,null,null,null,null,null,null,null,null,null,null,null,null,null,null,{"$f":"IF(NOT(ISBLANK((INDIRECT(CONCATENATE(\"TabSerrure[\",RELEVE_COTES!$C$11,\"]\"))))),INDIRECT(CONCATENATE(\"TabSerrure[\",RELEVE_COTES!$C$11,\"]\")),\"\")","v":{"$error":"#VALUE!"}},{"$f":"IF(REF!$EE136<>\"\",1,0)","v":{"$error":"#VALUE!"}},null,"3 pts A2P** VACHETTE 5000 TN2/FN2 - T2040 - axe à 50","3PTS_V5000",1045,1020,25,1830,"SANS"]
[null,null,null,null,null,null,null,null,null,null,null,null,null,null,null,null,null,null,null,null,null,null,null,null,null,null,null,null,null,null,null,null,null,null,null,null,null,null,null,null,null,null,null,null,null,null,null,null,null,null,null,null,null,null,null,null,null,null,null,null,null,null,null,null,null,null,null,null,null,null,null,null,null,null,null,null,null,null,null,null,null,null,null,null,null,null,null,null,null,null,null,null,null,null,null,null,null,null,null,null,null,null,"VINGCARD ALLURE (Coffre EURO) - axe à 65",null,"VINGCARD ALLURE (Coffre EURO) - axe à 65",null,null,null,"VINGCARD ALLURE (Coffre EURO) - axe à 65",null,"VINGCARD ALLURE (Coffre EURO) - axe à 65",null,null,"VINGCARD SIGNATURE RFID (Coffre ANSI) - axe à 70",null,null,null,null,null,null,null,null,null,null,null,null,null,null,null,null,null,null,null,null,{"$f":"IF(NOT(ISBLANK((INDIRECT(CONCATENATE(\"TabSerrure[\",RELEVE_COTES!$C$11,\"]\"))))),INDIRECT(CONCATENATE(\"TabSerrure[\",RELEVE_COTES!$C$11,\"]\")),\"\")","v":{"$error":"#VALUE!"}},{"$f":"IF(REF!$EE137<>\"\",1,0)","v":{"$error":"#VALUE!"}},null,"3 pts A2P** BRICARD 8162 - T1700 - axe à 50","3PTS_V5000",1045,1020,25,1830,"SANS"]
[null,null,null,null,null,null,null,null,null,null,null,null,null,null,null,null,null,null,null,null,null,null,null,null,null,null,null,null,null,null,null,null,null,null,null,null,null,null,null,null,null,null,null,null,null,null,null,null,null,null,null,null,null,null,null,null,null,null,null,null,null,null,null,null,null,null,null,null,null,null,null,null,null,null,null,null,null,null,null,null,null,null,null,null,null,null,null,null,null,null,null,null,null,null,null,null,null,null,null,null,null,null,"VINGCARD ALLURE (Coffre EURO) - axe à 80",null,"VINGCARD ALLURE (Coffre EURO) - axe à 80",null,null,null,"VINGCARD ALLURE (Coffre EURO) - axe à 80",null,"VINGCARD ALLURE (Coffre EURO) - axe à 80",null,null,"VINGCARD SIGNATURE RFID (SIGMA RFID) (Coffre EURO) - axe à 65",null,null,null,null,null,null,null,null,null,null,null,null,null,null,null,null,null,null,null,null,{"$f":"IF(NOT(ISBLANK((INDIRECT(CONCATENATE(\"TabSerrure[\",RELEVE_COTES!$C$11,\"]\"))))),INDIRECT(CONCATENATE(\"TabSerrure[\",RELEVE_COTES!$C$11,\"]\")),\"\")","v":{"$error":"#VALUE!"}},{"$f":"IF(REF!$EE138<>\"\",1,0)","v":{"$error":"#VALUE!"}},null,"3 pts A2P** BRICARD 8162/A1 - T1700 - axe à 50","3PTS_V5000",1045,1020,25,1830,"SANS"]
[null,null,null,null,null,null,null,null,null,null,null,null,null,null,null,null,null,null,null,null,null,null,null,null,null,null,null,null,null,null,null,null,null,null,null,null,null,null,null,null,null,null,null,null,null,null,null,null,null,null,null,null,null,null,null,null,null,null,null,null,null,null,null,null,null,null,null,null,null,null,null,null,null,null,null,null,null,null,null,null,null,null,null,null,null,null,null,null,null,null,null,null,null,null,null,null,null,null,null,null,null,null,"VINGCARD ESSENCE V2 (Coffre ANSI) - axe à 70",null,"VINGCARD ESSENCE V2 (Coffre ANSI) - axe à 70",null,null,null,"VINGCARD ESSENCE V2 (Coffre ANSI) - axe à 70",null,"VINGCARD ESSENCE V2 (Coffre ANSI) - axe à 70",null,null,"VINGCARD SIGNATURE RFID (SIGMA RFID) (Coffre EURO) - axe à 80",null,null,null,null,null,null,null,null,null,null,null,null,null,null,null,null,null,null,null,null,{"$f":"IF(NOT(ISBLANK((INDIRECT(CONCATENATE(\"TabSerrure[\",RELEVE_COTES!$C$11,\"]\"))))),INDIRECT(CONCATENATE(\"TabSerrure[\",RELEVE_COTES!$C$11,\"]\")),\"\")","v":{"$error":"#VALUE!"}},{"$f":"IF(REF!$EE139<>\"\",1,0)","v":{"$error":"#VALUE!"}},null,"3 pts A2P*** VACHETTE 5000 - T1700 - axe à 50","3PTS_V5000",1045,1020,25,1830,"SANS"]
[null,null,null,null,null,null,null,null,null,null,null,null,null,null,null,null,null,null,null,null,null,null,null,null,null,null,null,null,null,null,null,null,null,null,null,null,null,null,null,null,null,null,null,null,null,null,null,null,null,null,null,null,null,null,null,null,null,null,null,null,null,null,null,null,null,null,null,null,null,null,null,null,null,null,null,null,null,null,null,null,null,null,null,null,null,null,null,null,null,null,null,null,null,null,null,null,null,null,null,null,null,null,"VINGCARD ESSENCE V2 (Coffre EURO) - axe à 65",null,"VINGCARD ESSENCE V2 (Coffre EURO) - axe à 65",null,null,null,"VINGCARD ESSENCE V2 (Coffre EURO) - axe à 65",null,"VINGCARD ESSENCE V2 (Coffre EURO) - axe à 65",null,null,null,null,null,null,null,null,null,null,null,null,null,null,null,null,null,null,null,null,null,null,null,{"$f":"IF(NOT(ISBLANK((INDIRECT(CONCATENATE(\"TabSerrure[\",RELEVE_COTES!$C$11,\"]\"))))),INDIRECT(CONCATENATE(\"TabSerrure[\",RELEVE_COTES!$C$11,\"]\")),\"\")","v":{"$error":"#VALUE!"}},{"$f":"IF(REF!$EE140<>\"\",1,0)","v":{"$error":"#VALUE!"}},null,"5 pts A2P** BRICARD 8162/A4 - T2040 - axe à 50","3PTS_V5900",1045,1020,25,1830,"SANS"]
[null,null,null,null,null,null,null,null,null,null,null,null,null,null,null,null,null,null,null,null,null,null,null,null,null,null,null,null,null,null,null,null,null,null,null,null,null,null,null,null,null,null,null,null,null,null,null,null,null,null,null,null,null,null,null,null,null,null,null,null,null,null,null,null,null,null,null,null,null,null,null,null,null,null,null,null,null,null,null,null,null,null,null,null,null,null,null,null,null,null,null,null,null,null,null,null,null,null,null,null,null,null,"VINGCARD ESSENCE V2 (Coffre EURO) - axe à 80",null,"VINGCARD ESSENCE V2 (Coffre EURO) - axe à 80",null,null,null,"VINGCARD ESSENCE V2 (Coffre EURO) - axe à 80",null,"VINGCARD ESSENCE V2 (Coffre EURO) - axe à 80",null,null,null,null,null,null,null,null,null,null,null,null,null,null,null,null,null,null,null,null,null,null,null,{"$f":"IF(NOT(ISBLANK((INDIRECT(CONCATENATE(\"TabSerrure[\",RELEVE_COTES!$C$11,\"]\"))))),INDIRECT(CONCATENATE(\"TabSerrure[\",RELEVE_COTES!$C$11,\"]\")),\"\")","v":{"$error":"#VALUE!"}},{"$f":"IF(REF!$EE141<>\"\",1,0)","v":{"$error":"#VALUE!"}},null,"5 pts A2P** VACHETTE 5900 SGN2 - T2040 - axe à 50","5PTS_V5900",1045,1020,25,1830,"SANS"]
[null,null,null,null,null,null,null,null,null,null,null,null,null,null,null,null,null,null,null,null,null,null,null,null,null,null,null,null,null,null,null,null,null,null,null,null,null,null,null,null,null,null,null,null,null,null,null,null,null,null,null,null,null,null,null,null,null,null,null,null,null,null,null,null,null,null,null,null,null,null,null,null,null,null,null,null,null,null,null,null,null,null,null,null,null,null,null,null,null,null,null,null,null,null,null,null,null,null,null,null,null,null,"VINGCARD SIGNATURE RFID (Coffre ANSI) - axe à 70",null,"VINGCARD SIGNATURE RFID (Coffre ANSI) - axe à 70",null,null,null,"VINGCARD SIGNATURE RFID (Coffre ANSI) - axe à 70",null,"VINGCARD SIGNATURE RFID (Coffre ANSI) - axe à 70",null,null,null,null,null,null,null,null,null,null,null,null,null,null,null,null,null,null,null,null,null,null,null,{"$f":"IF(NOT(ISBLANK((INDIRECT(CONCATENATE(\"TabSerrure[\",RELEVE_COTES!$C$11,\"]\"))))),INDIRECT(CONCATENATE(\"TabSerrure[\",RELEVE_COTES!$C$11,\"]\")),\"\")","v":{"$error":"#VALUE!"}},{"$f":"IF(REF!$EE142<>\"\",1,0)","v":{"$error":"#VALUE!"}},null,"5 pts A2P** VACHETTE 5900 TN2/FN2 - T1700 - axe à 50","5PTS_V5900",1045,1020,25,1830,"SANS"]
[null,null,null,null,null,null,null,null,null,null,null,null,null,null,null,null,null,null,null,null,null,null,null,null,null,null,null,null,null,null,null,null,null,null,null,null,null,null,null,null,null,null,null,null,null,null,null,null,null,null,null,null,null,null,null,null,null,null,null,null,null,null,null,null,null,null,null,null,null,null,null,null,null,null,null,null,null,null,null,null,null,null,null,null,null,null,null,null,null,null,null,null,null,null,null,null,null,null,null,null,null,null,"VINGCARD SIGNATURE RFID (SIGMA RFID) (Coffre EURO) - axe à 65",null,"VINGCARD SIGNATURE RFID (SIGMA RFID) (Coffre EURO) - axe à 65",null,null,null,"VINGCARD SIGNATURE RFID (SIGMA RFID) (Coffre EURO) - axe à 65",null,"VINGCARD SIGNATURE RFID (SIGMA RFID) (Coffre EURO) - axe à 65",null,null,null,null,null,null,null,null,null,null,null,null,null,null,null,null,null,null,null,null,null,null,null,{"$f":"IF(NOT(ISBLANK((INDIRECT(CONCATENATE(\"TabSerrure[\",RELEVE_COTES!$C$11,\"]\"))))),INDIRECT(CONCATENATE(\"TabSerrure[\",RELEVE_COTES!$C$11,\"]\")),\"\")","v":{"$error":"#VALUE!"}},{"$f":"IF(REF!$EE143<>\"\",1,0)","v":{"$error":"#VALUE!"}},null,"5 pts A2P** VACHETTE 5900 TN2/FN2 - T2040 - axe à 50","5PTS_V5900",1045,1020,25,1830,"SANS"]
[null,null,null,null,null,null,null,null,null,null,null,null,null,null,null,null,null,null,null,null,null,null,null,null,null,null,null,null,null,null,null,null,null,null,null,null,null,null,null,null,null,null,null,null,null,null,null,null,null,null,null,null,null,null,null,null,null,null,null,null,null,null,null,null,null,null,null,null,null,null,null,null,null,null,null,null,null,null,null,null,null,null,null,null,null,null,null,null,null,null,null,null,null,null,null,null,null,null,null,null,null,null,"VINGCARD SIGNATURE RFID (SIGMA RFID) (Coffre EURO) - axe à 80",null,"VINGCARD SIGNATURE RFID (SIGMA RFID) (Coffre EURO) - axe à 80",null,null,null,"VINGCARD SIGNATURE RFID (SIGMA RFID) (Coffre EURO) - axe à 80",null,"VINGCARD SIGNATURE RFID (SIGMA RFID) (Coffre EURO) - axe à 80",null,null,null,null,null,null,null,null,null,null,null,null,null,null,null,null,null,null,null,null,null,null,null,{"$f":"IF(NOT(ISBLANK((INDIRECT(CONCATENATE(\"TabSerrure[\",RELEVE_COTES!$C$11,\"]\"))))),INDIRECT(CONCATENATE(\"TabSerrure[\",RELEVE_COTES!$C$11,\"]\")),\"\")","v":{"$error":"#VALUE!"}},{"$f":"IF(REF!$EE144<>\"\",1,0)","v":{"$error":"#VALUE!"}},null,"5 pts A2P** VACHETTE 5900 SGN2 - T1700 - axe à 50","5PTS_V5900",1045,1020,25,1830,"SANS"]
[null,null,null,null,null,null,null,null,null,null,null,null,null,null,null,null,null,null,null,null,null,null,null,null,null,null,null,null,null,null,null,null,null,null,null,null,null,null,null,null,null,null,null,null,null,null,null,null,null,null,null,null,null,null,null,null,null,null,null,null,null,null,null,null,null,null,null,null,null,null,null,null,null,null,null,null,null,null,null,null,null,null,null,null,null,null,null,null,null,null,null,null,null,null,null,null,null,null,null,null,null,null,null,null,null,null,null,null,null,null,null,null,null,null,null,null,null,null,null,null,null,null,null,null,null,null,null,null,null,null,null,null,null,null,null,null,null,"1 pt BRICARD standard - Têtière 230 - axe à 50"]
[null,null,null,null,null,null,null,null,null,null,null,null,null,null,null,null,null,null,null,null,null,null,null,null,null,null,null,null,null,null,null,null,null,null,null,null,null,null,null,null,null,null,null,null,null,null,null,null,null,null,null,null,null,null,null,null,null,null,null,null,null,null,null,null,null,null,null,null,null,null,null,null,null,null,null,null,null,null,null,null,null,null,null,null,null,null,null,null,null,null,null,null,null,null,null,null,null,null,null,null,null,null,null,null,null,null,null,null,null,null,null,null,null,null,null,null,null,null,null,null,null,null,null,null,null,null,null,null,null,null,null,null,null,null,null,null,null,"1 pt VACHETTE D45 standard - Têtière filante 2036 - axe à 50"]
[null,null,null,null,null,null,null,null,null,null,null,null,null,null,null,null,null,null,null,null,null,null,null,null,null,null,null,null,null,null,null,null,null,null,null,null,null,null,null,null,null,null,null,null,null,null,null,null,null,null,null,null,null,null,null,null,null,null,null,null,null,null,null,null,null,null,null,null,null,null,null,null,null,null,null,null,null,null,null,null,null,null,null,null,null,null,null,null,null,null,null,null,null,null,null,null,null,null,null,null,null,null,null,null,null,null,null,null,null,null,null,null,null,null,null,null,null,null,null,null,null,null,null,null,null,null,null,null,null,null,null,null,null,null,null,null,null,"1 pt VACHETTE D45 standard- Têtière 230 - axe à 50"]
[null,null,null,null,null,null,null,null,null,null,null,null,null,null,null,null,null,null,null,null,null,null,null,null,null,null,null,null,null,null,null,null,null,null,null,null,null,null,null,null,null,null,null,null,null,null,null,null,null,null,null,null,null,null,null,null,null,null,null,null,null,null,null,null,null,null,null,null,null,null,null,null,null,null,null,null,null,null,null,null,null,null,null,null,null,null,null,null,null,null,null,null,null,null,null,null,null,null,null,null,null,null,null,null,null,null,null,null,null,null,null,null,null,null,null,null,null,null,null,null,null,null,null,null,null,null,null,null,null,null,null,null,null,null,null,null,null,"3 pts BRICARD 8120-A1 standard - axe à 120"]
[null,null,null,null,null,null,null,null,null,null,null,null,null,null,null,null,null,null,null,null,null,null,null,null,null,null,null,null,null,null,null,null,null,null,null,null,null,null,null,null,null,null,null,null,null,null,null,null,null,null,null,null,null,null,null,null,null,null,null,null,null,null,null,null,null,null,null,null,null,null,null,null,null,null,null,null,null,null,null,null,null,null,null,null,null,null,null,null,null,null,null,null,null,null,null,null,null,null,null,null,null,null,null,null,null,null,null,null,null,null,null,null,null,null,null,null,null,null,null,null,null,null,null,null,null,null,null,null,null,null,null,null,null,null,null,null,null,"3 pts BRICARD 8120A1 standard avec entrebailleur intégré - axe à 120"]
[null,null,null,null,null,null,null,null,null,null,null,null,null,null,null,null,null,null,null,null,null,null,null,null,null,null,null,null,null,null,null,null,null,null,null,null,null,null,null,null,null,null,null,null,null,null,null,null,null,null,null,null,null,null,null,null,null,null,null,null,null,null,null,null,null,null,null,null,null,null,null,null,null,null,null,null,null,null,null,null,null,null,null,null,null,null,null,null,null,null,null,null,null,null,null,null,null,null,null,null,null,null,null,null,null,null,null,null,null,null,null,null,null,null,null,null,null,null,null,null,null,null,null,null,null,null,null,null,null,null,null,null,null,null,null,null,null,"3 pts BRICARD 8121-A1 A2P* - axe à 120"]
[null,null,null,null,null,null,null,null,null,null,null,null,null,null,null,null,null,null,null,null,null,null,null,null,null,null,null,null,null,null,null,null,null,null,null,null,null,null,null,null,null,null,null,null,null,null,null,null,null,null,null,null,null,null,null,null,null,null,null,null,null,null,null,null,null,null,null,null,null,null,null,null,null,null,null,null,null,null,null,null,null,null,null,null,null,null,null,null,null,null,null,null,null,null,null,null,null,null,null,null,null,null,null,null,null,null,null,null,null,null,null,null,null,null,null,null,null,null,null,null,null,null,null,null,null,null,null,null,null,null,null,null,null,null,null,null,null,"3 pts BRICARD 8121A1 A2P* avec entrebailleur intégré - axe à 120"]
[null,null,null,null,null,null,null,null,null,null,null,null,null,null,null,null,null,null,null,null,null,null,null,null,null,null,null,null,null,null,null,null,null,null,null,null,null,null,null,null,null,null,null,null,null,null,null,null,null,null,null,null,null,null,null,null,null,null,null,null,null,null,null,null,null,null,null,null,null,null,null,null,null,null,null,null,null,null,null,null,null,null,null,null,null,null,null,null,null,null,null,null,null,null,null,null,null,null,null,null,null,null,null,null,null,null,null,null,null,null,null,null,null,null,null,null,null,null,null,null,null,null,null,null,null,null,null,null,null,null,null,null,null,null,null,null,null,"3 pts BRICARD 8150-A1 standard - axe à 50"]
[null,null,null,null,null,null,null,null,null,null,null,null,null,null,null,null,null,null,null,null,null,null,null,null,null,null,null,null,null,null,null,null,null,null,null,null,null,null,null,null,null,null,null,null,null,null,null,null,null,null,null,null,null,null,null,null,null,null,null,null,null,null,null,null,null,null,null,null,null,null,null,null,null,null,null,null,null,null,null,null,null,null,null,null,null,null,null,null,null,null,null,null,null,null,null,null,null,null,null,null,null,null,null,null,null,null,null,null,null,null,null,null,null,null,null,null,null,null,null,null,null,null,null,null,null,null,null,null,null,null,null,null,null,null,null,null,null,"3 pts BRICARD 8150A1 standard avec entrebailleur intégré - axe à 50"]
[null,null,null,null,null,null,null,null,null,null,null,null,null,null,null,null,null,null,null,null,null,null,null,null,null,null,null,null,null,null,null,null,null,null,null,null,null,null,null,null,null,null,null,null,null,null,null,null,null,null,null,null,null,null,null,null,null,null,null,null,null,null,null,null,null,null,null,null,null,null,null,null,null,null,null,null,null,null,null,null,null,null,null,null,null,null,null,null,null,null,null,null,null,null,null,null,null,null,null,null,null,null,null,null,null,null,null,null,null,null,null,null,null,null,null,null,null,null,null,null,null,null,null,null,null,null,null,null,null,null,null,null,null,null,null,null,null,"3 pts BRICARD 8161-A1 A2P* - axe à 50"]
[null,null,null,null,null,null,null,null,null,null,null,null,null,null,null,null,null,null,null,null,null,null,null,null,null,null,null,null,null,null,null,null,null,null,null,null,null,null,null,null,null,null,null,null,null,null,null,null,null,null,null,null,null,null,null,null,null,null,null,null,null,null,null,null,null,null,null,null,null,null,null,null,null,null,null,null,null,null,null,null,null,null,null,null,null,null,null,null,null,null,null,null,null,null,null,null,null,null,null,null,null,null,null,null,null,null,null,null,null,null,null,null,null,null,null,null,null,null,null,null,null,null,null,null,null,null,null,null,null,null,null,null,null,null,null,null,null,"3 pts BRICARD 8161A1 A2P* avec entrebailleur intégré - axe à 50"]
[null,null,null,null,null,null,null,null,null,null,null,null,null,null,null,null,null,null,null,null,null,null,null,null,null,null,null,null,null,null,null,null,null,null,null,null,null,null,null,null,null,null,null,null,null,null,null,null,null,null,null,null,null,null,null,null,null,null,null,null,null,null,null,null,null,null,null,null,null,null,null,null,null,null,null,null,null,null,null,null,null,null,null,null,null,null,null,null,null,null,null,null,null,null,null,null,null,null,null,null,null,null,null,null,null,null,null,null,null,null,null,null,null,null,null,null,null,null,null,null,null,null,null,null,null,null,null,null,null,null,null,null,null,null,null,null,null,"3 pts BRICARD 8162-A1 A2P** - axe à 50"]
[null,null,null,null,null,null,null,null,null,null,null,null,null,null,null,null,null,null,null,null,null,null,null,null,null,null,null,null,null,null,null,null,null,null,null,null,null,null,null,null,null,null,null,null,null,null,null,null,null,null,null,null,null,null,null,null,null,null,null,null,null,null,null,null,null,null,null,null,null,null,null,null,null,null,null,null,null,null,null,null,null,null,null,null,null,null,null,null,null,null,null,null,null,null,null,null,null,null,null,null,null,null,null,null,null,null,null,null,null,null,null,null,null,null,null,null,null,null,null,null,null,null,null,null,null,null,null,null,null,null,null,null,null,null,null,null,null,"3 pts BRICARD 8162A1-A2P** avec entrebailleur intégré - axe à 50"]
[null,null,null,null,null,null,null,null,null,null,null,null,null,null,null,null,null,null,null,null,null,null,null,null,null,null,null,null,null,null,null,null,null,null,null,null,null,null,null,null,null,null,null,null,null,null,null,null,null,null,null,null,null,null,null,null,null,null,null,null,null,null,null,null,null,null,null,null,null,null,null,null,null,null,null,null,null,null,null,null,null,null,null,null,null,null,null,null,null,null,null,null,null,null,null,null,null,null,null,null,null,null,null,null,null,null,null,null,null,null,null,null,null,null,null,null,null,null,null,null,null,null,null,null,null,null,null,null,null,null,null,null,null,null,null,null,null,"3 pts FERCO Europa R2 - axe à 50"]
[null,null,null,null,null,null,null,null,null,null,null,null,null,null,null,null,null,null,null,null,null,null,null,null,null,null,null,null,null,null,null,null,null,null,null,null,null,null,null,null,null,null,null,null,null,null,null,null,null,null,null,null,null,null,null,null,null,null,null,null,null,null,null,null,null,null,null,null,null,null,null,null,null,null,null,null,null,null,null,null,null,null,null,null,null,null,null,null,null,null,null,null,null,null,null,null,null,null,null,null,null,null,null,null,null,null,null,null,null,null,null,null,null,null,null,null,null,null,null,null,null,null,null,null,null,null,null,null,null,null,null,null,null,null,null,null,null,"3 pts FERCO Fercomatic R2 - axe à 50"]
[null,null,null,null,null,null,null,null,null,null,null,null,null,null,null,null,null,null,null,null,null,null,null,null,null,null,null,null,null,null,null,null,null,null,null,null,null,null,null,null,null,null,null,null,null,null,null,null,null,null,null,null,null,null,null,null,null,null,null,null,null,null,null,null,null,null,null,null,null,null,null,null,null,null,null,null,null,null,null,null,null,null,null,null,null,null,null,null,null,null,null,null,null,null,null,null,null,null,null,null,null,null,null,null,null,null,null,null,null,null,null,null,null,null,null,null,null,null,null,null,null,null,null,null,null,null,null,null,null,null,null,null,null,null,null,null,null,"3 pts FERCO SECURY PP MR2 A2P* - axe à 50"]
[null,null,null,null,null,null,null,null,null,null,null,null,null,null,null,null,null,null,null,null,null,null,null,null,null,null,null,null,null,null,null,null,null,null,null,null,null,null,null,null,null,null,null,null,null,null,null,null,null,null,null,null,null,null,null,null,null,null,null,null,null,null,null,null,null,null,null,null,null,null,null,null,null,null,null,null,null,null,null,null,null,null,null,null,null,null,null,null,null,null,null,null,null,null,null,null,null,null,null,null,null,null,null,null,null,null,null,null,null,null,null,null,null,null,null,null,null,null,null,null,null,null,null,null,null,null,null,null,null,null,null,null,null,null,null,null,null,"3 pts FERCO SECURY PP MR2 standard - axe à 50"]
[null,null,null,null,null,null,null,null,null,null,null,null,null,null,null,null,null,null,null,null,null,null,null,null,null,null,null,null,null,null,null,null,null,null,null,null,null,null,null,null,null,null,null,null,null,null,null,null,null,null,null,null,null,null,null,null,null,null,null,null,null,null,null,null,null,null,null,null,null,null,null,null,null,null,null,null,null,null,null,null,null,null,null,null,null,null,null,null,null,null,null,null,null,null,null,null,null,null,null,null,null,null,null,null,null,null,null,null,null,null,null,null,null,null,null,null,null,null,null,null,null,null,null,null,null,null,null,null,null,null,null,null,null,null,null,null,null,"3 pts FERCO SECURY PP SF2 A2P* - axe à 50"]
[null,null,null,null,null,null,null,null,null,null,null,null,null,null,null,null,null,null,null,null,null,null,null,null,null,null,null,null,null,null,null,null,null,null,null,null,null,null,null,null,null,null,null,null,null,null,null,null,null,null,null,null,null,null,null,null,null,null,null,null,null,null,null,null,null,null,null,null,null,null,null,null,null,null,null,null,null,null,null,null,null,null,null,null,null,null,null,null,null,null,null,null,null,null,null,null,null,null,null,null,null,null,null,null,null,null,null,null,null,null,null,null,null,null,null,null,null,null,null,null,null,null,null,null,null,null,null,null,null,null,null,null,null,null,null,null,null,"3 pts FERCO SECURY PP SF2 standard - axe à 50"]
[null,null,null,null,null,null,null,null,null,null,null,null,null,null,null,null,null,null,null,null,null,null,null,null,null,null,null,null,null,null,null,null,null,null,null,null,null,null,null,null,null,null,null,null,null,null,null,null,null,null,null,null,null,null,null,null,null,null,null,null,null,null,null,null,null,null,null,null,null,null,null,null,null,null,null,null,null,null,null,null,null,null,null,null,null,null,null,null,null,null,null,null,null,null,null,null,null,null,null,null,null,null,null,null,null,null,null,null,null,null,null,null,null,null,null,null,null,null,null,null,null,null,null,null,null,null,null,null,null,null,null,null,null,null,null,null,null,"3 pts METALUX standard - Axe à 300"]
[null,null,null,null,null,null,null,null,null,null,null,null,null,null,null,null,null,null,null,null,null,null,null,null,null,null,null,null,null,null,null,null,null,null,null,null,null,null,null,null,null,null,null,null,null,null,null,null,null,null,null,null,null,null,null,null,null,null,null,null,null,null,null,null,null,null,null,null,null,null,null,null,null,null,null,null,null,null,null,null,null,null,null,null,null,null,null,null,null,null,null,null,null,null,null,null,null,null,null,null,null,null,null,null,null,null,null,null,null,null,null,null,null,null,null,null,null,null,null,null,null,null,null,null,null,null,null,null,null,null,null,null,null,null,null,null,null,"3 pts METALUX standard - Axe à 465"]
[null,null,null,null,null,null,null,null,null,null,null,null,null,null,null,null,null,null,null,null,null,null,null,null,null,null,null,null,null,null,null,null,null,null,null,null,null,null,null,null,null,null,null,null,null,null,null,null,null,null,null,null,null,null,null,null,null,null,null,null,null,null,null,null,null,null,null,null,null,null,null,null,null,null,null,null,null,null,null,null,null,null,null,null,null,null,null,null,null,null,null,null,null,null,null,null,null,null,null,null,null,null,null,null,null,null,null,null,null,null,null,null,null,null,null,null,null,null,null,null,null,null,null,null,null,null,null,null,null,null,null,null,null,null,null,null,null,"3 pts VACHETTE V5000 A2P* A120 XL SGN1 - axe à 120"]
[null,null,null,null,null,null,null,null,null,null,null,null,null,null,null,null,null,null,null,null,null,null,null,null,null,null,null,null,null,null,null,null,null,null,null,null,null,null,null,null,null,null,null,null,null,null,null,null,null,null,null,null,null,null,null,null,null,null,null,null,null,null,null,null,null,null,null,null,null,null,null,null,null,null,null,null,null,null,null,null,null,null,null,null,null,null,null,null,null,null,null,null,null,null,null,null,null,null,null,null,null,null,null,null,null,null,null,null,null,null,null,null,null,null,null,null,null,null,null,null,null,null,null,null,null,null,null,null,null,null,null,null,null,null,null,null,null,"3 pts VACHETTE V5000 A2P* XL SGN1 avec entrebailleur intégré - axe à 120"]
[null,null,null,null,null,null,null,null,null,null,null,null,null,null,null,null,null,null,null,null,null,null,null,null,null,null,null,null,null,null,null,null,null,null,null,null,null,null,null,null,null,null,null,null,null,null,null,null,null,null,null,null,null,null,null,null,null,null,null,null,null,null,null,null,null,null,null,null,null,null,null,null,null,null,null,null,null,null,null,null,null,null,null,null,null,null,null,null,null,null,null,null,null,null,null,null,null,null,null,null,null,null,null,null,null,null,null,null,null,null,null,null,null,null,null,null,null,null,null,null,null,null,null,null,null,null,null,null,null,null,null,null,null,null,null,null,null,"3 pts VACHETTE V5000 SGN2 A2P** - axe à 50"]
[null,null,null,null,null,null,null,null,null,null,null,null,null,null,null,null,null,null,null,null,null,null,null,null,null,null,null,null,null,null,null,null,null,null,null,null,null,null,null,null,null,null,null,null,null,null,null,null,null,null,null,null,null,null,null,null,null,null,null,null,null,null,null,null,null,null,null,null,null,null,null,null,null,null,null,null,null,null,null,null,null,null,null,null,null,null,null,null,null,null,null,null,null,null,null,null,null,null,null,null,null,null,null,null,null,null,null,null,null,null,null,null,null,null,null,null,null,null,null,null,null,null,null,null,null,null,null,null,null,null,null,null,null,null,null,null,null,"3 pts VACHETTE V5000 SGN2 A2P** avec entrebailleur - axe à 50"]
[null,null,null,null,null,null,null,null,null,null,null,null,null,null,null,null,null,null,null,null,null,null,null,null,null,null,null,null,null,null,null,null,null,null,null,null,null,null,null,null,null,null,null,null,null,null,null,null,null,null,null,null,null,null,null,null,null,null,null,null,null,null,null,null,null,null,null,null,null,null,null,null,null,null,null,null,null,null,null,null,null,null,null,null,null,null,null,null,null,null,null,null,null,null,null,null,null,null,null,null,null,null,null,null,null,null,null,null,null,null,null,null,null,null,null,null,null,null,null,null,null,null,null,null,null,null,null,null,null,null,null,null,null,null,null,null,null,"3 pts VACHETTE V5000 SPN1 A2P* - axe à 50"]
[null,null,null,null,null,null,null,null,null,null,null,null,null,null,null,null,null,null,null,null,null,null,null,null,null,null,null,null,null,null,null,null,null,null,null,null,null,null,null,null,null,null,null,null,null,null,null,null,null,null,null,null,null,null,null,null,null,null,null,null,null,null,null,null,null,null,null,null,null,null,null,null,null,null,null,null,null,null,null,null,null,null,null,null,null,null,null,null,null,null,null,null,null,null,null,null,null,null,null,null,null,null,null,null,null,null,null,null,null,null,null,null,null,null,null,null,null,null,null,null,null,null,null,null,null,null,null,null,null,null,null,null,null,null,null,null,null,"3 pts VACHETTE V5000 SPN1 A2P* avec entrebailleur - axe à 50"]
[null,null,null,null,null,null,null,null,null,null,null,null,null,null,null,null,null,null,null,null,null,null,null,null,null,null,null,null,null,null,null,null,null,null,null,null,null,null,null,null,null,null,null,null,null,null,null,null,null,null,null,null,null,null,null,null,null,null,null,null,null,null,null,null,null,null,null,null,null,null,null,null,null,null,null,null,null,null,null,null,null,null,null,null,null,null,null,null,null,null,null,null,null,null,null,null,null,null,null,null,null,null,null,null,null,null,null,null,null,null,null,null,null,null,null,null,null,null,null,null,null,null,null,null,null,null,null,null,null,null,null,null,null,null,null,null,null,"3 pts VACHETTE V5000 standard - axe à 120"]
[null,null,null,null,null,null,null,null,null,null,null,null,null,null,null,null,null,null,null,null,null,null,null,null,null,null,null,null,null,null,null,null,null,null,null,null,null,null,null,null,null,null,null,null,null,null,null,null,null,null,null,null,null,null,null,null,null,null,null,null,null,null,null,null,null,null,null,null,null,null,null,null,null,null,null,null,null,null,null,null,null,null,null,null,null,null,null,null,null,null,null,null,null,null,null,null,null,null,null,null,null,null,null,null,null,null,null,null,null,null,null,null,null,null,null,null,null,null,null,null,null,null,null,null,null,null,null,null,null,null,null,null,null,null,null,null,null,"3 pts VACHETTE V5000 standard - axe à 50"]
[null,null,null,null,null,null,null,null,null,null,null,null,null,null,null,null,null,null,null,null,null,null,null,null,null,null,null,null,null,null,null,null,null,null,null,null,null,null,null,null,null,null,null,null,null,null,null,null,null,null,null,null,null,null,null,null,null,null,null,null,null,null,null,null,null,null,null,null,null,null,null,null,null,null,null,null,null,null,null,null,null,null,null,null,null,null,null,null,null,null,null,null,null,null,null,null,null,null,null,null,null,null,null,null,null,null,null,null,null,null,null,null,null,null,null,null,null,null,null,null,null,null,null,null,null,null,null,null,null,null,null,null,null,null,null,null,null,"3 pts VACHETTE V5000 standard avec entrebailleur - axe à 50"]
[null,null,null,null,null,null,null,null,null,null,null,null,null,null,null,null,null,null,null,null,null,null,null,null,null,null,null,null,null,null,null,null,null,null,null,null,null,null,null,null,null,null,null,null,null,null,null,null,null,null,null,null,null,null,null,null,null,null,null,null,null,null,null,null,null,null,null,null,null,null,null,null,null,null,null,null,null,null,null,null,null,null,null,null,null,null,null,null,null,null,null,null,null,null,null,null,null,null,null,null,null,null,null,null,null,null,null,null,null,null,null,null,null,null,null,null,null,null,null,null,null,null,null,null,null,null,null,null,null,null,null,null,null,null,null,null,null,"3 pts VACHETTE V5000 standard avec entrebailleur intégré - axe à 120"]
[null,null,null,null,null,null,null,null,null,null,null,null,null,null,null,null,null,null,null,null,null,null,null,null,null,null,null,null,null,null,null,null,null,null,null,null,null,null,null,null,null,null,null,null,null,null,null,null,null,null,null,null,null,null,null,null,null,null,null,null,null,null,null,null,null,null,null,null,null,null,null,null,null,null,null,null,null,null,null,null,null,null,null,null,null,null,null,null,null,null,null,null,null,null,null,null,null,null,null,null,null,null,null,null,null,null,null,null,null,null,null,null,null,null,null,null,null,null,null,null,null,null,null,null,null,null,null,null,null,null,null,null,null,null,null,null,null,"4 pts VACHETTE V20000 A2P* - axe à 50"]
[null,null,null,null,null,null,null,null,null,null,null,null,null,null,null,null,null,null,null,null,null,null,null,null,null,null,null,null,null,null,null,null,null,null,null,null,null,null,null,null,null,null,null,null,null,null,null,null,null,null,null,null,null,null,null,null,null,null,null,null,null,null,null,null,null,null,null,null,null,null,null,null,null,null,null,null,null,null,null,null,null,null,null,null,null,null,null,null,null,null,null,null,null,null,null,null,null,null,null,null,null,null,null,null,null,null,null,null,null,null,null,null,null,null,null,null,null,null,null,null,null,null,null,null,null,null,null,null,null,null,null,null,null,null,null,null,null,"4 pts VACHETTE V20000 standard - axe à 50"]
[null,null,null,null,null,null,null,null,null,null,null,null,null,null,null,null,null,null,null,null,null,null,null,null,null,null,null,null,null,null,null,null,null,null,null,null,null,null,null,null,null,null,null,null,null,null,null,null,null,null,null,null,null,null,null,null,null,null,null,null,null,null,null,null,null,null,null,null,null,null,null,null,null,null,null,null,null,null,null,null,null,null,null,null,null,null,null,null,null,null,null,null,null,null,null,null,null,null,null,null,null,null,null,null,null,null,null,null,null,null,null,null,null,null,null,null,null,null,null,null,null,null,null,null,null,null,null,null,null,null,null,null,null,null,null,null,null,"4 pts VACHETTE V20500 standard - axe à 50"]
[null,null,null,null,null,null,null,null,null,null,null,null,null,null,null,null,null,null,null,null,null,null,null,null,null,null,null,null,null,null,null,null,null,null,null,null,null,null,null,null,null,null,null,null,null,null,null,null,null,null,null,null,null,null,null,null,null,null,null,null,null,null,null,null,null,null,null,null,null,null,null,null,null,null,null,null,null,null,null,null,null,null,null,null,null,null,null,null,null,null,null,null,null,null,null,null,null,null,null,null,null,null,null,null,null,null,null,null,null,null,null,null,null,null,null,null,null,null,null,null,null,null,null,null,null,null,null,null,null,null,null,null,null,null,null,null,null,"5 pts BRICARD 8120A3 standard - axe à 120"]
[null,null,null,null,null,null,null,null,null,null,null,null,null,null,null,null,null,null,null,null,null,null,null,null,null,null,null,null,null,null,null,null,null,null,null,null,null,null,null,null,null,null,null,null,null,null,null,null,null,null,null,null,null,null,null,null,null,null,null,null,null,null,null,null,null,null,null,null,null,null,null,null,null,null,null,null,null,null,null,null,null,null,null,null,null,null,null,null,null,null,null,null,null,null,null,null,null,null,null,null,null,null,null,null,null,null,null,null,null,null,null,null,null,null,null,null,null,null,null,null,null,null,null,null,null,null,null,null,null,null,null,null,null,null,null,null,null,"5 pts BRICARD 8120A3 standard avec entrebailleur intégré - axe à 120"]
[null,null,null,null,null,null,null,null,null,null,null,null,null,null,null,null,null,null,null,null,null,null,null,null,null,null,null,null,null,null,null,null,null,null,null,null,null,null,null,null,null,null,null,null,null,null,null,null,null,null,null,null,null,null,null,null,null,null,null,null,null,null,null,null,null,null,null,null,null,null,null,null,null,null,null,null,null,null,null,null,null,null,null,null,null,null,null,null,null,null,null,null,null,null,null,null,null,null,null,null,null,null,null,null,null,null,null,null,null,null,null,null,null,null,null,null,null,null,null,null,null,null,null,null,null,null,null,null,null,null,null,null,null,null,null,null,null,"5 pts BRICARD 8120A4 standard - axe à 120"]
[null,null,null,null,null,null,null,null,null,null,null,null,null,null,null,null,null,null,null,null,null,null,null,null,null,null,null,null,null,null,null,null,null,null,null,null,null,null,null,null,null,null,null,null,null,null,null,null,null,null,null,null,null,null,null,null,null,null,null,null,null,null,null,null,null,null,null,null,null,null,null,null,null,null,null,null,null,null,null,null,null,null,null,null,null,null,null,null,null,null,null,null,null,null,null,null,null,null,null,null,null,null,null,null,null,null,null,null,null,null,null,null,null,null,null,null,null,null,null,null,null,null,null,null,null,null,null,null,null,null,null,null,null,null,null,null,null,"5 pts BRICARD 8120A4 standard avec entrebailleur intégré - axe à 120"]
[null,null,null,null,null,null,null,null,null,null,null,null,null,null,null,null,null,null,null,null,null,null,null,null,null,null,null,null,null,null,null,null,null,null,null,null,null,null,null,null,null,null,null,null,null,null,null,null,null,null,null,null,null,null,null,null,null,null,null,null,null,null,null,null,null,null,null,null,null,null,null,null,null,null,null,null,null,null,null,null,null,null,null,null,null,null,null,null,null,null,null,null,null,null,null,null,null,null,null,null,null,null,null,null,null,null,null,null,null,null,null,null,null,null,null,null,null,null,null,null,null,null,null,null,null,null,null,null,null,null,null,null,null,null,null,null,null,"5 pts BRICARD 8121A3 A2P* - axe à 120"]
[null,null,null,null,null,null,null,null,null,null,null,null,null,null,null,null,null,null,null,null,null,null,null,null,null,null,null,null,null,null,null,null,null,null,null,null,null,null,null,null,null,null,null,null,null,null,null,null,null,null,null,null,null,null,null,null,null,null,null,null,null,null,null,null,null,null,null,null,null,null,null,null,null,null,null,null,null,null,null,null,null,null,null,null,null,null,null,null,null,null,null,null,null,null,null,null,null,null,null,null,null,null,null,null,null,null,null,null,null,null,null,null,null,null,null,null,null,null,null,null,null,null,null,null,null,null,null,null,null,null,null,null,null,null,null,null,null,"5 pts BRICARD 8121A3 A2P* avec entrebailleur intégré - axe à 120"]
[null,null,null,null,null,null,null,null,null,null,null,null,null,null,null,null,null,null,null,null,null,null,null,null,null,null,null,null,null,null,null,null,null,null,null,null,null,null,null,null,null,null,null,null,null,null,null,null,null,null,null,null,null,null,null,null,null,null,null,null,null,null,null,null,null,null,null,null,null,null,null,null,null,null,null,null,null,null,null,null,null,null,null,null,null,null,null,null,null,null,null,null,null,null,null,null,null,null,null,null,null,null,null,null,null,null,null,null,null,null,null,null,null,null,null,null,null,null,null,null,null,null,null,null,null,null,null,null,null,null,null,null,null,null,null,null,null,"5 pts BRICARD 8121A4 A2P* - axe à 120"]
[null,null,null,null,null,null,null,null,null,null,null,null,null,null,null,null,null,null,null,null,null,null,null,null,null,null,null,null,null,null,null,null,null,null,null,null,null,null,null,null,null,null,null,null,null,null,null,null,null,null,null,null,null,null,null,null,null,null,null,null,null,null,null,null,null,null,null,null,null,null,null,null,null,null,null,null,null,null,null,null,null,null,null,null,null,null,null,null,null,null,null,null,null,null,null,null,null,null,null,null,null,null,null,null,null,null,null,null,null,null,null,null,null,null,null,null,null,null,null,null,null,null,null,null,null,null,null,null,null,null,null,null,null,null,null,null,null,"5 pts BRICARD 8121A4 A2P* avec entrebailleur intégré - axe à 120"]
[null,null,null,null,null,null,null,null,null,null,null,null,null,null,null,null,null,null,null,null,null,null,null,null,null,null,null,null,null,null,null,null,null,null,null,null,null,null,null,null,null,null,null,null,null,null,null,null,null,null,null,null,null,null,null,null,null,null,null,null,null,null,null,null,null,null,null,null,null,null,null,null,null,null,null,null,null,null,null,null,null,null,null,null,null,null,null,null,null,null,null,null,null,null,null,null,null,null,null,null,null,null,null,null,null,null,null,null,null,null,null,null,null,null,null,null,null,null,null,null,null,null,null,null,null,null,null,null,null,null,null,null,null,null,null,null,null,"5 pts BRICARD 8121-A8 A2P* - axe à 120"]
[null,null,null,null,null,null,null,null,null,null,null,null,null,null,null,null,null,null,null,null,null,null,null,null,null,null,null,null,null,null,null,null,null,null,null,null,null,null,null,null,null,null,null,null,null,null,null,null,null,null,null,null,null,null,null,null,null,null,null,null,null,null,null,null,null,null,null,null,null,null,null,null,null,null,null,null,null,null,null,null,null,null,null,null,null,null,null,null,null,null,null,null,null,null,null,null,null,null,null,null,null,null,null,null,null,null,null,null,null,null,null,null,null,null,null,null,null,null,null,null,null,null,null,null,null,null,null,null,null,null,null,null,null,null,null,null,null,"5 pts BRICARD 8150-A3 standard - axe à 50"]
[null,null,null,null,null,null,null,null,null,null,null,null,null,null,null,null,null,null,null,null,null,null,null,null,null,null,null,null,null,null,null,null,null,null,null,null,null,null,null,null,null,null,null,null,null,null,null,null,null,null,null,null,null,null,null,null,null,null,null,null,null,null,null,null,null,null,null,null,null,null,null,null,null,null,null,null,null,null,null,null,null,null,null,null,null,null,null,null,null,null,null,null,null,null,null,null,null,null,null,null,null,null,null,null,null,null,null,null,null,null,null,null,null,null,null,null,null,null,null,null,null,null,null,null,null,null,null,null,null,null,null,null,null,null,null,null,null,"5 pts BRICARD 8150A3 standard avec entrebailleur intégré - axe à 50"]
[null,null,null,null,null,null,null,null,null,null,null,null,null,null,null,null,null,null,null,null,null,null,null,null,null,null,null,null,null,null,null,null,null,null,null,null,null,null,null,null,null,null,null,null,null,null,null,null,null,null,null,null,null,null,null,null,null,null,null,null,null,null,null,null,null,null,null,null,null,null,null,null,null,null,null,null,null,null,null,null,null,null,null,null,null,null,null,null,null,null,null,null,null,null,null,null,null,null,null,null,null,null,null,null,null,null,null,null,null,null,null,null,null,null,null,null,null,null,null,null,null,null,null,null,null,null,null,null,null,null,null,null,null,null,null,null,null,"5 pts BRICARD 8150-A4  standard - axe à 50"]
[null,null,null,null,null,null,null,null,null,null,null,null,null,null,null,null,null,null,null,null,null,null,null,null,null,null,null,null,null,null,null,null,null,null,null,null,null,null,null,null,null,null,null,null,null,null,null,null,null,null,null,null,null,null,null,null,null,null,null,null,null,null,null,null,null,null,null,null,null,null,null,null,null,null,null,null,null,null,null,null,null,null,null,null,null,null,null,null,null,null,null,null,null,null,null,null,null,null,null,null,null,null,null,null,null,null,null,null,null,null,null,null,null,null,null,null,null,null,null,null,null,null,null,null,null,null,null,null,null,null,null,null,null,null,null,null,null,"5 pts BRICARD 8150A4  standard avec entrebailleur intégré - axe à 50"]
[null,null,null,null,null,null,null,null,null,null,null,null,null,null,null,null,null,null,null,null,null,null,null,null,null,null,null,null,null,null,null,null,null,null,null,null,null,null,null,null,null,null,null,null,null,null,null,null,null,null,null,null,null,null,null,null,null,null,null,null,null,null,null,null,null,null,null,null,null,null,null,null,null,null,null,null,null,null,null,null,null,null,null,null,null,null,null,null,null,null,null,null,null,null,null,null,null,null,null,null,null,null,null,null,null,null,null,null,null,null,null,null,null,null,null,null,null,null,null,null,null,null,null,null,null,null,null,null,null,null,null,null,null,null,null,null,null,"5 pts BRICARD 8161-A3 A2P* - axe à 50"]
[null,null,null,null,null,null,null,null,null,null,null,null,null,null,null,null,null,null,null,null,null,null,null,null,null,null,null,null,null,null,null,null,null,null,null,null,null,null,null,null,null,null,null,null,null,null,null,null,null,null,null,null,null,null,null,null,null,null,null,null,null,null,null,null,null,null,null,null,null,null,null,null,null,null,null,null,null,null,null,null,null,null,null,null,null,null,null,null,null,null,null,null,null,null,null,null,null,null,null,null,null,null,null,null,null,null,null,null,null,null,null,null,null,null,null,null,null,null,null,null,null,null,null,null,null,null,null,null,null,null,null,null,null,null,null,null,null,"5 pts BRICARD 8161A3 A2P* avec entrebailleur intégré - axe à 50"]
[null,null,null,null,null,null,null,null,null,null,null,null,null,null,null,null,null,null,null,null,null,null,null,null,null,null,null,null,null,null,null,null,null,null,null,null,null,null,null,null,null,null,null,null,null,null,null,null,null,null,null,null,null,null,null,null,null,null,null,null,null,null,null,null,null,null,null,null,null,null,null,null,null,null,null,null,null,null,null,null,null,null,null,null,null,null,null,null,null,null,null,null,null,null,null,null,null,null,null,null,null,null,null,null,null,null,null,null,null,null,null,null,null,null,null,null,null,null,null,null,null,null,null,null,null,null,null,null,null,null,null,null,null,null,null,null,null,"5 pts BRICARD 8161-A4  A2P* - axe à 50"]
[null,null,null,null,null,null,null,null,null,null,null,null,null,null,null,null,null,null,null,null,null,null,null,null,null,null,null,null,null,null,null,null,null,null,null,null,null,null,null,null,null,null,null,null,null,null,null,null,null,null,null,null,null,null,null,null,null,null,null,null,null,null,null,null,null,null,null,null,null,null,null,null,null,null,null,null,null,null,null,null,null,null,null,null,null,null,null,null,null,null,null,null,null,null,null,null,null,null,null,null,null,null,null,null,null,null,null,null,null,null,null,null,null,null,null,null,null,null,null,null,null,null,null,null,null,null,null,null,null,null,null,null,null,null,null,null,null,"5 pts BRICARD 8161A4 A2P* avec entrebailleur intégré - axe à 50"]
[null,null,null,null,null,null,null,null,null,null,null,null,null,null,null,null,null,null,null,null,null,null,null,null,null,null,null,null,null,null,null,null,null,null,null,null,null,null,null,null,null,null,null,null,null,null,null,null,null,null,null,null,null,null,null,null,null,null,null,null,null,null,null,null,null,null,null,null,null,null,null,null,null,null,null,null,null,null,null,null,null,null,null,null,null,null,null,null,null,null,null,null,null,null,null,null,null,null,null,null,null,null,null,null,null,null,null,null,null,null,null,null,null,null,null,null,null,null,null,null,null,null,null,null,null,null,null,null,null,null,null,null,null,null,null,null,null,"5 pts BRICARD 8161-A8 A2P* - axe à 50"]
[null,null,null,null,null,null,null,null,null,null,null,null,null,null,null,null,null,null,null,null,null,null,null,null,null,null,null,null,null,null,null,null,null,null,null,null,null,null,null,null,null,null,null,null,null,null,null,null,null,null,null,null,null,null,null,null,null,null,null,null,null,null,null,null,null,null,null,null,null,null,null,null,null,null,null,null,null,null,null,null,null,null,null,null,null,null,null,null,null,null,null,null,null,null,null,null,null,null,null,null,null,null,null,null,null,null,null,null,null,null,null,null,null,null,null,null,null,null,null,null,null,null,null,null,null,null,null,null,null,null,null,null,null,null,null,null,null,"5 pts BRICARD 8162-A3 A2P** - axe à 50"]
[null,null,null,null,null,null,null,null,null,null,null,null,null,null,null,null,null,null,null,null,null,null,null,null,null,null,null,null,null,null,null,null,null,null,null,null,null,null,null,null,null,null,null,null,null,null,null,null,null,null,null,null,null,null,null,null,null,null,null,null,null,null,null,null,null,null,null,null,null,null,null,null,null,null,null,null,null,null,null,null,null,null,null,null,null,null,null,null,null,null,null,null,null,null,null,null,null,null,null,null,null,null,null,null,null,null,null,null,null,null,null,null,null,null,null,null,null,null,null,null,null,null,null,null,null,null,null,null,null,null,null,null,null,null,null,null,null,"5 pts BRICARD 8162A3 A2P** avec entrebailleur intégré - axe à 50"]
[null,null,null,null,null,null,null,null,null,null,null,null,null,null,null,null,null,null,null,null,null,null,null,null,null,null,null,null,null,null,null,null,null,null,null,null,null,null,null,null,null,null,null,null,null,null,null,null,null,null,null,null,null,null,null,null,null,null,null,null,null,null,null,null,null,null,null,null,null,null,null,null,null,null,null,null,null,null,null,null,null,null,null,null,null,null,null,null,null,null,null,null,null,null,null,null,null,null,null,null,null,null,null,null,null,null,null,null,null,null,null,null,null,null,null,null,null,null,null,null,null,null,null,null,null,null,null,null,null,null,null,null,null,null,null,null,null,"5 pts BRICARD 8162-A4  A2P** - axe à 50"]
[null,null,null,null,null,null,null,null,null,null,null,null,null,null,null,null,null,null,null,null,null,null,null,null,null,null,null,null,null,null,null,null,null,null,null,null,null,null,null,null,null,null,null,null,null,null,null,null,null,null,null,null,null,null,null,null,null,null,null,null,null,null,null,null,null,null,null,null,null,null,null,null,null,null,null,null,null,null,null,null,null,null,null,null,null,null,null,null,null,null,null,null,null,null,null,null,null,null,null,null,null,null,null,null,null,null,null,null,null,null,null,null,null,null,null,null,null,null,null,null,null,null,null,null,null,null,null,null,null,null,null,null,null,null,null,null,null,"5 pts BRICARD 8162A4 A2P** avec entrebailleur intégré - axe à 50"]
[null,null,null,null,null,null,null,null,null,null,null,null,null,null,null,null,null,null,null,null,null,null,null,null,null,null,null,null,null,null,null,null,null,null,null,null,null,null,null,null,null,null,null,null,null,null,null,null,null,null,null,null,null,null,null,null,null,null,null,null,null,null,null,null,null,null,null,null,null,null,null,null,null,null,null,null,null,null,null,null,null,null,null,null,null,null,null,null,null,null,null,null,null,null,null,null,null,null,null,null,null,null,null,null,null,null,null,null,null,null,null,null,null,null,null,null,null,null,null,null,null,null,null,null,null,null,null,null,null,null,null,null,null,null,null,null,null,"5 pts BRICARD 8162-A8 A2P** - axe à 50"]
[null,null,null,null,null,null,null,null,null,null,null,null,null,null,null,null,null,null,null,null,null,null,null,null,null,null,null,null,null,null,null,null,null,null,null,null,null,null,null,null,null,null,null,null,null,null,null,null,null,null,null,null,null,null,null,null,null,null,null,null,null,null,null,null,null,null,null,null,null,null,null,null,null,null,null,null,null,null,null,null,null,null,null,null,null,null,null,null,null,null,null,null,null,null,null,null,null,null,null,null,null,null,null,null,null,null,null,null,null,null,null,null,null,null,null,null,null,null,null,null,null,null,null,null,null,null,null,null,null,null,null,null,null,null,null,null,null,"5 pts FERCO Europa R2 A2P*- axe à 50"]
[null,null,null,null,null,null,null,null,null,null,null,null,null,null,null,null,null,null,null,null,null,null,null,null,null,null,null,null,null,null,null,null,null,null,null,null,null,null,null,null,null,null,null,null,null,null,null,null,null,null,null,null,null,null,null,null,null,null,null,null,null,null,null,null,null,null,null,null,null,null,null,null,null,null,null,null,null,null,null,null,null,null,null,null,null,null,null,null,null,null,null,null,null,null,null,null,null,null,null,null,null,null,null,null,null,null,null,null,null,null,null,null,null,null,null,null,null,null,null,null,null,null,null,null,null,null,null,null,null,null,null,null,null,null,null,null,null,"5 pts FERCO Fercomatic R2 A2P*- axe à 50"]
[null,null,null,null,null,null,null,null,null,null,null,null,null,null,null,null,null,null,null,null,null,null,null,null,null,null,null,null,null,null,null,null,null,null,null,null,null,null,null,null,null,null,null,null,null,null,null,null,null,null,null,null,null,null,null,null,null,null,null,null,null,null,null,null,null,null,null,null,null,null,null,null,null,null,null,null,null,null,null,null,null,null,null,null,null,null,null,null,null,null,null,null,null,null,null,null,null,null,null,null,null,null,null,null,null,null,null,null,null,null,null,null,null,null,null,null,null,null,null,null,null,null,null,null,null,null,null,null,null,null,null,null,null,null,null,null,null,"5 pts FERCO SECURY PP 50/70 MR4 A2P* - axe à 50"]
[null,null,null,null,null,null,null,null,null,null,null,null,null,null,null,null,null,null,null,null,null,null,null,null,null,null,null,null,null,null,null,null,null,null,null,null,null,null,null,null,null,null,null,null,null,null,null,null,null,null,null,null,null,null,null,null,null,null,null,null,null,null,null,null,null,null,null,null,null,null,null,null,null,null,null,null,null,null,null,null,null,null,null,null,null,null,null,null,null,null,null,null,null,null,null,null,null,null,null,null,null,null,null,null,null,null,null,null,null,null,null,null,null,null,null,null,null,null,null,null,null,null,null,null,null,null,null,null,null,null,null,null,null,null,null,null,null,"5 pts VACHETTE V5090 A2P* A120 XL SGN1 - axe à 120"]
[null,null,null,null,null,null,null,null,null,null,null,null,null,null,null,null,null,null,null,null,null,null,null,null,null,null,null,null,null,null,null,null,null,null,null,null,null,null,null,null,null,null,null,null,null,null,null,null,null,null,null,null,null,null,null,null,null,null,null,null,null,null,null,null,null,null,null,null,null,null,null,null,null,null,null,null,null,null,null,null,null,null,null,null,null,null,null,null,null,null,null,null,null,null,null,null,null,null,null,null,null,null,null,null,null,null,null,null,null,null,null,null,null,null,null,null,null,null,null,null,null,null,null,null,null,null,null,null,null,null,null,null,null,null,null,null,null,"5 pts VACHETTE V5090 SGN2 A2P** - axe à 50"]
[null,null,null,null,null,null,null,null,null,null,null,null,null,null,null,null,null,null,null,null,null,null,null,null,null,null,null,null,null,null,null,null,null,null,null,null,null,null,null,null,null,null,null,null,null,null,null,null,null,null,null,null,null,null,null,null,null,null,null,null,null,null,null,null,null,null,null,null,null,null,null,null,null,null,null,null,null,null,null,null,null,null,null,null,null,null,null,null,null,null,null,null,null,null,null,null,null,null,null,null,null,null,null,null,null,null,null,null,null,null,null,null,null,null,null,null,null,null,null,null,null,null,null,null,null,null,null,null,null,null,null,null,null,null,null,null,null,"5 pts VACHETTE V5090 SGN2 A2P** avec entrebailleur - axe à 50"]
[null,null,null,null,null,null,null,null,null,null,null,null,null,null,null,null,null,null,null,null,null,null,null,null,null,null,null,null,null,null,null,null,null,null,null,null,null,null,null,null,null,null,null,null,null,null,null,null,null,null,null,null,null,null,null,null,null,null,null,null,null,null,null,null,null,null,null,null,null,null,null,null,null,null,null,null,null,null,null,null,null,null,null,null,null,null,null,null,null,null,null,null,null,null,null,null,null,null,null,null,null,null,null,null,null,null,null,null,null,null,null,null,null,null,null,null,null,null,null,null,null,null,null,null,null,null,null,null,null,null,null,null,null,null,null,null,null,"5 pts VACHETTE V5090 SPN1 A2P* - axe à 50"]
[null,null,null,null,null,null,null,null,null,null,null,null,null,null,null,null,null,null,null,null,null,null,null,null,null,null,null,null,null,null,null,null,null,null,null,null,null,null,null,null,null,null,null,null,null,null,null,null,null,null,null,null,null,null,null,null,null,null,null,null,null,null,null,null,null,null,null,null,null,null,null,null,null,null,null,null,null,null,null,null,null,null,null,null,null,null,null,null,null,null,null,null,null,null,null,null,null,null,null,null,null,null,null,null,null,null,null,null,null,null,null,null,null,null,null,null,null,null,null,null,null,null,null,null,null,null,null,null,null,null,null,null,null,null,null,null,null,"5 pts VACHETTE V5090 SPN1 A2P* avec entrebailleur - axe à 50"]
[null,null,null,null,null,null,null,null,null,null,null,null,null,null,null,null,null,null,null,null,null,null,null,null,null,null,null,null,null,null,null,null,null,null,null,null,null,null,null,null,null,null,null,null,null,null,null,null,null,null,null,null,null,null,null,null,null,null,null,null,null,null,null,null,null,null,null,null,null,null,null,null,null,null,null,null,null,null,null,null,null,null,null,null,null,null,null,null,null,null,null,null,null,null,null,null,null,null,null,null,null,null,null,null,null,null,null,null,null,null,null,null,null,null,null,null,null,null,null,null,null,null,null,null,null,null,null,null,null,null,null,null,null,null,null,null,null,"5 pts VACHETTE V5700 SGN2 A2P** - axe à 50"]
[null,null,null,null,null,null,null,null,null,null,null,null,null,null,null,null,null,null,null,null,null,null,null,null,null,null,null,null,null,null,null,null,null,null,null,null,null,null,null,null,null,null,null,null,null,null,null,null,null,null,null,null,null,null,null,null,null,null,null,null,null,null,null,null,null,null,null,null,null,null,null,null,null,null,null,null,null,null,null,null,null,null,null,null,null,null,null,null,null,null,null,null,null,null,null,null,null,null,null,null,null,null,null,null,null,null,null,null,null,null,null,null,null,null,null,null,null,null,null,null,null,null,null,null,null,null,null,null,null,null,null,null,null,null,null,null,null,"5 pts VACHETTE V5700 SGN2 A2P** avec entrebailleur - axe à 50"]
[null,null,null,null,null,null,null,null,null,null,null,null,null,null,null,null,null,null,null,null,null,null,null,null,null,null,null,null,null,null,null,null,null,null,null,null,null,null,null,null,null,null,null,null,null,null,null,null,null,null,null,null,null,null,null,null,null,null,null,null,null,null,null,null,null,null,null,null,null,null,null,null,null,null,null,null,null,null,null,null,null,null,null,null,null,null,null,null,null,null,null,null,null,null,null,null,null,null,null,null,null,null,null,null,null,null,null,null,null,null,null,null,null,null,null,null,null,null,null,null,null,null,null,null,null,null,null,null,null,null,null,null,null,null,null,null,null,"5 pts VACHETTE V5700 SPN1 A2P* - axe à 50"]
[null,null,null,null,null,null,null,null,null,null,null,null,null,null,null,null,null,null,null,null,null,null,null,null,null,null,null,null,null,null,null,null,null,null,null,null,null,null,null,null,null,null,null,null,null,null,null,null,null,null,null,null,null,null,null,null,null,null,null,null,null,null,null,null,null,null,null,null,null,null,null,null,null,null,null,null,null,null,null,null,null,null,null,null,null,null,null,null,null,null,null,null,null,null,null,null,null,null,null,null,null,null,null,null,null,null,null,null,null,null,null,null,null,null,null,null,null,null,null,null,null,null,null,null,null,null,null,null,null,null,null,null,null,null,null,null,null,"5 pts VACHETTE V5700 SPN1 A2P* avec entrebailleur - axe à 50"]
[null,null,null,null,null,null,null,null,null,null,null,null,null,null,null,null,null,null,null,null,null,null,null,null,null,null,null,null,null,null,null,null,null,null,null,null,null,null,null,null,null,null,null,null,null,null,null,null,null,null,null,null,null,null,null,null,null,null,null,null,null,null,null,null,null,null,null,null,null,null,null,null,null,null,null,null,null,null,null,null,null,null,null,null,null,null,null,null,null,null,null,null,null,null,null,null,null,null,null,null,null,null,null,null,null,null,null,null,null,null,null,null,null,null,null,null,null,null,null,null,null,null,null,null,null,null,null,null,null,null,null,null,null,null,null,null,null,"5 pts VACHETTE V5700 standard - axe à 50"]
[null,null,null,null,null,null,null,null,null,null,null,null,null,null,null,null,null,null,null,null,null,null,null,null,null,null,null,null,null,null,null,null,null,null,null,null,null,null,null,null,null,null,null,null,null,null,null,null,null,null,null,null,null,null,null,null,null,null,null,null,null,null,null,null,null,null,null,null,null,null,null,null,null,null,null,null,null,null,null,null,null,null,null,null,null,null,null,null,null,null,null,null,null,null,null,null,null,null,null,null,null,null,null,null,null,null,null,null,null,null,null,null,null,null,null,null,null,null,null,null,null,null,null,null,null,null,null,null,null,null,null,null,null,null,null,null,null,"5 pts VACHETTE V5700 standard avec entrebailleur - axe à 50"]
[null,null,null,null,null,null,null,null,null,null,null,null,null,null,null,null,null,null,null,null,null,null,null,null,null,null,null,null,null,null,null,null,null,null,null,null,null,null,null,null,null,null,null,null,null,null,null,null,null,null,null,null,null,null,null,null,null,null,null,null,null,null,null,null,null,null,null,null,null,null,null,null,null,null,null,null,null,null,null,null,null,null,null,null,null,null,null,null,null,null,null,null,null,null,null,null,null,null,null,null,null,null,null,null,null,null,null,null,null,null,null,null,null,null,null,null,null,null,null,null,null,null,null,null,null,null,null,null,null,null,null,null,null,null,null,null,null,"5 pts VACHETTE V5900 A2P*XL SGN1 avec entrebailleur intégré - axe à 120"]
[null,null,null,null,null,null,null,null,null,null,null,null,null,null,null,null,null,null,null,null,null,null,null,null,null,null,null,null,null,null,null,null,null,null,null,null,null,null,null,null,null,null,null,null,null,null,null,null,null,null,null,null,null,null,null,null,null,null,null,null,null,null,null,null,null,null,null,null,null,null,null,null,null,null,null,null,null,null,null,null,null,null,null,null,null,null,null,null,null,null,null,null,null,null,null,null,null,null,null,null,null,null,null,null,null,null,null,null,null,null,null,null,null,null,null,null,null,null,null,null,null,null,null,null,null,null,null,null,null,null,null,null,null,null,null,null,null,"5 pts VACHETTE V5900 SGN2 A2P** - axe à 50"]
[null,null,null,null,null,null,null,null,null,null,null,null,null,null,null,null,null,null,null,null,null,null,null,null,null,null,null,null,null,null,null,null,null,null,null,null,null,null,null,null,null,null,null,null,null,null,null,null,null,null,null,null,null,null,null,null,null,null,null,null,null,null,null,null,null,null,null,null,null,null,null,null,null,null,null,null,null,null,null,null,null,null,null,null,null,null,null,null,null,null,null,null,null,null,null,null,null,null,null,null,null,null,null,null,null,null,null,null,null,null,null,null,null,null,null,null,null,null,null,null,null,null,null,null,null,null,null,null,null,null,null,null,null,null,null,null,null,"5 pts VACHETTE V5900 SGN2 A2P** avec entrebailleur - axe à 50"]
[null,null,null,null,null,null,null,null,null,null,null,null,null,null,null,null,null,null,null,null,null,null,null,null,null,null,null,null,null,null,null,null,null,null,null,null,null,null,null,null,null,null,null,null,null,null,null,null,null,null,null,null,null,null,null,null,null,null,null,null,null,null,null,null,null,null,null,null,null,null,null,null,null,null,null,null,null,null,null,null,null,null,null,null,null,null,null,null,null,null,null,null,null,null,null,null,null,null,null,null,null,null,null,null,null,null,null,null,null,null,null,null,null,null,null,null,null,null,null,null,null,null,null,null,null,null,null,null,null,null,null,null,null,null,null,null,null,"5 pts VACHETTE V5900 SPN1 A2P* - axe à 50"]
[null,null,null,null,null,null,null,null,null,null,null,null,null,null,null,null,null,null,null,null,null,null,null,null,null,null,null,null,null,null,null,null,null,null,null,null,null,null,null,null,null,null,null,null,null,null,null,null,null,null,null,null,null,null,null,null,null,null,null,null,null,null,null,null,null,null,null,null,null,null,null,null,null,null,null,null,null,null,null,null,null,null,null,null,null,null,null,null,null,null,null,null,null,null,null,null,null,null,null,null,null,null,null,null,null,null,null,null,null,null,null,null,null,null,null,null,null,null,null,null,null,null,null,null,null,null,null,null,null,null,null,null,null,null,null,null,null,"5 pts VACHETTE V5900 SPN1 A2P* avec entrebailleur - axe à 50"]
[null,null,null,null,null,null,null,null,null,null,null,null,null,null,null,null,null,null,null,null,null,null,null,null,null,null,null,null,null,null,null,null,null,null,null,null,null,null,null,null,null,null,null,null,null,null,null,null,null,null,null,null,null,null,null,null,null,null,null,null,null,null,null,null,null,null,null,null,null,null,null,null,null,null,null,null,null,null,null,null,null,null,null,null,null,null,null,null,null,null,null,null,null,null,null,null,null,null,null,null,null,null,null,null,null,null,null,null,null,null,null,null,null,null,null,null,null,null,null,null,null,null,null,null,null,null,null,null,null,null,null,null,null,null,null,null,null,"5 pts VACHETTE V5900 standard - axe à 50"]
[null,null,null,null,null,null,null,null,null,null,null,null,null,null,null,null,null,null,null,null,null,null,null,null,null,null,null,null,null,null,null,null,null,null,null,null,null,null,null,null,null,null,null,null,null,null,null,null,null,null,null,null,null,null,null,null,null,null,null,null,null,null,null,null,null,null,null,null,null,null,null,null,null,null,null,null,null,null,null,null,null,null,null,null,null,null,null,null,null,null,null,null,null,null,null,null,null,null,null,null,null,null,null,null,null,null,null,null,null,null,null,null,null,null,null,null,null,null,null,null,null,null,null,null,null,null,null,null,null,null,null,null,null,null,null,null,null,"5 pts VACHETTE V5900 standard avec entrebailleur - axe à 50"]
[null,null,null,null,null,null,null,null,null,null,null,null,null,null,null,null,null,null,null,null,null,null,null,null,null,null,null,null,null,null,null,null,null,null,null,null,null,null,null,null,null,null,null,null,null,null,null,null,null,null,null,null,null,null,null,null,null,null,null,null,null,null,null,null,null,null,null,null,null,null,null,null,null,null,null,null,null,null,null,null,null,null,null,null,null,null,null,null,null,null,null,null,null,null,null,null,null,null,null,null,null,null,null,null,null,null,null,null,null,null,null,null,null,null,null,null,null,null,null,null,null,null,null,null,null,null,null,null,null,null,null,null,null,null,null,null,null,"6 pts VACHETTE V20500 SGN1 A2P* - axe à 50"]
[null,null,null,null,null,null,null,null,null,null,null,null,null,null,null,null,null,null,null,null,null,null,null,null,null,null,null,null,null,null,null,null,null,null,null,null,null,null,null,null,null,null,null,null,null,null,null,null,null,null,null,null,null,null,null,null,null,null,null,null,null,null,null,null,null,null,null,null,null,null,null,null,null,null,null,null,null,null,null,null,null,null,null,null,null,null,null,null,null,null,null,null,null,null,null,null,null,null,null,null,null,null,null,null,null,null,null,null,null,null,null,null,null,null,null,null,null,null,null,null,null,null,null,null,null,null,null,null,null,null,null,null,null,null,null,null,null,"Barre anti-panique grise 1 pt (longueur 1200 mm)"]
[null,null,null,null,null,null,null,null,null,null,null,null,null,null,null,null,null,null,null,null,null,null,null,null,null,null,null,null,null,null,null,null,null,null,null,null,null,null,null,null,null,null,null,null,null,null,null,null,null,null,null,null,null,null,null,null,null,null,null,null,null,null,null,null,null,null,null,null,null,null,null,null,null,null,null,null,null,null,null,null,null,null,null,null,null,null,null,null,null,null,null,null,null,null,null,null,null,null,null,null,null,null,null,null,null,null,null,null,null,null,null,null,null,null,null,null,null,null,null,null,null,null,null,null,null,null,null,null,null,null,null,null,null,null,null,null,null,"Barre anti-panique grise 1 pt (longueur 900 mm)"]
[null,null,null,null,null,null,null,null,null,null,null,null,null,null,null,null,null,null,null,null,null,null,null,null,null,null,null,null,null,null,null,null,null,null,null,null,null,null,null,null,null,null,null,null,null,null,null,null,null,null,null,null,null,null,null,null,null,null,null,null,null,null,null,null,null,null,null,null,null,null,null,null,null,null,null,null,null,null,null,null,null,null,null,null,null,null,null,null,null,null,null,null,null,null,null,null,null,null,null,null,null,null,null,null,null,null,null,null,null,null,null,null,null,null,null,null,null,null,null,null,null,null,null,null,null,null,null,null,null,null,null,null,null,null,null,null,null,"Barre anti-panique grise 3 pts latéraux (longueur 1200 mm)"]
[null,null,null,null,null,null,null,null,null,null,null,null,null,null,null,null,null,null,null,null,null,null,null,null,null,null,null,null,null,null,null,null,null,null,null,null,null,null,null,null,null,null,null,null,null,null,null,null,null,null,null,null,null,null,null,null,null,null,null,null,null,null,null,null,null,null,null,null,null,null,null,null,null,null,null,null,null,null,null,null,null,null,null,null,null,null,null,null,null,null,null,null,null,null,null,null,null,null,null,null,null,null,null,null,null,null,null,null,null,null,null,null,null,null,null,null,null,null,null,null,null,null,null,null,null,null,null,null,null,null,null,null,null,null,null,null,null,"Barre anti-panique grise 3 pts latéraux (longueur 900 mm)"]
[null,null,null,null,null,null,null,null,null,null,null,null,null,null,null,null,null,null,null,null,null,null,null,null,null,null,null,null,null,null,null,null,null,null,null,null,null,null,null,null,null,null,null,null,null,null,null,null,null,null,null,null,null,null,null,null,null,null,null,null,null,null,null,null,null,null,null,null,null,null,null,null,null,null,null,null,null,null,null,null,null,null,null,null,null,null,null,null,null,null,null,null,null,null,null,null,null,null,null,null,null,null,null,null,null,null,null,null,null,null,null,null,null,null,null,null,null,null,null,null,null,null,null,null,null,null,null,null,null,null,null,null,null,null,null,null,null,"Moraillon à plat à visser"]
[null,null,null,null,null,null,null,null,null,null,null,null,null,null,null,null,null,null,null,null,null,null,null,null,null,null,null,null,null,null,null,null,null,null,null,null,null,null,null,null,null,null,null,null,null,null,null,null,null,null,null,null,null,null,null,null,null,null,null,null,null,null,null,null,null,null,null,null,null,null,null,null,null,null,null,null,null,null,null,null,null,null,null,null,null,null,null,null,null,null,null,null,null,null,null,null,null,null,null,null,null,null,null,null,null,null,null,null,null,null,null,null,null,null,null,null,null,null,null,null,null,null,null,null,null,null,null,null,null,null,null,null,null,null,null,null,null,"non référencée"]
[null,null,null,null,null,null,null,null,null,null,null,null,null,null,null,null,null,null,null,null,null,null,null,null,null,null,null,null,null,null,null,null,null,null,null,null,null,null,null,null,null,null,null,null,null,null,null,null,null,null,null,null,null,null,null,null,null,null,null,null,null,null,null,null,null,null,null,null,null,null,null,null,null,null,null,null,null,null,null,null,null,null,null,null,null,null,null,null,null,null,null,null,null,null,null,null,null,null,null,null,null,null,null,null,null,null,null,null,null,null,null,null,null,null,null,null,null,null,null,null,null,null,null,null,null,null,null,null,null,null,null,null,null,null,null,null,null,"Onity HT 22/24 Coffre EURO - axe à 70"]
[null,null,null,null,null,null,null,null,null,null,null,null,null,null,null,null,null,null,null,null,null,null,null,null,null,null,null,null,null,null,null,null,null,null,null,null,null,null,null,null,null,null,null,null,null,null,null,null,null,null,null,null,null,null,null,null,null,null,null,null,null,null,null,null,null,null,null,null,null,null,null,null,null,null,null,null,null,null,null,null,null,null,null,null,null,null,null,null,null,null,null,null,null,null,null,null,null,null,null,null,null,null,null,null,null,null,null,null,null,null,null,null,null,null,null,null,null,null,null,null,null,null,null,null,null,null,null,null,null,null,null,null,null,null,null,null,null,"Verrou de sureté à molette – 3 clés"]
[null,null,null,null,null,null,null,null,null,null,null,null,null,null,null,null,null,null,null,null,null,null,null,null,null,null,null,null,null,null,null,null,null,null,null,null,null,null,null,null,null,null,null,null,null,null,null,null,null,null,null,null,null,null,null,null,null,null,null,null,null,null,null,null,null,null,null,null,null,null,null,null,null,null,null,null,null,null,null,null,null,null,null,null,null,null,null,null,null,null,null,null,null,null,null,null,null,null,null,null,null,null,null,null,null,null,null,null,null,null,null,null,null,null,null,null,null,null,null,null,null,null,null,null,null,null,null,null,null,null,null,null,null,null,null,null,null,"Vingcard Classic - axe à 80"]
[null,null,null,null,null,null,null,null,null,null,null,null,null,null,null,null,null,null,null,null,null,null,null,null,null,null,null,null,null,null,null,null,null,null,null,null,null,null,null,null,null,null,null,null,null,null,null,null,null,null,null,null,null,null,null,null,null,null,null,null,null,null,null,null,null,null,null,null,null,null,null,null,null,null,null,null,null,null,null,null,null,null,null,null,null,null,null,null,null,null,null,null,null,null,null,null,null,null,null,null,null,null,null,null,null,null,null,null,null,null,null,null,null,null,null,null,null,null,null,null,null,null,null,null,null,null,null,null,null,null,null,null,null,null,null,null,null,"Vingcard Signature - axe à 80"]

{"sheet":"VUES_H","index":3,"n_rows":4,"n_cols":1,"rows_kept":4,"cut":false,"hidden":true,"merged":[]}
["VIDE"]
["Huisserie Banchée"]
["Bâti Scellé"]
["Huisserie Bois"]

{"sheet":"VUES_V","index":4,"n_rows":4,"n_cols":1,"rows_kept":4,"cut":false,"hidden":true,"merged":[]}
["VIDE"]
["Huisserie Banchée"]
["Bâti Scellé"]
["Huisserie Bois"]

{"sheet":"Vues_Pose","index":5,"n_rows":4,"n_cols":1,"rows_kept":4,"cut":false,"hidden":true,"merged":[]}
["VIDE"]
["Huisserie Banchée"]
["Bâti Scellé"]
["Huisserie Bois"]

{"sheet":"InfoPac","index":6,"n_rows":110,"n_cols":52,"rows_kept":110,"cut":false,"hidden":true,"merged":[[8,2,8,9],[0,0,0,5],[1,2,1,3],[1,4,1,5],[2,2,2,3],[2,4,2,5],[8,37,9,37],[8,10,8,12],[8,13,9,13],[8,14,8,16],[8,17,8,19],[8,20,8,21],[8,22,9,22],[8,23,9,23],[8,24,9,24],[8,25,8,32],[8,33,8,35],[8,36,9,36],[8,47,9,47],[6,50,7,50],[6,51,7,51],[8,38,9,38],[8,43,9,43],[8,41,9,41],[8,42,9,42],[8,48,9,48],[8,40,9,40],[8,44,9,44],[8,45,9,45],[8,39,9,39],[8,46,9,46]]}
["Références Client",null,null,null,null,null,null,null,null,null,null,null,null,null,null,null,null,null,null,null,null,null,null,null,{"$f":"VLOOKUP(RELEVE_COTES!I20,TabExistant[],4,FALSE)","v":{"$error":"#N/A"}}]
["Nom client","N° DEVIS","référence chantier ",null,"Adresse livraison:"]
[{"$f":"RELEVE_COTES!$B$6","v":0},{"$f":"RELEVE_COTES!$B$7","v":0},{"$f":"RELEVE_COTES!$J$5","v":0},null,{"$f":"RELEVE_COTES!$K$6","v":0}]
[]
[]
[null,null,null,null,null,null,null,null,null,null,null,null,null,null,null,null,null,null,null,null,null,null,null,null,null,null,null,null,null,null,null,null,null,null,null,null,null,null,null,null,null,{"$f":"IF(RELEVE_COTES!$N$15<>\"SANS\",RELEVE_COTES!$O$15,\"\")","v":""}]
[null,null,null,null,null,null,null,null,null,null,null,null,null,null,null,null,null,null,null,null,null,null,null,null,null,null,null,null,null,null,null,null,null,null,null,null,null,null,null,null,null,null,null,null,null,null,null,null,null,null,"Hauteur Fouillot","Hauteur Vantail Mini"]
[]
[null,null,"existant",null,null,null,null,null,null,null,"ecoinçon",null,null,"pose","chant plat",null,null,"gorge",null,null,"retour",null,"listel ","retour\ncochonet","Type \nd huisserie\n(bois ou metal )","Configuration nouveau bloc porte",null,null,null,null,null,null,null,"huisserie",null,null,"tierce\nfixe\nou\nsemi fixe","tierce\nEGAUX / INEGAUX","type\nd habillage\npour \nimposte","Finition\n vantail","microviseur","ensemble","cylindre ","SERRURE","FINITION","sens\n d ouverture","fixation \nnouvelle\nhuisserie","PALETTISATION","OBSERVATIONS",null,{"$f":"VLOOKUP(RELEVE_COTES!$K$11,TabSerrureRef[],3,FALSE)","v":{"$error":"#N/A"}},{"$f":"VLOOKUP(RELEVE_COTES!$K$11,TabSerrureRef[],6,FALSE)","v":{"$error":"#N/A"}}]
["hauteur\nFDF","largeur\nFDF","repère","Main","Nombre","Largeur passage","Hauteur \npassage","feuillure \nexistante","battue \nfeuillure","parement","ebrasement\nferrage","ebrasement\ngâche","Retombée de linteau",null,"distance \nfeuillure/\nchant plat","largeur\nchant plat","epaisseur\nchant plat","distance \nfeuillure/\ngorge","largeur\ngorge","profondeur\ngorge","distance \nfeuillure/\nretour","profondeur retour",null,null,null,"type de porte","type de seuil","hauteur de seuil","antidegond/PAUMELLE","entrebailleur","type de serrure","strat vantaux \n(Face Paumelle/ Opposé Paumelle)","ral huisserie","pose","tierce","imposte",null,null,null,null,null,null,null,null,null,null,null,null,null,null,{"$f":"VLOOKUP(RELEVE_COTES!$K$11,TabSerrureRef[],3,FALSE)","v":{"$error":"#N/A"}},{"$f":"VLOOKUP(RELEVE_COTES!$K$11,TabSerrureRef[],6,FALSE)","v":{"$error":"#N/A"}}]
[{"$f":"G11+I11","v":{"$error":"#VALUE!"}},{"$f":"F11+I11+I11","v":{"$error":"#VALUE!"}},{"$f":"IF(RELEVE_COTES!$A59<>\"\",SUBSTITUTE(SUBSTITUTE(SUBSTITUTE(SUBSTITUTE(SUBSTITUTE(SUBSTITUTE(SUBSTITUTE(SUBSTITUTE(RELEVE_COTES!$A59,\" \",\"\"),\"-\",\"/\"),\".\",\"/\"),\"\\\",\"/\"),\",\",\"/\"),\"+\",\"_\"),\"&\",\"_\"),\"*\",\"/\"),\"\")","v":""},{"$f":"IF(RELEVE_COTES!$B59<>\"\",SUBSTITUTE(SUBSTITUTE(SUBSTITUTE(SUBSTITUTE(SUBSTITUTE(SUBSTITUTE(SUBSTITUTE(SUBSTITUTE(RELEVE_COTES!$B59,\" \",\"\"),\"-\",\"\"),\".\",\"\"),\"\\\",\"\"),\",\",\"\"),\"+\",\"\"),\"&\",\"\"),\"*\",\"\"),\"\")","v":""},1,{"$f":"IF(RELEVE_COTES!C59<>\"\",SUBSTITUTE(SUBSTITUTE(SUBSTITUTE(SUBSTITUTE(SUBSTITUTE(SUBSTITUTE(SUBSTITUTE(SUBSTITUTE(RELEVE_COTES!C59,\" \",\"\"),\"-\",\"\"),\".\",\",\"),\"\\\",\"\"),\",\",\",\"),\"+\",\"\"),\"&\",\"\"),\"*\",\"\"),\"\")","v":""},{"$f":"IF(RELEVE_COTES!D59<>\"\",SUBSTITUTE(SUBSTITUTE(SUBSTITUTE(SUBSTITUTE(SUBSTITUTE(SUBSTITUTE(SUBSTITUTE(SUBSTITUTE(RELEVE_COTES!D59,\" \",\"\"),\"-\",\"\"),\".\",\",\"),\"\\\",\"\"),\",\",\",\"),\"+\",\"\"),\"&\",\"\"),\"*\",\"\"),\"\")","v":""},{"$f":"IF(RELEVE_COTES!E59<>\"\",SUBSTITUTE(SUBSTITUTE(SUBSTITUTE(SUBSTITUTE(SUBSTITUTE(SUBSTITUTE(SUBSTITUTE(SUBSTITUTE(RELEVE_COTES!E59,\" \",\"\"),\"-\",\"\"),\".\",\",\"),\"\\\",\"\"),\",\",\",\"),\"+\",\"\"),\"&\",\"\"),\"*\",\"\"),\"\")","v":""},{"$f":"IF(RELEVE_COTES!F59<>\"\",SUBSTITUTE(SUBSTITUTE(SUBSTITUTE(SUBSTITUTE(SUBSTITUTE(SUBSTITUTE(SUBSTITUTE(SUBSTITUTE(RELEVE_COTES!F59,\" \",\"\"),\"-\",\"\"),\".\",\",\"),\"\\\",\"\"),\",\",\",\"),\"+\",\"\"),\"&\",\"\"),\"*\",\"\"),\"\")","v":""},{"$f":"IF(RELEVE_COTES!G59<>\"\",SUBSTITUTE(SUBSTITUTE(SUBSTITUTE(SUBSTITUTE(SUBSTITUTE(SUBSTITUTE(SUBSTITUTE(SUBSTITUTE(RELEVE_COTES!G59,\" \",\"\"),\"-\",\"\"),\".\",\",\"),\"\\\",\"\"),\",\",\",\"),\"+\",\"\"),\"&\",\"\"),\"*\",\"\"),\"\")","v":""},{"$f":"IF($D11=\"GP\",IF(RELEVE_COTES!$I59=\"\",0,IF(RELEVE_COTES!$I59=\"\",\"\",RELEVE_COTES!$I59)),IF(RELEVE_COTES!$H59=\"\",0,IF(RELEVE_COTES!$H59=\"\",\"\",RELEVE_COTES!$H59)))","v":0},{"$f":"IF($D11=\"GP\",IF(RELEVE_COTES!$H59=\"\",0,IF(RELEVE_COTES!$H59=\"\",\"\",RELEVE_COTES!$H59)),IF(RELEVE_COTES!$I59=\"\",0,IF(RELEVE_COTES!$I59=\"\",\"\",RELEVE_COTES!$I59)))","v":0},{"$f":"IF(RELEVE_COTES!$J59=\"\",0,IF(RELEVE_COTES!$J59=\"\",\"\",RELEVE_COTES!$J59))","v":0},{"$f":"VLOOKUP(RELEVE_COTES!$K59,TabExistantRef1[],2,FALSE)","v":{"$error":"#N/A"}},{"$f":"IF($Y$1=\"BOIS\",RELEVE_COTES!$O59,0)","v":{"$error":"#N/A"}},{"$f":"IF($Y$1=\"BOIS\",RELEVE_COTES!$P59,0)","v":{"$error":"#N/A"}},{"$f":"IF($Y$1=\"BOIS\",RELEVE_COTES!$Q59,0)","v":{"$error":"#N/A"}},{"$f":"IF($Y$1=\"BANCHE\",$J11,0)","v":{"$error":"#N/A"}},{"$f":"IF($Y$1=\"BANCHE\",RELEVE_COTES!$L59,0)","v":{"$error":"#N/A"}},{"$f":"IF($Y$1=\"BANCHE\",10,0)","v":{"$error":"#N/A"}},{"$f":"IF($Y$1<>\"BANCHE\",$J11,0)","v":{"$error":"#N/A"}},{"$f":"IF($Y$1<>\"BANCHE\",RELEVE_COTES!$L59,0)","v":{"$error":"#N/A"}},{"$f":"IF(AND($Y$1<>\"BANCHE\",RELEVE_COTES!$M59<>\"\"),RELEVE_COTES!$M59,20)","v":{"$error":"#N/A"}},{"$f":"IF($Y$1<>\"BANCHE\",IF(RELEVE_COTES!$N59<>\"\",RELEVE_COTES!$N59,10),0)","v":{"$error":"#N/A"}},{"$f":"IF(RELEVE_COTES!$I$20=\"Huisserie Banchée\",\"Banche\",IF(RELEVE_COTES!$I$20=\"Huisserie Bois\",\"Bois\",IF(RELEVE_COTES!$I$20=\"Bâti Scellé\",\"Bâti Métal.\")))","v":false},{"$f":"RELEVE_COTES!$C$11","v":0},{"$f":"RELEVE_COTES!$K$12","v":0},{"$f":"VLOOKUP(AA11,TabSeuilRef[],2,FALSE)","v":{"$error":"#N/A"}},{"$f":"\"Paumelles \"&RELEVE_COTES!$E$15","v":"Paumelles "},{"$f":"IF(RELEVE_COTES!$K$16<>\"Déporté\",RELEVE_COTES!$K$16,RELEVE_COTES!$K$16&\" / \"&VLOOKUP(RELEVE_COTES!$L$16,TabOptUsSerr[],2,FALSE))","v":"SANS"},{"$f":"RELEVE_COTES!$K$11","v":0},{"$f":"VLOOKUP(RELEVE_COTES!$G$12,TabNuancierVTL[],2,FALSE)&\"/\"&VLOOKUP(RELEVE_COTES!$G$13,TabNuancierVTL[],2,FALSE)","v":{"$error":"#N/A"}},{"$f":"IF(RELEVE_COTES!$E$14=\"Pr.Peint\",\"PP\",VLOOKUP(RELEVE_COTES!$G$14,TabNuancHM[],2,FALSE))","v":"PP"},{"$f":"N11","v":{"$error":"#N/A"}},{"$f":"IF(RELEVE_COTES!$C$11 =\"R32S-R02\",\"OUI\",\"NON\")","v":"NON"},"NON",{"$f":"IF(AI11=\"OUI\",\"SEMI FIXE\",\"\")","v":""},{"$f":"IF(AI11=\"OUI\",RELEVE_COTES!$N$16,\"\")","v":""},null,{"$f":"RELEVE_COTES!$E$12&\"/\"&RELEVE_COTES!$E$13","v":" SANS/ SANS"},{"$f":"IF(RELEVE_COTES!$K$15<>\"SANS\",RELEVE_COTES!$L$15&\" \"&RELEVE_COTES!$K$15,\"\")&IF(RELEVE_COTES!$N$15<>\"SANS\",\" / PMR: \"&RELEVE_COTES!$O$15&\" \"&RELEVE_COTES!$N$15,\"\")","v":""},{"$f":"IF(RELEVE_COTES!$K$14 <> \"SANS\",RELEVE_COTES!$O$14&\" \"&RELEVE_COTES!$K$14,\"\")","v":"U+F "},{"$f":"IF(RELEVE_COTES!$K$13 <> \"SANS\",RELEVE_COTES!$O$13&\" \"&RELEVE_COTES!$K$13,\"SANS\")","v":"U+F "},{"$f":"VLOOKUP(RELEVE_COTES!$O$11,TabOptUsSerr[],2,FALSE)","v":"Usinage, fourniture et pose"},{"$f":"INDEX(TabFinition[FINITION],MATCH(VLOOKUP(RELEVE_COTES!$G$12,TabNuancierVTL[],3,FALSE)&VLOOKUP(RELEVE_COTES!$G$13,TabNuancierVTL[],3,FALSE),TabFinition[TYPE EXT]&TabFinition[TYPE INT],0))","v":{"$error":"#N/A"}},"INT",{"$f":"RELEVE_COTES!$E$16","v":"platines + vérins"},"NON",{"$f":"IF(RELEVE_COTES!$I$20 = \"Huisserie Bois\",RELEVE_COTES!$R59,IF(RELEVE_COTES!$I$20 = \"Huisserie Banchée\",RELEVE_COTES!$M59,IF(RELEVE_COTES!$I$20 = \"Bâti Scellé\",RELEVE_COTES!$O59,\"\")))","v":""},null,{"$f":"VLOOKUP(RELEVE_COTES!$K$11,TabSerrureRef[],3,FALSE)","v":{"$error":"#N/A"}},{"$f":"VLOOKUP(RELEVE_COTES!$K$11,TabSerrureRef[],6,FALSE)","v":{"$error":"#N/A"}}]
[{"$f":"G12+I12","v":{"$error":"#VALUE!"}},{"$f":"F12+I12+I12","v":{"$error":"#VALUE!"}},{"$f":"IF(RELEVE_COTES!$A60<>\"\",SUBSTITUTE(SUBSTITUTE(SUBSTITUTE(SUBSTITUTE(SUBSTITUTE(SUBSTITUTE(SUBSTITUTE(SUBSTITUTE(RELEVE_COTES!$A60,\" \",\"\"),\"-\",\"/\"),\".\",\"/\"),\"\\\",\"/\"),\",\",\"/\"),\"+\",\"_\"),\"&\",\"_\"),\"*\",\"/\"),\"\")","v":""},{"$f":"RELEVE_COTES!$B60","v":0},1,{"$f":"IF(RELEVE_COTES!C60<>\"\",SUBSTITUTE(SUBSTITUTE(SUBSTITUTE(SUBSTITUTE(SUBSTITUTE(SUBSTITUTE(SUBSTITUTE(SUBSTITUTE(RELEVE_COTES!C60,\" \",\"\"),\"-\",\"\"),\".\",\",\"),\"\\\",\"\"),\",\",\",\"),\"+\",\"\"),\"&\",\"\"),\"*\",\"\"),\"\")","v":""},{"$f":"IF(RELEVE_COTES!D60<>\"\",SUBSTITUTE(SUBSTITUTE(SUBSTITUTE(SUBSTITUTE(SUBSTITUTE(SUBSTITUTE(SUBSTITUTE(SUBSTITUTE(RELEVE_COTES!D60,\" \",\"\"),\"-\",\"\"),\".\",\",\"),\"\\\",\"\"),\",\",\",\"),\"+\",\"\"),\"&\",\"\"),\"*\",\"\"),\"\")","v":""},{"$f":"IF(RELEVE_COTES!E60<>\"\",SUBSTITUTE(SUBSTITUTE(SUBSTITUTE(SUBSTITUTE(SUBSTITUTE(SUBSTITUTE(SUBSTITUTE(SUBSTITUTE(RELEVE_COTES!E60,\" \",\"\"),\"-\",\"\"),\".\",\",\"),\"\\\",\"\"),\",\",\",\"),\"+\",\"\"),\"&\",\"\"),\"*\",\"\"),\"\")","v":""},{"$f":"IF(RELEVE_COTES!F60<>\"\",SUBSTITUTE(SUBSTITUTE(SUBSTITUTE(SUBSTITUTE(SUBSTITUTE(SUBSTITUTE(SUBSTITUTE(SUBSTITUTE(RELEVE_COTES!F60,\" \",\"\"),\"-\",\"\"),\".\",\",\"),\"\\\",\"\"),\",\",\",\"),\"+\",\"\"),\"&\",\"\"),\"*\",\"\"),\"\")","v":""},{"$f":"IF(RELEVE_COTES!G60<>\"\",SUBSTITUTE(SUBSTITUTE(SUBSTITUTE(SUBSTITUTE(SUBSTITUTE(SUBSTITUTE(SUBSTITUTE(SUBSTITUTE(RELEVE_COTES!G60,\" \",\"\"),\"-\",\"\"),\".\",\",\"),\"\\\",\"\"),\",\",\",\"),\"+\",\"\"),\"&\",\"\"),\"*\",\"\"),\"\")","v":""},{"$f":"IF($D12=\"GP\",IF(RELEVE_COTES!$I60=\"\",0,IF(RELEVE_COTES!$I60=\"\",\"\",RELEVE_COTES!$I60)),IF(RELEVE_COTES!$H60=\"\",0,IF(RELEVE_COTES!$H60=\"\",\"\",RELEVE_COTES!$H60)))","v":0},{"$f":"IF($D12=\"GP\",IF(RELEVE_COTES!$H60=\"\",0,IF(RELEVE_COTES!$H60=\"\",\"\",RELEVE_COTES!$H60)),IF(RELEVE_COTES!$I60=\"\",0,IF(RELEVE_COTES!$I60=\"\",\"\",RELEVE_COTES!$I60)))","v":0},{"$f":"IF(RELEVE_COTES!$J60=\"\",0,IF(RELEVE_COTES!$J60=\"\",\"\",RELEVE_COTES!$J60))","v":0},{"$f":"VLOOKUP(RELEVE_COTES!$K60,TabExistantRef1[],2,FALSE)","v":{"$error":"#N/A"}},{"$f":"IF($Y$1=\"BOIS\",RELEVE_COTES!$O60,0)","v":{"$error":"#N/A"}},{"$f":"IF($Y$1=\"BOIS\",RELEVE_COTES!$P60,0)","v":{"$error":"#N/A"}},{"$f":"IF($Y$1=\"BOIS\",RELEVE_COTES!$Q60,0)","v":{"$error":"#N/A"}},{"$f":"IF($Y$1=\"BANCHE\",$J12,0)","v":{"$error":"#N/A"}},{"$f":"IF($Y$1=\"BANCHE\",RELEVE_COTES!$L60,0)","v":{"$error":"#N/A"}},{"$f":"IF($Y$1=\"BANCHE\",10,0)","v":{"$error":"#N/A"}},{"$f":"IF($Y$1<>\"BANCHE\",$J12,0)","v":{"$error":"#N/A"}},{"$f":"IF($Y$1<>\"BANCHE\",RELEVE_COTES!$L60,0)","v":{"$error":"#N/A"}},{"$f":"IF(AND($Y$1<>\"BANCHE\",RELEVE_COTES!$M60<>\"\"),RELEVE_COTES!$M60,20)","v":{"$error":"#N/A"}},{"$f":"IF($Y$1<>\"BANCHE\",IF(RELEVE_COTES!$N60<>\"\",RELEVE_COTES!$N60,10),0)","v":{"$error":"#N/A"}},{"$f":"IF(RELEVE_COTES!$I$20=\"Huisserie Banchée\",\"Banche\",IF(RELEVE_COTES!$I$20=\"Huisserie Bois\",\"Bois\",IF(RELEVE_COTES!$I$20=\"Bâti Scellé\",\"Bâti Métal.\")))","v":false},{"$f":"RELEVE_COTES!$C$11","v":0},{"$f":"RELEVE_COTES!$K$12","v":0},{"$f":"VLOOKUP(AA12,TabSeuilRef[],2,FALSE)","v":{"$error":"#N/A"}},{"$f":"\"Paumelles \"&RELEVE_COTES!$E$15","v":"Paumelles "},{"$f":"IF(RELEVE_COTES!$K$16<>\"Déporté\",RELEVE_COTES!$K$16,RELEVE_COTES!$K$16&\" / \"&VLOOKUP(RELEVE_COTES!$L$16,TabOptUsSerr[],2,FALSE))","v":"SANS"},{"$f":"RELEVE_COTES!$K$11","v":0},{"$f":"VLOOKUP(RELEVE_COTES!$G$12,TabNuancierVTL[],2,FALSE)&\"/\"&VLOOKUP(RELEVE_COTES!$G$13,TabNuancierVTL[],2,FALSE)","v":{"$error":"#N/A"}},{"$f":"IF(RELEVE_COTES!$E$14=\"Pr.Peint\",\"PP\",VLOOKUP(RELEVE_COTES!$G$14,TabNuancHM[],2,FALSE))","v":"PP"},{"$error":"#N/A"},{"$f":"IF(RELEVE_COTES!$C$11 =\"R32S-R02\",\"OUI\",\"NON\")","v":"NON"},"NON",{"$f":"IF(AI12=\"OUI\",\"SEMI FIXE\",\"\")","v":""},{"$f":"IF(AI12=\"OUI\",RELEVE_COTES!$N$16,\"\")","v":""},null,{"$f":"RELEVE_COTES!$E$12&\"/\"&RELEVE_COTES!$E$13","v":" SANS/ SANS"},{"$f":"IF(RELEVE_COTES!$K$15<>\"SANS\",RELEVE_COTES!$L$15&\" \"&RELEVE_COTES!$K$15,\"\")&IF(RELEVE_COTES!$N$15<>\"SANS\",\" / PMR: \"&RELEVE_COTES!$O$15&\" \"&RELEVE_COTES!$N$15,\"\")","v":""},{"$f":"IF(RELEVE_COTES!$K$14 <> \"SANS\",RELEVE_COTES!$O$14&\" \"&RELEVE_COTES!$K$14,\"\")","v":"U+F "},{"$f":"IF(RELEVE_COTES!$K$13 <> \"SANS\",RELEVE_COTES!$O$13&\" \"&RELEVE_COTES!$K$13,\"SANS\")","v":"U+F "},{"$f":"VLOOKUP(RELEVE_COTES!$O$11,TabOptUsSerr[],2,FALSE)","v":"Usinage, fourniture et pose"},{"$f":"INDEX(TabFinition[FINITION],MATCH(VLOOKUP(RELEVE_COTES!$G$12,TabNuancierVTL[],3,FALSE)&VLOOKUP(RELEVE_COTES!$G$13,TabNuancierVTL[],3,FALSE),TabFinition[TYPE EXT]&TabFinition[TYPE INT],0))","v":{"$error":"#N/A"}},"INT",{"$f":"RELEVE_COTES!$E$16","v":"platines + vérins"},"NON",{"$f":"IF(RELEVE_COTES!$I$20 = \"Huisserie Bois\",RELEVE_COTES!$R60,IF(RELEVE_COTES!$I$20 = \"Huisserie Banchée\",RELEVE_COTES!$M60,IF(RELEVE_COTES!$I$20 = \"Bâti Scellé\",RELEVE_COTES!$O60,\"\")))","v":""},null,{"$f":"VLOOKUP(RELEVE_COTES!$K$11,TabSerrureRef[],3,FALSE)","v":{"$error":"#N/A"}},{"$f":"VLOOKUP(RELEVE_COTES!$K$11,TabSerrureRef[],6,FALSE)","v":{"$error":"#N/A"}}]
[{"$error":"#VALUE!"},{"$error":"#VALUE!"},{"$f":"IF(RELEVE_COTES!$A61<>\"\",SUBSTITUTE(SUBSTITUTE(SUBSTITUTE(SUBSTITUTE(SUBSTITUTE(SUBSTITUTE(SUBSTITUTE(SUBSTITUTE(RELEVE_COTES!$A61,\" \",\"\"),\"-\",\"/\"),\".\",\"/\"),\"\\\",\"/\"),\",\",\"/\"),\"+\",\"_\"),\"&\",\"_\"),\"*\",\"/\"),\"\")","v":""},{"$f":"RELEVE_COTES!$B61","v":0},1,{"$f":"IF(RELEVE_COTES!C61<>\"\",SUBSTITUTE(SUBSTITUTE(SUBSTITUTE(SUBSTITUTE(SUBSTITUTE(SUBSTITUTE(SUBSTITUTE(SUBSTITUTE(RELEVE_COTES!C61,\" \",\"\"),\"-\",\"\"),\".\",\",\"),\"\\\",\"\"),\",\",\",\"),\"+\",\"\"),\"&\",\"\"),\"*\",\"\"),\"\")","v":""},{"$f":"IF(RELEVE_COTES!D61<>\"\",SUBSTITUTE(SUBSTITUTE(SUBSTITUTE(SUBSTITUTE(SUBSTITUTE(SUBSTITUTE(SUBSTITUTE(SUBSTITUTE(RELEVE_COTES!D61,\" \",\"\"),\"-\",\"\"),\".\",\",\"),\"\\\",\"\"),\",\",\",\"),\"+\",\"\"),\"&\",\"\"),\"*\",\"\"),\"\")","v":""},{"$f":"IF(RELEVE_COTES!E61<>\"\",SUBSTITUTE(SUBSTITUTE(SUBSTITUTE(SUBSTITUTE(SUBSTITUTE(SUBSTITUTE(SUBSTITUTE(SUBSTITUTE(RELEVE_COTES!E61,\" \",\"\"),\"-\",\"\"),\".\",\",\"),\"\\\",\"\"),\",\",\",\"),\"+\",\"\"),\"&\",\"\"),\"*\",\"\"),\"\")","v":""},{"$f":"IF(RELEVE_COTES!F61<>\"\",SUBSTITUTE(SUBSTITUTE(SUBSTITUTE(SUBSTITUTE(SUBSTITUTE(SUBSTITUTE(SUBSTITUTE(SUBSTITUTE(RELEVE_COTES!F61,\" \",\"\"),\"-\",\"\"),\".\",\",\"),\"\\\",\"\"),\",\",\",\"),\"+\",\"\"),\"&\",\"\"),\"*\",\"\"),\"\")","v":""},{"$f":"IF(RELEVE_COTES!G61<>\"\",SUBSTITUTE(SUBSTITUTE(SUBSTITUTE(SUBSTITUTE(SUBSTITUTE(SUBSTITUTE(SUBSTITUTE(SUBSTITUTE(RELEVE_COTES!G61,\" \",\"\"),\"-\",\"\"),\".\",\",\"),\"\\\",\"\"),\",\",\",\"),\"+\",\"\"),\"&\",\"\"),\"*\",\"\"),\"\")","v":""},{"$f":"IF($D13=\"GP\",IF(RELEVE_COTES!$I61=\"\",0,IF(RELEVE_COTES!$I61=\"\",\"\",RELEVE_COTES!$I61)),IF(RELEVE_COTES!$H61=\"\",0,IF(RELEVE_COTES!$H61=\"\",\"\",RELEVE_COTES!$H61)))","v":0},{"$f":"IF($D13=\"GP\",IF(RELEVE_COTES!$H61=\"\",0,IF(RELEVE_COTES!$H61=\"\",\"\",RELEVE_COTES!$H61)),IF(RELEVE_COTES!$I61=\"\",0,IF(RELEVE_COTES!$I61=\"\",\"\",RELEVE_COTES!$I61)))","v":0},{"$f":"IF(RELEVE_COTES!$J61=\"\",0,IF(RELEVE_COTES!$J61=\"\",\"\",RELEVE_COTES!$J61))","v":0},{"$f":"VLOOKUP(RELEVE_COTES!$K61,TabExistantRef1[],2,FALSE)","v":{"$error":"#N/A"}},{"$f":"IF($Y$1=\"BOIS\",RELEVE_COTES!$O61,0)","v":{"$error":"#N/A"}},{"$f":"IF($Y$1=\"BOIS\",RELEVE_COTES!$P61,0)","v":{"$error":"#N/A"}},{"$f":"IF($Y$1=\"BOIS\",RELEVE_COTES!$Q61,0)","v":{"$error":"#N/A"}},{"$error":"#N/A"},{"$f":"IF($Y$1=\"BANCHE\",RELEVE_COTES!$L61,0)","v":{"$error":"#N/A"}},{"$error":"#N/A"},{"$error":"#N/A"},{"$f":"IF($Y$1<>\"BANCHE\",RELEVE_COTES!$L61,0)","v":{"$error":"#N/A"}},{"$f":"IF(AND($Y$1<>\"BANCHE\",RELEVE_COTES!$M61<>\"\"),RELEVE_COTES!$M61,20)","v":{"$error":"#N/A"}},{"$f":"IF($Y$1<>\"BANCHE\",IF(RELEVE_COTES!$N61<>\"\",RELEVE_COTES!$N61,10),0)","v":{"$error":"#N/A"}},{"$f":"IF(RELEVE_COTES!$I$20=\"Huisserie Banchée\",\"Banche\",IF(RELEVE_COTES!$I$20=\"Huisserie Bois\",\"Bois\",IF(RELEVE_COTES!$I$20=\"Bâti Scellé\",\"Bâti Métal.\")))","v":false},{"$f":"RELEVE_COTES!$C$11","v":0},{"$f":"RELEVE_COTES!$K$12","v":0},{"$f":"VLOOKUP(AA13,TabSeuilRef[],2,FALSE)","v":{"$error":"#N/A"}},{"$f":"\"Paumelles \"&RELEVE_COTES!$E$15","v":"Paumelles "},{"$f":"IF(RELEVE_COTES!$K$16<>\"Déporté\",RELEVE_COTES!$K$16,RELEVE_COTES!$K$16&\" / \"&VLOOKUP(RELEVE_COTES!$L$16,TabOptUsSerr[],2,FALSE))","v":"SANS"},{"$f":"RELEVE_COTES!$K$11","v":0},{"$f":"VLOOKUP(RELEVE_COTES!$G$12,TabNuancierVTL[],2,FALSE)&\"/\"&VLOOKUP(RELEVE_COTES!$G$13,TabNuancierVTL[],2,FALSE)","v":{"$error":"#N/A"}},{"$f":"IF(RELEVE_COTES!$E$14=\"Pr.Peint\",\"PP\",VLOOKUP(RELEVE_COTES!$G$14,TabNuancHM[],2,FALSE))","v":"PP"},{"$error":"#N/A"},{"$f":"IF(RELEVE_COTES!$C$11 =\"R32S-R02\",\"OUI\",\"NON\")","v":"NON"},"NON",{"$f":"IF(AI13=\"OUI\",\"SEMI FIXE\",\"\")","v":""},{"$f":"IF(AI13=\"OUI\",RELEVE_COTES!$N$16,\"\")","v":""},null,{"$f":"RELEVE_COTES!$E$12&\"/\"&RELEVE_COTES!$E$13","v":" SANS/ SANS"},{"$f":"IF(RELEVE_COTES!$K$15<>\"SANS\",RELEVE_COTES!$L$15&\" \"&RELEVE_COTES!$K$15,\"\")&IF(RELEVE_COTES!$N$15<>\"SANS\",\" / PMR: \"&RELEVE_COTES!$O$15&\" \"&RELEVE_COTES!$N$15,\"\")","v":""},{"$f":"IF(RELEVE_COTES!$K$14 <> \"SANS\",RELEVE_COTES!$O$14&\" \"&RELEVE_COTES!$K$14,\"\")","v":"U+F "},{"$f":"IF(RELEVE_COTES!$K$13 <> \"SANS\",RELEVE_COTES!$O$13&\" \"&RELEVE_COTES!$K$13,\"SANS\")","v":"U+F "},{"$f":"VLOOKUP(RELEVE_COTES!$O$11,TabOptUsSerr[],2,FALSE)","v":"Usinage, fourniture et pose"},{"$f":"INDEX(TabFinition[FINITION],MATCH(VLOOKUP(RELEVE_COTES!$G$12,TabNuancierVTL[],3,FALSE)&VLOOKUP(RELEVE_COTES!$G$13,TabNuancierVTL[],3,FALSE),TabFinition[TYPE EXT]&TabFinition[TYPE INT],0))","v":{"$error":"#N/A"}},"INT",{"$f":"RELEVE_COTES!$E$16","v":"platines + vérins"},"NON",{"$f":"IF(RELEVE_COTES!$I$20 = \"Huisserie Bois\",RELEVE_COTES!$R61,IF(RELEVE_COTES!$I$20 = \"Huisserie Banchée\",RELEVE_COTES!$M61,IF(RELEVE_COTES!$I$20 = \"Bâti Scellé\",RELEVE_COTES!$O61,\"\")))","v":""},null,{"$f":"VLOOKUP(RELEVE_COTES!$K$11,TabSerrureRef[],3,FALSE)","v":{"$error":"#N/A"}},{"$f":"VLOOKUP(RELEVE_COTES!$K$11,TabSerrureRef[],6,FALSE)","v":{"$error":"#N/A"}}]
[{"$error":"#VALUE!"},{"$error":"#VALUE!"},{"$f":"IF(RELEVE_COTES!$A62<>\"\",SUBSTITUTE(SUBSTITUTE(SUBSTITUTE(SUBSTITUTE(SUBSTITUTE(SUBSTITUTE(SUBSTITUTE(SUBSTITUTE(RELEVE_COTES!$A62,\" \",\"\"),\"-\",\"/\"),\".\",\"/\"),\"\\\",\"/\"),\",\",\"/\"),\"+\",\"_\"),\"&\",\"_\"),\"*\",\"/\"),\"\")","v":""},{"$f":"RELEVE_COTES!$B62","v":0},1,{"$f":"IF(RELEVE_COTES!C62<>\"\",SUBSTITUTE(SUBSTITUTE(SUBSTITUTE(SUBSTITUTE(SUBSTITUTE(SUBSTITUTE(SUBSTITUTE(SUBSTITUTE(RELEVE_COTES!C62,\" \",\"\"),\"-\",\"\"),\".\",\",\"),\"\\\",\"\"),\",\",\",\"),\"+\",\"\"),\"&\",\"\"),\"*\",\"\"),\"\")","v":""},{"$f":"IF(RELEVE_COTES!D62<>\"\",SUBSTITUTE(SUBSTITUTE(SUBSTITUTE(SUBSTITUTE(SUBSTITUTE(SUBSTITUTE(SUBSTITUTE(SUBSTITUTE(RELEVE_COTES!D62,\" \",\"\"),\"-\",\"\"),\".\",\",\"),\"\\\",\"\"),\",\",\",\"),\"+\",\"\"),\"&\",\"\"),\"*\",\"\"),\"\")","v":""},{"$f":"IF(RELEVE_COTES!E62<>\"\",SUBSTITUTE(SUBSTITUTE(SUBSTITUTE(SUBSTITUTE(SUBSTITUTE(SUBSTITUTE(SUBSTITUTE(SUBSTITUTE(RELEVE_COTES!E62,\" \",\"\"),\"-\",\"\"),\".\",\",\"),\"\\\",\"\"),\",\",\",\"),\"+\",\"\"),\"&\",\"\"),\"*\",\"\"),\"\")","v":""},{"$f":"IF(RELEVE_COTES!F62<>\"\",SUBSTITUTE(SUBSTITUTE(SUBSTITUTE(SUBSTITUTE(SUBSTITUTE(SUBSTITUTE(SUBSTITUTE(SUBSTITUTE(RELEVE_COTES!F62,\" \",\"\"),\"-\",\"\"),\".\",\",\"),\"\\\",\"\"),\",\",\",\"),\"+\",\"\"),\"&\",\"\"),\"*\",\"\"),\"\")","v":""},{"$f":"IF(RELEVE_COTES!G62<>\"\",SUBSTITUTE(SUBSTITUTE(SUBSTITUTE(SUBSTITUTE(SUBSTITUTE(SUBSTITUTE(SUBSTITUTE(SUBSTITUTE(RELEVE_COTES!G62,\" \",\"\"),\"-\",\"\"),\".\",\",\"),\"\\\",\"\"),\",\",\",\"),\"+\",\"\"),\"&\",\"\"),\"*\",\"\"),\"\")","v":""},{"$f":"IF($D14=\"GP\",IF(RELEVE_COTES!$I62=\"\",0,IF(RELEVE_COTES!$I62=\"\",\"\",RELEVE_COTES!$I62)),IF(RELEVE_COTES!$H62=\"\",0,IF(RELEVE_COTES!$H62=\"\",\"\",RELEVE_COTES!$H62)))","v":0},{"$f":"IF($D14=\"GP\",IF(RELEVE_COTES!$H62=\"\",0,IF(RELEVE_COTES!$H62=\"\",\"\",RELEVE_COTES!$H62)),IF(RELEVE_COTES!$I62=\"\",0,IF(RELEVE_COTES!$I62=\"\",\"\",RELEVE_COTES!$I62)))","v":0},{"$f":"IF(RELEVE_COTES!$J62=\"\",0,IF(RELEVE_COTES!$J62=\"\",\"\",RELEVE_COTES!$J62))","v":0},{"$f":"VLOOKUP(RELEVE_COTES!$K62,TabExistantRef1[],2,FALSE)","v":{"$error":"#N/A"}},{"$f":"IF($Y$1=\"BOIS\",RELEVE_COTES!$O62,0)","v":{"$error":"#N/A"}},{"$f":"IF($Y$1=\"BOIS\",RELEVE_COTES!$P62,0)","v":{"$error":"#N/A"}},{"$f":"IF($Y$1=\"BOIS\",RELEVE_COTES!$Q62,0)","v":{"$error":"#N/A"}},{"$error":"#N/A"},{"$f":"IF($Y$1=\"BANCHE\",RELEVE_COTES!$L62,0)","v":{"$error":"#N/A"}},{"$error":"#N/A"},{"$error":"#N/A"},{"$f":"IF($Y$1<>\"BANCHE\",RELEVE_COTES!$L62,0)","v":{"$error":"#N/A"}},{"$f":"IF(AND($Y$1<>\"BANCHE\",RELEVE_COTES!$M62<>\"\"),RELEVE_COTES!$M62,20)","v":{"$error":"#N/A"}},{"$f":"IF($Y$1<>\"BANCHE\",IF(RELEVE_COTES!$N62<>\"\",RELEVE_COTES!$N62,10),0)","v":{"$error":"#N/A"}},{"$f":"IF(RELEVE_COTES!$I$20=\"Huisserie Banchée\",\"Banche\",IF(RELEVE_COTES!$I$20=\"Huisserie Bois\",\"Bois\",IF(RELEVE_COTES!$I$20=\"Bâti Scellé\",\"Bâti Métal.\")))","v":false},{"$f":"RELEVE_COTES!$C$11","v":0},{"$f":"RELEVE_COTES!$K$12","v":0},{"$f":"VLOOKUP(AA14,TabSeuilRef[],2,FALSE)","v":{"$error":"#N/A"}},{"$f":"\"Paumelles \"&RELEVE_COTES!$E$15","v":"Paumelles "},{"$f":"IF(RELEVE_COTES!$K$16<>\"Déporté\",RELEVE_COTES!$K$16,RELEVE_COTES!$K$16&\" / \"&VLOOKUP(RELEVE_COTES!$L$16,TabOptUsSerr[],2,FALSE))","v":"SANS"},{"$f":"RELEVE_COTES!$K$11","v":0},{"$f":"VLOOKUP(RELEVE_COTES!$G$12,TabNuancierVTL[],2,FALSE)&\"/\"&VLOOKUP(RELEVE_COTES!$G$13,TabNuancierVTL[],2,FALSE)","v":{"$error":"#N/A"}},{"$f":"IF(RELEVE_COTES!$E$14=\"Pr.Peint\",\"PP\",VLOOKUP(RELEVE_COTES!$G$14,TabNuancHM[],2,FALSE))","v":"PP"},{"$error":"#N/A"},{"$f":"IF(RELEVE_COTES!$C$11 =\"R32S-R02\",\"OUI\",\"NON\")","v":"NON"},"NON","",{"$f":"IF(AI14=\"OUI\",RELEVE_COTES!$N$16,\"\")","v":""},null,{"$f":"RELEVE_COTES!$E$12&\"/\"&RELEVE_COTES!$E$13","v":" SANS/ SANS"},{"$f":"IF(RELEVE_COTES!$K$15<>\"SANS\",RELEVE_COTES!$L$15&\" \"&RELEVE_COTES!$K$15,\"\")&IF(RELEVE_COTES!$N$15<>\"SANS\",\" / PMR: \"&RELEVE_COTES!$O$15&\" \"&RELEVE_COTES!$N$15,\"\")","v":""},{"$f":"IF(RELEVE_COTES!$K$14 <> \"SANS\",RELEVE_COTES!$O$14&\" \"&RELEVE_COTES!$K$14,\"\")","v":"U+F "},{"$f":"IF(RELEVE_COTES!$K$13 <> \"SANS\",RELEVE_COTES!$O$13&\" \"&RELEVE_COTES!$K$13,\"SANS\")","v":"U+F "},{"$f":"VLOOKUP(RELEVE_COTES!$O$11,TabOptUsSerr[],2,FALSE)","v":"Usinage, fourniture et pose"},{"$f":"INDEX(TabFinition[FINITION],MATCH(VLOOKUP(RELEVE_COTES!$G$12,TabNuancierVTL[],3,FALSE)&VLOOKUP(RELEVE_COTES!$G$13,TabNuancierVTL[],3,FALSE),TabFinition[TYPE EXT]&TabFinition[TYPE INT],0))","v":{"$error":"#N/A"}},"INT",{"$f":"RELEVE_COTES!$E$16","v":"platines + vérins"},"NON",{"$f":"IF(RELEVE_COTES!$I$20 = \"Huisserie Bois\",RELEVE_COTES!$R62,IF(RELEVE_COTES!$I$20 = \"Huisserie Banchée\",RELEVE_COTES!$M62,IF(RELEVE_COTES!$I$20 = \"Bâti Scellé\",RELEVE_COTES!$O62,\"\")))","v":""},null,{"$f":"VLOOKUP(RELEVE_COTES!$K$11,TabSerrureRef[],3,FALSE)","v":{"$error":"#N/A"}},{"$f":"VLOOKUP(RELEVE_COTES!$K$11,TabSerrureRef[],6,FALSE)","v":{"$error":"#N/A"}}]
[{"$error":"#VALUE!"},{"$error":"#VALUE!"},{"$f":"IF(RELEVE_COTES!$A63<>\"\",SUBSTITUTE(SUBSTITUTE(SUBSTITUTE(SUBSTITUTE(SUBSTITUTE(SUBSTITUTE(SUBSTITUTE(SUBSTITUTE(RELEVE_COTES!$A63,\" \",\"\"),\"-\",\"/\"),\".\",\"/\"),\"\\\",\"/\"),\",\",\"/\"),\"+\",\"_\"),\"&\",\"_\"),\"*\",\"/\"),\"\")","v":""},{"$f":"RELEVE_COTES!$B63","v":0},1,{"$f":"IF(RELEVE_COTES!C63<>\"\",SUBSTITUTE(SUBSTITUTE(SUBSTITUTE(SUBSTITUTE(SUBSTITUTE(SUBSTITUTE(SUBSTITUTE(SUBSTITUTE(RELEVE_COTES!C63,\" \",\"\"),\"-\",\"\"),\".\",\",\"),\"\\\",\"\"),\",\",\",\"),\"+\",\"\"),\"&\",\"\"),\"*\",\"\"),\"\")","v":""},{"$f":"IF(RELEVE_COTES!D63<>\"\",SUBSTITUTE(SUBSTITUTE(SUBSTITUTE(SUBSTITUTE(SUBSTITUTE(SUBSTITUTE(SUBSTITUTE(SUBSTITUTE(RELEVE_COTES!D63,\" \",\"\"),\"-\",\"\"),\".\",\",\"),\"\\\",\"\"),\",\",\",\"),\"+\",\"\"),\"&\",\"\"),\"*\",\"\"),\"\")","v":""},{"$f":"IF(RELEVE_COTES!E63<>\"\",SUBSTITUTE(SUBSTITUTE(SUBSTITUTE(SUBSTITUTE(SUBSTITUTE(SUBSTITUTE(SUBSTITUTE(SUBSTITUTE(RELEVE_COTES!E63,\" \",\"\"),\"-\",\"\"),\".\",\",\"),\"\\\",\"\"),\",\",\",\"),\"+\",\"\"),\"&\",\"\"),\"*\",\"\"),\"\")","v":""},{"$f":"IF(RELEVE_COTES!F63<>\"\",SUBSTITUTE(SUBSTITUTE(SUBSTITUTE(SUBSTITUTE(SUBSTITUTE(SUBSTITUTE(SUBSTITUTE(SUBSTITUTE(RELEVE_COTES!F63,\" \",\"\"),\"-\",\"\"),\".\",\",\"),\"\\\",\"\"),\",\",\",\"),\"+\",\"\"),\"&\",\"\"),\"*\",\"\"),\"\")","v":""},{"$f":"IF(RELEVE_COTES!G63<>\"\",SUBSTITUTE(SUBSTITUTE(SUBSTITUTE(SUBSTITUTE(SUBSTITUTE(SUBSTITUTE(SUBSTITUTE(SUBSTITUTE(RELEVE_COTES!G63,\" \",\"\"),\"-\",\"\"),\".\",\",\"),\"\\\",\"\"),\",\",\",\"),\"+\",\"\"),\"&\",\"\"),\"*\",\"\"),\"\")","v":""},{"$f":"IF($D15=\"GP\",IF(RELEVE_COTES!$I63=\"\",0,IF(RELEVE_COTES!$I63=\"\",\"\",RELEVE_COTES!$I63)),IF(RELEVE_COTES!$H63=\"\",0,IF(RELEVE_COTES!$H63=\"\",\"\",RELEVE_COTES!$H63)))","v":0},{"$f":"IF($D15=\"GP\",IF(RELEVE_COTES!$H63=\"\",0,IF(RELEVE_COTES!$H63=\"\",\"\",RELEVE_COTES!$H63)),IF(RELEVE_COTES!$I63=\"\",0,IF(RELEVE_COTES!$I63=\"\",\"\",RELEVE_COTES!$I63)))","v":0},{"$f":"IF(RELEVE_COTES!$J63=\"\",0,IF(RELEVE_COTES!$J63=\"\",\"\",RELEVE_COTES!$J63))","v":0},{"$f":"VLOOKUP(RELEVE_COTES!$K63,TabExistantRef1[],2,FALSE)","v":{"$error":"#N/A"}},{"$f":"IF($Y$1=\"BOIS\",RELEVE_COTES!$O63,0)","v":{"$error":"#N/A"}},{"$f":"IF($Y$1=\"BOIS\",RELEVE_COTES!$P63,0)","v":{"$error":"#N/A"}},{"$f":"IF($Y$1=\"BOIS\",RELEVE_COTES!$Q63,0)","v":{"$error":"#N/A"}},{"$error":"#N/A"},{"$f":"IF($Y$1=\"BANCHE\",RELEVE_COTES!$L63,0)","v":{"$error":"#N/A"}},{"$error":"#N/A"},{"$error":"#N/A"},{"$f":"IF($Y$1<>\"BANCHE\",RELEVE_COTES!$L63,0)","v":{"$error":"#N/A"}},{"$f":"IF(AND($Y$1<>\"BANCHE\",RELEVE_COTES!$M63<>\"\"),RELEVE_COTES!$M63,20)","v":{"$error":"#N/A"}},{"$f":"IF($Y$1<>\"BANCHE\",IF(RELEVE_COTES!$N63<>\"\",RELEVE_COTES!$N63,10),0)","v":{"$error":"#N/A"}},{"$f":"IF(RELEVE_COTES!$I$20=\"Huisserie Banchée\",\"Banche\",IF(RELEVE_COTES!$I$20=\"Huisserie Bois\",\"Bois\",IF(RELEVE_COTES!$I$20=\"Bâti Scellé\",\"Bâti Métal.\")))","v":false},{"$f":"RELEVE_COTES!$C$11","v":0},{"$f":"RELEVE_COTES!$K$12","v":0},{"$f":"VLOOKUP(AA15,TabSeuilRef[],2,FALSE)","v":{"$error":"#N/A"}},{"$f":"\"Paumelles \"&RELEVE_COTES!$E$15","v":"Paumelles "},{"$f":"IF(RELEVE_COTES!$K$16<>\"Déporté\",RELEVE_COTES!$K$16,RELEVE_COTES!$K$16&\" / \"&VLOOKUP(RELEVE_COTES!$L$16,TabOptUsSerr[],2,FALSE))","v":"SANS"},{"$f":"RELEVE_COTES!$K$11","v":0},{"$f":"VLOOKUP(RELEVE_COTES!$G$12,TabNuancierVTL[],2,FALSE)&\"/\"&VLOOKUP(RELEVE_COTES!$G$13,TabNuancierVTL[],2,FALSE)","v":{"$error":"#N/A"}},{"$f":"IF(RELEVE_COTES!$E$14=\"Pr.Peint\",\"PP\",VLOOKUP(RELEVE_COTES!$G$14,TabNuancHM[],2,FALSE))","v":"PP"},{"$error":"#N/A"},{"$f":"IF(RELEVE_COTES!$C$11 =\"R32S-R02\",\"OUI\",\"NON\")","v":"NON"},"NON","",{"$f":"IF(AI15=\"OUI\",RELEVE_COTES!$N$16,\"\")","v":""},null,{"$f":"RELEVE_COTES!$E$12&\"/\"&RELEVE_COTES!$E$13","v":" SANS/ SANS"},{"$f":"IF(RELEVE_COTES!$K$15<>\"SANS\",RELEVE_COTES!$L$15&\" \"&RELEVE_COTES!$K$15,\"\")&IF(RELEVE_COTES!$N$15<>\"SANS\",\" / PMR: \"&RELEVE_COTES!$O$15&\" \"&RELEVE_COTES!$N$15,\"\")","v":""},{"$f":"IF(RELEVE_COTES!$K$14 <> \"SANS\",RELEVE_COTES!$O$14&\" \"&RELEVE_COTES!$K$14,\"\")","v":"U+F "},{"$f":"IF(RELEVE_COTES!$K$13 <> \"SANS\",RELEVE_COTES!$O$13&\" \"&RELEVE_COTES!$K$13,\"SANS\")","v":"U+F "},{"$f":"VLOOKUP(RELEVE_COTES!$O$11,TabOptUsSerr[],2,FALSE)","v":"Usinage, fourniture et pose"},{"$f":"INDEX(TabFinition[FINITION],MATCH(VLOOKUP(RELEVE_COTES!$G$12,TabNuancierVTL[],3,FALSE)&VLOOKUP(RELEVE_COTES!$G$13,TabNuancierVTL[],3,FALSE),TabFinition[TYPE EXT]&TabFinition[TYPE INT],0))","v":{"$error":"#N/A"}},"INT",{"$f":"RELEVE_COTES!$E$16","v":"platines + vérins"},"NON",{"$f":"IF(RELEVE_COTES!$I$20 = \"Huisserie Bois\",RELEVE_COTES!$R63,IF(RELEVE_COTES!$I$20 = \"Huisserie Banchée\",RELEVE_COTES!$M63,IF(RELEVE_COTES!$I$20 = \"Bâti Scellé\",RELEVE_COTES!$O63,\"\")))","v":""},null,{"$f":"VLOOKUP(RELEVE_COTES!$K$11,TabSerrureRef[],3,FALSE)","v":{"$error":"#N/A"}},{"$f":"VLOOKUP(RELEVE_COTES!$K$11,TabSerrureRef[],6,FALSE)","v":{"$error":"#N/A"}}]
[{"$error":"#VALUE!"},{"$error":"#VALUE!"},{"$f":"IF(RELEVE_COTES!$A64<>\"\",SUBSTITUTE(SUBSTITUTE(SUBSTITUTE(SUBSTITUTE(SUBSTITUTE(SUBSTITUTE(SUBSTITUTE(SUBSTITUTE(RELEVE_COTES!$A64,\" \",\"\"),\"-\",\"/\"),\".\",\"/\"),\"\\\",\"/\"),\",\",\"/\"),\"+\",\"_\"),\"&\",\"_\"),\"*\",\"/\"),\"\")","v":""},{"$f":"RELEVE_COTES!$B64","v":0},1,{"$f":"IF(RELEVE_COTES!C64<>\"\",SUBSTITUTE(SUBSTITUTE(SUBSTITUTE(SUBSTITUTE(SUBSTITUTE(SUBSTITUTE(SUBSTITUTE(SUBSTITUTE(RELEVE_COTES!C64,\" \",\"\"),\"-\",\"\"),\".\",\",\"),\"\\\",\"\"),\",\",\",\"),\"+\",\"\"),\"&\",\"\"),\"*\",\"\"),\"\")","v":""},{"$f":"IF(RELEVE_COTES!D64<>\"\",SUBSTITUTE(SUBSTITUTE(SUBSTITUTE(SUBSTITUTE(SUBSTITUTE(SUBSTITUTE(SUBSTITUTE(SUBSTITUTE(RELEVE_COTES!D64,\" \",\"\"),\"-\",\"\"),\".\",\",\"),\"\\\",\"\"),\",\",\",\"),\"+\",\"\"),\"&\",\"\"),\"*\",\"\"),\"\")","v":""},{"$f":"IF(RELEVE_COTES!E64<>\"\",SUBSTITUTE(SUBSTITUTE(SUBSTITUTE(SUBSTITUTE(SUBSTITUTE(SUBSTITUTE(SUBSTITUTE(SUBSTITUTE(RELEVE_COTES!E64,\" \",\"\"),\"-\",\"\"),\".\",\",\"),\"\\\",\"\"),\",\",\",\"),\"+\",\"\"),\"&\",\"\"),\"*\",\"\"),\"\")","v":""},{"$f":"IF(RELEVE_COTES!F64<>\"\",SUBSTITUTE(SUBSTITUTE(SUBSTITUTE(SUBSTITUTE(SUBSTITUTE(SUBSTITUTE(SUBSTITUTE(SUBSTITUTE(RELEVE_COTES!F64,\" \",\"\"),\"-\",\"\"),\".\",\",\"),\"\\\",\"\"),\",\",\",\"),\"+\",\"\"),\"&\",\"\"),\"*\",\"\"),\"\")","v":""},{"$f":"IF(RELEVE_COTES!G64<>\"\",SUBSTITUTE(SUBSTITUTE(SUBSTITUTE(SUBSTITUTE(SUBSTITUTE(SUBSTITUTE(SUBSTITUTE(SUBSTITUTE(RELEVE_COTES!G64,\" \",\"\"),\"-\",\"\"),\".\",\",\"),\"\\\",\"\"),\",\",\",\"),\"+\",\"\"),\"&\",\"\"),\"*\",\"\"),\"\")","v":""},{"$f":"IF($D16=\"GP\",IF(RELEVE_COTES!$I64=\"\",0,IF(RELEVE_COTES!$I64=\"\",\"\",RELEVE_COTES!$I64)),IF(RELEVE_COTES!$H64=\"\",0,IF(RELEVE_COTES!$H64=\"\",\"\",RELEVE_COTES!$H64)))","v":0},{"$f":"IF($D16=\"GP\",IF(RELEVE_COTES!$H64=\"\",0,IF(RELEVE_COTES!$H64=\"\",\"\",RELEVE_COTES!$H64)),IF(RELEVE_COTES!$I64=\"\",0,IF(RELEVE_COTES!$I64=\"\",\"\",RELEVE_COTES!$I64)))","v":0},{"$f":"IF(RELEVE_COTES!$J64=\"\",0,IF(RELEVE_COTES!$J64=\"\",\"\",RELEVE_COTES!$J64))","v":0},{"$f":"VLOOKUP(RELEVE_COTES!$K64,TabExistantRef1[],2,FALSE)","v":{"$error":"#N/A"}},{"$f":"IF($Y$1=\"BOIS\",RELEVE_COTES!$O64,0)","v":{"$error":"#N/A"}},{"$f":"IF($Y$1=\"BOIS\",RELEVE_COTES!$P64,0)","v":{"$error":"#N/A"}},{"$f":"IF($Y$1=\"BOIS\",RELEVE_COTES!$Q64,0)","v":{"$error":"#N/A"}},{"$error":"#N/A"},{"$f":"IF($Y$1=\"BANCHE\",RELEVE_COTES!$L64,0)","v":{"$error":"#N/A"}},{"$error":"#N/A"},{"$error":"#N/A"},{"$f":"IF($Y$1<>\"BANCHE\",RELEVE_COTES!$L64,0)","v":{"$error":"#N/A"}},{"$f":"IF(AND($Y$1<>\"BANCHE\",RELEVE_COTES!$M64<>\"\"),RELEVE_COTES!$M64,20)","v":{"$error":"#N/A"}},{"$f":"IF($Y$1<>\"BANCHE\",IF(RELEVE_COTES!$N64<>\"\",RELEVE_COTES!$N64,10),0)","v":{"$error":"#N/A"}},{"$f":"IF(RELEVE_COTES!$I$20=\"Huisserie Banchée\",\"Banche\",IF(RELEVE_COTES!$I$20=\"Huisserie Bois\",\"Bois\",IF(RELEVE_COTES!$I$20=\"Bâti Scellé\",\"Bâti Métal.\")))","v":false},{"$f":"RELEVE_COTES!$C$11","v":0},{"$f":"RELEVE_COTES!$K$12","v":0},{"$f":"VLOOKUP(AA16,TabSeuilRef[],2,FALSE)","v":{"$error":"#N/A"}},{"$f":"\"Paumelles \"&RELEVE_COTES!$E$15","v":"Paumelles "},{"$f":"IF(RELEVE_COTES!$K$16<>\"Déporté\",RELEVE_COTES!$K$16,RELEVE_COTES!$K$16&\" / \"&VLOOKUP(RELEVE_COTES!$L$16,TabOptUsSerr[],2,FALSE))","v":"SANS"},{"$f":"RELEVE_COTES!$K$11","v":0},{"$f":"VLOOKUP(RELEVE_COTES!$G$12,TabNuancierVTL[],2,FALSE)&\"/\"&VLOOKUP(RELEVE_COTES!$G$13,TabNuancierVTL[],2,FALSE)","v":{"$error":"#N/A"}},{"$f":"IF(RELEVE_COTES!$E$14=\"Pr.Peint\",\"PP\",VLOOKUP(RELEVE_COTES!$G$14,TabNuancHM[],2,FALSE))","v":"PP"},{"$error":"#N/A"},{"$f":"IF(RELEVE_COTES!$C$11 =\"R32S-R02\",\"OUI\",\"NON\")","v":"NON"},"NON","",{"$f":"IF(AI16=\"OUI\",RELEVE_COTES!$N$16,\"\")","v":""},null,{"$f":"RELEVE_COTES!$E$12&\"/\"&RELEVE_COTES!$E$13","v":" SANS/ SANS"},{"$f":"IF(RELEVE_COTES!$K$15<>\"SANS\",RELEVE_COTES!$L$15&\" \"&RELEVE_COTES!$K$15,\"\")&IF(RELEVE_COTES!$N$15<>\"SANS\",\" / PMR: \"&RELEVE_COTES!$O$15&\" \"&RELEVE_COTES!$N$15,\"\")","v":""},{"$f":"IF(RELEVE_COTES!$K$14 <> \"SANS\",RELEVE_COTES!$O$14&\" \"&RELEVE_COTES!$K$14,\"\")","v":"U+F "},{"$f":"IF(RELEVE_COTES!$K$13 <> \"SANS\",RELEVE_COTES!$O$13&\" \"&RELEVE_COTES!$K$13,\"SANS\")","v":"U+F "},{"$f":"VLOOKUP(RELEVE_COTES!$O$11,TabOptUsSerr[],2,FALSE)","v":"Usinage, fourniture et pose"},{"$f":"INDEX(TabFinition[FINITION],MATCH(VLOOKUP(RELEVE_COTES!$G$12,TabNuancierVTL[],3,FALSE)&VLOOKUP(RELEVE_COTES!$G$13,TabNuancierVTL[],3,FALSE),TabFinition[TYPE EXT]&TabFinition[TYPE INT],0))","v":{"$error":"#N/A"}},"INT",{"$f":"RELEVE_COTES!$E$16","v":"platines + vérins"},"NON",{"$f":"IF(RELEVE_COTES!$I$20 = \"Huisserie Bois\",RELEVE_COTES!$R64,IF(RELEVE_COTES!$I$20 = \"Huisserie Banchée\",RELEVE_COTES!$M64,IF(RELEVE_COTES!$I$20 = \"Bâti Scellé\",RELEVE_COTES!$O64,\"\")))","v":""},null,{"$f":"VLOOKUP(RELEVE_COTES!$K$11,TabSerrureRef[],3,FALSE)","v":{"$error":"#N/A"}},{"$f":"VLOOKUP(RELEVE_COTES!$K$11,TabSerrureRef[],6,FALSE)","v":{"$error":"#N/A"}}]
[{"$error":"#VALUE!"},{"$error":"#VALUE!"},{"$f":"IF(RELEVE_COTES!$A65<>\"\",SUBSTITUTE(SUBSTITUTE(SUBSTITUTE(SUBSTITUTE(SUBSTITUTE(SUBSTITUTE(SUBSTITUTE(SUBSTITUTE(RELEVE_COTES!$A65,\" \",\"\"),\"-\",\"/\"),\".\",\"/\"),\"\\\",\"/\"),\",\",\"/\"),\"+\",\"_\"),\"&\",\"_\"),\"*\",\"/\"),\"\")","v":""},{"$f":"RELEVE_COTES!$B65","v":0},1,{"$f":"IF(RELEVE_COTES!C65<>\"\",SUBSTITUTE(SUBSTITUTE(SUBSTITUTE(SUBSTITUTE(SUBSTITUTE(SUBSTITUTE(SUBSTITUTE(SUBSTITUTE(RELEVE_COTES!C65,\" \",\"\"),\"-\",\"\"),\".\",\",\"),\"\\\",\"\"),\",\",\",\"),\"+\",\"\"),\"&\",\"\"),\"*\",\"\"),\"\")","v":""},{"$f":"IF(RELEVE_COTES!D65<>\"\",SUBSTITUTE(SUBSTITUTE(SUBSTITUTE(SUBSTITUTE(SUBSTITUTE(SUBSTITUTE(SUBSTITUTE(SUBSTITUTE(RELEVE_COTES!D65,\" \",\"\"),\"-\",\"\"),\".\",\",\"),\"\\\",\"\"),\",\",\",\"),\"+\",\"\"),\"&\",\"\"),\"*\",\"\"),\"\")","v":""},{"$f":"IF(RELEVE_COTES!E65<>\"\",SUBSTITUTE(SUBSTITUTE(SUBSTITUTE(SUBSTITUTE(SUBSTITUTE(SUBSTITUTE(SUBSTITUTE(SUBSTITUTE(RELEVE_COTES!E65,\" \",\"\"),\"-\",\"\"),\".\",\",\"),\"\\\",\"\"),\",\",\",\"),\"+\",\"\"),\"&\",\"\"),\"*\",\"\"),\"\")","v":""},{"$f":"IF(RELEVE_COTES!F65<>\"\",SUBSTITUTE(SUBSTITUTE(SUBSTITUTE(SUBSTITUTE(SUBSTITUTE(SUBSTITUTE(SUBSTITUTE(SUBSTITUTE(RELEVE_COTES!F65,\" \",\"\"),\"-\",\"\"),\".\",\",\"),\"\\\",\"\"),\",\",\",\"),\"+\",\"\"),\"&\",\"\"),\"*\",\"\"),\"\")","v":""},{"$f":"IF(RELEVE_COTES!G65<>\"\",SUBSTITUTE(SUBSTITUTE(SUBSTITUTE(SUBSTITUTE(SUBSTITUTE(SUBSTITUTE(SUBSTITUTE(SUBSTITUTE(RELEVE_COTES!G65,\" \",\"\"),\"-\",\"\"),\".\",\",\"),\"\\\",\"\"),\",\",\",\"),\"+\",\"\"),\"&\",\"\"),\"*\",\"\"),\"\")","v":""},{"$f":"IF($D17=\"GP\",IF(RELEVE_COTES!$I65=\"\",0,IF(RELEVE_COTES!$I65=\"\",\"\",RELEVE_COTES!$I65)),IF(RELEVE_COTES!$H65=\"\",0,IF(RELEVE_COTES!$H65=\"\",\"\",RELEVE_COTES!$H65)))","v":0},{"$f":"IF($D17=\"GP\",IF(RELEVE_COTES!$H65=\"\",0,IF(RELEVE_COTES!$H65=\"\",\"\",RELEVE_COTES!$H65)),IF(RELEVE_COTES!$I65=\"\",0,IF(RELEVE_COTES!$I65=\"\",\"\",RELEVE_COTES!$I65)))","v":0},{"$f":"IF(RELEVE_COTES!$J65=\"\",0,IF(RELEVE_COTES!$J65=\"\",\"\",RELEVE_COTES!$J65))","v":0},{"$f":"VLOOKUP(RELEVE_COTES!$K65,TabExistantRef1[],2,FALSE)","v":{"$error":"#N/A"}},{"$f":"IF($Y$1=\"BOIS\",RELEVE_COTES!$O65,0)","v":{"$error":"#N/A"}},{"$f":"IF($Y$1=\"BOIS\",RELEVE_COTES!$P65,0)","v":{"$error":"#N/A"}},{"$f":"IF($Y$1=\"BOIS\",RELEVE_COTES!$Q65,0)","v":{"$error":"#N/A"}},{"$error":"#N/A"},{"$f":"IF($Y$1=\"BANCHE\",RELEVE_COTES!$L65,0)","v":{"$error":"#N/A"}},{"$error":"#N/A"},{"$error":"#N/A"},{"$f":"IF($Y$1<>\"BANCHE\",RELEVE_COTES!$L65,0)","v":{"$error":"#N/A"}},{"$f":"IF(AND($Y$1<>\"BANCHE\",RELEVE_COTES!$M65<>\"\"),RELEVE_COTES!$M65,20)","v":{"$error":"#N/A"}},{"$f":"IF($Y$1<>\"BANCHE\",IF(RELEVE_COTES!$N65<>\"\",RELEVE_COTES!$N65,10),0)","v":{"$error":"#N/A"}},{"$f":"IF(RELEVE_COTES!$I$20=\"Huisserie Banchée\",\"Banche\",IF(RELEVE_COTES!$I$20=\"Huisserie Bois\",\"Bois\",IF(RELEVE_COTES!$I$20=\"Bâti Scellé\",\"Bâti Métal.\")))","v":false},{"$f":"RELEVE_COTES!$C$11","v":0},{"$f":"RELEVE_COTES!$K$12","v":0},{"$f":"VLOOKUP(AA17,TabSeuilRef[],2,FALSE)","v":{"$error":"#N/A"}},{"$f":"\"Paumelles \"&RELEVE_COTES!$E$15","v":"Paumelles "},{"$f":"IF(RELEVE_COTES!$K$16<>\"Déporté\",RELEVE_COTES!$K$16,RELEVE_COTES!$K$16&\" / \"&VLOOKUP(RELEVE_COTES!$L$16,TabOptUsSerr[],2,FALSE))","v":"SANS"},{"$f":"RELEVE_COTES!$K$11","v":0},{"$f":"VLOOKUP(RELEVE_COTES!$G$12,TabNuancierVTL[],2,FALSE)&\"/\"&VLOOKUP(RELEVE_COTES!$G$13,TabNuancierVTL[],2,FALSE)","v":{"$error":"#N/A"}},{"$f":"IF(RELEVE_COTES!$E$14=\"Pr.Peint\",\"PP\",VLOOKUP(RELEVE_COTES!$G$14,TabNuancHM[],2,FALSE))","v":"PP"},{"$error":"#N/A"},{"$f":"IF(RELEVE_COTES!$C$11 =\"R32S-R02\",\"OUI\",\"NON\")","v":"NON"},"NON","",{"$f":"IF(AI17=\"OUI\",RELEVE_COTES!$N$16,\"\")","v":""},null,{"$f":"RELEVE_COTES!$E$12&\"/\"&RELEVE_COTES!$E$13","v":" SANS/ SANS"},{"$f":"IF(RELEVE_COTES!$K$15<>\"SANS\",RELEVE_COTES!$L$15&\" \"&RELEVE_COTES!$K$15,\"\")&IF(RELEVE_COTES!$N$15<>\"SANS\",\" / PMR: \"&RELEVE_COTES!$O$15&\" \"&RELEVE_COTES!$N$15,\"\")","v":""},{"$f":"IF(RELEVE_COTES!$K$14 <> \"SANS\",RELEVE_COTES!$O$14&\" \"&RELEVE_COTES!$K$14,\"\")","v":"U+F "},{"$f":"IF(RELEVE_COTES!$K$13 <> \"SANS\",RELEVE_COTES!$O$13&\" \"&RELEVE_COTES!$K$13,\"SANS\")","v":"U+F "},{"$f":"VLOOKUP(RELEVE_COTES!$O$11,TabOptUsSerr[],2,FALSE)","v":"Usinage, fourniture et pose"},{"$f":"INDEX(TabFinition[FINITION],MATCH(VLOOKUP(RELEVE_COTES!$G$12,TabNuancierVTL[],3,FALSE)&VLOOKUP(RELEVE_COTES!$G$13,TabNuancierVTL[],3,FALSE),TabFinition[TYPE EXT]&TabFinition[TYPE INT],0))","v":{"$error":"#N/A"}},"INT",{"$f":"RELEVE_COTES!$E$16","v":"platines + vérins"},"NON",{"$f":"IF(RELEVE_COTES!$I$20 = \"Huisserie Bois\",RELEVE_COTES!$R65,IF(RELEVE_COTES!$I$20 = \"Huisserie Banchée\",RELEVE_COTES!$M65,IF(RELEVE_COTES!$I$20 = \"Bâti Scellé\",RELEVE_COTES!$O65,\"\")))","v":""},null,{"$f":"VLOOKUP(RELEVE_COTES!$K$11,TabSerrureRef[],3,FALSE)","v":{"$error":"#N/A"}},{"$f":"VLOOKUP(RELEVE_COTES!$K$11,TabSerrureRef[],6,FALSE)","v":{"$error":"#N/A"}}]
[{"$error":"#VALUE!"},{"$error":"#VALUE!"},{"$f":"IF(RELEVE_COTES!$A66<>\"\",SUBSTITUTE(SUBSTITUTE(SUBSTITUTE(SUBSTITUTE(SUBSTITUTE(SUBSTITUTE(SUBSTITUTE(SUBSTITUTE(RELEVE_COTES!$A66,\" \",\"\"),\"-\",\"/\"),\".\",\"/\"),\"\\\",\"/\"),\",\",\"/\"),\"+\",\"_\"),\"&\",\"_\"),\"*\",\"/\"),\"\")","v":""},{"$f":"RELEVE_COTES!$B66","v":0},1,{"$f":"IF(RELEVE_COTES!C66<>\"\",SUBSTITUTE(SUBSTITUTE(SUBSTITUTE(SUBSTITUTE(SUBSTITUTE(SUBSTITUTE(SUBSTITUTE(SUBSTITUTE(RELEVE_COTES!C66,\" \",\"\"),\"-\",\"\"),\".\",\",\"),\"\\\",\"\"),\",\",\",\"),\"+\",\"\"),\"&\",\"\"),\"*\",\"\"),\"\")","v":""},{"$f":"IF(RELEVE_COTES!D66<>\"\",SUBSTITUTE(SUBSTITUTE(SUBSTITUTE(SUBSTITUTE(SUBSTITUTE(SUBSTITUTE(SUBSTITUTE(SUBSTITUTE(RELEVE_COTES!D66,\" \",\"\"),\"-\",\"\"),\".\",\",\"),\"\\\",\"\"),\",\",\",\"),\"+\",\"\"),\"&\",\"\"),\"*\",\"\"),\"\")","v":""},{"$f":"IF(RELEVE_COTES!E66<>\"\",SUBSTITUTE(SUBSTITUTE(SUBSTITUTE(SUBSTITUTE(SUBSTITUTE(SUBSTITUTE(SUBSTITUTE(SUBSTITUTE(RELEVE_COTES!E66,\" \",\"\"),\"-\",\"\"),\".\",\",\"),\"\\\",\"\"),\",\",\",\"),\"+\",\"\"),\"&\",\"\"),\"*\",\"\"),\"\")","v":""},{"$f":"IF(RELEVE_COTES!F66<>\"\",SUBSTITUTE(SUBSTITUTE(SUBSTITUTE(SUBSTITUTE(SUBSTITUTE(SUBSTITUTE(SUBSTITUTE(SUBSTITUTE(RELEVE_COTES!F66,\" \",\"\"),\"-\",\"\"),\".\",\",\"),\"\\\",\"\"),\",\",\",\"),\"+\",\"\"),\"&\",\"\"),\"*\",\"\"),\"\")","v":""},{"$f":"IF(RELEVE_COTES!G66<>\"\",SUBSTITUTE(SUBSTITUTE(SUBSTITUTE(SUBSTITUTE(SUBSTITUTE(SUBSTITUTE(SUBSTITUTE(SUBSTITUTE(RELEVE_COTES!G66,\" \",\"\"),\"-\",\"\"),\".\",\",\"),\"\\\",\"\"),\",\",\",\"),\"+\",\"\"),\"&\",\"\"),\"*\",\"\"),\"\")","v":""},{"$f":"IF($D18=\"GP\",IF(RELEVE_COTES!$I66=\"\",0,IF(RELEVE_COTES!$I66=\"\",\"\",RELEVE_COTES!$I66)),IF(RELEVE_COTES!$H66=\"\",0,IF(RELEVE_COTES!$H66=\"\",\"\",RELEVE_COTES!$H66)))","v":0},{"$f":"IF($D18=\"GP\",IF(RELEVE_COTES!$H66=\"\",0,IF(RELEVE_COTES!$H66=\"\",\"\",RELEVE_COTES!$H66)),IF(RELEVE_COTES!$I66=\"\",0,IF(RELEVE_COTES!$I66=\"\",\"\",RELEVE_COTES!$I66)))","v":0},{"$f":"IF(RELEVE_COTES!$J66=\"\",0,IF(RELEVE_COTES!$J66=\"\",\"\",RELEVE_COTES!$J66))","v":0},{"$f":"VLOOKUP(RELEVE_COTES!$K66,TabExistantRef1[],2,FALSE)","v":{"$error":"#N/A"}},{"$f":"IF($Y$1=\"BOIS\",RELEVE_COTES!$O66,0)","v":{"$error":"#N/A"}},{"$f":"IF($Y$1=\"BOIS\",RELEVE_COTES!$P66,0)","v":{"$error":"#N/A"}},{"$f":"IF($Y$1=\"BOIS\",RELEVE_COTES!$Q66,0)","v":{"$error":"#N/A"}},{"$error":"#N/A"},{"$f":"IF($Y$1=\"BANCHE\",RELEVE_COTES!$L66,0)","v":{"$error":"#N/A"}},{"$error":"#N/A"},{"$error":"#N/A"},{"$f":"IF($Y$1<>\"BANCHE\",RELEVE_COTES!$L66,0)","v":{"$error":"#N/A"}},{"$f":"IF(AND($Y$1<>\"BANCHE\",RELEVE_COTES!$M66<>\"\"),RELEVE_COTES!$M66,20)","v":{"$error":"#N/A"}},{"$f":"IF($Y$1<>\"BANCHE\",IF(RELEVE_COTES!$N66<>\"\",RELEVE_COTES!$N66,10),0)","v":{"$error":"#N/A"}},{"$f":"IF(RELEVE_COTES!$I$20=\"Huisserie Banchée\",\"Banche\",IF(RELEVE_COTES!$I$20=\"Huisserie Bois\",\"Bois\",IF(RELEVE_COTES!$I$20=\"Bâti Scellé\",\"Bâti Métal.\")))","v":false},{"$f":"RELEVE_COTES!$C$11","v":0},{"$f":"RELEVE_COTES!$K$12","v":0},{"$f":"VLOOKUP(AA18,TabSeuilRef[],2,FALSE)","v":{"$error":"#N/A"}},{"$f":"\"Paumelles \"&RELEVE_COTES!$E$15","v":"Paumelles "},{"$f":"IF(RELEVE_COTES!$K$16<>\"Déporté\",RELEVE_COTES!$K$16,RELEVE_COTES!$K$16&\" / \"&VLOOKUP(RELEVE_COTES!$L$16,TabOptUsSerr[],2,FALSE))","v":"SANS"},{"$f":"RELEVE_COTES!$K$11","v":0},{"$f":"VLOOKUP(RELEVE_COTES!$G$12,TabNuancierVTL[],2,FALSE)&\"/\"&VLOOKUP(RELEVE_COTES!$G$13,TabNuancierVTL[],2,FALSE)","v":{"$error":"#N/A"}},{"$f":"IF(RELEVE_COTES!$E$14=\"Pr.Peint\",\"PP\",VLOOKUP(RELEVE_COTES!$G$14,TabNuancHM[],2,FALSE))","v":"PP"},{"$error":"#N/A"},{"$f":"IF(RELEVE_COTES!$C$11 =\"R32S-R02\",\"OUI\",\"NON\")","v":"NON"},"NON","",{"$f":"IF(AI18=\"OUI\",RELEVE_COTES!$N$16,\"\")","v":""},null,{"$f":"RELEVE_COTES!$E$12&\"/\"&RELEVE_COTES!$E$13","v":" SANS/ SANS"},{"$f":"IF(RELEVE_COTES!$K$15<>\"SANS\",RELEVE_COTES!$L$15&\" \"&RELEVE_COTES!$K$15,\"\")&IF(RELEVE_COTES!$N$15<>\"SANS\",\" / PMR: \"&RELEVE_COTES!$O$15&\" \"&RELEVE_COTES!$N$15,\"\")","v":""},{"$f":"IF(RELEVE_COTES!$K$14 <> \"SANS\",RELEVE_COTES!$O$14&\" \"&RELEVE_COTES!$K$14,\"\")","v":"U+F "},{"$f":"IF(RELEVE_COTES!$K$13 <> \"SANS\",RELEVE_COTES!$O$13&\" \"&RELEVE_COTES!$K$13,\"SANS\")","v":"U+F "},{"$f":"VLOOKUP(RELEVE_COTES!$O$11,TabOptUsSerr[],2,FALSE)","v":"Usinage, fourniture et pose"},{"$f":"INDEX(TabFinition[FINITION],MATCH(VLOOKUP(RELEVE_COTES!$G$12,TabNuancierVTL[],3,FALSE)&VLOOKUP(RELEVE_COTES!$G$13,TabNuancierVTL[],3,FALSE),TabFinition[TYPE EXT]&TabFinition[TYPE INT],0))","v":{"$error":"#N/A"}},"INT",{"$f":"RELEVE_COTES!$E$16","v":"platines + vérins"},"NON",{"$f":"IF(RELEVE_COTES!$I$20 = \"Huisserie Bois\",RELEVE_COTES!$R66,IF(RELEVE_COTES!$I$20 = \"Huisserie Banchée\",RELEVE_COTES!$M66,IF(RELEVE_COTES!$I$20 = \"Bâti Scellé\",RELEVE_COTES!$O66,\"\")))","v":""},null,{"$f":"VLOOKUP(RELEVE_COTES!$K$11,TabSerrureRef[],3,FALSE)","v":{"$error":"#N/A"}},{"$f":"VLOOKUP(RELEVE_COTES!$K$11,TabSerrureRef[],6,FALSE)","v":{"$error":"#N/A"}}]
[{"$error":"#VALUE!"},{"$error":"#VALUE!"},{"$f":"IF(RELEVE_COTES!$A67<>\"\",SUBSTITUTE(SUBSTITUTE(SUBSTITUTE(SUBSTITUTE(SUBSTITUTE(SUBSTITUTE(SUBSTITUTE(SUBSTITUTE(RELEVE_COTES!$A67,\" \",\"\"),\"-\",\"/\"),\".\",\"/\"),\"\\\",\"/\"),\",\",\"/\"),\"+\",\"_\"),\"&\",\"_\"),\"*\",\"/\"),\"\")","v":""},{"$f":"RELEVE_COTES!$B67","v":0},1,{"$f":"IF(RELEVE_COTES!C67<>\"\",SUBSTITUTE(SUBSTITUTE(SUBSTITUTE(SUBSTITUTE(SUBSTITUTE(SUBSTITUTE(SUBSTITUTE(SUBSTITUTE(RELEVE_COTES!C67,\" \",\"\"),\"-\",\"\"),\".\",\",\"),\"\\\",\"\"),\",\",\",\"),\"+\",\"\"),\"&\",\"\"),\"*\",\"\"),\"\")","v":""},{"$f":"IF(RELEVE_COTES!D67<>\"\",SUBSTITUTE(SUBSTITUTE(SUBSTITUTE(SUBSTITUTE(SUBSTITUTE(SUBSTITUTE(SUBSTITUTE(SUBSTITUTE(RELEVE_COTES!D67,\" \",\"\"),\"-\",\"\"),\".\",\",\"),\"\\\",\"\"),\",\",\",\"),\"+\",\"\"),\"&\",\"\"),\"*\",\"\"),\"\")","v":""},{"$f":"IF(RELEVE_COTES!E67<>\"\",SUBSTITUTE(SUBSTITUTE(SUBSTITUTE(SUBSTITUTE(SUBSTITUTE(SUBSTITUTE(SUBSTITUTE(SUBSTITUTE(RELEVE_COTES!E67,\" \",\"\"),\"-\",\"\"),\".\",\",\"),\"\\\",\"\"),\",\",\",\"),\"+\",\"\"),\"&\",\"\"),\"*\",\"\"),\"\")","v":""},{"$f":"IF(RELEVE_COTES!F67<>\"\",SUBSTITUTE(SUBSTITUTE(SUBSTITUTE(SUBSTITUTE(SUBSTITUTE(SUBSTITUTE(SUBSTITUTE(SUBSTITUTE(RELEVE_COTES!F67,\" \",\"\"),\"-\",\"\"),\".\",\",\"),\"\\\",\"\"),\",\",\",\"),\"+\",\"\"),\"&\",\"\"),\"*\",\"\"),\"\")","v":""},{"$f":"IF(RELEVE_COTES!G67<>\"\",SUBSTITUTE(SUBSTITUTE(SUBSTITUTE(SUBSTITUTE(SUBSTITUTE(SUBSTITUTE(SUBSTITUTE(SUBSTITUTE(RELEVE_COTES!G67,\" \",\"\"),\"-\",\"\"),\".\",\",\"),\"\\\",\"\"),\",\",\",\"),\"+\",\"\"),\"&\",\"\"),\"*\",\"\"),\"\")","v":""},{"$f":"IF($D19=\"GP\",IF(RELEVE_COTES!$I67=\"\",0,IF(RELEVE_COTES!$I67=\"\",\"\",RELEVE_COTES!$I67)),IF(RELEVE_COTES!$H67=\"\",0,IF(RELEVE_COTES!$H67=\"\",\"\",RELEVE_COTES!$H67)))","v":0},{"$f":"IF($D19=\"GP\",IF(RELEVE_COTES!$H67=\"\",0,IF(RELEVE_COTES!$H67=\"\",\"\",RELEVE_COTES!$H67)),IF(RELEVE_COTES!$I67=\"\",0,IF(RELEVE_COTES!$I67=\"\",\"\",RELEVE_COTES!$I67)))","v":0},{"$f":"IF(RELEVE_COTES!$J67=\"\",0,IF(RELEVE_COTES!$J67=\"\",\"\",RELEVE_COTES!$J67))","v":0},{"$f":"VLOOKUP(RELEVE_COTES!$K67,TabExistantRef1[],2,FALSE)","v":{"$error":"#N/A"}},{"$f":"IF($Y$1=\"BOIS\",RELEVE_COTES!$O67,0)","v":{"$error":"#N/A"}},{"$f":"IF($Y$1=\"BOIS\",RELEVE_COTES!$P67,0)","v":{"$error":"#N/A"}},{"$f":"IF($Y$1=\"BOIS\",RELEVE_COTES!$Q67,0)","v":{"$error":"#N/A"}},{"$error":"#N/A"},{"$f":"IF($Y$1=\"BANCHE\",RELEVE_COTES!$L67,0)","v":{"$error":"#N/A"}},{"$error":"#N/A"},{"$error":"#N/A"},{"$f":"IF($Y$1<>\"BANCHE\",RELEVE_COTES!$L67,0)","v":{"$error":"#N/A"}},{"$f":"IF(AND($Y$1<>\"BANCHE\",RELEVE_COTES!$M67<>\"\"),RELEVE_COTES!$M67,20)","v":{"$error":"#N/A"}},{"$f":"IF($Y$1<>\"BANCHE\",IF(RELEVE_COTES!$N67<>\"\",RELEVE_COTES!$N67,10),0)","v":{"$error":"#N/A"}},{"$f":"IF(RELEVE_COTES!$I$20=\"Huisserie Banchée\",\"Banche\",IF(RELEVE_COTES!$I$20=\"Huisserie Bois\",\"Bois\",IF(RELEVE_COTES!$I$20=\"Bâti Scellé\",\"Bâti Métal.\")))","v":false},{"$f":"RELEVE_COTES!$C$11","v":0},{"$f":"RELEVE_COTES!$K$12","v":0},{"$f":"VLOOKUP(AA19,TabSeuilRef[],2,FALSE)","v":{"$error":"#N/A"}},{"$f":"\"Paumelles \"&RELEVE_COTES!$E$15","v":"Paumelles "},{"$f":"IF(RELEVE_COTES!$K$16<>\"Déporté\",RELEVE_COTES!$K$16,RELEVE_COTES!$K$16&\" / \"&VLOOKUP(RELEVE_COTES!$L$16,TabOptUsSerr[],2,FALSE))","v":"SANS"},{"$f":"RELEVE_COTES!$K$11","v":0},{"$f":"VLOOKUP(RELEVE_COTES!$G$12,TabNuancierVTL[],2,FALSE)&\"/\"&VLOOKUP(RELEVE_COTES!$G$13,TabNuancierVTL[],2,FALSE)","v":{"$error":"#N/A"}},{"$f":"IF(RELEVE_COTES!$E$14=\"Pr.Peint\",\"PP\",VLOOKUP(RELEVE_COTES!$G$14,TabNuancHM[],2,FALSE))","v":"PP"},{"$error":"#N/A"},{"$f":"IF(RELEVE_COTES!$C$11 =\"R32S-R02\",\"OUI\",\"NON\")","v":"NON"},"NON","",{"$f":"IF(AI19=\"OUI\",RELEVE_COTES!$N$16,\"\")","v":""},null,{"$f":"RELEVE_COTES!$E$12&\"/\"&RELEVE_COTES!$E$13","v":" SANS/ SANS"},{"$f":"IF(RELEVE_COTES!$K$15<>\"SANS\",RELEVE_COTES!$L$15&\" \"&RELEVE_COTES!$K$15,\"\")&IF(RELEVE_COTES!$N$15<>\"SANS\",\" / PMR: \"&RELEVE_COTES!$O$15&\" \"&RELEVE_COTES!$N$15,\"\")","v":""},{"$f":"IF(RELEVE_COTES!$K$14 <> \"SANS\",RELEVE_COTES!$O$14&\" \"&RELEVE_COTES!$K$14,\"\")","v":"U+F "},{"$f":"IF(RELEVE_COTES!$K$13 <> \"SANS\",RELEVE_COTES!$O$13&\" \"&RELEVE_COTES!$K$13,\"SANS\")","v":"U+F "},{"$f":"VLOOKUP(RELEVE_COTES!$O$11,TabOptUsSerr[],2,FALSE)","v":"Usinage, fourniture et pose"},{"$f":"INDEX(TabFinition[FINITION],MATCH(VLOOKUP(RELEVE_COTES!$G$12,TabNuancierVTL[],3,FALSE)&VLOOKUP(RELEVE_COTES!$G$13,TabNuancierVTL[],3,FALSE),TabFinition[TYPE EXT]&TabFinition[TYPE INT],0))","v":{"$error":"#N/A"}},"INT",{"$f":"RELEVE_COTES!$E$16","v":"platines + vérins"},"NON",{"$f":"IF(RELEVE_COTES!$I$20 = \"Huisserie Bois\",RELEVE_COTES!$R67,IF(RELEVE_COTES!$I$20 = \"Huisserie Banchée\",RELEVE_COTES!$M67,IF(RELEVE_COTES!$I$20 = \"Bâti Scellé\",RELEVE_COTES!$O67,\"\")))","v":""},null,{"$f":"VLOOKUP(RELEVE_COTES!$K$11,TabSerrureRef[],3,FALSE)","v":{"$error":"#N/A"}},{"$f":"VLOOKUP(RELEVE_COTES!$K$11,TabSerrureRef[],6,FALSE)","v":{"$error":"#N/A"}}]
[{"$error":"#VALUE!"},{"$error":"#VALUE!"},{"$f":"IF(RELEVE_COTES!$A68<>\"\",SUBSTITUTE(SUBSTITUTE(SUBSTITUTE(SUBSTITUTE(SUBSTITUTE(SUBSTITUTE(SUBSTITUTE(SUBSTITUTE(RELEVE_COTES!$A68,\" \",\"\"),\"-\",\"/\"),\".\",\"/\"),\"\\\",\"/\"),\",\",\"/\"),\"+\",\"_\"),\"&\",\"_\"),\"*\",\"/\"),\"\")","v":""},{"$f":"RELEVE_COTES!$B68","v":0},1,{"$f":"IF(RELEVE_COTES!C68<>\"\",SUBSTITUTE(SUBSTITUTE(SUBSTITUTE(SUBSTITUTE(SUBSTITUTE(SUBSTITUTE(SUBSTITUTE(SUBSTITUTE(RELEVE_COTES!C68,\" \",\"\"),\"-\",\"\"),\".\",\",\"),\"\\\",\"\"),\",\",\",\"),\"+\",\"\"),\"&\",\"\"),\"*\",\"\"),\"\")","v":""},{"$f":"IF(RELEVE_COTES!D68<>\"\",SUBSTITUTE(SUBSTITUTE(SUBSTITUTE(SUBSTITUTE(SUBSTITUTE(SUBSTITUTE(SUBSTITUTE(SUBSTITUTE(RELEVE_COTES!D68,\" \",\"\"),\"-\",\"\"),\".\",\",\"),\"\\\",\"\"),\",\",\",\"),\"+\",\"\"),\"&\",\"\"),\"*\",\"\"),\"\")","v":""},{"$f":"IF(RELEVE_COTES!E68<>\"\",SUBSTITUTE(SUBSTITUTE(SUBSTITUTE(SUBSTITUTE(SUBSTITUTE(SUBSTITUTE(SUBSTITUTE(SUBSTITUTE(RELEVE_COTES!E68,\" \",\"\"),\"-\",\"\"),\".\",\",\"),\"\\\",\"\"),\",\",\",\"),\"+\",\"\"),\"&\",\"\"),\"*\",\"\"),\"\")","v":""},{"$f":"IF(RELEVE_COTES!F68<>\"\",SUBSTITUTE(SUBSTITUTE(SUBSTITUTE(SUBSTITUTE(SUBSTITUTE(SUBSTITUTE(SUBSTITUTE(SUBSTITUTE(RELEVE_COTES!F68,\" \",\"\"),\"-\",\"\"),\".\",\",\"),\"\\\",\"\"),\",\",\",\"),\"+\",\"\"),\"&\",\"\"),\"*\",\"\"),\"\")","v":""},{"$f":"IF(RELEVE_COTES!G68<>\"\",SUBSTITUTE(SUBSTITUTE(SUBSTITUTE(SUBSTITUTE(SUBSTITUTE(SUBSTITUTE(SUBSTITUTE(SUBSTITUTE(RELEVE_COTES!G68,\" \",\"\"),\"-\",\"\"),\".\",\",\"),\"\\\",\"\"),\",\",\",\"),\"+\",\"\"),\"&\",\"\"),\"*\",\"\"),\"\")","v":""},{"$f":"IF($D20=\"GP\",IF(RELEVE_COTES!$I68=\"\",0,IF(RELEVE_COTES!$I68=\"\",\"\",RELEVE_COTES!$I68)),IF(RELEVE_COTES!$H68=\"\",0,IF(RELEVE_COTES!$H68=\"\",\"\",RELEVE_COTES!$H68)))","v":0},{"$f":"IF($D20=\"GP\",IF(RELEVE_COTES!$H68=\"\",0,IF(RELEVE_COTES!$H68=\"\",\"\",RELEVE_COTES!$H68)),IF(RELEVE_COTES!$I68=\"\",0,IF(RELEVE_COTES!$I68=\"\",\"\",RELEVE_COTES!$I68)))","v":0},{"$f":"IF(RELEVE_COTES!$J68=\"\",0,IF(RELEVE_COTES!$J68=\"\",\"\",RELEVE_COTES!$J68))","v":0},{"$f":"VLOOKUP(RELEVE_COTES!$K68,TabExistantRef1[],2,FALSE)","v":{"$error":"#N/A"}},{"$f":"IF($Y$1=\"BOIS\",RELEVE_COTES!$O68,0)","v":{"$error":"#N/A"}},{"$f":"IF($Y$1=\"BOIS\",RELEVE_COTES!$P68,0)","v":{"$error":"#N/A"}},{"$f":"IF($Y$1=\"BOIS\",RELEVE_COTES!$Q68,0)","v":{"$error":"#N/A"}},{"$error":"#N/A"},{"$f":"IF($Y$1=\"BANCHE\",RELEVE_COTES!$L68,0)","v":{"$error":"#N/A"}},{"$error":"#N/A"},{"$error":"#N/A"},{"$f":"IF($Y$1<>\"BANCHE\",RELEVE_COTES!$L68,0)","v":{"$error":"#N/A"}},{"$f":"IF(AND($Y$1<>\"BANCHE\",RELEVE_COTES!$M68<>\"\"),RELEVE_COTES!$M68,20)","v":{"$error":"#N/A"}},{"$f":"IF($Y$1<>\"BANCHE\",IF(RELEVE_COTES!$N68<>\"\",RELEVE_COTES!$N68,10),0)","v":{"$error":"#N/A"}},{"$f":"IF(RELEVE_COTES!$I$20=\"Huisserie Banchée\",\"Banche\",IF(RELEVE_COTES!$I$20=\"Huisserie Bois\",\"Bois\",IF(RELEVE_COTES!$I$20=\"Bâti Scellé\",\"Bâti Métal.\")))","v":false},{"$f":"RELEVE_COTES!$C$11","v":0},{"$f":"RELEVE_COTES!$K$12","v":0},{"$f":"VLOOKUP(AA20,TabSeuilRef[],2,FALSE)","v":{"$error":"#N/A"}},{"$f":"\"Paumelles \"&RELEVE_COTES!$E$15","v":"Paumelles "},{"$f":"IF(RELEVE_COTES!$K$16<>\"Déporté\",RELEVE_COTES!$K$16,RELEVE_COTES!$K$16&\" / \"&VLOOKUP(RELEVE_COTES!$L$16,TabOptUsSerr[],2,FALSE))","v":"SANS"},{"$f":"RELEVE_COTES!$K$11","v":0},{"$f":"VLOOKUP(RELEVE_COTES!$G$12,TabNuancierVTL[],2,FALSE)&\"/\"&VLOOKUP(RELEVE_COTES!$G$13,TabNuancierVTL[],2,FALSE)","v":{"$error":"#N/A"}},{"$f":"IF(RELEVE_COTES!$E$14=\"Pr.Peint\",\"PP\",VLOOKUP(RELEVE_COTES!$G$14,TabNuancHM[],2,FALSE))","v":"PP"},{"$error":"#N/A"},{"$f":"IF(RELEVE_COTES!$C$11 =\"R32S-R02\",\"OUI\",\"NON\")","v":"NON"},"NON","",{"$f":"IF(AI20=\"OUI\",RELEVE_COTES!$N$16,\"\")","v":""},null,{"$f":"RELEVE_COTES!$E$12&\"/\"&RELEVE_COTES!$E$13","v":" SANS/ SANS"},{"$f":"IF(RELEVE_COTES!$K$15<>\"SANS\",RELEVE_COTES!$L$15&\" \"&RELEVE_COTES!$K$15,\"\")&IF(RELEVE_COTES!$N$15<>\"SANS\",\" / PMR: \"&RELEVE_COTES!$O$15&\" \"&RELEVE_COTES!$N$15,\"\")","v":""},{"$f":"IF(RELEVE_COTES!$K$14 <> \"SANS\",RELEVE_COTES!$O$14&\" \"&RELEVE_COTES!$K$14,\"\")","v":"U+F "},{"$f":"IF(RELEVE_COTES!$K$13 <> \"SANS\",RELEVE_COTES!$O$13&\" \"&RELEVE_COTES!$K$13,\"SANS\")","v":"U+F "},{"$f":"VLOOKUP(RELEVE_COTES!$O$11,TabOptUsSerr[],2,FALSE)","v":"Usinage, fourniture et pose"},{"$f":"INDEX(TabFinition[FINITION],MATCH(VLOOKUP(RELEVE_COTES!$G$12,TabNuancierVTL[],3,FALSE)&VLOOKUP(RELEVE_COTES!$G$13,TabNuancierVTL[],3,FALSE),TabFinition[TYPE EXT]&TabFinition[TYPE INT],0))","v":{"$error":"#N/A"}},"INT",{"$f":"RELEVE_COTES!$E$16","v":"platines + vérins"},"NON",{"$f":"IF(RELEVE_COTES!$I$20 = \"Huisserie Bois\",RELEVE_COTES!$R68,IF(RELEVE_COTES!$I$20 = \"Huisserie Banchée\",RELEVE_COTES!$M68,IF(RELEVE_COTES!$I$20 = \"Bâti Scellé\",RELEVE_COTES!$O68,\"\")))","v":""},null,{"$f":"VLOOKUP(RELEVE_COTES!$K$11,TabSerrureRef[],3,FALSE)","v":{"$error":"#N/A"}},{"$f":"VLOOKUP(RELEVE_COTES!$K$11,TabSerrureRef[],6,FALSE)","v":{"$error":"#N/A"}}]
[{"$error":"#VALUE!"},{"$error":"#VALUE!"},{"$f":"IF(RELEVE_COTES!$A69<>\"\",SUBSTITUTE(SUBSTITUTE(SUBSTITUTE(SUBSTITUTE(SUBSTITUTE(SUBSTITUTE(SUBSTITUTE(SUBSTITUTE(RELEVE_COTES!$A69,\" \",\"\"),\"-\",\"/\"),\".\",\"/\"),\"\\\",\"/\"),\",\",\"/\"),\"+\",\"_\"),\"&\",\"_\"),\"*\",\"/\"),\"\")","v":""},{"$f":"RELEVE_COTES!$B69","v":0},1,{"$f":"IF(RELEVE_COTES!C69<>\"\",SUBSTITUTE(SUBSTITUTE(SUBSTITUTE(SUBSTITUTE(SUBSTITUTE(SUBSTITUTE(SUBSTITUTE(SUBSTITUTE(RELEVE_COTES!C69,\" \",\"\"),\"-\",\"\"),\".\",\",\"),\"\\\",\"\"),\",\",\",\"),\"+\",\"\"),\"&\",\"\"),\"*\",\"\"),\"\")","v":""},{"$f":"IF(RELEVE_COTES!D69<>\"\",SUBSTITUTE(SUBSTITUTE(SUBSTITUTE(SUBSTITUTE(SUBSTITUTE(SUBSTITUTE(SUBSTITUTE(SUBSTITUTE(RELEVE_COTES!D69,\" \",\"\"),\"-\",\"\"),\".\",\",\"),\"\\\",\"\"),\",\",\",\"),\"+\",\"\"),\"&\",\"\"),\"*\",\"\"),\"\")","v":""},{"$f":"IF(RELEVE_COTES!E69<>\"\",SUBSTITUTE(SUBSTITUTE(SUBSTITUTE(SUBSTITUTE(SUBSTITUTE(SUBSTITUTE(SUBSTITUTE(SUBSTITUTE(RELEVE_COTES!E69,\" \",\"\"),\"-\",\"\"),\".\",\",\"),\"\\\",\"\"),\",\",\",\"),\"+\",\"\"),\"&\",\"\"),\"*\",\"\"),\"\")","v":""},{"$f":"IF(RELEVE_COTES!F69<>\"\",SUBSTITUTE(SUBSTITUTE(SUBSTITUTE(SUBSTITUTE(SUBSTITUTE(SUBSTITUTE(SUBSTITUTE(SUBSTITUTE(RELEVE_COTES!F69,\" \",\"\"),\"-\",\"\"),\".\",\",\"),\"\\\",\"\"),\",\",\",\"),\"+\",\"\"),\"&\",\"\"),\"*\",\"\"),\"\")","v":""},{"$f":"IF(RELEVE_COTES!G69<>\"\",SUBSTITUTE(SUBSTITUTE(SUBSTITUTE(SUBSTITUTE(SUBSTITUTE(SUBSTITUTE(SUBSTITUTE(SUBSTITUTE(RELEVE_COTES!G69,\" \",\"\"),\"-\",\"\"),\".\",\",\"),\"\\\",\"\"),\",\",\",\"),\"+\",\"\"),\"&\",\"\"),\"*\",\"\"),\"\")","v":""},{"$f":"IF($D21=\"GP\",IF(RELEVE_COTES!$I69=\"\",0,IF(RELEVE_COTES!$I69=\"\",\"\",RELEVE_COTES!$I69)),IF(RELEVE_COTES!$H69=\"\",0,IF(RELEVE_COTES!$H69=\"\",\"\",RELEVE_COTES!$H69)))","v":0},{"$f":"IF($D21=\"GP\",IF(RELEVE_COTES!$H69=\"\",0,IF(RELEVE_COTES!$H69=\"\",\"\",RELEVE_COTES!$H69)),IF(RELEVE_COTES!$I69=\"\",0,IF(RELEVE_COTES!$I69=\"\",\"\",RELEVE_COTES!$I69)))","v":0},{"$f":"IF(RELEVE_COTES!$J69=\"\",0,IF(RELEVE_COTES!$J69=\"\",\"\",RELEVE_COTES!$J69))","v":0},{"$f":"VLOOKUP(RELEVE_COTES!$K69,TabExistantRef1[],2,FALSE)","v":{"$error":"#N/A"}},{"$f":"IF($Y$1=\"BOIS\",RELEVE_COTES!$O69,0)","v":{"$error":"#N/A"}},{"$f":"IF($Y$1=\"BOIS\",RELEVE_COTES!$P69,0)","v":{"$error":"#N/A"}},{"$f":"IF($Y$1=\"BOIS\",RELEVE_COTES!$Q69,0)","v":{"$error":"#N/A"}},{"$error":"#N/A"},{"$f":"IF($Y$1=\"BANCHE\",RELEVE_COTES!$L69,0)","v":{"$error":"#N/A"}},{"$error":"#N/A"},{"$error":"#N/A"},{"$f":"IF($Y$1<>\"BANCHE\",RELEVE_COTES!$L69,0)","v":{"$error":"#N/A"}},{"$f":"IF(AND($Y$1<>\"BANCHE\",RELEVE_COTES!$M69<>\"\"),RELEVE_COTES!$M69,20)","v":{"$error":"#N/A"}},{"$f":"IF($Y$1<>\"BANCHE\",IF(RELEVE_COTES!$N69<>\"\",RELEVE_COTES!$N69,10),0)","v":{"$error":"#N/A"}},{"$f":"IF(RELEVE_COTES!$I$20=\"Huisserie Banchée\",\"Banche\",IF(RELEVE_COTES!$I$20=\"Huisserie Bois\",\"Bois\",IF(RELEVE_COTES!$I$20=\"Bâti Scellé\",\"Bâti Métal.\")))","v":false},{"$f":"RELEVE_COTES!$C$11","v":0},{"$f":"RELEVE_COTES!$K$12","v":0},{"$f":"VLOOKUP(AA21,TabSeuilRef[],2,FALSE)","v":{"$error":"#N/A"}},{"$f":"\"Paumelles \"&RELEVE_COTES!$E$15","v":"Paumelles "},{"$f":"IF(RELEVE_COTES!$K$16<>\"Déporté\",RELEVE_COTES!$K$16,RELEVE_COTES!$K$16&\" / \"&VLOOKUP(RELEVE_COTES!$L$16,TabOptUsSerr[],2,FALSE))","v":"SANS"},{"$f":"RELEVE_COTES!$K$11","v":0},{"$f":"VLOOKUP(RELEVE_COTES!$G$12,TabNuancierVTL[],2,FALSE)&\"/\"&VLOOKUP(RELEVE_COTES!$G$13,TabNuancierVTL[],2,FALSE)","v":{"$error":"#N/A"}},{"$f":"IF(RELEVE_COTES!$E$14=\"Pr.Peint\",\"PP\",VLOOKUP(RELEVE_COTES!$G$14,TabNuancHM[],2,FALSE))","v":"PP"},{"$error":"#N/A"},{"$f":"IF(RELEVE_COTES!$C$11 =\"R32S-R02\",\"OUI\",\"NON\")","v":"NON"},"NON","",{"$f":"IF(AI21=\"OUI\",RELEVE_COTES!$N$16,\"\")","v":""},null,{"$f":"RELEVE_COTES!$E$12&\"/\"&RELEVE_COTES!$E$13","v":" SANS/ SANS"},{"$f":"IF(RELEVE_COTES!$K$15<>\"SANS\",RELEVE_COTES!$L$15&\" \"&RELEVE_COTES!$K$15,\"\")&IF(RELEVE_COTES!$N$15<>\"SANS\",\" / PMR: \"&RELEVE_COTES!$O$15&\" \"&RELEVE_COTES!$N$15,\"\")","v":""},{"$f":"IF(RELEVE_COTES!$K$14 <> \"SANS\",RELEVE_COTES!$O$14&\" \"&RELEVE_COTES!$K$14,\"\")","v":"U+F "},{"$f":"IF(RELEVE_COTES!$K$13 <> \"SANS\",RELEVE_COTES!$O$13&\" \"&RELEVE_COTES!$K$13,\"SANS\")","v":"U+F "},{"$f":"VLOOKUP(RELEVE_COTES!$O$11,TabOptUsSerr[],2,FALSE)","v":"Usinage, fourniture et pose"},{"$f":"INDEX(TabFinition[FINITION],MATCH(VLOOKUP(RELEVE_COTES!$G$12,TabNuancierVTL[],3,FALSE)&VLOOKUP(RELEVE_COTES!$G$13,TabNuancierVTL[],3,FALSE),TabFinition[TYPE EXT]&TabFinition[TYPE INT],0))","v":{"$error":"#N/A"}},"INT",{"$f":"RELEVE_COTES!$E$16","v":"platines + vérins"},"NON",{"$f":"IF(RELEVE_COTES!$I$20 = \"Huisserie Bois\",RELEVE_COTES!$R69,IF(RELEVE_COTES!$I$20 = \"Huisserie Banchée\",RELEVE_COTES!$M69,IF(RELEVE_COTES!$I$20 = \"Bâti Scellé\",RELEVE_COTES!$O69,\"\")))","v":""},null,{"$f":"VLOOKUP(RELEVE_COTES!$K$11,TabSerrureRef[],3,FALSE)","v":{"$error":"#N/A"}},{"$f":"VLOOKUP(RELEVE_COTES!$K$11,TabSerrureRef[],6,FALSE)","v":{"$error":"#N/A"}}]
[{"$error":"#VALUE!"},{"$error":"#VALUE!"},{"$f":"IF(RELEVE_COTES!$A70<>\"\",SUBSTITUTE(SUBSTITUTE(SUBSTITUTE(SUBSTITUTE(SUBSTITUTE(SUBSTITUTE(SUBSTITUTE(SUBSTITUTE(RELEVE_COTES!$A70,\" \",\"\"),\"-\",\"/\"),\".\",\"/\"),\"\\\",\"/\"),\",\",\"/\"),\"+\",\"_\"),\"&\",\"_\"),\"*\",\"/\"),\"\")","v":""},{"$f":"RELEVE_COTES!$B70","v":0},1,{"$f":"IF(RELEVE_COTES!C70<>\"\",SUBSTITUTE(SUBSTITUTE(SUBSTITUTE(SUBSTITUTE(SUBSTITUTE(SUBSTITUTE(SUBSTITUTE(SUBSTITUTE(RELEVE_COTES!C70,\" \",\"\"),\"-\",\"\"),\".\",\",\"),\"\\\",\"\"),\",\",\",\"),\"+\",\"\"),\"&\",\"\"),\"*\",\"\"),\"\")","v":""},{"$f":"IF(RELEVE_COTES!D70<>\"\",SUBSTITUTE(SUBSTITUTE(SUBSTITUTE(SUBSTITUTE(SUBSTITUTE(SUBSTITUTE(SUBSTITUTE(SUBSTITUTE(RELEVE_COTES!D70,\" \",\"\"),\"-\",\"\"),\".\",\",\"),\"\\\",\"\"),\",\",\",\"),\"+\",\"\"),\"&\",\"\"),\"*\",\"\"),\"\")","v":""},{"$f":"IF(RELEVE_COTES!E70<>\"\",SUBSTITUTE(SUBSTITUTE(SUBSTITUTE(SUBSTITUTE(SUBSTITUTE(SUBSTITUTE(SUBSTITUTE(SUBSTITUTE(RELEVE_COTES!E70,\" \",\"\"),\"-\",\"\"),\".\",\",\"),\"\\\",\"\"),\",\",\",\"),\"+\",\"\"),\"&\",\"\"),\"*\",\"\"),\"\")","v":""},{"$f":"IF(RELEVE_COTES!F70<>\"\",SUBSTITUTE(SUBSTITUTE(SUBSTITUTE(SUBSTITUTE(SUBSTITUTE(SUBSTITUTE(SUBSTITUTE(SUBSTITUTE(RELEVE_COTES!F70,\" \",\"\"),\"-\",\"\"),\".\",\",\"),\"\\\",\"\"),\",\",\",\"),\"+\",\"\"),\"&\",\"\"),\"*\",\"\"),\"\")","v":""},{"$f":"IF(RELEVE_COTES!G70<>\"\",SUBSTITUTE(SUBSTITUTE(SUBSTITUTE(SUBSTITUTE(SUBSTITUTE(SUBSTITUTE(SUBSTITUTE(SUBSTITUTE(RELEVE_COTES!G70,\" \",\"\"),\"-\",\"\"),\".\",\",\"),\"\\\",\"\"),\",\",\",\"),\"+\",\"\"),\"&\",\"\"),\"*\",\"\"),\"\")","v":""},{"$f":"IF($D22=\"GP\",IF(RELEVE_COTES!$I70=\"\",0,IF(RELEVE_COTES!$I70=\"\",\"\",RELEVE_COTES!$I70)),IF(RELEVE_COTES!$H70=\"\",0,IF(RELEVE_COTES!$H70=\"\",\"\",RELEVE_COTES!$H70)))","v":0},{"$f":"IF($D22=\"GP\",IF(RELEVE_COTES!$H70=\"\",0,IF(RELEVE_COTES!$H70=\"\",\"\",RELEVE_COTES!$H70)),IF(RELEVE_COTES!$I70=\"\",0,IF(RELEVE_COTES!$I70=\"\",\"\",RELEVE_COTES!$I70)))","v":0},{"$f":"IF(RELEVE_COTES!$J70=\"\",0,IF(RELEVE_COTES!$J70=\"\",\"\",RELEVE_COTES!$J70))","v":0},{"$f":"VLOOKUP(RELEVE_COTES!$K70,TabExistantRef1[],2,FALSE)","v":{"$error":"#N/A"}},{"$f":"IF($Y$1=\"BOIS\",RELEVE_COTES!$O70,0)","v":{"$error":"#N/A"}},{"$f":"IF($Y$1=\"BOIS\",RELEVE_COTES!$P70,0)","v":{"$error":"#N/A"}},{"$f":"IF($Y$1=\"BOIS\",RELEVE_COTES!$Q70,0)","v":{"$error":"#N/A"}},{"$error":"#N/A"},{"$f":"IF($Y$1=\"BANCHE\",RELEVE_COTES!$L70,0)","v":{"$error":"#N/A"}},{"$error":"#N/A"},{"$error":"#N/A"},{"$f":"IF($Y$1<>\"BANCHE\",RELEVE_COTES!$L70,0)","v":{"$error":"#N/A"}},{"$f":"IF(AND($Y$1<>\"BANCHE\",RELEVE_COTES!$M70<>\"\"),RELEVE_COTES!$M70,20)","v":{"$error":"#N/A"}},{"$f":"IF($Y$1<>\"BANCHE\",IF(RELEVE_COTES!$N70<>\"\",RELEVE_COTES!$N70,10),0)","v":{"$error":"#N/A"}},{"$f":"IF(RELEVE_COTES!$I$20=\"Huisserie Banchée\",\"Banche\",IF(RELEVE_COTES!$I$20=\"Huisserie Bois\",\"Bois\",IF(RELEVE_COTES!$I$20=\"Bâti Scellé\",\"Bâti Métal.\")))","v":false},{"$f":"RELEVE_COTES!$C$11","v":0},{"$f":"RELEVE_COTES!$K$12","v":0},{"$f":"VLOOKUP(AA22,TabSeuilRef[],2,FALSE)","v":{"$error":"#N/A"}},{"$f":"\"Paumelles \"&RELEVE_COTES!$E$15","v":"Paumelles "},{"$f":"IF(RELEVE_COTES!$K$16<>\"Déporté\",RELEVE_COTES!$K$16,RELEVE_COTES!$K$16&\" / \"&VLOOKUP(RELEVE_COTES!$L$16,TabOptUsSerr[],2,FALSE))","v":"SANS"},{"$f":"RELEVE_COTES!$K$11","v":0},{"$f":"VLOOKUP(RELEVE_COTES!$G$12,TabNuancierVTL[],2,FALSE)&\"/\"&VLOOKUP(RELEVE_COTES!$G$13,TabNuancierVTL[],2,FALSE)","v":{"$error":"#N/A"}},{"$f":"IF(RELEVE_COTES!$E$14=\"Pr.Peint\",\"PP\",VLOOKUP(RELEVE_COTES!$G$14,TabNuancHM[],2,FALSE))","v":"PP"},{"$error":"#N/A"},{"$f":"IF(RELEVE_COTES!$C$11 =\"R32S-R02\",\"OUI\",\"NON\")","v":"NON"},"NON","",{"$f":"IF(AI22=\"OUI\",RELEVE_COTES!$N$16,\"\")","v":""},null,{"$f":"RELEVE_COTES!$E$12&\"/\"&RELEVE_COTES!$E$13","v":" SANS/ SANS"},{"$f":"IF(RELEVE_COTES!$K$15<>\"SANS\",RELEVE_COTES!$L$15&\" \"&RELEVE_COTES!$K$15,\"\")&IF(RELEVE_COTES!$N$15<>\"SANS\",\" / PMR: \"&RELEVE_COTES!$O$15&\" \"&RELEVE_COTES!$N$15,\"\")","v":""},{"$f":"IF(RELEVE_COTES!$K$14 <> \"SANS\",RELEVE_COTES!$O$14&\" \"&RELEVE_COTES!$K$14,\"\")","v":"U+F "},{"$f":"IF(RELEVE_COTES!$K$13 <> \"SANS\",RELEVE_COTES!$O$13&\" \"&RELEVE_COTES!$K$13,\"SANS\")","v":"U+F "},{"$f":"VLOOKUP(RELEVE_COTES!$O$11,TabOptUsSerr[],2,FALSE)","v":"Usinage, fourniture et pose"},{"$f":"INDEX(TabFinition[FINITION],MATCH(VLOOKUP(RELEVE_COTES!$G$12,TabNuancierVTL[],3,FALSE)&VLOOKUP(RELEVE_COTES!$G$13,TabNuancierVTL[],3,FALSE),TabFinition[TYPE EXT]&TabFinition[TYPE INT],0))","v":{"$error":"#N/A"}},"INT",{"$f":"RELEVE_COTES!$E$16","v":"platines + vérins"},"NON",{"$f":"IF(RELEVE_COTES!$I$20 = \"Huisserie Bois\",RELEVE_COTES!$R70,IF(RELEVE_COTES!$I$20 = \"Huisserie Banchée\",RELEVE_COTES!$M70,IF(RELEVE_COTES!$I$20 = \"Bâti Scellé\",RELEVE_COTES!$O70,\"\")))","v":""},null,{"$f":"VLOOKUP(RELEVE_COTES!$K$11,TabSerrureRef[],3,FALSE)","v":{"$error":"#N/A"}},{"$f":"VLOOKUP(RELEVE_COTES!$K$11,TabSerrureRef[],6,FALSE)","v":{"$error":"#N/A"}}]
[{"$error":"#VALUE!"},{"$error":"#VALUE!"},{"$f":"IF(RELEVE_COTES!$A71<>\"\",SUBSTITUTE(SUBSTITUTE(SUBSTITUTE(SUBSTITUTE(SUBSTITUTE(SUBSTITUTE(SUBSTITUTE(SUBSTITUTE(RELEVE_COTES!$A71,\" \",\"\"),\"-\",\"/\"),\".\",\"/\"),\"\\\",\"/\"),\",\",\"/\"),\"+\",\"_\"),\"&\",\"_\"),\"*\",\"/\"),\"\")","v":""},{"$f":"RELEVE_COTES!$B71","v":0},1,{"$f":"IF(RELEVE_COTES!C71<>\"\",SUBSTITUTE(SUBSTITUTE(SUBSTITUTE(SUBSTITUTE(SUBSTITUTE(SUBSTITUTE(SUBSTITUTE(SUBSTITUTE(RELEVE_COTES!C71,\" \",\"\"),\"-\",\"\"),\".\",\",\"),\"\\\",\"\"),\",\",\",\"),\"+\",\"\"),\"&\",\"\"),\"*\",\"\"),\"\")","v":""},{"$f":"IF(RELEVE_COTES!D71<>\"\",SUBSTITUTE(SUBSTITUTE(SUBSTITUTE(SUBSTITUTE(SUBSTITUTE(SUBSTITUTE(SUBSTITUTE(SUBSTITUTE(RELEVE_COTES!D71,\" \",\"\"),\"-\",\"\"),\".\",\",\"),\"\\\",\"\"),\",\",\",\"),\"+\",\"\"),\"&\",\"\"),\"*\",\"\"),\"\")","v":""},{"$f":"IF(RELEVE_COTES!E71<>\"\",SUBSTITUTE(SUBSTITUTE(SUBSTITUTE(SUBSTITUTE(SUBSTITUTE(SUBSTITUTE(SUBSTITUTE(SUBSTITUTE(RELEVE_COTES!E71,\" \",\"\"),\"-\",\"\"),\".\",\",\"),\"\\\",\"\"),\",\",\",\"),\"+\",\"\"),\"&\",\"\"),\"*\",\"\"),\"\")","v":""},{"$f":"IF(RELEVE_COTES!F71<>\"\",SUBSTITUTE(SUBSTITUTE(SUBSTITUTE(SUBSTITUTE(SUBSTITUTE(SUBSTITUTE(SUBSTITUTE(SUBSTITUTE(RELEVE_COTES!F71,\" \",\"\"),\"-\",\"\"),\".\",\",\"),\"\\\",\"\"),\",\",\",\"),\"+\",\"\"),\"&\",\"\"),\"*\",\"\"),\"\")","v":""},{"$f":"IF(RELEVE_COTES!G71<>\"\",SUBSTITUTE(SUBSTITUTE(SUBSTITUTE(SUBSTITUTE(SUBSTITUTE(SUBSTITUTE(SUBSTITUTE(SUBSTITUTE(RELEVE_COTES!G71,\" \",\"\"),\"-\",\"\"),\".\",\",\"),\"\\\",\"\"),\",\",\",\"),\"+\",\"\"),\"&\",\"\"),\"*\",\"\"),\"\")","v":""},{"$f":"IF($D23=\"GP\",IF(RELEVE_COTES!$I71=\"\",0,IF(RELEVE_COTES!$I71=\"\",\"\",RELEVE_COTES!$I71)),IF(RELEVE_COTES!$H71=\"\",0,IF(RELEVE_COTES!$H71=\"\",\"\",RELEVE_COTES!$H71)))","v":0},{"$f":"IF($D23=\"GP\",IF(RELEVE_COTES!$H71=\"\",0,IF(RELEVE_COTES!$H71=\"\",\"\",RELEVE_COTES!$H71)),IF(RELEVE_COTES!$I71=\"\",0,IF(RELEVE_COTES!$I71=\"\",\"\",RELEVE_COTES!$I71)))","v":0},{"$f":"IF(RELEVE_COTES!$J71=\"\",0,IF(RELEVE_COTES!$J71=\"\",\"\",RELEVE_COTES!$J71))","v":0},{"$f":"VLOOKUP(RELEVE_COTES!$K71,TabExistantRef1[],2,FALSE)","v":{"$error":"#N/A"}},{"$f":"IF($Y$1=\"BOIS\",RELEVE_COTES!$O71,0)","v":{"$error":"#N/A"}},{"$f":"IF($Y$1=\"BOIS\",RELEVE_COTES!$P71,0)","v":{"$error":"#N/A"}},{"$f":"IF($Y$1=\"BOIS\",RELEVE_COTES!$Q71,0)","v":{"$error":"#N/A"}},{"$error":"#N/A"},{"$f":"IF($Y$1=\"BANCHE\",RELEVE_COTES!$L71,0)","v":{"$error":"#N/A"}},{"$error":"#N/A"},{"$error":"#N/A"},{"$f":"IF($Y$1<>\"BANCHE\",RELEVE_COTES!$L71,0)","v":{"$error":"#N/A"}},{"$f":"IF(AND($Y$1<>\"BANCHE\",RELEVE_COTES!$M71<>\"\"),RELEVE_COTES!$M71,20)","v":{"$error":"#N/A"}},{"$f":"IF($Y$1<>\"BANCHE\",IF(RELEVE_COTES!$N71<>\"\",RELEVE_COTES!$N71,10),0)","v":{"$error":"#N/A"}},{"$f":"IF(RELEVE_COTES!$I$20=\"Huisserie Banchée\",\"Banche\",IF(RELEVE_COTES!$I$20=\"Huisserie Bois\",\"Bois\",IF(RELEVE_COTES!$I$20=\"Bâti Scellé\",\"Bâti Métal.\")))","v":false},{"$f":"RELEVE_COTES!$C$11","v":0},{"$f":"RELEVE_COTES!$K$12","v":0},{"$f":"VLOOKUP(AA23,TabSeuilRef[],2,FALSE)","v":{"$error":"#N/A"}},{"$f":"\"Paumelles \"&RELEVE_COTES!$E$15","v":"Paumelles "},{"$f":"IF(RELEVE_COTES!$K$16<>\"Déporté\",RELEVE_COTES!$K$16,RELEVE_COTES!$K$16&\" / \"&VLOOKUP(RELEVE_COTES!$L$16,TabOptUsSerr[],2,FALSE))","v":"SANS"},{"$f":"RELEVE_COTES!$K$11","v":0},{"$f":"VLOOKUP(RELEVE_COTES!$G$12,TabNuancierVTL[],2,FALSE)&\"/\"&VLOOKUP(RELEVE_COTES!$G$13,TabNuancierVTL[],2,FALSE)","v":{"$error":"#N/A"}},{"$f":"IF(RELEVE_COTES!$E$14=\"Pr.Peint\",\"PP\",VLOOKUP(RELEVE_COTES!$G$14,TabNuancHM[],2,FALSE))","v":"PP"},{"$error":"#N/A"},{"$f":"IF(RELEVE_COTES!$C$11 =\"R32S-R02\",\"OUI\",\"NON\")","v":"NON"},"NON","",{"$f":"IF(AI23=\"OUI\",RELEVE_COTES!$N$16,\"\")","v":""},null,{"$f":"RELEVE_COTES!$E$12&\"/\"&RELEVE_COTES!$E$13","v":" SANS/ SANS"},{"$f":"IF(RELEVE_COTES!$K$15<>\"SANS\",RELEVE_COTES!$L$15&\" \"&RELEVE_COTES!$K$15,\"\")&IF(RELEVE_COTES!$N$15<>\"SANS\",\" / PMR: \"&RELEVE_COTES!$O$15&\" \"&RELEVE_COTES!$N$15,\"\")","v":""},{"$f":"IF(RELEVE_COTES!$K$14 <> \"SANS\",RELEVE_COTES!$O$14&\" \"&RELEVE_COTES!$K$14,\"\")","v":"U+F "},{"$f":"IF(RELEVE_COTES!$K$13 <> \"SANS\",RELEVE_COTES!$O$13&\" \"&RELEVE_COTES!$K$13,\"SANS\")","v":"U+F "},{"$f":"VLOOKUP(RELEVE_COTES!$O$11,TabOptUsSerr[],2,FALSE)","v":"Usinage, fourniture et pose"},{"$f":"INDEX(TabFinition[FINITION],MATCH(VLOOKUP(RELEVE_COTES!$G$12,TabNuancierVTL[],3,FALSE)&VLOOKUP(RELEVE_COTES!$G$13,TabNuancierVTL[],3,FALSE),TabFinition[TYPE EXT]&TabFinition[TYPE INT],0))","v":{"$error":"#N/A"}},"INT",{"$f":"RELEVE_COTES!$E$16","v":"platines + vérins"},"NON",{"$f":"IF(RELEVE_COTES!$I$20 = \"Huisserie Bois\",RELEVE_COTES!$R71,IF(RELEVE_COTES!$I$20 = \"Huisserie Banchée\",RELEVE_COTES!$M71,IF(RELEVE_COTES!$I$20 = \"Bâti Scellé\",RELEVE_COTES!$O71,\"\")))","v":""},null,{"$f":"VLOOKUP(RELEVE_COTES!$K$11,TabSerrureRef[],3,FALSE)","v":{"$error":"#N/A"}},{"$f":"VLOOKUP(RELEVE_COTES!$K$11,TabSerrureRef[],6,FALSE)","v":{"$error":"#N/A"}}]
[{"$error":"#VALUE!"},{"$error":"#VALUE!"},{"$f":"IF(RELEVE_COTES!$A72<>\"\",SUBSTITUTE(SUBSTITUTE(SUBSTITUTE(SUBSTITUTE(SUBSTITUTE(SUBSTITUTE(SUBSTITUTE(SUBSTITUTE(RELEVE_COTES!$A72,\" \",\"\"),\"-\",\"/\"),\".\",\"/\"),\"\\\",\"/\"),\",\",\"/\"),\"+\",\"_\"),\"&\",\"_\"),\"*\",\"/\"),\"\")","v":""},{"$f":"RELEVE_COTES!$B72","v":0},1,{"$f":"IF(RELEVE_COTES!C72<>\"\",SUBSTITUTE(SUBSTITUTE(SUBSTITUTE(SUBSTITUTE(SUBSTITUTE(SUBSTITUTE(SUBSTITUTE(SUBSTITUTE(RELEVE_COTES!C72,\" \",\"\"),\"-\",\"\"),\".\",\",\"),\"\\\",\"\"),\",\",\",\"),\"+\",\"\"),\"&\",\"\"),\"*\",\"\"),\"\")","v":""},{"$f":"IF(RELEVE_COTES!D72<>\"\",SUBSTITUTE(SUBSTITUTE(SUBSTITUTE(SUBSTITUTE(SUBSTITUTE(SUBSTITUTE(SUBSTITUTE(SUBSTITUTE(RELEVE_COTES!D72,\" \",\"\"),\"-\",\"\"),\".\",\",\"),\"\\\",\"\"),\",\",\",\"),\"+\",\"\"),\"&\",\"\"),\"*\",\"\"),\"\")","v":""},{"$f":"IF(RELEVE_COTES!E72<>\"\",SUBSTITUTE(SUBSTITUTE(SUBSTITUTE(SUBSTITUTE(SUBSTITUTE(SUBSTITUTE(SUBSTITUTE(SUBSTITUTE(RELEVE_COTES!E72,\" \",\"\"),\"-\",\"\"),\".\",\",\"),\"\\\",\"\"),\",\",\",\"),\"+\",\"\"),\"&\",\"\"),\"*\",\"\"),\"\")","v":""},{"$f":"IF(RELEVE_COTES!F72<>\"\",SUBSTITUTE(SUBSTITUTE(SUBSTITUTE(SUBSTITUTE(SUBSTITUTE(SUBSTITUTE(SUBSTITUTE(SUBSTITUTE(RELEVE_COTES!F72,\" \",\"\"),\"-\",\"\"),\".\",\",\"),\"\\\",\"\"),\",\",\",\"),\"+\",\"\"),\"&\",\"\"),\"*\",\"\"),\"\")","v":""},{"$f":"IF(RELEVE_COTES!G72<>\"\",SUBSTITUTE(SUBSTITUTE(SUBSTITUTE(SUBSTITUTE(SUBSTITUTE(SUBSTITUTE(SUBSTITUTE(SUBSTITUTE(RELEVE_COTES!G72,\" \",\"\"),\"-\",\"\"),\".\",\",\"),\"\\\",\"\"),\",\",\",\"),\"+\",\"\"),\"&\",\"\"),\"*\",\"\"),\"\")","v":""},{"$f":"IF($D24=\"GP\",IF(RELEVE_COTES!$I72=\"\",0,IF(RELEVE_COTES!$I72=\"\",\"\",RELEVE_COTES!$I72)),IF(RELEVE_COTES!$H72=\"\",0,IF(RELEVE_COTES!$H72=\"\",\"\",RELEVE_COTES!$H72)))","v":0},{"$f":"IF($D24=\"GP\",IF(RELEVE_COTES!$H72=\"\",0,IF(RELEVE_COTES!$H72=\"\",\"\",RELEVE_COTES!$H72)),IF(RELEVE_COTES!$I72=\"\",0,IF(RELEVE_COTES!$I72=\"\",\"\",RELEVE_COTES!$I72)))","v":0},{"$f":"IF(RELEVE_COTES!$J72=\"\",0,IF(RELEVE_COTES!$J72=\"\",\"\",RELEVE_COTES!$J72))","v":0},{"$f":"VLOOKUP(RELEVE_COTES!$K72,TabExistantRef1[],2,FALSE)","v":{"$error":"#N/A"}},{"$f":"IF($Y$1=\"BOIS\",RELEVE_COTES!$O72,0)","v":{"$error":"#N/A"}},{"$f":"IF($Y$1=\"BOIS\",RELEVE_COTES!$P72,0)","v":{"$error":"#N/A"}},{"$f":"IF($Y$1=\"BOIS\",RELEVE_COTES!$Q72,0)","v":{"$error":"#N/A"}},{"$error":"#N/A"},{"$f":"IF($Y$1=\"BANCHE\",RELEVE_COTES!$L72,0)","v":{"$error":"#N/A"}},{"$error":"#N/A"},{"$error":"#N/A"},{"$f":"IF($Y$1<>\"BANCHE\",RELEVE_COTES!$L72,0)","v":{"$error":"#N/A"}},{"$f":"IF(AND($Y$1<>\"BANCHE\",RELEVE_COTES!$M72<>\"\"),RELEVE_COTES!$M72,20)","v":{"$error":"#N/A"}},{"$f":"IF($Y$1<>\"BANCHE\",IF(RELEVE_COTES!$N72<>\"\",RELEVE_COTES!$N72,10),0)","v":{"$error":"#N/A"}},{"$f":"IF(RELEVE_COTES!$I$20=\"Huisserie Banchée\",\"Banche\",IF(RELEVE_COTES!$I$20=\"Huisserie Bois\",\"Bois\",IF(RELEVE_COTES!$I$20=\"Bâti Scellé\",\"Bâti Métal.\")))","v":false},{"$f":"RELEVE_COTES!$C$11","v":0},{"$f":"RELEVE_COTES!$K$12","v":0},{"$f":"VLOOKUP(AA24,TabSeuilRef[],2,FALSE)","v":{"$error":"#N/A"}},{"$f":"\"Paumelles \"&RELEVE_COTES!$E$15","v":"Paumelles "},{"$f":"IF(RELEVE_COTES!$K$16<>\"Déporté\",RELEVE_COTES!$K$16,RELEVE_COTES!$K$16&\" / \"&VLOOKUP(RELEVE_COTES!$L$16,TabOptUsSerr[],2,FALSE))","v":"SANS"},{"$f":"RELEVE_COTES!$K$11","v":0},{"$f":"VLOOKUP(RELEVE_COTES!$G$12,TabNuancierVTL[],2,FALSE)&\"/\"&VLOOKUP(RELEVE_COTES!$G$13,TabNuancierVTL[],2,FALSE)","v":{"$error":"#N/A"}},{"$f":"IF(RELEVE_COTES!$E$14=\"Pr.Peint\",\"PP\",VLOOKUP(RELEVE_COTES!$G$14,TabNuancHM[],2,FALSE))","v":"PP"},{"$error":"#N/A"},{"$f":"IF(RELEVE_COTES!$C$11 =\"R32S-R02\",\"OUI\",\"NON\")","v":"NON"},"NON","",{"$f":"IF(AI24=\"OUI\",RELEVE_COTES!$N$16,\"\")","v":""},null,{"$f":"RELEVE_COTES!$E$12&\"/\"&RELEVE_COTES!$E$13","v":" SANS/ SANS"},{"$f":"IF(RELEVE_COTES!$K$15<>\"SANS\",RELEVE_COTES!$L$15&\" \"&RELEVE_COTES!$K$15,\"\")&IF(RELEVE_COTES!$N$15<>\"SANS\",\" / PMR: \"&RELEVE_COTES!$O$15&\" \"&RELEVE_COTES!$N$15,\"\")","v":""},{"$f":"IF(RELEVE_COTES!$K$14 <> \"SANS\",RELEVE_COTES!$O$14&\" \"&RELEVE_COTES!$K$14,\"\")","v":"U+F "},{"$f":"IF(RELEVE_COTES!$K$13 <> \"SANS\",RELEVE_COTES!$O$13&\" \"&RELEVE_COTES!$K$13,\"SANS\")","v":"U+F "},{"$f":"VLOOKUP(RELEVE_COTES!$O$11,TabOptUsSerr[],2,FALSE)","v":"Usinage, fourniture et pose"},{"$f":"INDEX(TabFinition[FINITION],MATCH(VLOOKUP(RELEVE_COTES!$G$12,TabNuancierVTL[],3,FALSE)&VLOOKUP(RELEVE_COTES!$G$13,TabNuancierVTL[],3,FALSE),TabFinition[TYPE EXT]&TabFinition[TYPE INT],0))","v":{"$error":"#N/A"}},"INT",{"$f":"RELEVE_COTES!$E$16","v":"platines + vérins"},"NON",{"$f":"IF(RELEVE_COTES!$I$20 = \"Huisserie Bois\",RELEVE_COTES!$R72,IF(RELEVE_COTES!$I$20 = \"Huisserie Banchée\",RELEVE_COTES!$M72,IF(RELEVE_COTES!$I$20 = \"Bâti Scellé\",RELEVE_COTES!$O72,\"\")))","v":""},null,{"$f":"VLOOKUP(RELEVE_COTES!$K$11,TabSerrureRef[],3,FALSE)","v":{"$error":"#N/A"}},{"$f":"VLOOKUP(RELEVE_COTES!$K$11,TabSerrureRef[],6,FALSE)","v":{"$error":"#N/A"}}]
[{"$error":"#VALUE!"},{"$error":"#VALUE!"},{"$f":"IF(RELEVE_COTES!$A73<>\"\",SUBSTITUTE(SUBSTITUTE(SUBSTITUTE(SUBSTITUTE(SUBSTITUTE(SUBSTITUTE(SUBSTITUTE(SUBSTITUTE(RELEVE_COTES!$A73,\" \",\"\"),\"-\",\"/\"),\".\",\"/\"),\"\\\",\"/\"),\",\",\"/\"),\"+\",\"_\"),\"&\",\"_\"),\"*\",\"/\"),\"\")","v":""},{"$f":"RELEVE_COTES!$B73","v":0},1,{"$f":"IF(RELEVE_COTES!C73<>\"\",SUBSTITUTE(SUBSTITUTE(SUBSTITUTE(SUBSTITUTE(SUBSTITUTE(SUBSTITUTE(SUBSTITUTE(SUBSTITUTE(RELEVE_COTES!C73,\" \",\"\"),\"-\",\"\"),\".\",\",\"),\"\\\",\"\"),\",\",\",\"),\"+\",\"\"),\"&\",\"\"),\"*\",\"\"),\"\")","v":""},{"$f":"IF(RELEVE_COTES!D73<>\"\",SUBSTITUTE(SUBSTITUTE(SUBSTITUTE(SUBSTITUTE(SUBSTITUTE(SUBSTITUTE(SUBSTITUTE(SUBSTITUTE(RELEVE_COTES!D73,\" \",\"\"),\"-\",\"\"),\".\",\",\"),\"\\\",\"\"),\",\",\",\"),\"+\",\"\"),\"&\",\"\"),\"*\",\"\"),\"\")","v":""},{"$f":"IF(RELEVE_COTES!E73<>\"\",SUBSTITUTE(SUBSTITUTE(SUBSTITUTE(SUBSTITUTE(SUBSTITUTE(SUBSTITUTE(SUBSTITUTE(SUBSTITUTE(RELEVE_COTES!E73,\" \",\"\"),\"-\",\"\"),\".\",\",\"),\"\\\",\"\"),\",\",\",\"),\"+\",\"\"),\"&\",\"\"),\"*\",\"\"),\"\")","v":""},{"$f":"IF(RELEVE_COTES!F73<>\"\",SUBSTITUTE(SUBSTITUTE(SUBSTITUTE(SUBSTITUTE(SUBSTITUTE(SUBSTITUTE(SUBSTITUTE(SUBSTITUTE(RELEVE_COTES!F73,\" \",\"\"),\"-\",\"\"),\".\",\",\"),\"\\\",\"\"),\",\",\",\"),\"+\",\"\"),\"&\",\"\"),\"*\",\"\"),\"\")","v":""},{"$f":"IF(RELEVE_COTES!G73<>\"\",SUBSTITUTE(SUBSTITUTE(SUBSTITUTE(SUBSTITUTE(SUBSTITUTE(SUBSTITUTE(SUBSTITUTE(SUBSTITUTE(RELEVE_COTES!G73,\" \",\"\"),\"-\",\"\"),\".\",\",\"),\"\\\",\"\"),\",\",\",\"),\"+\",\"\"),\"&\",\"\"),\"*\",\"\"),\"\")","v":""},{"$f":"IF($D25=\"GP\",IF(RELEVE_COTES!$I73=\"\",0,IF(RELEVE_COTES!$I73=\"\",\"\",RELEVE_COTES!$I73)),IF(RELEVE_COTES!$H73=\"\",0,IF(RELEVE_COTES!$H73=\"\",\"\",RELEVE_COTES!$H73)))","v":0},{"$f":"IF($D25=\"GP\",IF(RELEVE_COTES!$H73=\"\",0,IF(RELEVE_COTES!$H73=\"\",\"\",RELEVE_COTES!$H73)),IF(RELEVE_COTES!$I73=\"\",0,IF(RELEVE_COTES!$I73=\"\",\"\",RELEVE_COTES!$I73)))","v":0},{"$f":"IF(RELEVE_COTES!$J73=\"\",0,IF(RELEVE_COTES!$J73=\"\",\"\",RELEVE_COTES!$J73))","v":0},{"$f":"VLOOKUP(RELEVE_COTES!$K73,TabExistantRef1[],2,FALSE)","v":{"$error":"#N/A"}},{"$f":"IF($Y$1=\"BOIS\",RELEVE_COTES!$O73,0)","v":{"$error":"#N/A"}},{"$f":"IF($Y$1=\"BOIS\",RELEVE_COTES!$P73,0)","v":{"$error":"#N/A"}},{"$f":"IF($Y$1=\"BOIS\",RELEVE_COTES!$Q73,0)","v":{"$error":"#N/A"}},{"$error":"#N/A"},{"$f":"IF($Y$1=\"BANCHE\",RELEVE_COTES!$L73,0)","v":{"$error":"#N/A"}},{"$error":"#N/A"},{"$error":"#N/A"},{"$f":"IF($Y$1<>\"BANCHE\",RELEVE_COTES!$L73,0)","v":{"$error":"#N/A"}},{"$f":"IF(AND($Y$1<>\"BANCHE\",RELEVE_COTES!$M73<>\"\"),RELEVE_COTES!$M73,20)","v":{"$error":"#N/A"}},{"$f":"IF($Y$1<>\"BANCHE\",IF(RELEVE_COTES!$N73<>\"\",RELEVE_COTES!$N73,10),0)","v":{"$error":"#N/A"}},{"$f":"IF(RELEVE_COTES!$I$20=\"Huisserie Banchée\",\"Banche\",IF(RELEVE_COTES!$I$20=\"Huisserie Bois\",\"Bois\",IF(RELEVE_COTES!$I$20=\"Bâti Scellé\",\"Bâti Métal.\")))","v":false},{"$f":"RELEVE_COTES!$C$11","v":0},{"$f":"RELEVE_COTES!$K$12","v":0},{"$f":"VLOOKUP(AA25,TabSeuilRef[],2,FALSE)","v":{"$error":"#N/A"}},{"$f":"\"Paumelles \"&RELEVE_COTES!$E$15","v":"Paumelles "},{"$f":"IF(RELEVE_COTES!$K$16<>\"Déporté\",RELEVE_COTES!$K$16,RELEVE_COTES!$K$16&\" / \"&VLOOKUP(RELEVE_COTES!$L$16,TabOptUsSerr[],2,FALSE))","v":"SANS"},{"$f":"RELEVE_COTES!$K$11","v":0},{"$f":"VLOOKUP(RELEVE_COTES!$G$12,TabNuancierVTL[],2,FALSE)&\"/\"&VLOOKUP(RELEVE_COTES!$G$13,TabNuancierVTL[],2,FALSE)","v":{"$error":"#N/A"}},{"$f":"IF(RELEVE_COTES!$E$14=\"Pr.Peint\",\"PP\",VLOOKUP(RELEVE_COTES!$G$14,TabNuancHM[],2,FALSE))","v":"PP"},{"$error":"#N/A"},{"$f":"IF(RELEVE_COTES!$C$11 =\"R32S-R02\",\"OUI\",\"NON\")","v":"NON"},"NON","",{"$f":"IF(AI25=\"OUI\",RELEVE_COTES!$N$16,\"\")","v":""},null,{"$f":"RELEVE_COTES!$E$12&\"/\"&RELEVE_COTES!$E$13","v":" SANS/ SANS"},{"$f":"IF(RELEVE_COTES!$K$15<>\"SANS\",RELEVE_COTES!$L$15&\" \"&RELEVE_COTES!$K$15,\"\")&IF(RELEVE_COTES!$N$15<>\"SANS\",\" / PMR: \"&RELEVE_COTES!$O$15&\" \"&RELEVE_COTES!$N$15,\"\")","v":""},{"$f":"IF(RELEVE_COTES!$K$14 <> \"SANS\",RELEVE_COTES!$O$14&\" \"&RELEVE_COTES!$K$14,\"\")","v":"U+F "},{"$f":"IF(RELEVE_COTES!$K$13 <> \"SANS\",RELEVE_COTES!$O$13&\" \"&RELEVE_COTES!$K$13,\"SANS\")","v":"U+F "},{"$f":"VLOOKUP(RELEVE_COTES!$O$11,TabOptUsSerr[],2,FALSE)","v":"Usinage, fourniture et pose"},{"$f":"INDEX(TabFinition[FINITION],MATCH(VLOOKUP(RELEVE_COTES!$G$12,TabNuancierVTL[],3,FALSE)&VLOOKUP(RELEVE_COTES!$G$13,TabNuancierVTL[],3,FALSE),TabFinition[TYPE EXT]&TabFinition[TYPE INT],0))","v":{"$error":"#N/A"}},"INT",{"$f":"RELEVE_COTES!$E$16","v":"platines + vérins"},"NON",{"$f":"IF(RELEVE_COTES!$I$20 = \"Huisserie Bois\",RELEVE_COTES!$R73,IF(RELEVE_COTES!$I$20 = \"Huisserie Banchée\",RELEVE_COTES!$M73,IF(RELEVE_COTES!$I$20 = \"Bâti Scellé\",RELEVE_COTES!$O73,\"\")))","v":""},null,{"$f":"VLOOKUP(RELEVE_COTES!$K$11,TabSerrureRef[],3,FALSE)","v":{"$error":"#N/A"}},{"$f":"VLOOKUP(RELEVE_COTES!$K$11,TabSerrureRef[],6,FALSE)","v":{"$error":"#N/A"}}]
[{"$error":"#VALUE!"},{"$error":"#VALUE!"},{"$f":"IF(RELEVE_COTES!$A74<>\"\",SUBSTITUTE(SUBSTITUTE(SUBSTITUTE(SUBSTITUTE(SUBSTITUTE(SUBSTITUTE(SUBSTITUTE(SUBSTITUTE(RELEVE_COTES!$A74,\" \",\"\"),\"-\",\"/\"),\".\",\"/\"),\"\\\",\"/\"),\",\",\"/\"),\"+\",\"_\"),\"&\",\"_\"),\"*\",\"/\"),\"\")","v":""},{"$f":"RELEVE_COTES!$B74","v":0},1,{"$f":"IF(RELEVE_COTES!C74<>\"\",SUBSTITUTE(SUBSTITUTE(SUBSTITUTE(SUBSTITUTE(SUBSTITUTE(SUBSTITUTE(SUBSTITUTE(SUBSTITUTE(RELEVE_COTES!C74,\" \",\"\"),\"-\",\"\"),\".\",\",\"),\"\\\",\"\"),\",\",\",\"),\"+\",\"\"),\"&\",\"\"),\"*\",\"\"),\"\")","v":""},{"$f":"IF(RELEVE_COTES!D74<>\"\",SUBSTITUTE(SUBSTITUTE(SUBSTITUTE(SUBSTITUTE(SUBSTITUTE(SUBSTITUTE(SUBSTITUTE(SUBSTITUTE(RELEVE_COTES!D74,\" \",\"\"),\"-\",\"\"),\".\",\",\"),\"\\\",\"\"),\",\",\",\"),\"+\",\"\"),\"&\",\"\"),\"*\",\"\"),\"\")","v":""},{"$f":"IF(RELEVE_COTES!E74<>\"\",SUBSTITUTE(SUBSTITUTE(SUBSTITUTE(SUBSTITUTE(SUBSTITUTE(SUBSTITUTE(SUBSTITUTE(SUBSTITUTE(RELEVE_COTES!E74,\" \",\"\"),\"-\",\"\"),\".\",\",\"),\"\\\",\"\"),\",\",\",\"),\"+\",\"\"),\"&\",\"\"),\"*\",\"\"),\"\")","v":""},{"$f":"IF(RELEVE_COTES!F74<>\"\",SUBSTITUTE(SUBSTITUTE(SUBSTITUTE(SUBSTITUTE(SUBSTITUTE(SUBSTITUTE(SUBSTITUTE(SUBSTITUTE(RELEVE_COTES!F74,\" \",\"\"),\"-\",\"\"),\".\",\",\"),\"\\\",\"\"),\",\",\",\"),\"+\",\"\"),\"&\",\"\"),\"*\",\"\"),\"\")","v":""},{"$f":"IF(RELEVE_COTES!G74<>\"\",SUBSTITUTE(SUBSTITUTE(SUBSTITUTE(SUBSTITUTE(SUBSTITUTE(SUBSTITUTE(SUBSTITUTE(SUBSTITUTE(RELEVE_COTES!G74,\" \",\"\"),\"-\",\"\"),\".\",\",\"),\"\\\",\"\"),\",\",\",\"),\"+\",\"\"),\"&\",\"\"),\"*\",\"\"),\"\")","v":""},{"$f":"IF($D26=\"GP\",IF(RELEVE_COTES!$I74=\"\",0,IF(RELEVE_COTES!$I74=\"\",\"\",RELEVE_COTES!$I74)),IF(RELEVE_COTES!$H74=\"\",0,IF(RELEVE_COTES!$H74=\"\",\"\",RELEVE_COTES!$H74)))","v":0},{"$f":"IF($D26=\"GP\",IF(RELEVE_COTES!$H74=\"\",0,IF(RELEVE_COTES!$H74=\"\",\"\",RELEVE_COTES!$H74)),IF(RELEVE_COTES!$I74=\"\",0,IF(RELEVE_COTES!$I74=\"\",\"\",RELEVE_COTES!$I74)))","v":0},{"$f":"IF(RELEVE_COTES!$J74=\"\",0,IF(RELEVE_COTES!$J74=\"\",\"\",RELEVE_COTES!$J74))","v":0},{"$f":"VLOOKUP(RELEVE_COTES!$K74,TabExistantRef1[],2,FALSE)","v":{"$error":"#N/A"}},{"$f":"IF($Y$1=\"BOIS\",RELEVE_COTES!$O74,0)","v":{"$error":"#N/A"}},{"$f":"IF($Y$1=\"BOIS\",RELEVE_COTES!$P74,0)","v":{"$error":"#N/A"}},{"$f":"IF($Y$1=\"BOIS\",RELEVE_COTES!$Q74,0)","v":{"$error":"#N/A"}},{"$error":"#N/A"},{"$f":"IF($Y$1=\"BANCHE\",RELEVE_COTES!$L74,0)","v":{"$error":"#N/A"}},{"$error":"#N/A"},{"$error":"#N/A"},{"$f":"IF($Y$1<>\"BANCHE\",RELEVE_COTES!$L74,0)","v":{"$error":"#N/A"}},{"$f":"IF(AND($Y$1<>\"BANCHE\",RELEVE_COTES!$M74<>\"\"),RELEVE_COTES!$M74,20)","v":{"$error":"#N/A"}},{"$f":"IF($Y$1<>\"BANCHE\",IF(RELEVE_COTES!$N74<>\"\",RELEVE_COTES!$N74,10),0)","v":{"$error":"#N/A"}},{"$f":"IF(RELEVE_COTES!$I$20=\"Huisserie Banchée\",\"Banche\",IF(RELEVE_COTES!$I$20=\"Huisserie Bois\",\"Bois\",IF(RELEVE_COTES!$I$20=\"Bâti Scellé\",\"Bâti Métal.\")))","v":false},{"$f":"RELEVE_COTES!$C$11","v":0},{"$f":"RELEVE_COTES!$K$12","v":0},{"$f":"VLOOKUP(AA26,TabSeuilRef[],2,FALSE)","v":{"$error":"#N/A"}},{"$f":"\"Paumelles \"&RELEVE_COTES!$E$15","v":"Paumelles "},{"$f":"IF(RELEVE_COTES!$K$16<>\"Déporté\",RELEVE_COTES!$K$16,RELEVE_COTES!$K$16&\" / \"&VLOOKUP(RELEVE_COTES!$L$16,TabOptUsSerr[],2,FALSE))","v":"SANS"},{"$f":"RELEVE_COTES!$K$11","v":0},{"$f":"VLOOKUP(RELEVE_COTES!$G$12,TabNuancierVTL[],2,FALSE)&\"/\"&VLOOKUP(RELEVE_COTES!$G$13,TabNuancierVTL[],2,FALSE)","v":{"$error":"#N/A"}},{"$f":"IF(RELEVE_COTES!$E$14=\"Pr.Peint\",\"PP\",VLOOKUP(RELEVE_COTES!$G$14,TabNuancHM[],2,FALSE))","v":"PP"},{"$error":"#N/A"},{"$f":"IF(RELEVE_COTES!$C$11 =\"R32S-R02\",\"OUI\",\"NON\")","v":"NON"},"NON","",{"$f":"IF(AI26=\"OUI\",RELEVE_COTES!$N$16,\"\")","v":""},null,{"$f":"RELEVE_COTES!$E$12&\"/\"&RELEVE_COTES!$E$13","v":" SANS/ SANS"},{"$f":"IF(RELEVE_COTES!$K$15<>\"SANS\",RELEVE_COTES!$L$15&\" \"&RELEVE_COTES!$K$15,\"\")&IF(RELEVE_COTES!$N$15<>\"SANS\",\" / PMR: \"&RELEVE_COTES!$O$15&\" \"&RELEVE_COTES!$N$15,\"\")","v":""},{"$f":"IF(RELEVE_COTES!$K$14 <> \"SANS\",RELEVE_COTES!$O$14&\" \"&RELEVE_COTES!$K$14,\"\")","v":"U+F "},{"$f":"IF(RELEVE_COTES!$K$13 <> \"SANS\",RELEVE_COTES!$O$13&\" \"&RELEVE_COTES!$K$13,\"SANS\")","v":"U+F "},{"$f":"VLOOKUP(RELEVE_COTES!$O$11,TabOptUsSerr[],2,FALSE)","v":"Usinage, fourniture et pose"},{"$f":"INDEX(TabFinition[FINITION],MATCH(VLOOKUP(RELEVE_COTES!$G$12,TabNuancierVTL[],3,FALSE)&VLOOKUP(RELEVE_COTES!$G$13,TabNuancierVTL[],3,FALSE),TabFinition[TYPE EXT]&TabFinition[TYPE INT],0))","v":{"$error":"#N/A"}},"INT",{"$f":"RELEVE_COTES!$E$16","v":"platines + vérins"},"NON",{"$f":"IF(RELEVE_COTES!$I$20 = \"Huisserie Bois\",RELEVE_COTES!$R74,IF(RELEVE_COTES!$I$20 = \"Huisserie Banchée\",RELEVE_COTES!$M74,IF(RELEVE_COTES!$I$20 = \"Bâti Scellé\",RELEVE_COTES!$O74,\"\")))","v":""},null,{"$f":"VLOOKUP(RELEVE_COTES!$K$11,TabSerrureRef[],3,FALSE)","v":{"$error":"#N/A"}},{"$f":"VLOOKUP(RELEVE_COTES!$K$11,TabSerrureRef[],6,FALSE)","v":{"$error":"#N/A"}}]
[{"$error":"#VALUE!"},{"$error":"#VALUE!"},{"$f":"IF(RELEVE_COTES!$A75<>\"\",SUBSTITUTE(SUBSTITUTE(SUBSTITUTE(SUBSTITUTE(SUBSTITUTE(SUBSTITUTE(SUBSTITUTE(SUBSTITUTE(RELEVE_COTES!$A75,\" \",\"\"),\"-\",\"/\"),\".\",\"/\"),\"\\\",\"/\"),\",\",\"/\"),\"+\",\"_\"),\"&\",\"_\"),\"*\",\"/\"),\"\")","v":""},{"$f":"RELEVE_COTES!$B75","v":0},1,{"$f":"IF(RELEVE_COTES!C75<>\"\",SUBSTITUTE(SUBSTITUTE(SUBSTITUTE(SUBSTITUTE(SUBSTITUTE(SUBSTITUTE(SUBSTITUTE(SUBSTITUTE(RELEVE_COTES!C75,\" \",\"\"),\"-\",\"\"),\".\",\",\"),\"\\\",\"\"),\",\",\",\"),\"+\",\"\"),\"&\",\"\"),\"*\",\"\"),\"\")","v":""},{"$f":"IF(RELEVE_COTES!D75<>\"\",SUBSTITUTE(SUBSTITUTE(SUBSTITUTE(SUBSTITUTE(SUBSTITUTE(SUBSTITUTE(SUBSTITUTE(SUBSTITUTE(RELEVE_COTES!D75,\" \",\"\"),\"-\",\"\"),\".\",\",\"),\"\\\",\"\"),\",\",\",\"),\"+\",\"\"),\"&\",\"\"),\"*\",\"\"),\"\")","v":""},{"$f":"IF(RELEVE_COTES!E75<>\"\",SUBSTITUTE(SUBSTITUTE(SUBSTITUTE(SUBSTITUTE(SUBSTITUTE(SUBSTITUTE(SUBSTITUTE(SUBSTITUTE(RELEVE_COTES!E75,\" \",\"\"),\"-\",\"\"),\".\",\",\"),\"\\\",\"\"),\",\",\",\"),\"+\",\"\"),\"&\",\"\"),\"*\",\"\"),\"\")","v":""},{"$f":"IF(RELEVE_COTES!F75<>\"\",SUBSTITUTE(SUBSTITUTE(SUBSTITUTE(SUBSTITUTE(SUBSTITUTE(SUBSTITUTE(SUBSTITUTE(SUBSTITUTE(RELEVE_COTES!F75,\" \",\"\"),\"-\",\"\"),\".\",\",\"),\"\\\",\"\"),\",\",\",\"),\"+\",\"\"),\"&\",\"\"),\"*\",\"\"),\"\")","v":""},{"$f":"IF(RELEVE_COTES!G75<>\"\",SUBSTITUTE(SUBSTITUTE(SUBSTITUTE(SUBSTITUTE(SUBSTITUTE(SUBSTITUTE(SUBSTITUTE(SUBSTITUTE(RELEVE_COTES!G75,\" \",\"\"),\"-\",\"\"),\".\",\",\"),\"\\\",\"\"),\",\",\",\"),\"+\",\"\"),\"&\",\"\"),\"*\",\"\"),\"\")","v":""},{"$f":"IF($D27=\"GP\",IF(RELEVE_COTES!$I75=\"\",0,IF(RELEVE_COTES!$I75=\"\",\"\",RELEVE_COTES!$I75)),IF(RELEVE_COTES!$H75=\"\",0,IF(RELEVE_COTES!$H75=\"\",\"\",RELEVE_COTES!$H75)))","v":0},{"$f":"IF($D27=\"GP\",IF(RELEVE_COTES!$H75=\"\",0,IF(RELEVE_COTES!$H75=\"\",\"\",RELEVE_COTES!$H75)),IF(RELEVE_COTES!$I75=\"\",0,IF(RELEVE_COTES!$I75=\"\",\"\",RELEVE_COTES!$I75)))","v":0},{"$f":"IF(RELEVE_COTES!$J75=\"\",0,IF(RELEVE_COTES!$J75=\"\",\"\",RELEVE_COTES!$J75))","v":0},{"$f":"VLOOKUP(RELEVE_COTES!$K75,TabExistantRef1[],2,FALSE)","v":{"$error":"#N/A"}},{"$f":"IF($Y$1=\"BOIS\",RELEVE_COTES!$O75,0)","v":{"$error":"#N/A"}},{"$f":"IF($Y$1=\"BOIS\",RELEVE_COTES!$P75,0)","v":{"$error":"#N/A"}},{"$f":"IF($Y$1=\"BOIS\",RELEVE_COTES!$Q75,0)","v":{"$error":"#N/A"}},{"$error":"#N/A"},{"$f":"IF($Y$1=\"BANCHE\",RELEVE_COTES!$L75,0)","v":{"$error":"#N/A"}},{"$error":"#N/A"},{"$error":"#N/A"},{"$f":"IF($Y$1<>\"BANCHE\",RELEVE_COTES!$L75,0)","v":{"$error":"#N/A"}},{"$f":"IF(AND($Y$1<>\"BANCHE\",RELEVE_COTES!$M75<>\"\"),RELEVE_COTES!$M75,20)","v":{"$error":"#N/A"}},{"$f":"IF($Y$1<>\"BANCHE\",IF(RELEVE_COTES!$N75<>\"\",RELEVE_COTES!$N75,10),0)","v":{"$error":"#N/A"}},{"$f":"IF(RELEVE_COTES!$I$20=\"Huisserie Banchée\",\"Banche\",IF(RELEVE_COTES!$I$20=\"Huisserie Bois\",\"Bois\",IF(RELEVE_COTES!$I$20=\"Bâti Scellé\",\"Bâti Métal.\")))","v":false},{"$f":"RELEVE_COTES!$C$11","v":0},{"$f":"RELEVE_COTES!$K$12","v":0},{"$f":"VLOOKUP(AA27,TabSeuilRef[],2,FALSE)","v":{"$error":"#N/A"}},{"$f":"\"Paumelles \"&RELEVE_COTES!$E$15","v":"Paumelles "},{"$f":"IF(RELEVE_COTES!$K$16<>\"Déporté\",RELEVE_COTES!$K$16,RELEVE_COTES!$K$16&\" / \"&VLOOKUP(RELEVE_COTES!$L$16,TabOptUsSerr[],2,FALSE))","v":"SANS"},{"$f":"RELEVE_COTES!$K$11","v":0},{"$f":"VLOOKUP(RELEVE_COTES!$G$12,TabNuancierVTL[],2,FALSE)&\"/\"&VLOOKUP(RELEVE_COTES!$G$13,TabNuancierVTL[],2,FALSE)","v":{"$error":"#N/A"}},{"$f":"IF(RELEVE_COTES!$E$14=\"Pr.Peint\",\"PP\",VLOOKUP(RELEVE_COTES!$G$14,TabNuancHM[],2,FALSE))","v":"PP"},{"$error":"#N/A"},{"$f":"IF(RELEVE_COTES!$C$11 =\"R32S-R02\",\"OUI\",\"NON\")","v":"NON"},"NON","",{"$f":"IF(AI27=\"OUI\",RELEVE_COTES!$N$16,\"\")","v":""},null,{"$f":"RELEVE_COTES!$E$12&\"/\"&RELEVE_COTES!$E$13","v":" SANS/ SANS"},{"$f":"IF(RELEVE_COTES!$K$15<>\"SANS\",RELEVE_COTES!$L$15&\" \"&RELEVE_COTES!$K$15,\"\")&IF(RELEVE_COTES!$N$15<>\"SANS\",\" / PMR: \"&RELEVE_COTES!$O$15&\" \"&RELEVE_COTES!$N$15,\"\")","v":""},{"$f":"IF(RELEVE_COTES!$K$14 <> \"SANS\",RELEVE_COTES!$O$14&\" \"&RELEVE_COTES!$K$14,\"\")","v":"U+F "},{"$f":"IF(RELEVE_COTES!$K$13 <> \"SANS\",RELEVE_COTES!$O$13&\" \"&RELEVE_COTES!$K$13,\"SANS\")","v":"U+F "},{"$f":"VLOOKUP(RELEVE_COTES!$O$11,TabOptUsSerr[],2,FALSE)","v":"Usinage, fourniture et pose"},{"$f":"INDEX(TabFinition[FINITION],MATCH(VLOOKUP(RELEVE_COTES!$G$12,TabNuancierVTL[],3,FALSE)&VLOOKUP(RELEVE_COTES!$G$13,TabNuancierVTL[],3,FALSE),TabFinition[TYPE EXT]&TabFinition[TYPE INT],0))","v":{"$error":"#N/A"}},"INT",{"$f":"RELEVE_COTES!$E$16","v":"platines + vérins"},"NON",{"$f":"IF(RELEVE_COTES!$I$20 = \"Huisserie Bois\",RELEVE_COTES!$R75,IF(RELEVE_COTES!$I$20 = \"Huisserie Banchée\",RELEVE_COTES!$M75,IF(RELEVE_COTES!$I$20 = \"Bâti Scellé\",RELEVE_COTES!$O75,\"\")))","v":""},null,{"$f":"VLOOKUP(RELEVE_COTES!$K$11,TabSerrureRef[],3,FALSE)","v":{"$error":"#N/A"}},{"$f":"VLOOKUP(RELEVE_COTES!$K$11,TabSerrureRef[],6,FALSE)","v":{"$error":"#N/A"}}]
[{"$error":"#VALUE!"},{"$error":"#VALUE!"},{"$f":"IF(RELEVE_COTES!$A76<>\"\",SUBSTITUTE(SUBSTITUTE(SUBSTITUTE(SUBSTITUTE(SUBSTITUTE(SUBSTITUTE(SUBSTITUTE(SUBSTITUTE(RELEVE_COTES!$A76,\" \",\"\"),\"-\",\"/\"),\".\",\"/\"),\"\\\",\"/\"),\",\",\"/\"),\"+\",\"_\"),\"&\",\"_\"),\"*\",\"/\"),\"\")","v":""},{"$f":"RELEVE_COTES!$B76","v":0},1,{"$f":"IF(RELEVE_COTES!C76<>\"\",SUBSTITUTE(SUBSTITUTE(SUBSTITUTE(SUBSTITUTE(SUBSTITUTE(SUBSTITUTE(SUBSTITUTE(SUBSTITUTE(RELEVE_COTES!C76,\" \",\"\"),\"-\",\"\"),\".\",\",\"),\"\\\",\"\"),\",\",\",\"),\"+\",\"\"),\"&\",\"\"),\"*\",\"\"),\"\")","v":""},{"$f":"IF(RELEVE_COTES!D76<>\"\",SUBSTITUTE(SUBSTITUTE(SUBSTITUTE(SUBSTITUTE(SUBSTITUTE(SUBSTITUTE(SUBSTITUTE(SUBSTITUTE(RELEVE_COTES!D76,\" \",\"\"),\"-\",\"\"),\".\",\",\"),\"\\\",\"\"),\",\",\",\"),\"+\",\"\"),\"&\",\"\"),\"*\",\"\"),\"\")","v":""},{"$f":"IF(RELEVE_COTES!E76<>\"\",SUBSTITUTE(SUBSTITUTE(SUBSTITUTE(SUBSTITUTE(SUBSTITUTE(SUBSTITUTE(SUBSTITUTE(SUBSTITUTE(RELEVE_COTES!E76,\" \",\"\"),\"-\",\"\"),\".\",\",\"),\"\\\",\"\"),\",\",\",\"),\"+\",\"\"),\"&\",\"\"),\"*\",\"\"),\"\")","v":""},{"$f":"IF(RELEVE_COTES!F76<>\"\",SUBSTITUTE(SUBSTITUTE(SUBSTITUTE(SUBSTITUTE(SUBSTITUTE(SUBSTITUTE(SUBSTITUTE(SUBSTITUTE(RELEVE_COTES!F76,\" \",\"\"),\"-\",\"\"),\".\",\",\"),\"\\\",\"\"),\",\",\",\"),\"+\",\"\"),\"&\",\"\"),\"*\",\"\"),\"\")","v":""},{"$f":"IF(RELEVE_COTES!G76<>\"\",SUBSTITUTE(SUBSTITUTE(SUBSTITUTE(SUBSTITUTE(SUBSTITUTE(SUBSTITUTE(SUBSTITUTE(SUBSTITUTE(RELEVE_COTES!G76,\" \",\"\"),\"-\",\"\"),\".\",\",\"),\"\\\",\"\"),\",\",\",\"),\"+\",\"\"),\"&\",\"\"),\"*\",\"\"),\"\")","v":""},{"$f":"IF($D28=\"GP\",IF(RELEVE_COTES!$I76=\"\",0,IF(RELEVE_COTES!$I76=\"\",\"\",RELEVE_COTES!$I76)),IF(RELEVE_COTES!$H76=\"\",0,IF(RELEVE_COTES!$H76=\"\",\"\",RELEVE_COTES!$H76)))","v":0},{"$f":"IF($D28=\"GP\",IF(RELEVE_COTES!$H76=\"\",0,IF(RELEVE_COTES!$H76=\"\",\"\",RELEVE_COTES!$H76)),IF(RELEVE_COTES!$I76=\"\",0,IF(RELEVE_COTES!$I76=\"\",\"\",RELEVE_COTES!$I76)))","v":0},{"$f":"IF(RELEVE_COTES!$J76=\"\",0,IF(RELEVE_COTES!$J76=\"\",\"\",RELEVE_COTES!$J76))","v":0},{"$f":"VLOOKUP(RELEVE_COTES!$K76,TabExistantRef1[],2,FALSE)","v":{"$error":"#N/A"}},{"$f":"IF($Y$1=\"BOIS\",RELEVE_COTES!$O76,0)","v":{"$error":"#N/A"}},{"$f":"IF($Y$1=\"BOIS\",RELEVE_COTES!$P76,0)","v":{"$error":"#N/A"}},{"$f":"IF($Y$1=\"BOIS\",RELEVE_COTES!$Q76,0)","v":{"$error":"#N/A"}},{"$error":"#N/A"},{"$f":"IF($Y$1=\"BANCHE\",RELEVE_COTES!$L76,0)","v":{"$error":"#N/A"}},{"$error":"#N/A"},{"$error":"#N/A"},{"$f":"IF($Y$1<>\"BANCHE\",RELEVE_COTES!$L76,0)","v":{"$error":"#N/A"}},{"$f":"IF(AND($Y$1<>\"BANCHE\",RELEVE_COTES!$M76<>\"\"),RELEVE_COTES!$M76,20)","v":{"$error":"#N/A"}},{"$f":"IF($Y$1<>\"BANCHE\",IF(RELEVE_COTES!$N76<>\"\",RELEVE_COTES!$N76,10),0)","v":{"$error":"#N/A"}},{"$f":"IF(RELEVE_COTES!$I$20=\"Huisserie Banchée\",\"Banche\",IF(RELEVE_COTES!$I$20=\"Huisserie Bois\",\"Bois\",IF(RELEVE_COTES!$I$20=\"Bâti Scellé\",\"Bâti Métal.\")))","v":false},{"$f":"RELEVE_COTES!$C$11","v":0},{"$f":"RELEVE_COTES!$K$12","v":0},{"$f":"VLOOKUP(AA28,TabSeuilRef[],2,FALSE)","v":{"$error":"#N/A"}},{"$f":"\"Paumelles \"&RELEVE_COTES!$E$15","v":"Paumelles "},{"$f":"IF(RELEVE_COTES!$K$16<>\"Déporté\",RELEVE_COTES!$K$16,RELEVE_COTES!$K$16&\" / \"&VLOOKUP(RELEVE_COTES!$L$16,TabOptUsSerr[],2,FALSE))","v":"SANS"},{"$f":"RELEVE_COTES!$K$11","v":0},{"$f":"VLOOKUP(RELEVE_COTES!$G$12,TabNuancierVTL[],2,FALSE)&\"/\"&VLOOKUP(RELEVE_COTES!$G$13,TabNuancierVTL[],2,FALSE)","v":{"$error":"#N/A"}},{"$f":"IF(RELEVE_COTES!$E$14=\"Pr.Peint\",\"PP\",VLOOKUP(RELEVE_COTES!$G$14,TabNuancHM[],2,FALSE))","v":"PP"},{"$error":"#N/A"},{"$f":"IF(RELEVE_COTES!$C$11 =\"R32S-R02\",\"OUI\",\"NON\")","v":"NON"},"NON","",{"$f":"IF(AI28=\"OUI\",RELEVE_COTES!$N$16,\"\")","v":""},null,{"$f":"RELEVE_COTES!$E$12&\"/\"&RELEVE_COTES!$E$13","v":" SANS/ SANS"},{"$f":"IF(RELEVE_COTES!$K$15<>\"SANS\",RELEVE_COTES!$L$15&\" \"&RELEVE_COTES!$K$15,\"\")&IF(RELEVE_COTES!$N$15<>\"SANS\",\" / PMR: \"&RELEVE_COTES!$O$15&\" \"&RELEVE_COTES!$N$15,\"\")","v":""},{"$f":"IF(RELEVE_COTES!$K$14 <> \"SANS\",RELEVE_COTES!$O$14&\" \"&RELEVE_COTES!$K$14,\"\")","v":"U+F "},{"$f":"IF(RELEVE_COTES!$K$13 <> \"SANS\",RELEVE_COTES!$O$13&\" \"&RELEVE_COTES!$K$13,\"SANS\")","v":"U+F "},{"$f":"VLOOKUP(RELEVE_COTES!$O$11,TabOptUsSerr[],2,FALSE)","v":"Usinage, fourniture et pose"},{"$f":"INDEX(TabFinition[FINITION],MATCH(VLOOKUP(RELEVE_COTES!$G$12,TabNuancierVTL[],3,FALSE)&VLOOKUP(RELEVE_COTES!$G$13,TabNuancierVTL[],3,FALSE),TabFinition[TYPE EXT]&TabFinition[TYPE INT],0))","v":{"$error":"#N/A"}},"INT",{"$f":"RELEVE_COTES!$E$16","v":"platines + vérins"},"NON",{"$f":"IF(RELEVE_COTES!$I$20 = \"Huisserie Bois\",RELEVE_COTES!$R76,IF(RELEVE_COTES!$I$20 = \"Huisserie Banchée\",RELEVE_COTES!$M76,IF(RELEVE_COTES!$I$20 = \"Bâti Scellé\",RELEVE_COTES!$O76,\"\")))","v":""},null,{"$f":"VLOOKUP(RELEVE_COTES!$K$11,TabSerrureRef[],3,FALSE)","v":{"$error":"#N/A"}},{"$f":"VLOOKUP(RELEVE_COTES!$K$11,TabSerrureRef[],6,FALSE)","v":{"$error":"#N/A"}}]
[{"$error":"#VALUE!"},{"$error":"#VALUE!"},{"$f":"IF(RELEVE_COTES!$A77<>\"\",SUBSTITUTE(SUBSTITUTE(SUBSTITUTE(SUBSTITUTE(SUBSTITUTE(SUBSTITUTE(SUBSTITUTE(SUBSTITUTE(RELEVE_COTES!$A77,\" \",\"\"),\"-\",\"/\"),\".\",\"/\"),\"\\\",\"/\"),\",\",\"/\"),\"+\",\"_\"),\"&\",\"_\"),\"*\",\"/\"),\"\")","v":""},{"$f":"RELEVE_COTES!$B77","v":0},1,{"$f":"IF(RELEVE_COTES!C77<>\"\",SUBSTITUTE(SUBSTITUTE(SUBSTITUTE(SUBSTITUTE(SUBSTITUTE(SUBSTITUTE(SUBSTITUTE(SUBSTITUTE(RELEVE_COTES!C77,\" \",\"\"),\"-\",\"\"),\".\",\",\"),\"\\\",\"\"),\",\",\",\"),\"+\",\"\"),\"&\",\"\"),\"*\",\"\"),\"\")","v":""},{"$f":"IF(RELEVE_COTES!D77<>\"\",SUBSTITUTE(SUBSTITUTE(SUBSTITUTE(SUBSTITUTE(SUBSTITUTE(SUBSTITUTE(SUBSTITUTE(SUBSTITUTE(RELEVE_COTES!D77,\" \",\"\"),\"-\",\"\"),\".\",\",\"),\"\\\",\"\"),\",\",\",\"),\"+\",\"\"),\"&\",\"\"),\"*\",\"\"),\"\")","v":""},{"$f":"IF(RELEVE_COTES!E77<>\"\",SUBSTITUTE(SUBSTITUTE(SUBSTITUTE(SUBSTITUTE(SUBSTITUTE(SUBSTITUTE(SUBSTITUTE(SUBSTITUTE(RELEVE_COTES!E77,\" \",\"\"),\"-\",\"\"),\".\",\",\"),\"\\\",\"\"),\",\",\",\"),\"+\",\"\"),\"&\",\"\"),\"*\",\"\"),\"\")","v":""},{"$f":"IF(RELEVE_COTES!F77<>\"\",SUBSTITUTE(SUBSTITUTE(SUBSTITUTE(SUBSTITUTE(SUBSTITUTE(SUBSTITUTE(SUBSTITUTE(SUBSTITUTE(RELEVE_COTES!F77,\" \",\"\"),\"-\",\"\"),\".\",\",\"),\"\\\",\"\"),\",\",\",\"),\"+\",\"\"),\"&\",\"\"),\"*\",\"\"),\"\")","v":""},{"$f":"IF(RELEVE_COTES!G77<>\"\",SUBSTITUTE(SUBSTITUTE(SUBSTITUTE(SUBSTITUTE(SUBSTITUTE(SUBSTITUTE(SUBSTITUTE(SUBSTITUTE(RELEVE_COTES!G77,\" \",\"\"),\"-\",\"\"),\".\",\",\"),\"\\\",\"\"),\",\",\",\"),\"+\",\"\"),\"&\",\"\"),\"*\",\"\"),\"\")","v":""},{"$f":"IF($D29=\"GP\",IF(RELEVE_COTES!$I77=\"\",0,IF(RELEVE_COTES!$I77=\"\",\"\",RELEVE_COTES!$I77)),IF(RELEVE_COTES!$H77=\"\",0,IF(RELEVE_COTES!$H77=\"\",\"\",RELEVE_COTES!$H77)))","v":0},{"$f":"IF($D29=\"GP\",IF(RELEVE_COTES!$H77=\"\",0,IF(RELEVE_COTES!$H77=\"\",\"\",RELEVE_COTES!$H77)),IF(RELEVE_COTES!$I77=\"\",0,IF(RELEVE_COTES!$I77=\"\",\"\",RELEVE_COTES!$I77)))","v":0},{"$f":"IF(RELEVE_COTES!$J77=\"\",0,IF(RELEVE_COTES!$J77=\"\",\"\",RELEVE_COTES!$J77))","v":0},{"$f":"VLOOKUP(RELEVE_COTES!$K77,TabExistantRef1[],2,FALSE)","v":{"$error":"#N/A"}},{"$f":"IF($Y$1=\"BOIS\",RELEVE_COTES!$O77,0)","v":{"$error":"#N/A"}},{"$f":"IF($Y$1=\"BOIS\",RELEVE_COTES!$P77,0)","v":{"$error":"#N/A"}},{"$f":"IF($Y$1=\"BOIS\",RELEVE_COTES!$Q77,0)","v":{"$error":"#N/A"}},{"$error":"#N/A"},{"$f":"IF($Y$1=\"BANCHE\",RELEVE_COTES!$L77,0)","v":{"$error":"#N/A"}},{"$error":"#N/A"},{"$error":"#N/A"},{"$f":"IF($Y$1<>\"BANCHE\",RELEVE_COTES!$L77,0)","v":{"$error":"#N/A"}},{"$f":"IF(AND($Y$1<>\"BANCHE\",RELEVE_COTES!$M77<>\"\"),RELEVE_COTES!$M77,20)","v":{"$error":"#N/A"}},{"$f":"IF($Y$1<>\"BANCHE\",IF(RELEVE_COTES!$N77<>\"\",RELEVE_COTES!$N77,10),0)","v":{"$error":"#N/A"}},{"$f":"IF(RELEVE_COTES!$I$20=\"Huisserie Banchée\",\"Banche\",IF(RELEVE_COTES!$I$20=\"Huisserie Bois\",\"Bois\",IF(RELEVE_COTES!$I$20=\"Bâti Scellé\",\"Bâti Métal.\")))","v":false},{"$f":"RELEVE_COTES!$C$11","v":0},{"$f":"RELEVE_COTES!$K$12","v":0},{"$f":"VLOOKUP(AA29,TabSeuilRef[],2,FALSE)","v":{"$error":"#N/A"}},{"$f":"\"Paumelles \"&RELEVE_COTES!$E$15","v":"Paumelles "},{"$f":"IF(RELEVE_COTES!$K$16<>\"Déporté\",RELEVE_COTES!$K$16,RELEVE_COTES!$K$16&\" / \"&VLOOKUP(RELEVE_COTES!$L$16,TabOptUsSerr[],2,FALSE))","v":"SANS"},{"$f":"RELEVE_COTES!$K$11","v":0},{"$f":"VLOOKUP(RELEVE_COTES!$G$12,TabNuancierVTL[],2,FALSE)&\"/\"&VLOOKUP(RELEVE_COTES!$G$13,TabNuancierVTL[],2,FALSE)","v":{"$error":"#N/A"}},{"$f":"IF(RELEVE_COTES!$E$14=\"Pr.Peint\",\"PP\",VLOOKUP(RELEVE_COTES!$G$14,TabNuancHM[],2,FALSE))","v":"PP"},{"$error":"#N/A"},{"$f":"IF(RELEVE_COTES!$C$11 =\"R32S-R02\",\"OUI\",\"NON\")","v":"NON"},"NON","",{"$f":"IF(AI29=\"OUI\",RELEVE_COTES!$N$16,\"\")","v":""},null,{"$f":"RELEVE_COTES!$E$12&\"/\"&RELEVE_COTES!$E$13","v":" SANS/ SANS"},{"$f":"IF(RELEVE_COTES!$K$15<>\"SANS\",RELEVE_COTES!$L$15&\" \"&RELEVE_COTES!$K$15,\"\")&IF(RELEVE_COTES!$N$15<>\"SANS\",\" / PMR: \"&RELEVE_COTES!$O$15&\" \"&RELEVE_COTES!$N$15,\"\")","v":""},{"$f":"IF(RELEVE_COTES!$K$14 <> \"SANS\",RELEVE_COTES!$O$14&\" \"&RELEVE_COTES!$K$14,\"\")","v":"U+F "},{"$f":"IF(RELEVE_COTES!$K$13 <> \"SANS\",RELEVE_COTES!$O$13&\" \"&RELEVE_COTES!$K$13,\"SANS\")","v":"U+F "},{"$f":"VLOOKUP(RELEVE_COTES!$O$11,TabOptUsSerr[],2,FALSE)","v":"Usinage, fourniture et pose"},{"$f":"INDEX(TabFinition[FINITION],MATCH(VLOOKUP(RELEVE_COTES!$G$12,TabNuancierVTL[],3,FALSE)&VLOOKUP(RELEVE_COTES!$G$13,TabNuancierVTL[],3,FALSE),TabFinition[TYPE EXT]&TabFinition[TYPE INT],0))","v":{"$error":"#N/A"}},"INT",{"$f":"RELEVE_COTES!$E$16","v":"platines + vérins"},"NON",{"$f":"IF(RELEVE_COTES!$I$20 = \"Huisserie Bois\",RELEVE_COTES!$R77,IF(RELEVE_COTES!$I$20 = \"Huisserie Banchée\",RELEVE_COTES!$M77,IF(RELEVE_COTES!$I$20 = \"Bâti Scellé\",RELEVE_COTES!$O77,\"\")))","v":""},null,{"$f":"VLOOKUP(RELEVE_COTES!$K$11,TabSerrureRef[],3,FALSE)","v":{"$error":"#N/A"}},{"$f":"VLOOKUP(RELEVE_COTES!$K$11,TabSerrureRef[],6,FALSE)","v":{"$error":"#N/A"}}]
[{"$error":"#VALUE!"},{"$error":"#VALUE!"},{"$f":"IF(RELEVE_COTES!$A78<>\"\",SUBSTITUTE(SUBSTITUTE(SUBSTITUTE(SUBSTITUTE(SUBSTITUTE(SUBSTITUTE(SUBSTITUTE(SUBSTITUTE(RELEVE_COTES!$A78,\" \",\"\"),\"-\",\"/\"),\".\",\"/\"),\"\\\",\"/\"),\",\",\"/\"),\"+\",\"_\"),\"&\",\"_\"),\"*\",\"/\"),\"\")","v":""},{"$f":"RELEVE_COTES!$B78","v":0},1,{"$f":"IF(RELEVE_COTES!C78<>\"\",SUBSTITUTE(SUBSTITUTE(SUBSTITUTE(SUBSTITUTE(SUBSTITUTE(SUBSTITUTE(SUBSTITUTE(SUBSTITUTE(RELEVE_COTES!C78,\" \",\"\"),\"-\",\"\"),\".\",\",\"),\"\\\",\"\"),\",\",\",\"),\"+\",\"\"),\"&\",\"\"),\"*\",\"\"),\"\")","v":""},{"$f":"IF(RELEVE_COTES!D78<>\"\",SUBSTITUTE(SUBSTITUTE(SUBSTITUTE(SUBSTITUTE(SUBSTITUTE(SUBSTITUTE(SUBSTITUTE(SUBSTITUTE(RELEVE_COTES!D78,\" \",\"\"),\"-\",\"\"),\".\",\",\"),\"\\\",\"\"),\",\",\",\"),\"+\",\"\"),\"&\",\"\"),\"*\",\"\"),\"\")","v":""},{"$f":"IF(RELEVE_COTES!E78<>\"\",SUBSTITUTE(SUBSTITUTE(SUBSTITUTE(SUBSTITUTE(SUBSTITUTE(SUBSTITUTE(SUBSTITUTE(SUBSTITUTE(RELEVE_COTES!E78,\" \",\"\"),\"-\",\"\"),\".\",\",\"),\"\\\",\"\"),\",\",\",\"),\"+\",\"\"),\"&\",\"\"),\"*\",\"\"),\"\")","v":""},{"$f":"IF(RELEVE_COTES!F78<>\"\",SUBSTITUTE(SUBSTITUTE(SUBSTITUTE(SUBSTITUTE(SUBSTITUTE(SUBSTITUTE(SUBSTITUTE(SUBSTITUTE(RELEVE_COTES!F78,\" \",\"\"),\"-\",\"\"),\".\",\",\"),\"\\\",\"\"),\",\",\",\"),\"+\",\"\"),\"&\",\"\"),\"*\",\"\"),\"\")","v":""},{"$f":"IF(RELEVE_COTES!G78<>\"\",SUBSTITUTE(SUBSTITUTE(SUBSTITUTE(SUBSTITUTE(SUBSTITUTE(SUBSTITUTE(SUBSTITUTE(SUBSTITUTE(RELEVE_COTES!G78,\" \",\"\"),\"-\",\"\"),\".\",\",\"),\"\\\",\"\"),\",\",\",\"),\"+\",\"\"),\"&\",\"\"),\"*\",\"\"),\"\")","v":""},{"$f":"IF($D30=\"GP\",IF(RELEVE_COTES!$I78=\"\",0,IF(RELEVE_COTES!$I78=\"\",\"\",RELEVE_COTES!$I78)),IF(RELEVE_COTES!$H78=\"\",0,IF(RELEVE_COTES!$H78=\"\",\"\",RELEVE_COTES!$H78)))","v":0},{"$f":"IF($D30=\"GP\",IF(RELEVE_COTES!$H78=\"\",0,IF(RELEVE_COTES!$H78=\"\",\"\",RELEVE_COTES!$H78)),IF(RELEVE_COTES!$I78=\"\",0,IF(RELEVE_COTES!$I78=\"\",\"\",RELEVE_COTES!$I78)))","v":0},{"$f":"IF(RELEVE_COTES!$J78=\"\",0,IF(RELEVE_COTES!$J78=\"\",\"\",RELEVE_COTES!$J78))","v":0},{"$f":"VLOOKUP(RELEVE_COTES!$K78,TabExistantRef1[],2,FALSE)","v":{"$error":"#N/A"}},{"$f":"IF($Y$1=\"BOIS\",RELEVE_COTES!$O78,0)","v":{"$error":"#N/A"}},{"$f":"IF($Y$1=\"BOIS\",RELEVE_COTES!$P78,0)","v":{"$error":"#N/A"}},{"$f":"IF($Y$1=\"BOIS\",RELEVE_COTES!$Q78,0)","v":{"$error":"#N/A"}},{"$error":"#N/A"},{"$f":"IF($Y$1=\"BANCHE\",RELEVE_COTES!$L78,0)","v":{"$error":"#N/A"}},{"$error":"#N/A"},{"$error":"#N/A"},{"$f":"IF($Y$1<>\"BANCHE\",RELEVE_COTES!$L78,0)","v":{"$error":"#N/A"}},{"$f":"IF(AND($Y$1<>\"BANCHE\",RELEVE_COTES!$M78<>\"\"),RELEVE_COTES!$M78,20)","v":{"$error":"#N/A"}},{"$f":"IF($Y$1<>\"BANCHE\",IF(RELEVE_COTES!$N78<>\"\",RELEVE_COTES!$N78,10),0)","v":{"$error":"#N/A"}},{"$f":"IF(RELEVE_COTES!$I$20=\"Huisserie Banchée\",\"Banche\",IF(RELEVE_COTES!$I$20=\"Huisserie Bois\",\"Bois\",IF(RELEVE_COTES!$I$20=\"Bâti Scellé\",\"Bâti Métal.\")))","v":false},{"$f":"RELEVE_COTES!$C$11","v":0},{"$f":"RELEVE_COTES!$K$12","v":0},{"$f":"VLOOKUP(AA30,TabSeuilRef[],2,FALSE)","v":{"$error":"#N/A"}},{"$f":"\"Paumelles \"&RELEVE_COTES!$E$15","v":"Paumelles "},{"$f":"IF(RELEVE_COTES!$K$16<>\"Déporté\",RELEVE_COTES!$K$16,RELEVE_COTES!$K$16&\" / \"&VLOOKUP(RELEVE_COTES!$L$16,TabOptUsSerr[],2,FALSE))","v":"SANS"},{"$f":"RELEVE_COTES!$K$11","v":0},{"$f":"VLOOKUP(RELEVE_COTES!$G$12,TabNuancierVTL[],2,FALSE)&\"/\"&VLOOKUP(RELEVE_COTES!$G$13,TabNuancierVTL[],2,FALSE)","v":{"$error":"#N/A"}},{"$f":"IF(RELEVE_COTES!$E$14=\"Pr.Peint\",\"PP\",VLOOKUP(RELEVE_COTES!$G$14,TabNuancHM[],2,FALSE))","v":"PP"},{"$error":"#N/A"},{"$f":"IF(RELEVE_COTES!$C$11 =\"R32S-R02\",\"OUI\",\"NON\")","v":"NON"},"NON","",{"$f":"IF(AI30=\"OUI\",RELEVE_COTES!$N$16,\"\")","v":""},null,{"$f":"RELEVE_COTES!$E$12&\"/\"&RELEVE_COTES!$E$13","v":" SANS/ SANS"},{"$f":"IF(RELEVE_COTES!$K$15<>\"SANS\",RELEVE_COTES!$L$15&\" \"&RELEVE_COTES!$K$15,\"\")&IF(RELEVE_COTES!$N$15<>\"SANS\",\" / PMR: \"&RELEVE_COTES!$O$15&\" \"&RELEVE_COTES!$N$15,\"\")","v":""},{"$f":"IF(RELEVE_COTES!$K$14 <> \"SANS\",RELEVE_COTES!$O$14&\" \"&RELEVE_COTES!$K$14,\"\")","v":"U+F "},{"$f":"IF(RELEVE_COTES!$K$13 <> \"SANS\",RELEVE_COTES!$O$13&\" \"&RELEVE_COTES!$K$13,\"SANS\")","v":"U+F "},{"$f":"VLOOKUP(RELEVE_COTES!$O$11,TabOptUsSerr[],2,FALSE)","v":"Usinage, fourniture et pose"},{"$f":"INDEX(TabFinition[FINITION],MATCH(VLOOKUP(RELEVE_COTES!$G$12,TabNuancierVTL[],3,FALSE)&VLOOKUP(RELEVE_COTES!$G$13,TabNuancierVTL[],3,FALSE),TabFinition[TYPE EXT]&TabFinition[TYPE INT],0))","v":{"$error":"#N/A"}},"INT",{"$f":"RELEVE_COTES!$E$16","v":"platines + vérins"},"NON",{"$f":"IF(RELEVE_COTES!$I$20 = \"Huisserie Bois\",RELEVE_COTES!$R78,IF(RELEVE_COTES!$I$20 = \"Huisserie Banchée\",RELEVE_COTES!$M78,IF(RELEVE_COTES!$I$20 = \"Bâti Scellé\",RELEVE_COTES!$O78,\"\")))","v":""},null,{"$f":"VLOOKUP(RELEVE_COTES!$K$11,TabSerrureRef[],3,FALSE)","v":{"$error":"#N/A"}},{"$f":"VLOOKUP(RELEVE_COTES!$K$11,TabSerrureRef[],6,FALSE)","v":{"$error":"#N/A"}}]
[{"$error":"#VALUE!"},{"$error":"#VALUE!"},{"$f":"IF(RELEVE_COTES!$A79<>\"\",SUBSTITUTE(SUBSTITUTE(SUBSTITUTE(SUBSTITUTE(SUBSTITUTE(SUBSTITUTE(SUBSTITUTE(SUBSTITUTE(RELEVE_COTES!$A79,\" \",\"\"),\"-\",\"/\"),\".\",\"/\"),\"\\\",\"/\"),\",\",\"/\"),\"+\",\"_\"),\"&\",\"_\"),\"*\",\"/\"),\"\")","v":""},{"$f":"RELEVE_COTES!$B79","v":0},1,{"$f":"IF(RELEVE_COTES!C79<>\"\",SUBSTITUTE(SUBSTITUTE(SUBSTITUTE(SUBSTITUTE(SUBSTITUTE(SUBSTITUTE(SUBSTITUTE(SUBSTITUTE(RELEVE_COTES!C79,\" \",\"\"),\"-\",\"\"),\".\",\",\"),\"\\\",\"\"),\",\",\",\"),\"+\",\"\"),\"&\",\"\"),\"*\",\"\"),\"\")","v":""},{"$f":"IF(RELEVE_COTES!D79<>\"\",SUBSTITUTE(SUBSTITUTE(SUBSTITUTE(SUBSTITUTE(SUBSTITUTE(SUBSTITUTE(SUBSTITUTE(SUBSTITUTE(RELEVE_COTES!D79,\" \",\"\"),\"-\",\"\"),\".\",\",\"),\"\\\",\"\"),\",\",\",\"),\"+\",\"\"),\"&\",\"\"),\"*\",\"\"),\"\")","v":""},{"$f":"IF(RELEVE_COTES!E79<>\"\",SUBSTITUTE(SUBSTITUTE(SUBSTITUTE(SUBSTITUTE(SUBSTITUTE(SUBSTITUTE(SUBSTITUTE(SUBSTITUTE(RELEVE_COTES!E79,\" \",\"\"),\"-\",\"\"),\".\",\",\"),\"\\\",\"\"),\",\",\",\"),\"+\",\"\"),\"&\",\"\"),\"*\",\"\"),\"\")","v":""},{"$f":"IF(RELEVE_COTES!F79<>\"\",SUBSTITUTE(SUBSTITUTE(SUBSTITUTE(SUBSTITUTE(SUBSTITUTE(SUBSTITUTE(SUBSTITUTE(SUBSTITUTE(RELEVE_COTES!F79,\" \",\"\"),\"-\",\"\"),\".\",\",\"),\"\\\",\"\"),\",\",\",\"),\"+\",\"\"),\"&\",\"\"),\"*\",\"\"),\"\")","v":""},{"$f":"IF(RELEVE_COTES!G79<>\"\",SUBSTITUTE(SUBSTITUTE(SUBSTITUTE(SUBSTITUTE(SUBSTITUTE(SUBSTITUTE(SUBSTITUTE(SUBSTITUTE(RELEVE_COTES!G79,\" \",\"\"),\"-\",\"\"),\".\",\",\"),\"\\\",\"\"),\",\",\",\"),\"+\",\"\"),\"&\",\"\"),\"*\",\"\"),\"\")","v":""},{"$f":"IF($D31=\"GP\",IF(RELEVE_COTES!$I79=\"\",0,IF(RELEVE_COTES!$I79=\"\",\"\",RELEVE_COTES!$I79)),IF(RELEVE_COTES!$H79=\"\",0,IF(RELEVE_COTES!$H79=\"\",\"\",RELEVE_COTES!$H79)))","v":0},{"$f":"IF($D31=\"GP\",IF(RELEVE_COTES!$H79=\"\",0,IF(RELEVE_COTES!$H79=\"\",\"\",RELEVE_COTES!$H79)),IF(RELEVE_COTES!$I79=\"\",0,IF(RELEVE_COTES!$I79=\"\",\"\",RELEVE_COTES!$I79)))","v":0},{"$f":"IF(RELEVE_COTES!$J79=\"\",0,IF(RELEVE_COTES!$J79=\"\",\"\",RELEVE_COTES!$J79))","v":0},{"$f":"VLOOKUP(RELEVE_COTES!$K79,TabExistantRef1[],2,FALSE)","v":{"$error":"#N/A"}},{"$f":"IF($Y$1=\"BOIS\",RELEVE_COTES!$O79,0)","v":{"$error":"#N/A"}},{"$f":"IF($Y$1=\"BOIS\",RELEVE_COTES!$P79,0)","v":{"$error":"#N/A"}},{"$f":"IF($Y$1=\"BOIS\",RELEVE_COTES!$Q79,0)","v":{"$error":"#N/A"}},{"$error":"#N/A"},{"$f":"IF($Y$1=\"BANCHE\",RELEVE_COTES!$L79,0)","v":{"$error":"#N/A"}},{"$error":"#N/A"},{"$error":"#N/A"},{"$f":"IF($Y$1<>\"BANCHE\",RELEVE_COTES!$L79,0)","v":{"$error":"#N/A"}},{"$f":"IF(AND($Y$1<>\"BANCHE\",RELEVE_COTES!$M79<>\"\"),RELEVE_COTES!$M79,20)","v":{"$error":"#N/A"}},{"$f":"IF($Y$1<>\"BANCHE\",IF(RELEVE_COTES!$N79<>\"\",RELEVE_COTES!$N79,10),0)","v":{"$error":"#N/A"}},{"$f":"IF(RELEVE_COTES!$I$20=\"Huisserie Banchée\",\"Banche\",IF(RELEVE_COTES!$I$20=\"Huisserie Bois\",\"Bois\",IF(RELEVE_COTES!$I$20=\"Bâti Scellé\",\"Bâti Métal.\")))","v":false},{"$f":"RELEVE_COTES!$C$11","v":0},{"$f":"RELEVE_COTES!$K$12","v":0},{"$f":"VLOOKUP(AA31,TabSeuilRef[],2,FALSE)","v":{"$error":"#N/A"}},{"$f":"\"Paumelles \"&RELEVE_COTES!$E$15","v":"Paumelles "},{"$f":"IF(RELEVE_COTES!$K$16<>\"Déporté\",RELEVE_COTES!$K$16,RELEVE_COTES!$K$16&\" / \"&VLOOKUP(RELEVE_COTES!$L$16,TabOptUsSerr[],2,FALSE))","v":"SANS"},{"$f":"RELEVE_COTES!$K$11","v":0},{"$f":"VLOOKUP(RELEVE_COTES!$G$12,TabNuancierVTL[],2,FALSE)&\"/\"&VLOOKUP(RELEVE_COTES!$G$13,TabNuancierVTL[],2,FALSE)","v":{"$error":"#N/A"}},{"$f":"IF(RELEVE_COTES!$E$14=\"Pr.Peint\",\"PP\",VLOOKUP(RELEVE_COTES!$G$14,TabNuancHM[],2,FALSE))","v":"PP"},{"$error":"#N/A"},{"$f":"IF(RELEVE_COTES!$C$11 =\"R32S-R02\",\"OUI\",\"NON\")","v":"NON"},"NON","",{"$f":"IF(AI31=\"OUI\",RELEVE_COTES!$N$16,\"\")","v":""},null,{"$f":"RELEVE_COTES!$E$12&\"/\"&RELEVE_COTES!$E$13","v":" SANS/ SANS"},{"$f":"IF(RELEVE_COTES!$K$15<>\"SANS\",RELEVE_COTES!$L$15&\" \"&RELEVE_COTES!$K$15,\"\")&IF(RELEVE_COTES!$N$15<>\"SANS\",\" / PMR: \"&RELEVE_COTES!$O$15&\" \"&RELEVE_COTES!$N$15,\"\")","v":""},{"$f":"IF(RELEVE_COTES!$K$14 <> \"SANS\",RELEVE_COTES!$O$14&\" \"&RELEVE_COTES!$K$14,\"\")","v":"U+F "},{"$f":"IF(RELEVE_COTES!$K$13 <> \"SANS\",RELEVE_COTES!$O$13&\" \"&RELEVE_COTES!$K$13,\"SANS\")","v":"U+F "},{"$f":"VLOOKUP(RELEVE_COTES!$O$11,TabOptUsSerr[],2,FALSE)","v":"Usinage, fourniture et pose"},{"$f":"INDEX(TabFinition[FINITION],MATCH(VLOOKUP(RELEVE_COTES!$G$12,TabNuancierVTL[],3,FALSE)&VLOOKUP(RELEVE_COTES!$G$13,TabNuancierVTL[],3,FALSE),TabFinition[TYPE EXT]&TabFinition[TYPE INT],0))","v":{"$error":"#N/A"}},"INT",{"$f":"RELEVE_COTES!$E$16","v":"platines + vérins"},"NON",{"$f":"IF(RELEVE_COTES!$I$20 = \"Huisserie Bois\",RELEVE_COTES!$R79,IF(RELEVE_COTES!$I$20 = \"Huisserie Banchée\",RELEVE_COTES!$M79,IF(RELEVE_COTES!$I$20 = \"Bâti Scellé\",RELEVE_COTES!$O79,\"\")))","v":""},null,{"$f":"VLOOKUP(RELEVE_COTES!$K$11,TabSerrureRef[],3,FALSE)","v":{"$error":"#N/A"}},{"$f":"VLOOKUP(RELEVE_COTES!$K$11,TabSerrureRef[],6,FALSE)","v":{"$error":"#N/A"}}]
[{"$error":"#VALUE!"},{"$error":"#VALUE!"},{"$f":"IF(RELEVE_COTES!$A80<>\"\",SUBSTITUTE(SUBSTITUTE(SUBSTITUTE(SUBSTITUTE(SUBSTITUTE(SUBSTITUTE(SUBSTITUTE(SUBSTITUTE(RELEVE_COTES!$A80,\" \",\"\"),\"-\",\"/\"),\".\",\"/\"),\"\\\",\"/\"),\",\",\"/\"),\"+\",\"_\"),\"&\",\"_\"),\"*\",\"/\"),\"\")","v":""},{"$f":"RELEVE_COTES!$B80","v":0},1,{"$f":"IF(RELEVE_COTES!C80<>\"\",SUBSTITUTE(SUBSTITUTE(SUBSTITUTE(SUBSTITUTE(SUBSTITUTE(SUBSTITUTE(SUBSTITUTE(SUBSTITUTE(RELEVE_COTES!C80,\" \",\"\"),\"-\",\"\"),\".\",\",\"),\"\\\",\"\"),\",\",\",\"),\"+\",\"\"),\"&\",\"\"),\"*\",\"\"),\"\")","v":""},{"$f":"IF(RELEVE_COTES!D80<>\"\",SUBSTITUTE(SUBSTITUTE(SUBSTITUTE(SUBSTITUTE(SUBSTITUTE(SUBSTITUTE(SUBSTITUTE(SUBSTITUTE(RELEVE_COTES!D80,\" \",\"\"),\"-\",\"\"),\".\",\",\"),\"\\\",\"\"),\",\",\",\"),\"+\",\"\"),\"&\",\"\"),\"*\",\"\"),\"\")","v":""},{"$f":"IF(RELEVE_COTES!E80<>\"\",SUBSTITUTE(SUBSTITUTE(SUBSTITUTE(SUBSTITUTE(SUBSTITUTE(SUBSTITUTE(SUBSTITUTE(SUBSTITUTE(RELEVE_COTES!E80,\" \",\"\"),\"-\",\"\"),\".\",\",\"),\"\\\",\"\"),\",\",\",\"),\"+\",\"\"),\"&\",\"\"),\"*\",\"\"),\"\")","v":""},{"$f":"IF(RELEVE_COTES!F80<>\"\",SUBSTITUTE(SUBSTITUTE(SUBSTITUTE(SUBSTITUTE(SUBSTITUTE(SUBSTITUTE(SUBSTITUTE(SUBSTITUTE(RELEVE_COTES!F80,\" \",\"\"),\"-\",\"\"),\".\",\",\"),\"\\\",\"\"),\",\",\",\"),\"+\",\"\"),\"&\",\"\"),\"*\",\"\"),\"\")","v":""},{"$f":"IF(RELEVE_COTES!G80<>\"\",SUBSTITUTE(SUBSTITUTE(SUBSTITUTE(SUBSTITUTE(SUBSTITUTE(SUBSTITUTE(SUBSTITUTE(SUBSTITUTE(RELEVE_COTES!G80,\" \",\"\"),\"-\",\"\"),\".\",\",\"),\"\\\",\"\"),\",\",\",\"),\"+\",\"\"),\"&\",\"\"),\"*\",\"\"),\"\")","v":""},{"$f":"IF($D32=\"GP\",IF(RELEVE_COTES!$I80=\"\",0,IF(RELEVE_COTES!$I80=\"\",\"\",RELEVE_COTES!$I80)),IF(RELEVE_COTES!$H80=\"\",0,IF(RELEVE_COTES!$H80=\"\",\"\",RELEVE_COTES!$H80)))","v":0},{"$f":"IF($D32=\"GP\",IF(RELEVE_COTES!$H80=\"\",0,IF(RELEVE_COTES!$H80=\"\",\"\",RELEVE_COTES!$H80)),IF(RELEVE_COTES!$I80=\"\",0,IF(RELEVE_COTES!$I80=\"\",\"\",RELEVE_COTES!$I80)))","v":0},{"$f":"IF(RELEVE_COTES!$J80=\"\",0,IF(RELEVE_COTES!$J80=\"\",\"\",RELEVE_COTES!$J80))","v":0},{"$f":"VLOOKUP(RELEVE_COTES!$K80,TabExistantRef1[],2,FALSE)","v":{"$error":"#N/A"}},{"$f":"IF($Y$1=\"BOIS\",RELEVE_COTES!$O80,0)","v":{"$error":"#N/A"}},{"$f":"IF($Y$1=\"BOIS\",RELEVE_COTES!$P80,0)","v":{"$error":"#N/A"}},{"$f":"IF($Y$1=\"BOIS\",RELEVE_COTES!$Q80,0)","v":{"$error":"#N/A"}},{"$error":"#N/A"},{"$f":"IF($Y$1=\"BANCHE\",RELEVE_COTES!$L80,0)","v":{"$error":"#N/A"}},{"$error":"#N/A"},{"$error":"#N/A"},{"$f":"IF($Y$1<>\"BANCHE\",RELEVE_COTES!$L80,0)","v":{"$error":"#N/A"}},{"$f":"IF(AND($Y$1<>\"BANCHE\",RELEVE_COTES!$M80<>\"\"),RELEVE_COTES!$M80,20)","v":{"$error":"#N/A"}},{"$f":"IF($Y$1<>\"BANCHE\",IF(RELEVE_COTES!$N80<>\"\",RELEVE_COTES!$N80,10),0)","v":{"$error":"#N/A"}},{"$f":"IF(RELEVE_COTES!$I$20=\"Huisserie Banchée\",\"Banche\",IF(RELEVE_COTES!$I$20=\"Huisserie Bois\",\"Bois\",IF(RELEVE_COTES!$I$20=\"Bâti Scellé\",\"Bâti Métal.\")))","v":false},{"$f":"RELEVE_COTES!$C$11","v":0},{"$f":"RELEVE_COTES!$K$12","v":0},{"$f":"VLOOKUP(AA32,TabSeuilRef[],2,FALSE)","v":{"$error":"#N/A"}},{"$f":"\"Paumelles \"&RELEVE_COTES!$E$15","v":"Paumelles "},{"$f":"IF(RELEVE_COTES!$K$16<>\"Déporté\",RELEVE_COTES!$K$16,RELEVE_COTES!$K$16&\" / \"&VLOOKUP(RELEVE_COTES!$L$16,TabOptUsSerr[],2,FALSE))","v":"SANS"},{"$f":"RELEVE_COTES!$K$11","v":0},{"$f":"VLOOKUP(RELEVE_COTES!$G$12,TabNuancierVTL[],2,FALSE)&\"/\"&VLOOKUP(RELEVE_COTES!$G$13,TabNuancierVTL[],2,FALSE)","v":{"$error":"#N/A"}},{"$f":"IF(RELEVE_COTES!$E$14=\"Pr.Peint\",\"PP\",VLOOKUP(RELEVE_COTES!$G$14,TabNuancHM[],2,FALSE))","v":"PP"},{"$error":"#N/A"},{"$f":"IF(RELEVE_COTES!$C$11 =\"R32S-R02\",\"OUI\",\"NON\")","v":"NON"},"NON","",{"$f":"IF(AI32=\"OUI\",RELEVE_COTES!$N$16,\"\")","v":""},null,{"$f":"RELEVE_COTES!$E$12&\"/\"&RELEVE_COTES!$E$13","v":" SANS/ SANS"},{"$f":"IF(RELEVE_COTES!$K$15<>\"SANS\",RELEVE_COTES!$L$15&\" \"&RELEVE_COTES!$K$15,\"\")&IF(RELEVE_COTES!$N$15<>\"SANS\",\" / PMR: \"&RELEVE_COTES!$O$15&\" \"&RELEVE_COTES!$N$15,\"\")","v":""},{"$f":"IF(RELEVE_COTES!$K$14 <> \"SANS\",RELEVE_COTES!$O$14&\" \"&RELEVE_COTES!$K$14,\"\")","v":"U+F "},{"$f":"IF(RELEVE_COTES!$K$13 <> \"SANS\",RELEVE_COTES!$O$13&\" \"&RELEVE_COTES!$K$13,\"SANS\")","v":"U+F "},{"$f":"VLOOKUP(RELEVE_COTES!$O$11,TabOptUsSerr[],2,FALSE)","v":"Usinage, fourniture et pose"},{"$f":"INDEX(TabFinition[FINITION],MATCH(VLOOKUP(RELEVE_COTES!$G$12,TabNuancierVTL[],3,FALSE)&VLOOKUP(RELEVE_COTES!$G$13,TabNuancierVTL[],3,FALSE),TabFinition[TYPE EXT]&TabFinition[TYPE INT],0))","v":{"$error":"#N/A"}},"INT",{"$f":"RELEVE_COTES!$E$16","v":"platines + vérins"},"NON",{"$f":"IF(RELEVE_COTES!$I$20 = \"Huisserie Bois\",RELEVE_COTES!$R80,IF(RELEVE_COTES!$I$20 = \"Huisserie Banchée\",RELEVE_COTES!$M80,IF(RELEVE_COTES!$I$20 = \"Bâti Scellé\",RELEVE_COTES!$O80,\"\")))","v":""},null,{"$f":"VLOOKUP(RELEVE_COTES!$K$11,TabSerrureRef[],3,FALSE)","v":{"$error":"#N/A"}},{"$f":"VLOOKUP(RELEVE_COTES!$K$11,TabSerrureRef[],6,FALSE)","v":{"$error":"#N/A"}}]
[{"$error":"#VALUE!"},{"$error":"#VALUE!"},{"$f":"IF(RELEVE_COTES!$A81<>\"\",SUBSTITUTE(SUBSTITUTE(SUBSTITUTE(SUBSTITUTE(SUBSTITUTE(SUBSTITUTE(SUBSTITUTE(SUBSTITUTE(RELEVE_COTES!$A81,\" \",\"\"),\"-\",\"/\"),\".\",\"/\"),\"\\\",\"/\"),\",\",\"/\"),\"+\",\"_\"),\"&\",\"_\"),\"*\",\"/\"),\"\")","v":""},{"$f":"RELEVE_COTES!$B81","v":0},1,{"$f":"IF(RELEVE_COTES!C81<>\"\",SUBSTITUTE(SUBSTITUTE(SUBSTITUTE(SUBSTITUTE(SUBSTITUTE(SUBSTITUTE(SUBSTITUTE(SUBSTITUTE(RELEVE_COTES!C81,\" \",\"\"),\"-\",\"\"),\".\",\",\"),\"\\\",\"\"),\",\",\",\"),\"+\",\"\"),\"&\",\"\"),\"*\",\"\"),\"\")","v":""},{"$f":"IF(RELEVE_COTES!D81<>\"\",SUBSTITUTE(SUBSTITUTE(SUBSTITUTE(SUBSTITUTE(SUBSTITUTE(SUBSTITUTE(SUBSTITUTE(SUBSTITUTE(RELEVE_COTES!D81,\" \",\"\"),\"-\",\"\"),\".\",\",\"),\"\\\",\"\"),\",\",\",\"),\"+\",\"\"),\"&\",\"\"),\"*\",\"\"),\"\")","v":""},{"$f":"IF(RELEVE_COTES!E81<>\"\",SUBSTITUTE(SUBSTITUTE(SUBSTITUTE(SUBSTITUTE(SUBSTITUTE(SUBSTITUTE(SUBSTITUTE(SUBSTITUTE(RELEVE_COTES!E81,\" \",\"\"),\"-\",\"\"),\".\",\",\"),\"\\\",\"\"),\",\",\",\"),\"+\",\"\"),\"&\",\"\"),\"*\",\"\"),\"\")","v":""},{"$f":"IF(RELEVE_COTES!F81<>\"\",SUBSTITUTE(SUBSTITUTE(SUBSTITUTE(SUBSTITUTE(SUBSTITUTE(SUBSTITUTE(SUBSTITUTE(SUBSTITUTE(RELEVE_COTES!F81,\" \",\"\"),\"-\",\"\"),\".\",\",\"),\"\\\",\"\"),\",\",\",\"),\"+\",\"\"),\"&\",\"\"),\"*\",\"\"),\"\")","v":""},{"$f":"IF(RELEVE_COTES!G81<>\"\",SUBSTITUTE(SUBSTITUTE(SUBSTITUTE(SUBSTITUTE(SUBSTITUTE(SUBSTITUTE(SUBSTITUTE(SUBSTITUTE(RELEVE_COTES!G81,\" \",\"\"),\"-\",\"\"),\".\",\",\"),\"\\\",\"\"),\",\",\",\"),\"+\",\"\"),\"&\",\"\"),\"*\",\"\"),\"\")","v":""},{"$f":"IF($D33=\"GP\",IF(RELEVE_COTES!$I81=\"\",0,IF(RELEVE_COTES!$I81=\"\",\"\",RELEVE_COTES!$I81)),IF(RELEVE_COTES!$H81=\"\",0,IF(RELEVE_COTES!$H81=\"\",\"\",RELEVE_COTES!$H81)))","v":0},{"$f":"IF($D33=\"GP\",IF(RELEVE_COTES!$H81=\"\",0,IF(RELEVE_COTES!$H81=\"\",\"\",RELEVE_COTES!$H81)),IF(RELEVE_COTES!$I81=\"\",0,IF(RELEVE_COTES!$I81=\"\",\"\",RELEVE_COTES!$I81)))","v":0},{"$f":"IF(RELEVE_COTES!$J81=\"\",0,IF(RELEVE_COTES!$J81=\"\",\"\",RELEVE_COTES!$J81))","v":0},{"$f":"VLOOKUP(RELEVE_COTES!$K81,TabExistantRef1[],2,FALSE)","v":{"$error":"#N/A"}},{"$f":"IF($Y$1=\"BOIS\",RELEVE_COTES!$O81,0)","v":{"$error":"#N/A"}},{"$f":"IF($Y$1=\"BOIS\",RELEVE_COTES!$P81,0)","v":{"$error":"#N/A"}},{"$f":"IF($Y$1=\"BOIS\",RELEVE_COTES!$Q81,0)","v":{"$error":"#N/A"}},{"$error":"#N/A"},{"$f":"IF($Y$1=\"BANCHE\",RELEVE_COTES!$L81,0)","v":{"$error":"#N/A"}},{"$error":"#N/A"},{"$error":"#N/A"},{"$f":"IF($Y$1<>\"BANCHE\",RELEVE_COTES!$L81,0)","v":{"$error":"#N/A"}},{"$f":"IF(AND($Y$1<>\"BANCHE\",RELEVE_COTES!$M81<>\"\"),RELEVE_COTES!$M81,20)","v":{"$error":"#N/A"}},{"$f":"IF($Y$1<>\"BANCHE\",IF(RELEVE_COTES!$N81<>\"\",RELEVE_COTES!$N81,10),0)","v":{"$error":"#N/A"}},{"$f":"IF(RELEVE_COTES!$I$20=\"Huisserie Banchée\",\"Banche\",IF(RELEVE_COTES!$I$20=\"Huisserie Bois\",\"Bois\",IF(RELEVE_COTES!$I$20=\"Bâti Scellé\",\"Bâti Métal.\")))","v":false},{"$f":"RELEVE_COTES!$C$11","v":0},{"$f":"RELEVE_COTES!$K$12","v":0},{"$f":"VLOOKUP(AA33,TabSeuilRef[],2,FALSE)","v":{"$error":"#N/A"}},{"$f":"\"Paumelles \"&RELEVE_COTES!$E$15","v":"Paumelles "},{"$f":"IF(RELEVE_COTES!$K$16<>\"Déporté\",RELEVE_COTES!$K$16,RELEVE_COTES!$K$16&\" / \"&VLOOKUP(RELEVE_COTES!$L$16,TabOptUsSerr[],2,FALSE))","v":"SANS"},{"$f":"RELEVE_COTES!$K$11","v":0},{"$f":"VLOOKUP(RELEVE_COTES!$G$12,TabNuancierVTL[],2,FALSE)&\"/\"&VLOOKUP(RELEVE_COTES!$G$13,TabNuancierVTL[],2,FALSE)","v":{"$error":"#N/A"}},{"$f":"IF(RELEVE_COTES!$E$14=\"Pr.Peint\",\"PP\",VLOOKUP(RELEVE_COTES!$G$14,TabNuancHM[],2,FALSE))","v":"PP"},{"$error":"#N/A"},{"$f":"IF(RELEVE_COTES!$C$11 =\"R32S-R02\",\"OUI\",\"NON\")","v":"NON"},"NON","",{"$f":"IF(AI33=\"OUI\",RELEVE_COTES!$N$16,\"\")","v":""},null,{"$f":"RELEVE_COTES!$E$12&\"/\"&RELEVE_COTES!$E$13","v":" SANS/ SANS"},{"$f":"IF(RELEVE_COTES!$K$15<>\"SANS\",RELEVE_COTES!$L$15&\" \"&RELEVE_COTES!$K$15,\"\")&IF(RELEVE_COTES!$N$15<>\"SANS\",\" / PMR: \"&RELEVE_COTES!$O$15&\" \"&RELEVE_COTES!$N$15,\"\")","v":""},{"$f":"IF(RELEVE_COTES!$K$14 <> \"SANS\",RELEVE_COTES!$O$14&\" \"&RELEVE_COTES!$K$14,\"\")","v":"U+F "},{"$f":"IF(RELEVE_COTES!$K$13 <> \"SANS\",RELEVE_COTES!$O$13&\" \"&RELEVE_COTES!$K$13,\"SANS\")","v":"U+F "},{"$f":"VLOOKUP(RELEVE_COTES!$O$11,TabOptUsSerr[],2,FALSE)","v":"Usinage, fourniture et pose"},{"$f":"INDEX(TabFinition[FINITION],MATCH(VLOOKUP(RELEVE_COTES!$G$12,TabNuancierVTL[],3,FALSE)&VLOOKUP(RELEVE_COTES!$G$13,TabNuancierVTL[],3,FALSE),TabFinition[TYPE EXT]&TabFinition[TYPE INT],0))","v":{"$error":"#N/A"}},"INT",{"$f":"RELEVE_COTES!$E$16","v":"platines + vérins"},"NON",{"$f":"IF(RELEVE_COTES!$I$20 = \"Huisserie Bois\",RELEVE_COTES!$R81,IF(RELEVE_COTES!$I$20 = \"Huisserie Banchée\",RELEVE_COTES!$M81,IF(RELEVE_COTES!$I$20 = \"Bâti Scellé\",RELEVE_COTES!$O81,\"\")))","v":""},null,{"$f":"VLOOKUP(RELEVE_COTES!$K$11,TabSerrureRef[],3,FALSE)","v":{"$error":"#N/A"}},{"$f":"VLOOKUP(RELEVE_COTES!$K$11,TabSerrureRef[],6,FALSE)","v":{"$error":"#N/A"}}]
[{"$error":"#VALUE!"},{"$error":"#VALUE!"},{"$f":"IF(RELEVE_COTES!$A82<>\"\",SUBSTITUTE(SUBSTITUTE(SUBSTITUTE(SUBSTITUTE(SUBSTITUTE(SUBSTITUTE(SUBSTITUTE(SUBSTITUTE(RELEVE_COTES!$A82,\" \",\"\"),\"-\",\"/\"),\".\",\"/\"),\"\\\",\"/\"),\",\",\"/\"),\"+\",\"_\"),\"&\",\"_\"),\"*\",\"/\"),\"\")","v":""},{"$f":"RELEVE_COTES!$B82","v":0},1,{"$f":"IF(RELEVE_COTES!C82<>\"\",SUBSTITUTE(SUBSTITUTE(SUBSTITUTE(SUBSTITUTE(SUBSTITUTE(SUBSTITUTE(SUBSTITUTE(SUBSTITUTE(RELEVE_COTES!C82,\" \",\"\"),\"-\",\"\"),\".\",\",\"),\"\\\",\"\"),\",\",\",\"),\"+\",\"\"),\"&\",\"\"),\"*\",\"\"),\"\")","v":""},{"$f":"IF(RELEVE_COTES!D82<>\"\",SUBSTITUTE(SUBSTITUTE(SUBSTITUTE(SUBSTITUTE(SUBSTITUTE(SUBSTITUTE(SUBSTITUTE(SUBSTITUTE(RELEVE_COTES!D82,\" \",\"\"),\"-\",\"\"),\".\",\",\"),\"\\\",\"\"),\",\",\",\"),\"+\",\"\"),\"&\",\"\"),\"*\",\"\"),\"\")","v":""},{"$f":"IF(RELEVE_COTES!E82<>\"\",SUBSTITUTE(SUBSTITUTE(SUBSTITUTE(SUBSTITUTE(SUBSTITUTE(SUBSTITUTE(SUBSTITUTE(SUBSTITUTE(RELEVE_COTES!E82,\" \",\"\"),\"-\",\"\"),\".\",\",\"),\"\\\",\"\"),\",\",\",\"),\"+\",\"\"),\"&\",\"\"),\"*\",\"\"),\"\")","v":""},{"$f":"IF(RELEVE_COTES!F82<>\"\",SUBSTITUTE(SUBSTITUTE(SUBSTITUTE(SUBSTITUTE(SUBSTITUTE(SUBSTITUTE(SUBSTITUTE(SUBSTITUTE(RELEVE_COTES!F82,\" \",\"\"),\"-\",\"\"),\".\",\",\"),\"\\\",\"\"),\",\",\",\"),\"+\",\"\"),\"&\",\"\"),\"*\",\"\"),\"\")","v":""},{"$f":"IF(RELEVE_COTES!G82<>\"\",SUBSTITUTE(SUBSTITUTE(SUBSTITUTE(SUBSTITUTE(SUBSTITUTE(SUBSTITUTE(SUBSTITUTE(SUBSTITUTE(RELEVE_COTES!G82,\" \",\"\"),\"-\",\"\"),\".\",\",\"),\"\\\",\"\"),\",\",\",\"),\"+\",\"\"),\"&\",\"\"),\"*\",\"\"),\"\")","v":""},{"$f":"IF($D34=\"GP\",IF(RELEVE_COTES!$I82=\"\",0,IF(RELEVE_COTES!$I82=\"\",\"\",RELEVE_COTES!$I82)),IF(RELEVE_COTES!$H82=\"\",0,IF(RELEVE_COTES!$H82=\"\",\"\",RELEVE_COTES!$H82)))","v":0},{"$f":"IF($D34=\"GP\",IF(RELEVE_COTES!$H82=\"\",0,IF(RELEVE_COTES!$H82=\"\",\"\",RELEVE_COTES!$H82)),IF(RELEVE_COTES!$I82=\"\",0,IF(RELEVE_COTES!$I82=\"\",\"\",RELEVE_COTES!$I82)))","v":0},{"$f":"IF(RELEVE_COTES!$J82=\"\",0,IF(RELEVE_COTES!$J82=\"\",\"\",RELEVE_COTES!$J82))","v":0},{"$f":"VLOOKUP(RELEVE_COTES!$K82,TabExistantRef1[],2,FALSE)","v":{"$error":"#N/A"}},{"$f":"IF($Y$1=\"BOIS\",RELEVE_COTES!$O82,0)","v":{"$error":"#N/A"}},{"$f":"IF($Y$1=\"BOIS\",RELEVE_COTES!$P82,0)","v":{"$error":"#N/A"}},{"$f":"IF($Y$1=\"BOIS\",RELEVE_COTES!$Q82,0)","v":{"$error":"#N/A"}},{"$error":"#N/A"},{"$f":"IF($Y$1=\"BANCHE\",RELEVE_COTES!$L82,0)","v":{"$error":"#N/A"}},{"$error":"#N/A"},{"$error":"#N/A"},{"$f":"IF($Y$1<>\"BANCHE\",RELEVE_COTES!$L82,0)","v":{"$error":"#N/A"}},{"$f":"IF(AND($Y$1<>\"BANCHE\",RELEVE_COTES!$M82<>\"\"),RELEVE_COTES!$M82,20)","v":{"$error":"#N/A"}},{"$f":"IF($Y$1<>\"BANCHE\",IF(RELEVE_COTES!$N82<>\"\",RELEVE_COTES!$N82,10),0)","v":{"$error":"#N/A"}},{"$f":"IF(RELEVE_COTES!$I$20=\"Huisserie Banchée\",\"Banche\",IF(RELEVE_COTES!$I$20=\"Huisserie Bois\",\"Bois\",IF(RELEVE_COTES!$I$20=\"Bâti Scellé\",\"Bâti Métal.\")))","v":false},{"$f":"RELEVE_COTES!$C$11","v":0},{"$f":"RELEVE_COTES!$K$12","v":0},{"$f":"VLOOKUP(AA34,TabSeuilRef[],2,FALSE)","v":{"$error":"#N/A"}},{"$f":"\"Paumelles \"&RELEVE_COTES!$E$15","v":"Paumelles "},{"$f":"IF(RELEVE_COTES!$K$16<>\"Déporté\",RELEVE_COTES!$K$16,RELEVE_COTES!$K$16&\" / \"&VLOOKUP(RELEVE_COTES!$L$16,TabOptUsSerr[],2,FALSE))","v":"SANS"},{"$f":"RELEVE_COTES!$K$11","v":0},{"$f":"VLOOKUP(RELEVE_COTES!$G$12,TabNuancierVTL[],2,FALSE)&\"/\"&VLOOKUP(RELEVE_COTES!$G$13,TabNuancierVTL[],2,FALSE)","v":{"$error":"#N/A"}},{"$f":"IF(RELEVE_COTES!$E$14=\"Pr.Peint\",\"PP\",VLOOKUP(RELEVE_COTES!$G$14,TabNuancHM[],2,FALSE))","v":"PP"},{"$error":"#N/A"},{"$f":"IF(RELEVE_COTES!$C$11 =\"R32S-R02\",\"OUI\",\"NON\")","v":"NON"},"NON","",{"$f":"IF(AI34=\"OUI\",RELEVE_COTES!$N$16,\"\")","v":""},null,{"$f":"RELEVE_COTES!$E$12&\"/\"&RELEVE_COTES!$E$13","v":" SANS/ SANS"},{"$f":"IF(RELEVE_COTES!$K$15<>\"SANS\",RELEVE_COTES!$L$15&\" \"&RELEVE_COTES!$K$15,\"\")&IF(RELEVE_COTES!$N$15<>\"SANS\",\" / PMR: \"&RELEVE_COTES!$O$15&\" \"&RELEVE_COTES!$N$15,\"\")","v":""},{"$f":"IF(RELEVE_COTES!$K$14 <> \"SANS\",RELEVE_COTES!$O$14&\" \"&RELEVE_COTES!$K$14,\"\")","v":"U+F "},{"$f":"IF(RELEVE_COTES!$K$13 <> \"SANS\",RELEVE_COTES!$O$13&\" \"&RELEVE_COTES!$K$13,\"SANS\")","v":"U+F "},{"$f":"VLOOKUP(RELEVE_COTES!$O$11,TabOptUsSerr[],2,FALSE)","v":"Usinage, fourniture et pose"},{"$f":"INDEX(TabFinition[FINITION],MATCH(VLOOKUP(RELEVE_COTES!$G$12,TabNuancierVTL[],3,FALSE)&VLOOKUP(RELEVE_COTES!$G$13,TabNuancierVTL[],3,FALSE),TabFinition[TYPE EXT]&TabFinition[TYPE INT],0))","v":{"$error":"#N/A"}},"INT",{"$f":"RELEVE_COTES!$E$16","v":"platines + vérins"},"NON",{"$f":"IF(RELEVE_COTES!$I$20 = \"Huisserie Bois\",RELEVE_COTES!$R82,IF(RELEVE_COTES!$I$20 = \"Huisserie Banchée\",RELEVE_COTES!$M82,IF(RELEVE_COTES!$I$20 = \"Bâti Scellé\",RELEVE_COTES!$O82,\"\")))","v":""},null,{"$f":"VLOOKUP(RELEVE_COTES!$K$11,TabSerrureRef[],3,FALSE)","v":{"$error":"#N/A"}},{"$f":"VLOOKUP(RELEVE_COTES!$K$11,TabSerrureRef[],6,FALSE)","v":{"$error":"#N/A"}}]
[{"$error":"#VALUE!"},{"$error":"#VALUE!"},{"$f":"IF(RELEVE_COTES!$A83<>\"\",SUBSTITUTE(SUBSTITUTE(SUBSTITUTE(SUBSTITUTE(SUBSTITUTE(SUBSTITUTE(SUBSTITUTE(SUBSTITUTE(RELEVE_COTES!$A83,\" \",\"\"),\"-\",\"/\"),\".\",\"/\"),\"\\\",\"/\"),\",\",\"/\"),\"+\",\"_\"),\"&\",\"_\"),\"*\",\"/\"),\"\")","v":""},{"$f":"RELEVE_COTES!$B83","v":0},1,{"$f":"IF(RELEVE_COTES!C83<>\"\",SUBSTITUTE(SUBSTITUTE(SUBSTITUTE(SUBSTITUTE(SUBSTITUTE(SUBSTITUTE(SUBSTITUTE(SUBSTITUTE(RELEVE_COTES!C83,\" \",\"\"),\"-\",\"\"),\".\",\",\"),\"\\\",\"\"),\",\",\",\"),\"+\",\"\"),\"&\",\"\"),\"*\",\"\"),\"\")","v":""},{"$f":"IF(RELEVE_COTES!D83<>\"\",SUBSTITUTE(SUBSTITUTE(SUBSTITUTE(SUBSTITUTE(SUBSTITUTE(SUBSTITUTE(SUBSTITUTE(SUBSTITUTE(RELEVE_COTES!D83,\" \",\"\"),\"-\",\"\"),\".\",\",\"),\"\\\",\"\"),\",\",\",\"),\"+\",\"\"),\"&\",\"\"),\"*\",\"\"),\"\")","v":""},{"$f":"IF(RELEVE_COTES!E83<>\"\",SUBSTITUTE(SUBSTITUTE(SUBSTITUTE(SUBSTITUTE(SUBSTITUTE(SUBSTITUTE(SUBSTITUTE(SUBSTITUTE(RELEVE_COTES!E83,\" \",\"\"),\"-\",\"\"),\".\",\",\"),\"\\\",\"\"),\",\",\",\"),\"+\",\"\"),\"&\",\"\"),\"*\",\"\"),\"\")","v":""},{"$f":"IF(RELEVE_COTES!F83<>\"\",SUBSTITUTE(SUBSTITUTE(SUBSTITUTE(SUBSTITUTE(SUBSTITUTE(SUBSTITUTE(SUBSTITUTE(SUBSTITUTE(RELEVE_COTES!F83,\" \",\"\"),\"-\",\"\"),\".\",\",\"),\"\\\",\"\"),\",\",\",\"),\"+\",\"\"),\"&\",\"\"),\"*\",\"\"),\"\")","v":""},{"$f":"IF(RELEVE_COTES!G83<>\"\",SUBSTITUTE(SUBSTITUTE(SUBSTITUTE(SUBSTITUTE(SUBSTITUTE(SUBSTITUTE(SUBSTITUTE(SUBSTITUTE(RELEVE_COTES!G83,\" \",\"\"),\"-\",\"\"),\".\",\",\"),\"\\\",\"\"),\",\",\",\"),\"+\",\"\"),\"&\",\"\"),\"*\",\"\"),\"\")","v":""},{"$f":"IF($D35=\"GP\",IF(RELEVE_COTES!$I83=\"\",0,IF(RELEVE_COTES!$I83=\"\",\"\",RELEVE_COTES!$I83)),IF(RELEVE_COTES!$H83=\"\",0,IF(RELEVE_COTES!$H83=\"\",\"\",RELEVE_COTES!$H83)))","v":0},{"$f":"IF($D35=\"GP\",IF(RELEVE_COTES!$H83=\"\",0,IF(RELEVE_COTES!$H83=\"\",\"\",RELEVE_COTES!$H83)),IF(RELEVE_COTES!$I83=\"\",0,IF(RELEVE_COTES!$I83=\"\",\"\",RELEVE_COTES!$I83)))","v":0},{"$f":"IF(RELEVE_COTES!$J83=\"\",0,IF(RELEVE_COTES!$J83=\"\",\"\",RELEVE_COTES!$J83))","v":0},{"$f":"VLOOKUP(RELEVE_COTES!$K83,TabExistantRef1[],2,FALSE)","v":{"$error":"#N/A"}},{"$f":"IF($Y$1=\"BOIS\",RELEVE_COTES!$O83,0)","v":{"$error":"#N/A"}},{"$f":"IF($Y$1=\"BOIS\",RELEVE_COTES!$P83,0)","v":{"$error":"#N/A"}},{"$f":"IF($Y$1=\"BOIS\",RELEVE_COTES!$Q83,0)","v":{"$error":"#N/A"}},{"$error":"#N/A"},{"$f":"IF($Y$1=\"BANCHE\",RELEVE_COTES!$L83,0)","v":{"$error":"#N/A"}},{"$error":"#N/A"},{"$error":"#N/A"},{"$f":"IF($Y$1<>\"BANCHE\",RELEVE_COTES!$L83,0)","v":{"$error":"#N/A"}},{"$f":"IF(AND($Y$1<>\"BANCHE\",RELEVE_COTES!$M83<>\"\"),RELEVE_COTES!$M83,20)","v":{"$error":"#N/A"}},{"$f":"IF($Y$1<>\"BANCHE\",IF(RELEVE_COTES!$N83<>\"\",RELEVE_COTES!$N83,10),0)","v":{"$error":"#N/A"}},{"$f":"IF(RELEVE_COTES!$I$20=\"Huisserie Banchée\",\"Banche\",IF(RELEVE_COTES!$I$20=\"Huisserie Bois\",\"Bois\",IF(RELEVE_COTES!$I$20=\"Bâti Scellé\",\"Bâti Métal.\")))","v":false},{"$f":"RELEVE_COTES!$C$11","v":0},{"$f":"RELEVE_COTES!$K$12","v":0},{"$f":"VLOOKUP(AA35,TabSeuilRef[],2,FALSE)","v":{"$error":"#N/A"}},{"$f":"\"Paumelles \"&RELEVE_COTES!$E$15","v":"Paumelles "},{"$f":"IF(RELEVE_COTES!$K$16<>\"Déporté\",RELEVE_COTES!$K$16,RELEVE_COTES!$K$16&\" / \"&VLOOKUP(RELEVE_COTES!$L$16,TabOptUsSerr[],2,FALSE))","v":"SANS"},{"$f":"RELEVE_COTES!$K$11","v":0},{"$f":"VLOOKUP(RELEVE_COTES!$G$12,TabNuancierVTL[],2,FALSE)&\"/\"&VLOOKUP(RELEVE_COTES!$G$13,TabNuancierVTL[],2,FALSE)","v":{"$error":"#N/A"}},{"$f":"IF(RELEVE_COTES!$E$14=\"Pr.Peint\",\"PP\",VLOOKUP(RELEVE_COTES!$G$14,TabNuancHM[],2,FALSE))","v":"PP"},{"$error":"#N/A"},{"$f":"IF(RELEVE_COTES!$C$11 =\"R32S-R02\",\"OUI\",\"NON\")","v":"NON"},"NON","",{"$f":"IF(AI35=\"OUI\",RELEVE_COTES!$N$16,\"\")","v":""},null,{"$f":"RELEVE_COTES!$E$12&\"/\"&RELEVE_COTES!$E$13","v":" SANS/ SANS"},{"$f":"IF(RELEVE_COTES!$K$15<>\"SANS\",RELEVE_COTES!$L$15&\" \"&RELEVE_COTES!$K$15,\"\")&IF(RELEVE_COTES!$N$15<>\"SANS\",\" / PMR: \"&RELEVE_COTES!$O$15&\" \"&RELEVE_COTES!$N$15,\"\")","v":""},{"$f":"IF(RELEVE_COTES!$K$14 <> \"SANS\",RELEVE_COTES!$O$14&\" \"&RELEVE_COTES!$K$14,\"\")","v":"U+F "},{"$f":"IF(RELEVE_COTES!$K$13 <> \"SANS\",RELEVE_COTES!$O$13&\" \"&RELEVE_COTES!$K$13,\"SANS\")","v":"U+F "},{"$f":"VLOOKUP(RELEVE_COTES!$O$11,TabOptUsSerr[],2,FALSE)","v":"Usinage, fourniture et pose"},{"$f":"INDEX(TabFinition[FINITION],MATCH(VLOOKUP(RELEVE_COTES!$G$12,TabNuancierVTL[],3,FALSE)&VLOOKUP(RELEVE_COTES!$G$13,TabNuancierVTL[],3,FALSE),TabFinition[TYPE EXT]&TabFinition[TYPE INT],0))","v":{"$error":"#N/A"}},"INT",{"$f":"RELEVE_COTES!$E$16","v":"platines + vérins"},"NON",{"$f":"IF(RELEVE_COTES!$I$20 = \"Huisserie Bois\",RELEVE_COTES!$R83,IF(RELEVE_COTES!$I$20 = \"Huisserie Banchée\",RELEVE_COTES!$M83,IF(RELEVE_COTES!$I$20 = \"Bâti Scellé\",RELEVE_COTES!$O83,\"\")))","v":""},null,{"$f":"VLOOKUP(RELEVE_COTES!$K$11,TabSerrureRef[],3,FALSE)","v":{"$error":"#N/A"}},{"$f":"VLOOKUP(RELEVE_COTES!$K$11,TabSerrureRef[],6,FALSE)","v":{"$error":"#N/A"}}]
[{"$error":"#VALUE!"},{"$error":"#VALUE!"},{"$f":"IF(RELEVE_COTES!$A84<>\"\",SUBSTITUTE(SUBSTITUTE(SUBSTITUTE(SUBSTITUTE(SUBSTITUTE(SUBSTITUTE(SUBSTITUTE(SUBSTITUTE(RELEVE_COTES!$A84,\" \",\"\"),\"-\",\"/\"),\".\",\"/\"),\"\\\",\"/\"),\",\",\"/\"),\"+\",\"_\"),\"&\",\"_\"),\"*\",\"/\"),\"\")","v":""},{"$f":"RELEVE_COTES!$B84","v":0},1,{"$f":"IF(RELEVE_COTES!C84<>\"\",SUBSTITUTE(SUBSTITUTE(SUBSTITUTE(SUBSTITUTE(SUBSTITUTE(SUBSTITUTE(SUBSTITUTE(SUBSTITUTE(RELEVE_COTES!C84,\" \",\"\"),\"-\",\"\"),\".\",\",\"),\"\\\",\"\"),\",\",\",\"),\"+\",\"\"),\"&\",\"\"),\"*\",\"\"),\"\")","v":""},{"$f":"IF(RELEVE_COTES!D84<>\"\",SUBSTITUTE(SUBSTITUTE(SUBSTITUTE(SUBSTITUTE(SUBSTITUTE(SUBSTITUTE(SUBSTITUTE(SUBSTITUTE(RELEVE_COTES!D84,\" \",\"\"),\"-\",\"\"),\".\",\",\"),\"\\\",\"\"),\",\",\",\"),\"+\",\"\"),\"&\",\"\"),\"*\",\"\"),\"\")","v":""},{"$f":"IF(RELEVE_COTES!E84<>\"\",SUBSTITUTE(SUBSTITUTE(SUBSTITUTE(SUBSTITUTE(SUBSTITUTE(SUBSTITUTE(SUBSTITUTE(SUBSTITUTE(RELEVE_COTES!E84,\" \",\"\"),\"-\",\"\"),\".\",\",\"),\"\\\",\"\"),\",\",\",\"),\"+\",\"\"),\"&\",\"\"),\"*\",\"\"),\"\")","v":""},{"$f":"IF(RELEVE_COTES!F84<>\"\",SUBSTITUTE(SUBSTITUTE(SUBSTITUTE(SUBSTITUTE(SUBSTITUTE(SUBSTITUTE(SUBSTITUTE(SUBSTITUTE(RELEVE_COTES!F84,\" \",\"\"),\"-\",\"\"),\".\",\",\"),\"\\\",\"\"),\",\",\",\"),\"+\",\"\"),\"&\",\"\"),\"*\",\"\"),\"\")","v":""},{"$f":"IF(RELEVE_COTES!G84<>\"\",SUBSTITUTE(SUBSTITUTE(SUBSTITUTE(SUBSTITUTE(SUBSTITUTE(SUBSTITUTE(SUBSTITUTE(SUBSTITUTE(RELEVE_COTES!G84,\" \",\"\"),\"-\",\"\"),\".\",\",\"),\"\\\",\"\"),\",\",\",\"),\"+\",\"\"),\"&\",\"\"),\"*\",\"\"),\"\")","v":""},{"$f":"IF($D36=\"GP\",IF(RELEVE_COTES!$I84=\"\",0,IF(RELEVE_COTES!$I84=\"\",\"\",RELEVE_COTES!$I84)),IF(RELEVE_COTES!$H84=\"\",0,IF(RELEVE_COTES!$H84=\"\",\"\",RELEVE_COTES!$H84)))","v":0},{"$f":"IF($D36=\"GP\",IF(RELEVE_COTES!$H84=\"\",0,IF(RELEVE_COTES!$H84=\"\",\"\",RELEVE_COTES!$H84)),IF(RELEVE_COTES!$I84=\"\",0,IF(RELEVE_COTES!$I84=\"\",\"\",RELEVE_COTES!$I84)))","v":0},{"$f":"IF(RELEVE_COTES!$J84=\"\",0,IF(RELEVE_COTES!$J84=\"\",\"\",RELEVE_COTES!$J84))","v":0},{"$f":"VLOOKUP(RELEVE_COTES!$K84,TabExistantRef1[],2,FALSE)","v":{"$error":"#N/A"}},{"$f":"IF($Y$1=\"BOIS\",RELEVE_COTES!$O84,0)","v":{"$error":"#N/A"}},{"$f":"IF($Y$1=\"BOIS\",RELEVE_COTES!$P84,0)","v":{"$error":"#N/A"}},{"$f":"IF($Y$1=\"BOIS\",RELEVE_COTES!$Q84,0)","v":{"$error":"#N/A"}},{"$error":"#N/A"},{"$f":"IF($Y$1=\"BANCHE\",RELEVE_COTES!$L84,0)","v":{"$error":"#N/A"}},{"$error":"#N/A"},{"$error":"#N/A"},{"$f":"IF($Y$1<>\"BANCHE\",RELEVE_COTES!$L84,0)","v":{"$error":"#N/A"}},{"$f":"IF(AND($Y$1<>\"BANCHE\",RELEVE_COTES!$M84<>\"\"),RELEVE_COTES!$M84,20)","v":{"$error":"#N/A"}},{"$f":"IF($Y$1<>\"BANCHE\",IF(RELEVE_COTES!$N84<>\"\",RELEVE_COTES!$N84,10),0)","v":{"$error":"#N/A"}},{"$f":"IF(RELEVE_COTES!$I$20=\"Huisserie Banchée\",\"Banche\",IF(RELEVE_COTES!$I$20=\"Huisserie Bois\",\"Bois\",IF(RELEVE_COTES!$I$20=\"Bâti Scellé\",\"Bâti Métal.\")))","v":false},{"$f":"RELEVE_COTES!$C$11","v":0},{"$f":"RELEVE_COTES!$K$12","v":0},{"$f":"VLOOKUP(AA36,TabSeuilRef[],2,FALSE)","v":{"$error":"#N/A"}},{"$f":"\"Paumelles \"&RELEVE_COTES!$E$15","v":"Paumelles "},{"$f":"IF(RELEVE_COTES!$K$16<>\"Déporté\",RELEVE_COTES!$K$16,RELEVE_COTES!$K$16&\" / \"&VLOOKUP(RELEVE_COTES!$L$16,TabOptUsSerr[],2,FALSE))","v":"SANS"},{"$f":"RELEVE_COTES!$K$11","v":0},{"$f":"VLOOKUP(RELEVE_COTES!$G$12,TabNuancierVTL[],2,FALSE)&\"/\"&VLOOKUP(RELEVE_COTES!$G$13,TabNuancierVTL[],2,FALSE)","v":{"$error":"#N/A"}},{"$f":"IF(RELEVE_COTES!$E$14=\"Pr.Peint\",\"PP\",VLOOKUP(RELEVE_COTES!$G$14,TabNuancHM[],2,FALSE))","v":"PP"},{"$error":"#N/A"},{"$f":"IF(RELEVE_COTES!$C$11 =\"R32S-R02\",\"OUI\",\"NON\")","v":"NON"},"NON","",{"$f":"IF(AI36=\"OUI\",RELEVE_COTES!$N$16,\"\")","v":""},null,{"$f":"RELEVE_COTES!$E$12&\"/\"&RELEVE_COTES!$E$13","v":" SANS/ SANS"},{"$f":"IF(RELEVE_COTES!$K$15<>\"SANS\",RELEVE_COTES!$L$15&\" \"&RELEVE_COTES!$K$15,\"\")&IF(RELEVE_COTES!$N$15<>\"SANS\",\" / PMR: \"&RELEVE_COTES!$O$15&\" \"&RELEVE_COTES!$N$15,\"\")","v":""},{"$f":"IF(RELEVE_COTES!$K$14 <> \"SANS\",RELEVE_COTES!$O$14&\" \"&RELEVE_COTES!$K$14,\"\")","v":"U+F "},{"$f":"IF(RELEVE_COTES!$K$13 <> \"SANS\",RELEVE_COTES!$O$13&\" \"&RELEVE_COTES!$K$13,\"SANS\")","v":"U+F "},{"$f":"VLOOKUP(RELEVE_COTES!$O$11,TabOptUsSerr[],2,FALSE)","v":"Usinage, fourniture et pose"},{"$f":"INDEX(TabFinition[FINITION],MATCH(VLOOKUP(RELEVE_COTES!$G$12,TabNuancierVTL[],3,FALSE)&VLOOKUP(RELEVE_COTES!$G$13,TabNuancierVTL[],3,FALSE),TabFinition[TYPE EXT]&TabFinition[TYPE INT],0))","v":{"$error":"#N/A"}},"INT",{"$f":"RELEVE_COTES!$E$16","v":"platines + vérins"},"NON",{"$f":"IF(RELEVE_COTES!$I$20 = \"Huisserie Bois\",RELEVE_COTES!$R84,IF(RELEVE_COTES!$I$20 = \"Huisserie Banchée\",RELEVE_COTES!$M84,IF(RELEVE_COTES!$I$20 = \"Bâti Scellé\",RELEVE_COTES!$O84,\"\")))","v":""},null,{"$f":"VLOOKUP(RELEVE_COTES!$K$11,TabSerrureRef[],3,FALSE)","v":{"$error":"#N/A"}},{"$f":"VLOOKUP(RELEVE_COTES!$K$11,TabSerrureRef[],6,FALSE)","v":{"$error":"#N/A"}}]
[{"$error":"#VALUE!"},{"$error":"#VALUE!"},{"$f":"IF(RELEVE_COTES!$A85<>\"\",SUBSTITUTE(SUBSTITUTE(SUBSTITUTE(SUBSTITUTE(SUBSTITUTE(SUBSTITUTE(SUBSTITUTE(SUBSTITUTE(RELEVE_COTES!$A85,\" \",\"\"),\"-\",\"/\"),\".\",\"/\"),\"\\\",\"/\"),\",\",\"/\"),\"+\",\"_\"),\"&\",\"_\"),\"*\",\"/\"),\"\")","v":""},{"$f":"RELEVE_COTES!$B85","v":0},1,{"$f":"IF(RELEVE_COTES!C85<>\"\",SUBSTITUTE(SUBSTITUTE(SUBSTITUTE(SUBSTITUTE(SUBSTITUTE(SUBSTITUTE(SUBSTITUTE(SUBSTITUTE(RELEVE_COTES!C85,\" \",\"\"),\"-\",\"\"),\".\",\",\"),\"\\\",\"\"),\",\",\",\"),\"+\",\"\"),\"&\",\"\"),\"*\",\"\"),\"\")","v":""},{"$f":"IF(RELEVE_COTES!D85<>\"\",SUBSTITUTE(SUBSTITUTE(SUBSTITUTE(SUBSTITUTE(SUBSTITUTE(SUBSTITUTE(SUBSTITUTE(SUBSTITUTE(RELEVE_COTES!D85,\" \",\"\"),\"-\",\"\"),\".\",\",\"),\"\\\",\"\"),\",\",\",\"),\"+\",\"\"),\"&\",\"\"),\"*\",\"\"),\"\")","v":""},{"$f":"IF(RELEVE_COTES!E85<>\"\",SUBSTITUTE(SUBSTITUTE(SUBSTITUTE(SUBSTITUTE(SUBSTITUTE(SUBSTITUTE(SUBSTITUTE(SUBSTITUTE(RELEVE_COTES!E85,\" \",\"\"),\"-\",\"\"),\".\",\",\"),\"\\\",\"\"),\",\",\",\"),\"+\",\"\"),\"&\",\"\"),\"*\",\"\"),\"\")","v":""},{"$f":"IF(RELEVE_COTES!F85<>\"\",SUBSTITUTE(SUBSTITUTE(SUBSTITUTE(SUBSTITUTE(SUBSTITUTE(SUBSTITUTE(SUBSTITUTE(SUBSTITUTE(RELEVE_COTES!F85,\" \",\"\"),\"-\",\"\"),\".\",\",\"),\"\\\",\"\"),\",\",\",\"),\"+\",\"\"),\"&\",\"\"),\"*\",\"\"),\"\")","v":""},{"$f":"IF(RELEVE_COTES!G85<>\"\",SUBSTITUTE(SUBSTITUTE(SUBSTITUTE(SUBSTITUTE(SUBSTITUTE(SUBSTITUTE(SUBSTITUTE(SUBSTITUTE(RELEVE_COTES!G85,\" \",\"\"),\"-\",\"\"),\".\",\",\"),\"\\\",\"\"),\",\",\",\"),\"+\",\"\"),\"&\",\"\"),\"*\",\"\"),\"\")","v":""},{"$f":"IF($D37=\"GP\",IF(RELEVE_COTES!$I85=\"\",0,IF(RELEVE_COTES!$I85=\"\",\"\",RELEVE_COTES!$I85)),IF(RELEVE_COTES!$H85=\"\",0,IF(RELEVE_COTES!$H85=\"\",\"\",RELEVE_COTES!$H85)))","v":0},{"$f":"IF($D37=\"GP\",IF(RELEVE_COTES!$H85=\"\",0,IF(RELEVE_COTES!$H85=\"\",\"\",RELEVE_COTES!$H85)),IF(RELEVE_COTES!$I85=\"\",0,IF(RELEVE_COTES!$I85=\"\",\"\",RELEVE_COTES!$I85)))","v":0},{"$f":"IF(RELEVE_COTES!$J85=\"\",0,IF(RELEVE_COTES!$J85=\"\",\"\",RELEVE_COTES!$J85))","v":0},{"$f":"VLOOKUP(RELEVE_COTES!$K85,TabExistantRef1[],2,FALSE)","v":{"$error":"#N/A"}},{"$f":"IF($Y$1=\"BOIS\",RELEVE_COTES!$O85,0)","v":{"$error":"#N/A"}},{"$f":"IF($Y$1=\"BOIS\",RELEVE_COTES!$P85,0)","v":{"$error":"#N/A"}},{"$f":"IF($Y$1=\"BOIS\",RELEVE_COTES!$Q85,0)","v":{"$error":"#N/A"}},{"$error":"#N/A"},{"$f":"IF($Y$1=\"BANCHE\",RELEVE_COTES!$L85,0)","v":{"$error":"#N/A"}},{"$error":"#N/A"},{"$error":"#N/A"},{"$f":"IF($Y$1<>\"BANCHE\",RELEVE_COTES!$L85,0)","v":{"$error":"#N/A"}},{"$f":"IF(AND($Y$1<>\"BANCHE\",RELEVE_COTES!$M85<>\"\"),RELEVE_COTES!$M85,20)","v":{"$error":"#N/A"}},{"$f":"IF($Y$1<>\"BANCHE\",IF(RELEVE_COTES!$N85<>\"\",RELEVE_COTES!$N85,10),0)","v":{"$error":"#N/A"}},{"$f":"IF(RELEVE_COTES!$I$20=\"Huisserie Banchée\",\"Banche\",IF(RELEVE_COTES!$I$20=\"Huisserie Bois\",\"Bois\",IF(RELEVE_COTES!$I$20=\"Bâti Scellé\",\"Bâti Métal.\")))","v":false},{"$f":"RELEVE_COTES!$C$11","v":0},{"$f":"RELEVE_COTES!$K$12","v":0},{"$f":"VLOOKUP(AA37,TabSeuilRef[],2,FALSE)","v":{"$error":"#N/A"}},{"$f":"\"Paumelles \"&RELEVE_COTES!$E$15","v":"Paumelles "},{"$f":"IF(RELEVE_COTES!$K$16<>\"Déporté\",RELEVE_COTES!$K$16,RELEVE_COTES!$K$16&\" / \"&VLOOKUP(RELEVE_COTES!$L$16,TabOptUsSerr[],2,FALSE))","v":"SANS"},{"$f":"RELEVE_COTES!$K$11","v":0},{"$f":"VLOOKUP(RELEVE_COTES!$G$12,TabNuancierVTL[],2,FALSE)&\"/\"&VLOOKUP(RELEVE_COTES!$G$13,TabNuancierVTL[],2,FALSE)","v":{"$error":"#N/A"}},{"$f":"IF(RELEVE_COTES!$E$14=\"Pr.Peint\",\"PP\",VLOOKUP(RELEVE_COTES!$G$14,TabNuancHM[],2,FALSE))","v":"PP"},{"$error":"#N/A"},{"$f":"IF(RELEVE_COTES!$C$11 =\"R32S-R02\",\"OUI\",\"NON\")","v":"NON"},"NON","",{"$f":"IF(AI37=\"OUI\",RELEVE_COTES!$N$16,\"\")","v":""},null,{"$f":"RELEVE_COTES!$E$12&\"/\"&RELEVE_COTES!$E$13","v":" SANS/ SANS"},{"$f":"IF(RELEVE_COTES!$K$15<>\"SANS\",RELEVE_COTES!$L$15&\" \"&RELEVE_COTES!$K$15,\"\")&IF(RELEVE_COTES!$N$15<>\"SANS\",\" / PMR: \"&RELEVE_COTES!$O$15&\" \"&RELEVE_COTES!$N$15,\"\")","v":""},{"$f":"IF(RELEVE_COTES!$K$14 <> \"SANS\",RELEVE_COTES!$O$14&\" \"&RELEVE_COTES!$K$14,\"\")","v":"U+F "},{"$f":"IF(RELEVE_COTES!$K$13 <> \"SANS\",RELEVE_COTES!$O$13&\" \"&RELEVE_COTES!$K$13,\"SANS\")","v":"U+F "},{"$f":"VLOOKUP(RELEVE_COTES!$O$11,TabOptUsSerr[],2,FALSE)","v":"Usinage, fourniture et pose"},{"$f":"INDEX(TabFinition[FINITION],MATCH(VLOOKUP(RELEVE_COTES!$G$12,TabNuancierVTL[],3,FALSE)&VLOOKUP(RELEVE_COTES!$G$13,TabNuancierVTL[],3,FALSE),TabFinition[TYPE EXT]&TabFinition[TYPE INT],0))","v":{"$error":"#N/A"}},"INT",{"$f":"RELEVE_COTES!$E$16","v":"platines + vérins"},"NON",{"$f":"IF(RELEVE_COTES!$I$20 = \"Huisserie Bois\",RELEVE_COTES!$R85,IF(RELEVE_COTES!$I$20 = \"Huisserie Banchée\",RELEVE_COTES!$M85,IF(RELEVE_COTES!$I$20 = \"Bâti Scellé\",RELEVE_COTES!$O85,\"\")))","v":""},null,{"$f":"VLOOKUP(RELEVE_COTES!$K$11,TabSerrureRef[],3,FALSE)","v":{"$error":"#N/A"}},{"$f":"VLOOKUP(RELEVE_COTES!$K$11,TabSerrureRef[],6,FALSE)","v":{"$error":"#N/A"}}]
[{"$error":"#VALUE!"},{"$error":"#VALUE!"},{"$f":"IF(RELEVE_COTES!$A86<>\"\",SUBSTITUTE(SUBSTITUTE(SUBSTITUTE(SUBSTITUTE(SUBSTITUTE(SUBSTITUTE(SUBSTITUTE(SUBSTITUTE(RELEVE_COTES!$A86,\" \",\"\"),\"-\",\"/\"),\".\",\"/\"),\"\\\",\"/\"),\",\",\"/\"),\"+\",\"_\"),\"&\",\"_\"),\"*\",\"/\"),\"\")","v":""},{"$f":"RELEVE_COTES!$B86","v":0},1,{"$f":"IF(RELEVE_COTES!C86<>\"\",SUBSTITUTE(SUBSTITUTE(SUBSTITUTE(SUBSTITUTE(SUBSTITUTE(SUBSTITUTE(SUBSTITUTE(SUBSTITUTE(RELEVE_COTES!C86,\" \",\"\"),\"-\",\"\"),\".\",\",\"),\"\\\",\"\"),\",\",\",\"),\"+\",\"\"),\"&\",\"\"),\"*\",\"\"),\"\")","v":""},{"$f":"IF(RELEVE_COTES!D86<>\"\",SUBSTITUTE(SUBSTITUTE(SUBSTITUTE(SUBSTITUTE(SUBSTITUTE(SUBSTITUTE(SUBSTITUTE(SUBSTITUTE(RELEVE_COTES!D86,\" \",\"\"),\"-\",\"\"),\".\",\",\"),\"\\\",\"\"),\",\",\",\"),\"+\",\"\"),\"&\",\"\"),\"*\",\"\"),\"\")","v":""},{"$f":"IF(RELEVE_COTES!E86<>\"\",SUBSTITUTE(SUBSTITUTE(SUBSTITUTE(SUBSTITUTE(SUBSTITUTE(SUBSTITUTE(SUBSTITUTE(SUBSTITUTE(RELEVE_COTES!E86,\" \",\"\"),\"-\",\"\"),\".\",\",\"),\"\\\",\"\"),\",\",\",\"),\"+\",\"\"),\"&\",\"\"),\"*\",\"\"),\"\")","v":""},{"$f":"IF(RELEVE_COTES!F86<>\"\",SUBSTITUTE(SUBSTITUTE(SUBSTITUTE(SUBSTITUTE(SUBSTITUTE(SUBSTITUTE(SUBSTITUTE(SUBSTITUTE(RELEVE_COTES!F86,\" \",\"\"),\"-\",\"\"),\".\",\",\"),\"\\\",\"\"),\",\",\",\"),\"+\",\"\"),\"&\",\"\"),\"*\",\"\"),\"\")","v":""},{"$f":"IF(RELEVE_COTES!G86<>\"\",SUBSTITUTE(SUBSTITUTE(SUBSTITUTE(SUBSTITUTE(SUBSTITUTE(SUBSTITUTE(SUBSTITUTE(SUBSTITUTE(RELEVE_COTES!G86,\" \",\"\"),\"-\",\"\"),\".\",\",\"),\"\\\",\"\"),\",\",\",\"),\"+\",\"\"),\"&\",\"\"),\"*\",\"\"),\"\")","v":""},{"$f":"IF($D38=\"GP\",IF(RELEVE_COTES!$I86=\"\",0,IF(RELEVE_COTES!$I86=\"\",\"\",RELEVE_COTES!$I86)),IF(RELEVE_COTES!$H86=\"\",0,IF(RELEVE_COTES!$H86=\"\",\"\",RELEVE_COTES!$H86)))","v":0},{"$f":"IF($D38=\"GP\",IF(RELEVE_COTES!$H86=\"\",0,IF(RELEVE_COTES!$H86=\"\",\"\",RELEVE_COTES!$H86)),IF(RELEVE_COTES!$I86=\"\",0,IF(RELEVE_COTES!$I86=\"\",\"\",RELEVE_COTES!$I86)))","v":0},{"$f":"IF(RELEVE_COTES!$J86=\"\",0,IF(RELEVE_COTES!$J86=\"\",\"\",RELEVE_COTES!$J86))","v":0},{"$f":"VLOOKUP(RELEVE_COTES!$K86,TabExistantRef1[],2,FALSE)","v":{"$error":"#N/A"}},{"$f":"IF($Y$1=\"BOIS\",RELEVE_COTES!$O86,0)","v":{"$error":"#N/A"}},{"$f":"IF($Y$1=\"BOIS\",RELEVE_COTES!$P86,0)","v":{"$error":"#N/A"}},{"$f":"IF($Y$1=\"BOIS\",RELEVE_COTES!$Q86,0)","v":{"$error":"#N/A"}},{"$error":"#N/A"},{"$f":"IF($Y$1=\"BANCHE\",RELEVE_COTES!$L86,0)","v":{"$error":"#N/A"}},{"$error":"#N/A"},{"$error":"#N/A"},{"$f":"IF($Y$1<>\"BANCHE\",RELEVE_COTES!$L86,0)","v":{"$error":"#N/A"}},{"$f":"IF(AND($Y$1<>\"BANCHE\",RELEVE_COTES!$M86<>\"\"),RELEVE_COTES!$M86,20)","v":{"$error":"#N/A"}},{"$f":"IF($Y$1<>\"BANCHE\",IF(RELEVE_COTES!$N86<>\"\",RELEVE_COTES!$N86,10),0)","v":{"$error":"#N/A"}},{"$f":"IF(RELEVE_COTES!$I$20=\"Huisserie Banchée\",\"Banche\",IF(RELEVE_COTES!$I$20=\"Huisserie Bois\",\"Bois\",IF(RELEVE_COTES!$I$20=\"Bâti Scellé\",\"Bâti Métal.\")))","v":false},{"$f":"RELEVE_COTES!$C$11","v":0},{"$f":"RELEVE_COTES!$K$12","v":0},{"$f":"VLOOKUP(AA38,TabSeuilRef[],2,FALSE)","v":{"$error":"#N/A"}},{"$f":"\"Paumelles \"&RELEVE_COTES!$E$15","v":"Paumelles "},{"$f":"IF(RELEVE_COTES!$K$16<>\"Déporté\",RELEVE_COTES!$K$16,RELEVE_COTES!$K$16&\" / \"&VLOOKUP(RELEVE_COTES!$L$16,TabOptUsSerr[],2,FALSE))","v":"SANS"},{"$f":"RELEVE_COTES!$K$11","v":0},{"$f":"VLOOKUP(RELEVE_COTES!$G$12,TabNuancierVTL[],2,FALSE)&\"/\"&VLOOKUP(RELEVE_COTES!$G$13,TabNuancierVTL[],2,FALSE)","v":{"$error":"#N/A"}},{"$f":"IF(RELEVE_COTES!$E$14=\"Pr.Peint\",\"PP\",VLOOKUP(RELEVE_COTES!$G$14,TabNuancHM[],2,FALSE))","v":"PP"},{"$error":"#N/A"},{"$f":"IF(RELEVE_COTES!$C$11 =\"R32S-R02\",\"OUI\",\"NON\")","v":"NON"},"NON","",{"$f":"IF(AI38=\"OUI\",RELEVE_COTES!$N$16,\"\")","v":""},null,{"$f":"RELEVE_COTES!$E$12&\"/\"&RELEVE_COTES!$E$13","v":" SANS/ SANS"},{"$f":"IF(RELEVE_COTES!$K$15<>\"SANS\",RELEVE_COTES!$L$15&\" \"&RELEVE_COTES!$K$15,\"\")&IF(RELEVE_COTES!$N$15<>\"SANS\",\" / PMR: \"&RELEVE_COTES!$O$15&\" \"&RELEVE_COTES!$N$15,\"\")","v":""},{"$f":"IF(RELEVE_COTES!$K$14 <> \"SANS\",RELEVE_COTES!$O$14&\" \"&RELEVE_COTES!$K$14,\"\")","v":"U+F "},{"$f":"IF(RELEVE_COTES!$K$13 <> \"SANS\",RELEVE_COTES!$O$13&\" \"&RELEVE_COTES!$K$13,\"SANS\")","v":"U+F "},{"$f":"VLOOKUP(RELEVE_COTES!$O$11,TabOptUsSerr[],2,FALSE)","v":"Usinage, fourniture et pose"},{"$f":"INDEX(TabFinition[FINITION],MATCH(VLOOKUP(RELEVE_COTES!$G$12,TabNuancierVTL[],3,FALSE)&VLOOKUP(RELEVE_COTES!$G$13,TabNuancierVTL[],3,FALSE),TabFinition[TYPE EXT]&TabFinition[TYPE INT],0))","v":{"$error":"#N/A"}},"INT",{"$f":"RELEVE_COTES!$E$16","v":"platines + vérins"},"NON",{"$f":"IF(RELEVE_COTES!$I$20 = \"Huisserie Bois\",RELEVE_COTES!$R86,IF(RELEVE_COTES!$I$20 = \"Huisserie Banchée\",RELEVE_COTES!$M86,IF(RELEVE_COTES!$I$20 = \"Bâti Scellé\",RELEVE_COTES!$O86,\"\")))","v":""},null,{"$f":"VLOOKUP(RELEVE_COTES!$K$11,TabSerrureRef[],3,FALSE)","v":{"$error":"#N/A"}},{"$f":"VLOOKUP(RELEVE_COTES!$K$11,TabSerrureRef[],6,FALSE)","v":{"$error":"#N/A"}}]
[{"$error":"#VALUE!"},{"$error":"#VALUE!"},{"$f":"IF(RELEVE_COTES!$A87<>\"\",SUBSTITUTE(SUBSTITUTE(SUBSTITUTE(SUBSTITUTE(SUBSTITUTE(SUBSTITUTE(SUBSTITUTE(SUBSTITUTE(RELEVE_COTES!$A87,\" \",\"\"),\"-\",\"/\"),\".\",\"/\"),\"\\\",\"/\"),\",\",\"/\"),\"+\",\"_\"),\"&\",\"_\"),\"*\",\"/\"),\"\")","v":""},{"$f":"RELEVE_COTES!$B87","v":0},1,{"$f":"IF(RELEVE_COTES!C87<>\"\",SUBSTITUTE(SUBSTITUTE(SUBSTITUTE(SUBSTITUTE(SUBSTITUTE(SUBSTITUTE(SUBSTITUTE(SUBSTITUTE(RELEVE_COTES!C87,\" \",\"\"),\"-\",\"\"),\".\",\",\"),\"\\\",\"\"),\",\",\",\"),\"+\",\"\"),\"&\",\"\"),\"*\",\"\"),\"\")","v":""},{"$f":"IF(RELEVE_COTES!D87<>\"\",SUBSTITUTE(SUBSTITUTE(SUBSTITUTE(SUBSTITUTE(SUBSTITUTE(SUBSTITUTE(SUBSTITUTE(SUBSTITUTE(RELEVE_COTES!D87,\" \",\"\"),\"-\",\"\"),\".\",\",\"),\"\\\",\"\"),\",\",\",\"),\"+\",\"\"),\"&\",\"\"),\"*\",\"\"),\"\")","v":""},{"$f":"IF(RELEVE_COTES!E87<>\"\",SUBSTITUTE(SUBSTITUTE(SUBSTITUTE(SUBSTITUTE(SUBSTITUTE(SUBSTITUTE(SUBSTITUTE(SUBSTITUTE(RELEVE_COTES!E87,\" \",\"\"),\"-\",\"\"),\".\",\",\"),\"\\\",\"\"),\",\",\",\"),\"+\",\"\"),\"&\",\"\"),\"*\",\"\"),\"\")","v":""},{"$f":"IF(RELEVE_COTES!F87<>\"\",SUBSTITUTE(SUBSTITUTE(SUBSTITUTE(SUBSTITUTE(SUBSTITUTE(SUBSTITUTE(SUBSTITUTE(SUBSTITUTE(RELEVE_COTES!F87,\" \",\"\"),\"-\",\"\"),\".\",\",\"),\"\\\",\"\"),\",\",\",\"),\"+\",\"\"),\"&\",\"\"),\"*\",\"\"),\"\")","v":""},{"$f":"IF(RELEVE_COTES!G87<>\"\",SUBSTITUTE(SUBSTITUTE(SUBSTITUTE(SUBSTITUTE(SUBSTITUTE(SUBSTITUTE(SUBSTITUTE(SUBSTITUTE(RELEVE_COTES!G87,\" \",\"\"),\"-\",\"\"),\".\",\",\"),\"\\\",\"\"),\",\",\",\"),\"+\",\"\"),\"&\",\"\"),\"*\",\"\"),\"\")","v":""},{"$f":"IF($D39=\"GP\",IF(RELEVE_COTES!$I87=\"\",0,IF(RELEVE_COTES!$I87=\"\",\"\",RELEVE_COTES!$I87)),IF(RELEVE_COTES!$H87=\"\",0,IF(RELEVE_COTES!$H87=\"\",\"\",RELEVE_COTES!$H87)))","v":0},{"$f":"IF($D39=\"GP\",IF(RELEVE_COTES!$H87=\"\",0,IF(RELEVE_COTES!$H87=\"\",\"\",RELEVE_COTES!$H87)),IF(RELEVE_COTES!$I87=\"\",0,IF(RELEVE_COTES!$I87=\"\",\"\",RELEVE_COTES!$I87)))","v":0},{"$f":"IF(RELEVE_COTES!$J87=\"\",0,IF(RELEVE_COTES!$J87=\"\",\"\",RELEVE_COTES!$J87))","v":0},{"$f":"VLOOKUP(RELEVE_COTES!$K87,TabExistantRef1[],2,FALSE)","v":{"$error":"#N/A"}},{"$f":"IF($Y$1=\"BOIS\",RELEVE_COTES!$O87,0)","v":{"$error":"#N/A"}},{"$f":"IF($Y$1=\"BOIS\",RELEVE_COTES!$P87,0)","v":{"$error":"#N/A"}},{"$f":"IF($Y$1=\"BOIS\",RELEVE_COTES!$Q87,0)","v":{"$error":"#N/A"}},{"$error":"#N/A"},{"$f":"IF($Y$1=\"BANCHE\",RELEVE_COTES!$L87,0)","v":{"$error":"#N/A"}},{"$error":"#N/A"},{"$error":"#N/A"},{"$f":"IF($Y$1<>\"BANCHE\",RELEVE_COTES!$L87,0)","v":{"$error":"#N/A"}},{"$f":"IF(AND($Y$1<>\"BANCHE\",RELEVE_COTES!$M87<>\"\"),RELEVE_COTES!$M87,20)","v":{"$error":"#N/A"}},{"$f":"IF($Y$1<>\"BANCHE\",IF(RELEVE_COTES!$N87<>\"\",RELEVE_COTES!$N87,10),0)","v":{"$error":"#N/A"}},{"$f":"IF(RELEVE_COTES!$I$20=\"Huisserie Banchée\",\"Banche\",IF(RELEVE_COTES!$I$20=\"Huisserie Bois\",\"Bois\",IF(RELEVE_COTES!$I$20=\"Bâti Scellé\",\"Bâti Métal.\")))","v":false},{"$f":"RELEVE_COTES!$C$11","v":0},{"$f":"RELEVE_COTES!$K$12","v":0},{"$f":"VLOOKUP(AA39,TabSeuilRef[],2,FALSE)","v":{"$error":"#N/A"}},{"$f":"\"Paumelles \"&RELEVE_COTES!$E$15","v":"Paumelles "},{"$f":"IF(RELEVE_COTES!$K$16<>\"Déporté\",RELEVE_COTES!$K$16,RELEVE_COTES!$K$16&\" / \"&VLOOKUP(RELEVE_COTES!$L$16,TabOptUsSerr[],2,FALSE))","v":"SANS"},{"$f":"RELEVE_COTES!$K$11","v":0},{"$f":"VLOOKUP(RELEVE_COTES!$G$12,TabNuancierVTL[],2,FALSE)&\"/\"&VLOOKUP(RELEVE_COTES!$G$13,TabNuancierVTL[],2,FALSE)","v":{"$error":"#N/A"}},{"$f":"IF(RELEVE_COTES!$E$14=\"Pr.Peint\",\"PP\",VLOOKUP(RELEVE_COTES!$G$14,TabNuancHM[],2,FALSE))","v":"PP"},{"$error":"#N/A"},{"$f":"IF(RELEVE_COTES!$C$11 =\"R32S-R02\",\"OUI\",\"NON\")","v":"NON"},"NON","",{"$f":"IF(AI39=\"OUI\",RELEVE_COTES!$N$16,\"\")","v":""},null,{"$f":"RELEVE_COTES!$E$12&\"/\"&RELEVE_COTES!$E$13","v":" SANS/ SANS"},{"$f":"IF(RELEVE_COTES!$K$15<>\"SANS\",RELEVE_COTES!$L$15&\" \"&RELEVE_COTES!$K$15,\"\")&IF(RELEVE_COTES!$N$15<>\"SANS\",\" / PMR: \"&RELEVE_COTES!$O$15&\" \"&RELEVE_COTES!$N$15,\"\")","v":""},{"$f":"IF(RELEVE_COTES!$K$14 <> \"SANS\",RELEVE_COTES!$O$14&\" \"&RELEVE_COTES!$K$14,\"\")","v":"U+F "},{"$f":"IF(RELEVE_COTES!$K$13 <> \"SANS\",RELEVE_COTES!$O$13&\" \"&RELEVE_COTES!$K$13,\"SANS\")","v":"U+F "},{"$f":"VLOOKUP(RELEVE_COTES!$O$11,TabOptUsSerr[],2,FALSE)","v":"Usinage, fourniture et pose"},{"$f":"INDEX(TabFinition[FINITION],MATCH(VLOOKUP(RELEVE_COTES!$G$12,TabNuancierVTL[],3,FALSE)&VLOOKUP(RELEVE_COTES!$G$13,TabNuancierVTL[],3,FALSE),TabFinition[TYPE EXT]&TabFinition[TYPE INT],0))","v":{"$error":"#N/A"}},"INT",{"$f":"RELEVE_COTES!$E$16","v":"platines + vérins"},"NON",{"$f":"IF(RELEVE_COTES!$I$20 = \"Huisserie Bois\",RELEVE_COTES!$R87,IF(RELEVE_COTES!$I$20 = \"Huisserie Banchée\",RELEVE_COTES!$M87,IF(RELEVE_COTES!$I$20 = \"Bâti Scellé\",RELEVE_COTES!$O87,\"\")))","v":""},null,{"$f":"VLOOKUP(RELEVE_COTES!$K$11,TabSerrureRef[],3,FALSE)","v":{"$error":"#N/A"}},{"$f":"VLOOKUP(RELEVE_COTES!$K$11,TabSerrureRef[],6,FALSE)","v":{"$error":"#N/A"}}]
[{"$error":"#VALUE!"},{"$error":"#VALUE!"},{"$f":"IF(RELEVE_COTES!$A88<>\"\",SUBSTITUTE(SUBSTITUTE(SUBSTITUTE(SUBSTITUTE(SUBSTITUTE(SUBSTITUTE(SUBSTITUTE(SUBSTITUTE(RELEVE_COTES!$A88,\" \",\"\"),\"-\",\"/\"),\".\",\"/\"),\"\\\",\"/\"),\",\",\"/\"),\"+\",\"_\"),\"&\",\"_\"),\"*\",\"/\"),\"\")","v":""},{"$f":"RELEVE_COTES!$B88","v":0},1,{"$f":"IF(RELEVE_COTES!C88<>\"\",SUBSTITUTE(SUBSTITUTE(SUBSTITUTE(SUBSTITUTE(SUBSTITUTE(SUBSTITUTE(SUBSTITUTE(SUBSTITUTE(RELEVE_COTES!C88,\" \",\"\"),\"-\",\"\"),\".\",\",\"),\"\\\",\"\"),\",\",\",\"),\"+\",\"\"),\"&\",\"\"),\"*\",\"\"),\"\")","v":""},{"$f":"IF(RELEVE_COTES!D88<>\"\",SUBSTITUTE(SUBSTITUTE(SUBSTITUTE(SUBSTITUTE(SUBSTITUTE(SUBSTITUTE(SUBSTITUTE(SUBSTITUTE(RELEVE_COTES!D88,\" \",\"\"),\"-\",\"\"),\".\",\",\"),\"\\\",\"\"),\",\",\",\"),\"+\",\"\"),\"&\",\"\"),\"*\",\"\"),\"\")","v":""},{"$f":"IF(RELEVE_COTES!E88<>\"\",SUBSTITUTE(SUBSTITUTE(SUBSTITUTE(SUBSTITUTE(SUBSTITUTE(SUBSTITUTE(SUBSTITUTE(SUBSTITUTE(RELEVE_COTES!E88,\" \",\"\"),\"-\",\"\"),\".\",\",\"),\"\\\",\"\"),\",\",\",\"),\"+\",\"\"),\"&\",\"\"),\"*\",\"\"),\"\")","v":""},{"$f":"IF(RELEVE_COTES!F88<>\"\",SUBSTITUTE(SUBSTITUTE(SUBSTITUTE(SUBSTITUTE(SUBSTITUTE(SUBSTITUTE(SUBSTITUTE(SUBSTITUTE(RELEVE_COTES!F88,\" \",\"\"),\"-\",\"\"),\".\",\",\"),\"\\\",\"\"),\",\",\",\"),\"+\",\"\"),\"&\",\"\"),\"*\",\"\"),\"\")","v":""},{"$f":"IF(RELEVE_COTES!G88<>\"\",SUBSTITUTE(SUBSTITUTE(SUBSTITUTE(SUBSTITUTE(SUBSTITUTE(SUBSTITUTE(SUBSTITUTE(SUBSTITUTE(RELEVE_COTES!G88,\" \",\"\"),\"-\",\"\"),\".\",\",\"),\"\\\",\"\"),\",\",\",\"),\"+\",\"\"),\"&\",\"\"),\"*\",\"\"),\"\")","v":""},{"$f":"IF($D40=\"GP\",IF(RELEVE_COTES!$I88=\"\",0,IF(RELEVE_COTES!$I88=\"\",\"\",RELEVE_COTES!$I88)),IF(RELEVE_COTES!$H88=\"\",0,IF(RELEVE_COTES!$H88=\"\",\"\",RELEVE_COTES!$H88)))","v":0},{"$f":"IF($D40=\"GP\",IF(RELEVE_COTES!$H88=\"\",0,IF(RELEVE_COTES!$H88=\"\",\"\",RELEVE_COTES!$H88)),IF(RELEVE_COTES!$I88=\"\",0,IF(RELEVE_COTES!$I88=\"\",\"\",RELEVE_COTES!$I88)))","v":0},{"$f":"IF(RELEVE_COTES!$J88=\"\",0,IF(RELEVE_COTES!$J88=\"\",\"\",RELEVE_COTES!$J88))","v":0},{"$f":"VLOOKUP(RELEVE_COTES!$K88,TabExistantRef1[],2,FALSE)","v":{"$error":"#N/A"}},{"$f":"IF($Y$1=\"BOIS\",RELEVE_COTES!$O88,0)","v":{"$error":"#N/A"}},{"$f":"IF($Y$1=\"BOIS\",RELEVE_COTES!$P88,0)","v":{"$error":"#N/A"}},{"$f":"IF($Y$1=\"BOIS\",RELEVE_COTES!$Q88,0)","v":{"$error":"#N/A"}},{"$error":"#N/A"},{"$f":"IF($Y$1=\"BANCHE\",RELEVE_COTES!$L88,0)","v":{"$error":"#N/A"}},{"$error":"#N/A"},{"$error":"#N/A"},{"$f":"IF($Y$1<>\"BANCHE\",RELEVE_COTES!$L88,0)","v":{"$error":"#N/A"}},{"$f":"IF(AND($Y$1<>\"BANCHE\",RELEVE_COTES!$M88<>\"\"),RELEVE_COTES!$M88,20)","v":{"$error":"#N/A"}},{"$f":"IF($Y$1<>\"BANCHE\",IF(RELEVE_COTES!$N88<>\"\",RELEVE_COTES!$N88,10),0)","v":{"$error":"#N/A"}},{"$f":"IF(RELEVE_COTES!$I$20=\"Huisserie Banchée\",\"Banche\",IF(RELEVE_COTES!$I$20=\"Huisserie Bois\",\"Bois\",IF(RELEVE_COTES!$I$20=\"Bâti Scellé\",\"Bâti Métal.\")))","v":false},{"$f":"RELEVE_COTES!$C$11","v":0},{"$f":"RELEVE_COTES!$K$12","v":0},{"$f":"VLOOKUP(AA40,TabSeuilRef[],2,FALSE)","v":{"$error":"#N/A"}},{"$f":"\"Paumelles \"&RELEVE_COTES!$E$15","v":"Paumelles "},{"$f":"IF(RELEVE_COTES!$K$16<>\"Déporté\",RELEVE_COTES!$K$16,RELEVE_COTES!$K$16&\" / \"&VLOOKUP(RELEVE_COTES!$L$16,TabOptUsSerr[],2,FALSE))","v":"SANS"},{"$f":"RELEVE_COTES!$K$11","v":0},{"$f":"VLOOKUP(RELEVE_COTES!$G$12,TabNuancierVTL[],2,FALSE)&\"/\"&VLOOKUP(RELEVE_COTES!$G$13,TabNuancierVTL[],2,FALSE)","v":{"$error":"#N/A"}},{"$f":"IF(RELEVE_COTES!$E$14=\"Pr.Peint\",\"PP\",VLOOKUP(RELEVE_COTES!$G$14,TabNuancHM[],2,FALSE))","v":"PP"},{"$error":"#N/A"},{"$f":"IF(RELEVE_COTES!$C$11 =\"R32S-R02\",\"OUI\",\"NON\")","v":"NON"},"NON","",{"$f":"IF(AI40=\"OUI\",RELEVE_COTES!$N$16,\"\")","v":""},null,{"$f":"RELEVE_COTES!$E$12&\"/\"&RELEVE_COTES!$E$13","v":" SANS/ SANS"},{"$f":"IF(RELEVE_COTES!$K$15<>\"SANS\",RELEVE_COTES!$L$15&\" \"&RELEVE_COTES!$K$15,\"\")&IF(RELEVE_COTES!$N$15<>\"SANS\",\" / PMR: \"&RELEVE_COTES!$O$15&\" \"&RELEVE_COTES!$N$15,\"\")","v":""},{"$f":"IF(RELEVE_COTES!$K$14 <> \"SANS\",RELEVE_COTES!$O$14&\" \"&RELEVE_COTES!$K$14,\"\")","v":"U+F "},{"$f":"IF(RELEVE_COTES!$K$13 <> \"SANS\",RELEVE_COTES!$O$13&\" \"&RELEVE_COTES!$K$13,\"SANS\")","v":"U+F "},{"$f":"VLOOKUP(RELEVE_COTES!$O$11,TabOptUsSerr[],2,FALSE)","v":"Usinage, fourniture et pose"},{"$f":"INDEX(TabFinition[FINITION],MATCH(VLOOKUP(RELEVE_COTES!$G$12,TabNuancierVTL[],3,FALSE)&VLOOKUP(RELEVE_COTES!$G$13,TabNuancierVTL[],3,FALSE),TabFinition[TYPE EXT]&TabFinition[TYPE INT],0))","v":{"$error":"#N/A"}},"INT",{"$f":"RELEVE_COTES!$E$16","v":"platines + vérins"},"NON",{"$f":"IF(RELEVE_COTES!$I$20 = \"Huisserie Bois\",RELEVE_COTES!$R88,IF(RELEVE_COTES!$I$20 = \"Huisserie Banchée\",RELEVE_COTES!$M88,IF(RELEVE_COTES!$I$20 = \"Bâti Scellé\",RELEVE_COTES!$O88,\"\")))","v":""},null,{"$f":"VLOOKUP(RELEVE_COTES!$K$11,TabSerrureRef[],3,FALSE)","v":{"$error":"#N/A"}},{"$f":"VLOOKUP(RELEVE_COTES!$K$11,TabSerrureRef[],6,FALSE)","v":{"$error":"#N/A"}}]
[{"$error":"#VALUE!"},{"$error":"#VALUE!"},{"$f":"IF(RELEVE_COTES!$A89<>\"\",SUBSTITUTE(SUBSTITUTE(SUBSTITUTE(SUBSTITUTE(SUBSTITUTE(SUBSTITUTE(SUBSTITUTE(SUBSTITUTE(RELEVE_COTES!$A89,\" \",\"\"),\"-\",\"/\"),\".\",\"/\"),\"\\\",\"/\"),\",\",\"/\"),\"+\",\"_\"),\"&\",\"_\"),\"*\",\"/\"),\"\")","v":""},{"$f":"RELEVE_COTES!$B89","v":0},1,{"$f":"IF(RELEVE_COTES!C89<>\"\",SUBSTITUTE(SUBSTITUTE(SUBSTITUTE(SUBSTITUTE(SUBSTITUTE(SUBSTITUTE(SUBSTITUTE(SUBSTITUTE(RELEVE_COTES!C89,\" \",\"\"),\"-\",\"\"),\".\",\",\"),\"\\\",\"\"),\",\",\",\"),\"+\",\"\"),\"&\",\"\"),\"*\",\"\"),\"\")","v":""},{"$f":"IF(RELEVE_COTES!D89<>\"\",SUBSTITUTE(SUBSTITUTE(SUBSTITUTE(SUBSTITUTE(SUBSTITUTE(SUBSTITUTE(SUBSTITUTE(SUBSTITUTE(RELEVE_COTES!D89,\" \",\"\"),\"-\",\"\"),\".\",\",\"),\"\\\",\"\"),\",\",\",\"),\"+\",\"\"),\"&\",\"\"),\"*\",\"\"),\"\")","v":""},{"$f":"IF(RELEVE_COTES!E89<>\"\",SUBSTITUTE(SUBSTITUTE(SUBSTITUTE(SUBSTITUTE(SUBSTITUTE(SUBSTITUTE(SUBSTITUTE(SUBSTITUTE(RELEVE_COTES!E89,\" \",\"\"),\"-\",\"\"),\".\",\",\"),\"\\\",\"\"),\",\",\",\"),\"+\",\"\"),\"&\",\"\"),\"*\",\"\"),\"\")","v":""},{"$f":"IF(RELEVE_COTES!F89<>\"\",SUBSTITUTE(SUBSTITUTE(SUBSTITUTE(SUBSTITUTE(SUBSTITUTE(SUBSTITUTE(SUBSTITUTE(SUBSTITUTE(RELEVE_COTES!F89,\" \",\"\"),\"-\",\"\"),\".\",\",\"),\"\\\",\"\"),\",\",\",\"),\"+\",\"\"),\"&\",\"\"),\"*\",\"\"),\"\")","v":""},{"$f":"IF(RELEVE_COTES!G89<>\"\",SUBSTITUTE(SUBSTITUTE(SUBSTITUTE(SUBSTITUTE(SUBSTITUTE(SUBSTITUTE(SUBSTITUTE(SUBSTITUTE(RELEVE_COTES!G89,\" \",\"\"),\"-\",\"\"),\".\",\",\"),\"\\\",\"\"),\",\",\",\"),\"+\",\"\"),\"&\",\"\"),\"*\",\"\"),\"\")","v":""},{"$f":"IF($D41=\"GP\",IF(RELEVE_COTES!$I89=\"\",0,IF(RELEVE_COTES!$I89=\"\",\"\",RELEVE_COTES!$I89)),IF(RELEVE_COTES!$H89=\"\",0,IF(RELEVE_COTES!$H89=\"\",\"\",RELEVE_COTES!$H89)))","v":0},{"$f":"IF($D41=\"GP\",IF(RELEVE_COTES!$H89=\"\",0,IF(RELEVE_COTES!$H89=\"\",\"\",RELEVE_COTES!$H89)),IF(RELEVE_COTES!$I89=\"\",0,IF(RELEVE_COTES!$I89=\"\",\"\",RELEVE_COTES!$I89)))","v":0},{"$f":"IF(RELEVE_COTES!$J89=\"\",0,IF(RELEVE_COTES!$J89=\"\",\"\",RELEVE_COTES!$J89))","v":0},{"$f":"VLOOKUP(RELEVE_COTES!$K89,TabExistantRef1[],2,FALSE)","v":{"$error":"#N/A"}},{"$f":"IF($Y$1=\"BOIS\",RELEVE_COTES!$O89,0)","v":{"$error":"#N/A"}},{"$f":"IF($Y$1=\"BOIS\",RELEVE_COTES!$P89,0)","v":{"$error":"#N/A"}},{"$f":"IF($Y$1=\"BOIS\",RELEVE_COTES!$Q89,0)","v":{"$error":"#N/A"}},{"$error":"#N/A"},{"$f":"IF($Y$1=\"BANCHE\",RELEVE_COTES!$L89,0)","v":{"$error":"#N/A"}},{"$error":"#N/A"},{"$error":"#N/A"},{"$f":"IF($Y$1<>\"BANCHE\",RELEVE_COTES!$L89,0)","v":{"$error":"#N/A"}},{"$f":"IF(AND($Y$1<>\"BANCHE\",RELEVE_COTES!$M89<>\"\"),RELEVE_COTES!$M89,20)","v":{"$error":"#N/A"}},{"$f":"IF($Y$1<>\"BANCHE\",IF(RELEVE_COTES!$N89<>\"\",RELEVE_COTES!$N89,10),0)","v":{"$error":"#N/A"}},{"$f":"IF(RELEVE_COTES!$I$20=\"Huisserie Banchée\",\"Banche\",IF(RELEVE_COTES!$I$20=\"Huisserie Bois\",\"Bois\",IF(RELEVE_COTES!$I$20=\"Bâti Scellé\",\"Bâti Métal.\")))","v":false},{"$f":"RELEVE_COTES!$C$11","v":0},{"$f":"RELEVE_COTES!$K$12","v":0},{"$f":"VLOOKUP(AA41,TabSeuilRef[],2,FALSE)","v":{"$error":"#N/A"}},{"$f":"\"Paumelles \"&RELEVE_COTES!$E$15","v":"Paumelles "},{"$f":"IF(RELEVE_COTES!$K$16<>\"Déporté\",RELEVE_COTES!$K$16,RELEVE_COTES!$K$16&\" / \"&VLOOKUP(RELEVE_COTES!$L$16,TabOptUsSerr[],2,FALSE))","v":"SANS"},{"$f":"RELEVE_COTES!$K$11","v":0},{"$f":"VLOOKUP(RELEVE_COTES!$G$12,TabNuancierVTL[],2,FALSE)&\"/\"&VLOOKUP(RELEVE_COTES!$G$13,TabNuancierVTL[],2,FALSE)","v":{"$error":"#N/A"}},{"$f":"IF(RELEVE_COTES!$E$14=\"Pr.Peint\",\"PP\",VLOOKUP(RELEVE_COTES!$G$14,TabNuancHM[],2,FALSE))","v":"PP"},{"$error":"#N/A"},{"$f":"IF(RELEVE_COTES!$C$11 =\"R32S-R02\",\"OUI\",\"NON\")","v":"NON"},"NON","",{"$f":"IF(AI41=\"OUI\",RELEVE_COTES!$N$16,\"\")","v":""},null,{"$f":"RELEVE_COTES!$E$12&\"/\"&RELEVE_COTES!$E$13","v":" SANS/ SANS"},{"$f":"IF(RELEVE_COTES!$K$15<>\"SANS\",RELEVE_COTES!$L$15&\" \"&RELEVE_COTES!$K$15,\"\")&IF(RELEVE_COTES!$N$15<>\"SANS\",\" / PMR: \"&RELEVE_COTES!$O$15&\" \"&RELEVE_COTES!$N$15,\"\")","v":""},{"$f":"IF(RELEVE_COTES!$K$14 <> \"SANS\",RELEVE_COTES!$O$14&\" \"&RELEVE_COTES!$K$14,\"\")","v":"U+F "},{"$f":"IF(RELEVE_COTES!$K$13 <> \"SANS\",RELEVE_COTES!$O$13&\" \"&RELEVE_COTES!$K$13,\"SANS\")","v":"U+F "},{"$f":"VLOOKUP(RELEVE_COTES!$O$11,TabOptUsSerr[],2,FALSE)","v":"Usinage, fourniture et pose"},{"$f":"INDEX(TabFinition[FINITION],MATCH(VLOOKUP(RELEVE_COTES!$G$12,TabNuancierVTL[],3,FALSE)&VLOOKUP(RELEVE_COTES!$G$13,TabNuancierVTL[],3,FALSE),TabFinition[TYPE EXT]&TabFinition[TYPE INT],0))","v":{"$error":"#N/A"}},"INT",{"$f":"RELEVE_COTES!$E$16","v":"platines + vérins"},"NON",{"$f":"IF(RELEVE_COTES!$I$20 = \"Huisserie Bois\",RELEVE_COTES!$R89,IF(RELEVE_COTES!$I$20 = \"Huisserie Banchée\",RELEVE_COTES!$M89,IF(RELEVE_COTES!$I$20 = \"Bâti Scellé\",RELEVE_COTES!$O89,\"\")))","v":""},null,{"$f":"VLOOKUP(RELEVE_COTES!$K$11,TabSerrureRef[],3,FALSE)","v":{"$error":"#N/A"}},{"$f":"VLOOKUP(RELEVE_COTES!$K$11,TabSerrureRef[],6,FALSE)","v":{"$error":"#N/A"}}]
[{"$error":"#VALUE!"},{"$error":"#VALUE!"},{"$f":"IF(RELEVE_COTES!$A90<>\"\",SUBSTITUTE(SUBSTITUTE(SUBSTITUTE(SUBSTITUTE(SUBSTITUTE(SUBSTITUTE(SUBSTITUTE(SUBSTITUTE(RELEVE_COTES!$A90,\" \",\"\"),\"-\",\"/\"),\".\",\"/\"),\"\\\",\"/\"),\",\",\"/\"),\"+\",\"_\"),\"&\",\"_\"),\"*\",\"/\"),\"\")","v":""},{"$f":"RELEVE_COTES!$B90","v":0},1,{"$f":"IF(RELEVE_COTES!C90<>\"\",SUBSTITUTE(SUBSTITUTE(SUBSTITUTE(SUBSTITUTE(SUBSTITUTE(SUBSTITUTE(SUBSTITUTE(SUBSTITUTE(RELEVE_COTES!C90,\" \",\"\"),\"-\",\"\"),\".\",\",\"),\"\\\",\"\"),\",\",\",\"),\"+\",\"\"),\"&\",\"\"),\"*\",\"\"),\"\")","v":""},{"$f":"IF(RELEVE_COTES!D90<>\"\",SUBSTITUTE(SUBSTITUTE(SUBSTITUTE(SUBSTITUTE(SUBSTITUTE(SUBSTITUTE(SUBSTITUTE(SUBSTITUTE(RELEVE_COTES!D90,\" \",\"\"),\"-\",\"\"),\".\",\",\"),\"\\\",\"\"),\",\",\",\"),\"+\",\"\"),\"&\",\"\"),\"*\",\"\"),\"\")","v":""},{"$f":"IF(RELEVE_COTES!E90<>\"\",SUBSTITUTE(SUBSTITUTE(SUBSTITUTE(SUBSTITUTE(SUBSTITUTE(SUBSTITUTE(SUBSTITUTE(SUBSTITUTE(RELEVE_COTES!E90,\" \",\"\"),\"-\",\"\"),\".\",\",\"),\"\\\",\"\"),\",\",\",\"),\"+\",\"\"),\"&\",\"\"),\"*\",\"\"),\"\")","v":""},{"$f":"IF(RELEVE_COTES!F90<>\"\",SUBSTITUTE(SUBSTITUTE(SUBSTITUTE(SUBSTITUTE(SUBSTITUTE(SUBSTITUTE(SUBSTITUTE(SUBSTITUTE(RELEVE_COTES!F90,\" \",\"\"),\"-\",\"\"),\".\",\",\"),\"\\\",\"\"),\",\",\",\"),\"+\",\"\"),\"&\",\"\"),\"*\",\"\"),\"\")","v":""},{"$f":"IF(RELEVE_COTES!G90<>\"\",SUBSTITUTE(SUBSTITUTE(SUBSTITUTE(SUBSTITUTE(SUBSTITUTE(SUBSTITUTE(SUBSTITUTE(SUBSTITUTE(RELEVE_COTES!G90,\" \",\"\"),\"-\",\"\"),\".\",\",\"),\"\\\",\"\"),\",\",\",\"),\"+\",\"\"),\"&\",\"\"),\"*\",\"\"),\"\")","v":""},{"$f":"IF($D42=\"GP\",IF(RELEVE_COTES!$I90=\"\",0,IF(RELEVE_COTES!$I90=\"\",\"\",RELEVE_COTES!$I90)),IF(RELEVE_COTES!$H90=\"\",0,IF(RELEVE_COTES!$H90=\"\",\"\",RELEVE_COTES!$H90)))","v":0},{"$f":"IF($D42=\"GP\",IF(RELEVE_COTES!$H90=\"\",0,IF(RELEVE_COTES!$H90=\"\",\"\",RELEVE_COTES!$H90)),IF(RELEVE_COTES!$I90=\"\",0,IF(RELEVE_COTES!$I90=\"\",\"\",RELEVE_COTES!$I90)))","v":0},{"$f":"IF(RELEVE_COTES!$J90=\"\",0,IF(RELEVE_COTES!$J90=\"\",\"\",RELEVE_COTES!$J90))","v":0},{"$f":"VLOOKUP(RELEVE_COTES!$K90,TabExistantRef1[],2,FALSE)","v":{"$error":"#N/A"}},{"$f":"IF($Y$1=\"BOIS\",RELEVE_COTES!$O90,0)","v":{"$error":"#N/A"}},{"$f":"IF($Y$1=\"BOIS\",RELEVE_COTES!$P90,0)","v":{"$error":"#N/A"}},{"$f":"IF($Y$1=\"BOIS\",RELEVE_COTES!$Q90,0)","v":{"$error":"#N/A"}},{"$error":"#N/A"},{"$f":"IF($Y$1=\"BANCHE\",RELEVE_COTES!$L90,0)","v":{"$error":"#N/A"}},{"$error":"#N/A"},{"$error":"#N/A"},{"$f":"IF($Y$1<>\"BANCHE\",RELEVE_COTES!$L90,0)","v":{"$error":"#N/A"}},{"$f":"IF(AND($Y$1<>\"BANCHE\",RELEVE_COTES!$M90<>\"\"),RELEVE_COTES!$M90,20)","v":{"$error":"#N/A"}},{"$f":"IF($Y$1<>\"BANCHE\",IF(RELEVE_COTES!$N90<>\"\",RELEVE_COTES!$N90,10),0)","v":{"$error":"#N/A"}},{"$f":"IF(RELEVE_COTES!$I$20=\"Huisserie Banchée\",\"Banche\",IF(RELEVE_COTES!$I$20=\"Huisserie Bois\",\"Bois\",IF(RELEVE_COTES!$I$20=\"Bâti Scellé\",\"Bâti Métal.\")))","v":false},{"$f":"RELEVE_COTES!$C$11","v":0},{"$f":"RELEVE_COTES!$K$12","v":0},{"$f":"VLOOKUP(AA42,TabSeuilRef[],2,FALSE)","v":{"$error":"#N/A"}},{"$f":"\"Paumelles \"&RELEVE_COTES!$E$15","v":"Paumelles "},{"$f":"IF(RELEVE_COTES!$K$16<>\"Déporté\",RELEVE_COTES!$K$16,RELEVE_COTES!$K$16&\" / \"&VLOOKUP(RELEVE_COTES!$L$16,TabOptUsSerr[],2,FALSE))","v":"SANS"},{"$f":"RELEVE_COTES!$K$11","v":0},{"$f":"VLOOKUP(RELEVE_COTES!$G$12,TabNuancierVTL[],2,FALSE)&\"/\"&VLOOKUP(RELEVE_COTES!$G$13,TabNuancierVTL[],2,FALSE)","v":{"$error":"#N/A"}},{"$f":"IF(RELEVE_COTES!$E$14=\"Pr.Peint\",\"PP\",VLOOKUP(RELEVE_COTES!$G$14,TabNuancHM[],2,FALSE))","v":"PP"},{"$error":"#N/A"},{"$f":"IF(RELEVE_COTES!$C$11 =\"R32S-R02\",\"OUI\",\"NON\")","v":"NON"},"NON","",{"$f":"IF(AI42=\"OUI\",RELEVE_COTES!$N$16,\"\")","v":""},null,{"$f":"RELEVE_COTES!$E$12&\"/\"&RELEVE_COTES!$E$13","v":" SANS/ SANS"},{"$f":"IF(RELEVE_COTES!$K$15<>\"SANS\",RELEVE_COTES!$L$15&\" \"&RELEVE_COTES!$K$15,\"\")&IF(RELEVE_COTES!$N$15<>\"SANS\",\" / PMR: \"&RELEVE_COTES!$O$15&\" \"&RELEVE_COTES!$N$15,\"\")","v":""},{"$f":"IF(RELEVE_COTES!$K$14 <> \"SANS\",RELEVE_COTES!$O$14&\" \"&RELEVE_COTES!$K$14,\"\")","v":"U+F "},{"$f":"IF(RELEVE_COTES!$K$13 <> \"SANS\",RELEVE_COTES!$O$13&\" \"&RELEVE_COTES!$K$13,\"SANS\")","v":"U+F "},{"$f":"VLOOKUP(RELEVE_COTES!$O$11,TabOptUsSerr[],2,FALSE)","v":"Usinage, fourniture et pose"},{"$f":"INDEX(TabFinition[FINITION],MATCH(VLOOKUP(RELEVE_COTES!$G$12,TabNuancierVTL[],3,FALSE)&VLOOKUP(RELEVE_COTES!$G$13,TabNuancierVTL[],3,FALSE),TabFinition[TYPE EXT]&TabFinition[TYPE INT],0))","v":{"$error":"#N/A"}},"INT",{"$f":"RELEVE_COTES!$E$16","v":"platines + vérins"},"NON",{"$f":"IF(RELEVE_COTES!$I$20 = \"Huisserie Bois\",RELEVE_COTES!$R90,IF(RELEVE_COTES!$I$20 = \"Huisserie Banchée\",RELEVE_COTES!$M90,IF(RELEVE_COTES!$I$20 = \"Bâti Scellé\",RELEVE_COTES!$O90,\"\")))","v":""},null,{"$f":"VLOOKUP(RELEVE_COTES!$K$11,TabSerrureRef[],3,FALSE)","v":{"$error":"#N/A"}},{"$f":"VLOOKUP(RELEVE_COTES!$K$11,TabSerrureRef[],6,FALSE)","v":{"$error":"#N/A"}}]
[{"$error":"#VALUE!"},{"$error":"#VALUE!"},{"$f":"IF(RELEVE_COTES!$A91<>\"\",SUBSTITUTE(SUBSTITUTE(SUBSTITUTE(SUBSTITUTE(SUBSTITUTE(SUBSTITUTE(SUBSTITUTE(SUBSTITUTE(RELEVE_COTES!$A91,\" \",\"\"),\"-\",\"/\"),\".\",\"/\"),\"\\\",\"/\"),\",\",\"/\"),\"+\",\"_\"),\"&\",\"_\"),\"*\",\"/\"),\"\")","v":""},{"$f":"RELEVE_COTES!$B91","v":0},1,{"$f":"IF(RELEVE_COTES!C91<>\"\",SUBSTITUTE(SUBSTITUTE(SUBSTITUTE(SUBSTITUTE(SUBSTITUTE(SUBSTITUTE(SUBSTITUTE(SUBSTITUTE(RELEVE_COTES!C91,\" \",\"\"),\"-\",\"\"),\".\",\",\"),\"\\\",\"\"),\",\",\",\"),\"+\",\"\"),\"&\",\"\"),\"*\",\"\"),\"\")","v":""},{"$f":"IF(RELEVE_COTES!D91<>\"\",SUBSTITUTE(SUBSTITUTE(SUBSTITUTE(SUBSTITUTE(SUBSTITUTE(SUBSTITUTE(SUBSTITUTE(SUBSTITUTE(RELEVE_COTES!D91,\" \",\"\"),\"-\",\"\"),\".\",\",\"),\"\\\",\"\"),\",\",\",\"),\"+\",\"\"),\"&\",\"\"),\"*\",\"\"),\"\")","v":""},{"$f":"IF(RELEVE_COTES!E91<>\"\",SUBSTITUTE(SUBSTITUTE(SUBSTITUTE(SUBSTITUTE(SUBSTITUTE(SUBSTITUTE(SUBSTITUTE(SUBSTITUTE(RELEVE_COTES!E91,\" \",\"\"),\"-\",\"\"),\".\",\",\"),\"\\\",\"\"),\",\",\",\"),\"+\",\"\"),\"&\",\"\"),\"*\",\"\"),\"\")","v":""},{"$f":"IF(RELEVE_COTES!F91<>\"\",SUBSTITUTE(SUBSTITUTE(SUBSTITUTE(SUBSTITUTE(SUBSTITUTE(SUBSTITUTE(SUBSTITUTE(SUBSTITUTE(RELEVE_COTES!F91,\" \",\"\"),\"-\",\"\"),\".\",\",\"),\"\\\",\"\"),\",\",\",\"),\"+\",\"\"),\"&\",\"\"),\"*\",\"\"),\"\")","v":""},{"$f":"IF(RELEVE_COTES!G91<>\"\",SUBSTITUTE(SUBSTITUTE(SUBSTITUTE(SUBSTITUTE(SUBSTITUTE(SUBSTITUTE(SUBSTITUTE(SUBSTITUTE(RELEVE_COTES!G91,\" \",\"\"),\"-\",\"\"),\".\",\",\"),\"\\\",\"\"),\",\",\",\"),\"+\",\"\"),\"&\",\"\"),\"*\",\"\"),\"\")","v":""},{"$f":"IF($D43=\"GP\",IF(RELEVE_COTES!$I91=\"\",0,IF(RELEVE_COTES!$I91=\"\",\"\",RELEVE_COTES!$I91)),IF(RELEVE_COTES!$H91=\"\",0,IF(RELEVE_COTES!$H91=\"\",\"\",RELEVE_COTES!$H91)))","v":0},{"$f":"IF($D43=\"GP\",IF(RELEVE_COTES!$H91=\"\",0,IF(RELEVE_COTES!$H91=\"\",\"\",RELEVE_COTES!$H91)),IF(RELEVE_COTES!$I91=\"\",0,IF(RELEVE_COTES!$I91=\"\",\"\",RELEVE_COTES!$I91)))","v":0},{"$f":"IF(RELEVE_COTES!$J91=\"\",0,IF(RELEVE_COTES!$J91=\"\",\"\",RELEVE_COTES!$J91))","v":0},{"$f":"VLOOKUP(RELEVE_COTES!$K91,TabExistantRef1[],2,FALSE)","v":{"$error":"#N/A"}},{"$f":"IF($Y$1=\"BOIS\",RELEVE_COTES!$O91,0)","v":{"$error":"#N/A"}},{"$f":"IF($Y$1=\"BOIS\",RELEVE_COTES!$P91,0)","v":{"$error":"#N/A"}},{"$f":"IF($Y$1=\"BOIS\",RELEVE_COTES!$Q91,0)","v":{"$error":"#N/A"}},{"$error":"#N/A"},{"$f":"IF($Y$1=\"BANCHE\",RELEVE_COTES!$L91,0)","v":{"$error":"#N/A"}},{"$error":"#N/A"},{"$error":"#N/A"},{"$f":"IF($Y$1<>\"BANCHE\",RELEVE_COTES!$L91,0)","v":{"$error":"#N/A"}},{"$f":"IF(AND($Y$1<>\"BANCHE\",RELEVE_COTES!$M91<>\"\"),RELEVE_COTES!$M91,20)","v":{"$error":"#N/A"}},{"$f":"IF($Y$1<>\"BANCHE\",IF(RELEVE_COTES!$N91<>\"\",RELEVE_COTES!$N91,10),0)","v":{"$error":"#N/A"}},{"$f":"IF(RELEVE_COTES!$I$20=\"Huisserie Banchée\",\"Banche\",IF(RELEVE_COTES!$I$20=\"Huisserie Bois\",\"Bois\",IF(RELEVE_COTES!$I$20=\"Bâti Scellé\",\"Bâti Métal.\")))","v":false},{"$f":"RELEVE_COTES!$C$11","v":0},{"$f":"RELEVE_COTES!$K$12","v":0},{"$f":"VLOOKUP(AA43,TabSeuilRef[],2,FALSE)","v":{"$error":"#N/A"}},{"$f":"\"Paumelles \"&RELEVE_COTES!$E$15","v":"Paumelles "},{"$f":"IF(RELEVE_COTES!$K$16<>\"Déporté\",RELEVE_COTES!$K$16,RELEVE_COTES!$K$16&\" / \"&VLOOKUP(RELEVE_COTES!$L$16,TabOptUsSerr[],2,FALSE))","v":"SANS"},{"$f":"RELEVE_COTES!$K$11","v":0},{"$f":"VLOOKUP(RELEVE_COTES!$G$12,TabNuancierVTL[],2,FALSE)&\"/\"&VLOOKUP(RELEVE_COTES!$G$13,TabNuancierVTL[],2,FALSE)","v":{"$error":"#N/A"}},{"$f":"IF(RELEVE_COTES!$E$14=\"Pr.Peint\",\"PP\",VLOOKUP(RELEVE_COTES!$G$14,TabNuancHM[],2,FALSE))","v":"PP"},{"$f":"N43","v":{"$error":"#N/A"}},{"$f":"IF(RELEVE_COTES!$C$11 =\"R32S-R02\",\"OUI\",\"NON\")","v":"NON"},"NON","",{"$f":"IF(AI43=\"OUI\",RELEVE_COTES!$N$16,\"\")","v":""},null,{"$f":"RELEVE_COTES!$E$12&\"/\"&RELEVE_COTES!$E$13","v":" SANS/ SANS"},{"$f":"IF(RELEVE_COTES!$K$15<>\"SANS\",RELEVE_COTES!$L$15&\" \"&RELEVE_COTES!$K$15,\"\")&IF(RELEVE_COTES!$N$15<>\"SANS\",\" / PMR: \"&RELEVE_COTES!$O$15&\" \"&RELEVE_COTES!$N$15,\"\")","v":""},{"$f":"IF(RELEVE_COTES!$K$14 <> \"SANS\",RELEVE_COTES!$O$14&\" \"&RELEVE_COTES!$K$14,\"\")","v":"U+F "},{"$f":"IF(RELEVE_COTES!$K$13 <> \"SANS\",RELEVE_COTES!$O$13&\" \"&RELEVE_COTES!$K$13,\"SANS\")","v":"U+F "},{"$f":"VLOOKUP(RELEVE_COTES!$O$11,TabOptUsSerr[],2,FALSE)","v":"Usinage, fourniture et pose"},{"$f":"INDEX(TabFinition[FINITION],MATCH(VLOOKUP(RELEVE_COTES!$G$12,TabNuancierVTL[],3,FALSE)&VLOOKUP(RELEVE_COTES!$G$13,TabNuancierVTL[],3,FALSE),TabFinition[TYPE EXT]&TabFinition[TYPE INT],0))","v":{"$error":"#N/A"}},"INT",{"$f":"RELEVE_COTES!$E$16","v":"platines + vérins"},"NON",{"$f":"IF(RELEVE_COTES!$I$20 = \"Huisserie Bois\",RELEVE_COTES!$R91,IF(RELEVE_COTES!$I$20 = \"Huisserie Banchée\",RELEVE_COTES!$M91,IF(RELEVE_COTES!$I$20 = \"Bâti Scellé\",RELEVE_COTES!$O91,\"\")))","v":""},null,{"$f":"VLOOKUP(RELEVE_COTES!$K$11,TabSerrureRef[],3,FALSE)","v":{"$error":"#N/A"}},{"$f":"VLOOKUP(RELEVE_COTES!$K$11,TabSerrureRef[],6,FALSE)","v":{"$error":"#N/A"}}]
[{"$error":"#VALUE!"},{"$error":"#VALUE!"},{"$f":"IF(RELEVE_COTES!$A92<>\"\",SUBSTITUTE(SUBSTITUTE(SUBSTITUTE(SUBSTITUTE(SUBSTITUTE(SUBSTITUTE(SUBSTITUTE(SUBSTITUTE(RELEVE_COTES!$A92,\" \",\"\"),\"-\",\"/\"),\".\",\"/\"),\"\\\",\"/\"),\",\",\"/\"),\"+\",\"_\"),\"&\",\"_\"),\"*\",\"/\"),\"\")","v":""},{"$f":"RELEVE_COTES!$B92","v":0},1,{"$f":"IF(RELEVE_COTES!C92<>\"\",SUBSTITUTE(SUBSTITUTE(SUBSTITUTE(SUBSTITUTE(SUBSTITUTE(SUBSTITUTE(SUBSTITUTE(SUBSTITUTE(RELEVE_COTES!C92,\" \",\"\"),\"-\",\"\"),\".\",\",\"),\"\\\",\"\"),\",\",\",\"),\"+\",\"\"),\"&\",\"\"),\"*\",\"\"),\"\")","v":""},{"$f":"IF(RELEVE_COTES!D92<>\"\",SUBSTITUTE(SUBSTITUTE(SUBSTITUTE(SUBSTITUTE(SUBSTITUTE(SUBSTITUTE(SUBSTITUTE(SUBSTITUTE(RELEVE_COTES!D92,\" \",\"\"),\"-\",\"\"),\".\",\",\"),\"\\\",\"\"),\",\",\",\"),\"+\",\"\"),\"&\",\"\"),\"*\",\"\"),\"\")","v":""},{"$f":"IF(RELEVE_COTES!E92<>\"\",SUBSTITUTE(SUBSTITUTE(SUBSTITUTE(SUBSTITUTE(SUBSTITUTE(SUBSTITUTE(SUBSTITUTE(SUBSTITUTE(RELEVE_COTES!E92,\" \",\"\"),\"-\",\"\"),\".\",\",\"),\"\\\",\"\"),\",\",\",\"),\"+\",\"\"),\"&\",\"\"),\"*\",\"\"),\"\")","v":""},{"$f":"IF(RELEVE_COTES!F92<>\"\",SUBSTITUTE(SUBSTITUTE(SUBSTITUTE(SUBSTITUTE(SUBSTITUTE(SUBSTITUTE(SUBSTITUTE(SUBSTITUTE(RELEVE_COTES!F92,\" \",\"\"),\"-\",\"\"),\".\",\",\"),\"\\\",\"\"),\",\",\",\"),\"+\",\"\"),\"&\",\"\"),\"*\",\"\"),\"\")","v":""},{"$f":"IF(RELEVE_COTES!G92<>\"\",SUBSTITUTE(SUBSTITUTE(SUBSTITUTE(SUBSTITUTE(SUBSTITUTE(SUBSTITUTE(SUBSTITUTE(SUBSTITUTE(RELEVE_COTES!G92,\" \",\"\"),\"-\",\"\"),\".\",\",\"),\"\\\",\"\"),\",\",\",\"),\"+\",\"\"),\"&\",\"\"),\"*\",\"\"),\"\")","v":""},{"$f":"IF($D44=\"GP\",IF(RELEVE_COTES!$I92=\"\",0,IF(RELEVE_COTES!$I92=\"\",\"\",RELEVE_COTES!$I92)),IF(RELEVE_COTES!$H92=\"\",0,IF(RELEVE_COTES!$H92=\"\",\"\",RELEVE_COTES!$H92)))","v":0},{"$f":"IF($D44=\"GP\",IF(RELEVE_COTES!$H92=\"\",0,IF(RELEVE_COTES!$H92=\"\",\"\",RELEVE_COTES!$H92)),IF(RELEVE_COTES!$I92=\"\",0,IF(RELEVE_COTES!$I92=\"\",\"\",RELEVE_COTES!$I92)))","v":0},{"$f":"IF(RELEVE_COTES!$J92=\"\",0,IF(RELEVE_COTES!$J92=\"\",\"\",RELEVE_COTES!$J92))","v":0},{"$f":"VLOOKUP(RELEVE_COTES!$K92,TabExistantRef1[],2,FALSE)","v":{"$error":"#N/A"}},{"$f":"IF($Y$1=\"BOIS\",RELEVE_COTES!$O92,0)","v":{"$error":"#N/A"}},{"$f":"IF($Y$1=\"BOIS\",RELEVE_COTES!$P92,0)","v":{"$error":"#N/A"}},{"$f":"IF($Y$1=\"BOIS\",RELEVE_COTES!$Q92,0)","v":{"$error":"#N/A"}},{"$error":"#N/A"},{"$f":"IF($Y$1=\"BANCHE\",RELEVE_COTES!$L92,0)","v":{"$error":"#N/A"}},{"$error":"#N/A"},{"$error":"#N/A"},{"$f":"IF($Y$1<>\"BANCHE\",RELEVE_COTES!$L92,0)","v":{"$error":"#N/A"}},{"$f":"IF(AND($Y$1<>\"BANCHE\",RELEVE_COTES!$M92<>\"\"),RELEVE_COTES!$M92,20)","v":{"$error":"#N/A"}},{"$f":"IF($Y$1<>\"BANCHE\",IF(RELEVE_COTES!$N92<>\"\",RELEVE_COTES!$N92,10),0)","v":{"$error":"#N/A"}},{"$f":"IF(RELEVE_COTES!$I$20=\"Huisserie Banchée\",\"Banche\",IF(RELEVE_COTES!$I$20=\"Huisserie Bois\",\"Bois\",IF(RELEVE_COTES!$I$20=\"Bâti Scellé\",\"Bâti Métal.\")))","v":false},{"$f":"RELEVE_COTES!$C$11","v":0},{"$f":"RELEVE_COTES!$K$12","v":0},{"$f":"VLOOKUP(AA44,TabSeuilRef[],2,FALSE)","v":{"$error":"#N/A"}},{"$f":"\"Paumelles \"&RELEVE_COTES!$E$15","v":"Paumelles "},{"$f":"IF(RELEVE_COTES!$K$16<>\"Déporté\",RELEVE_COTES!$K$16,RELEVE_COTES!$K$16&\" / \"&VLOOKUP(RELEVE_COTES!$L$16,TabOptUsSerr[],2,FALSE))","v":"SANS"},{"$f":"RELEVE_COTES!$K$11","v":0},{"$f":"VLOOKUP(RELEVE_COTES!$G$12,TabNuancierVTL[],2,FALSE)&\"/\"&VLOOKUP(RELEVE_COTES!$G$13,TabNuancierVTL[],2,FALSE)","v":{"$error":"#N/A"}},{"$f":"IF(RELEVE_COTES!$E$14=\"Pr.Peint\",\"PP\",VLOOKUP(RELEVE_COTES!$G$14,TabNuancHM[],2,FALSE))","v":"PP"},{"$error":"#N/A"},{"$f":"IF(RELEVE_COTES!$C$11 =\"R32S-R02\",\"OUI\",\"NON\")","v":"NON"},"NON","",{"$f":"IF(AI44=\"OUI\",RELEVE_COTES!$N$16,\"\")","v":""},null,{"$f":"RELEVE_COTES!$E$12&\"/\"&RELEVE_COTES!$E$13","v":" SANS/ SANS"},{"$f":"IF(RELEVE_COTES!$K$15<>\"SANS\",RELEVE_COTES!$L$15&\" \"&RELEVE_COTES!$K$15,\"\")&IF(RELEVE_COTES!$N$15<>\"SANS\",\" / PMR: \"&RELEVE_COTES!$O$15&\" \"&RELEVE_COTES!$N$15,\"\")","v":""},{"$f":"IF(RELEVE_COTES!$K$14 <> \"SANS\",RELEVE_COTES!$O$14&\" \"&RELEVE_COTES!$K$14,\"\")","v":"U+F "},{"$f":"IF(RELEVE_COTES!$K$13 <> \"SANS\",RELEVE_COTES!$O$13&\" \"&RELEVE_COTES!$K$13,\"SANS\")","v":"U+F "},{"$f":"VLOOKUP(RELEVE_COTES!$O$11,TabOptUsSerr[],2,FALSE)","v":"Usinage, fourniture et pose"},{"$f":"INDEX(TabFinition[FINITION],MATCH(VLOOKUP(RELEVE_COTES!$G$12,TabNuancierVTL[],3,FALSE)&VLOOKUP(RELEVE_COTES!$G$13,TabNuancierVTL[],3,FALSE),TabFinition[TYPE EXT]&TabFinition[TYPE INT],0))","v":{"$error":"#N/A"}},"INT",{"$f":"RELEVE_COTES!$E$16","v":"platines + vérins"},"NON",{"$f":"IF(RELEVE_COTES!$I$20 = \"Huisserie Bois\",RELEVE_COTES!$R92,IF(RELEVE_COTES!$I$20 = \"Huisserie Banchée\",RELEVE_COTES!$M92,IF(RELEVE_COTES!$I$20 = \"Bâti Scellé\",RELEVE_COTES!$O92,\"\")))","v":""},null,{"$f":"VLOOKUP(RELEVE_COTES!$K$11,TabSerrureRef[],3,FALSE)","v":{"$error":"#N/A"}},{"$f":"VLOOKUP(RELEVE_COTES!$K$11,TabSerrureRef[],6,FALSE)","v":{"$error":"#N/A"}}]
[{"$error":"#VALUE!"},{"$error":"#VALUE!"},{"$f":"IF(RELEVE_COTES!$A93<>\"\",SUBSTITUTE(SUBSTITUTE(SUBSTITUTE(SUBSTITUTE(SUBSTITUTE(SUBSTITUTE(SUBSTITUTE(SUBSTITUTE(RELEVE_COTES!$A93,\" \",\"\"),\"-\",\"/\"),\".\",\"/\"),\"\\\",\"/\"),\",\",\"/\"),\"+\",\"_\"),\"&\",\"_\"),\"*\",\"/\"),\"\")","v":""},{"$f":"RELEVE_COTES!$B93","v":0},1,{"$f":"IF(RELEVE_COTES!C93<>\"\",SUBSTITUTE(SUBSTITUTE(SUBSTITUTE(SUBSTITUTE(SUBSTITUTE(SUBSTITUTE(SUBSTITUTE(SUBSTITUTE(RELEVE_COTES!C93,\" \",\"\"),\"-\",\"\"),\".\",\",\"),\"\\\",\"\"),\",\",\",\"),\"+\",\"\"),\"&\",\"\"),\"*\",\"\"),\"\")","v":""},{"$f":"IF(RELEVE_COTES!D93<>\"\",SUBSTITUTE(SUBSTITUTE(SUBSTITUTE(SUBSTITUTE(SUBSTITUTE(SUBSTITUTE(SUBSTITUTE(SUBSTITUTE(RELEVE_COTES!D93,\" \",\"\"),\"-\",\"\"),\".\",\",\"),\"\\\",\"\"),\",\",\",\"),\"+\",\"\"),\"&\",\"\"),\"*\",\"\"),\"\")","v":""},{"$f":"IF(RELEVE_COTES!E93<>\"\",SUBSTITUTE(SUBSTITUTE(SUBSTITUTE(SUBSTITUTE(SUBSTITUTE(SUBSTITUTE(SUBSTITUTE(SUBSTITUTE(RELEVE_COTES!E93,\" \",\"\"),\"-\",\"\"),\".\",\",\"),\"\\\",\"\"),\",\",\",\"),\"+\",\"\"),\"&\",\"\"),\"*\",\"\"),\"\")","v":""},{"$f":"IF(RELEVE_COTES!F93<>\"\",SUBSTITUTE(SUBSTITUTE(SUBSTITUTE(SUBSTITUTE(SUBSTITUTE(SUBSTITUTE(SUBSTITUTE(SUBSTITUTE(RELEVE_COTES!F93,\" \",\"\"),\"-\",\"\"),\".\",\",\"),\"\\\",\"\"),\",\",\",\"),\"+\",\"\"),\"&\",\"\"),\"*\",\"\"),\"\")","v":""},{"$f":"IF(RELEVE_COTES!G93<>\"\",SUBSTITUTE(SUBSTITUTE(SUBSTITUTE(SUBSTITUTE(SUBSTITUTE(SUBSTITUTE(SUBSTITUTE(SUBSTITUTE(RELEVE_COTES!G93,\" \",\"\"),\"-\",\"\"),\".\",\",\"),\"\\\",\"\"),\",\",\",\"),\"+\",\"\"),\"&\",\"\"),\"*\",\"\"),\"\")","v":""},{"$f":"IF($D45=\"GP\",IF(RELEVE_COTES!$I93=\"\",0,IF(RELEVE_COTES!$I93=\"\",\"\",RELEVE_COTES!$I93)),IF(RELEVE_COTES!$H93=\"\",0,IF(RELEVE_COTES!$H93=\"\",\"\",RELEVE_COTES!$H93)))","v":0},{"$f":"IF($D45=\"GP\",IF(RELEVE_COTES!$H93=\"\",0,IF(RELEVE_COTES!$H93=\"\",\"\",RELEVE_COTES!$H93)),IF(RELEVE_COTES!$I93=\"\",0,IF(RELEVE_COTES!$I93=\"\",\"\",RELEVE_COTES!$I93)))","v":0},{"$f":"IF(RELEVE_COTES!$J93=\"\",0,IF(RELEVE_COTES!$J93=\"\",\"\",RELEVE_COTES!$J93))","v":0},{"$f":"VLOOKUP(RELEVE_COTES!$K93,TabExistantRef1[],2,FALSE)","v":{"$error":"#N/A"}},{"$f":"IF($Y$1=\"BOIS\",RELEVE_COTES!$O93,0)","v":{"$error":"#N/A"}},{"$f":"IF($Y$1=\"BOIS\",RELEVE_COTES!$P93,0)","v":{"$error":"#N/A"}},{"$f":"IF($Y$1=\"BOIS\",RELEVE_COTES!$Q93,0)","v":{"$error":"#N/A"}},{"$error":"#N/A"},{"$f":"IF($Y$1=\"BANCHE\",RELEVE_COTES!$L93,0)","v":{"$error":"#N/A"}},{"$error":"#N/A"},{"$error":"#N/A"},{"$f":"IF($Y$1<>\"BANCHE\",RELEVE_COTES!$L93,0)","v":{"$error":"#N/A"}},{"$f":"IF(AND($Y$1<>\"BANCHE\",RELEVE_COTES!$M93<>\"\"),RELEVE_COTES!$M93,20)","v":{"$error":"#N/A"}},{"$f":"IF($Y$1<>\"BANCHE\",IF(RELEVE_COTES!$N93<>\"\",RELEVE_COTES!$N93,10),0)","v":{"$error":"#N/A"}},{"$f":"IF(RELEVE_COTES!$I$20=\"Huisserie Banchée\",\"Banche\",IF(RELEVE_COTES!$I$20=\"Huisserie Bois\",\"Bois\",IF(RELEVE_COTES!$I$20=\"Bâti Scellé\",\"Bâti Métal.\")))","v":false},{"$f":"RELEVE_COTES!$C$11","v":0},{"$f":"RELEVE_COTES!$K$12","v":0},{"$f":"VLOOKUP(AA45,TabSeuilRef[],2,FALSE)","v":{"$error":"#N/A"}},{"$f":"\"Paumelles \"&RELEVE_COTES!$E$15","v":"Paumelles "},{"$f":"IF(RELEVE_COTES!$K$16<>\"Déporté\",RELEVE_COTES!$K$16,RELEVE_COTES!$K$16&\" / \"&VLOOKUP(RELEVE_COTES!$L$16,TabOptUsSerr[],2,FALSE))","v":"SANS"},{"$f":"RELEVE_COTES!$K$11","v":0},{"$f":"VLOOKUP(RELEVE_COTES!$G$12,TabNuancierVTL[],2,FALSE)&\"/\"&VLOOKUP(RELEVE_COTES!$G$13,TabNuancierVTL[],2,FALSE)","v":{"$error":"#N/A"}},{"$f":"IF(RELEVE_COTES!$E$14=\"Pr.Peint\",\"PP\",VLOOKUP(RELEVE_COTES!$G$14,TabNuancHM[],2,FALSE))","v":"PP"},{"$error":"#N/A"},{"$f":"IF(RELEVE_COTES!$C$11 =\"R32S-R02\",\"OUI\",\"NON\")","v":"NON"},"NON","",{"$f":"IF(AI45=\"OUI\",RELEVE_COTES!$N$16,\"\")","v":""},null,{"$f":"RELEVE_COTES!$E$12&\"/\"&RELEVE_COTES!$E$13","v":" SANS/ SANS"},{"$f":"IF(RELEVE_COTES!$K$15<>\"SANS\",RELEVE_COTES!$L$15&\" \"&RELEVE_COTES!$K$15,\"\")&IF(RELEVE_COTES!$N$15<>\"SANS\",\" / PMR: \"&RELEVE_COTES!$O$15&\" \"&RELEVE_COTES!$N$15,\"\")","v":""},{"$f":"IF(RELEVE_COTES!$K$14 <> \"SANS\",RELEVE_COTES!$O$14&\" \"&RELEVE_COTES!$K$14,\"\")","v":"U+F "},{"$f":"IF(RELEVE_COTES!$K$13 <> \"SANS\",RELEVE_COTES!$O$13&\" \"&RELEVE_COTES!$K$13,\"SANS\")","v":"U+F "},{"$f":"VLOOKUP(RELEVE_COTES!$O$11,TabOptUsSerr[],2,FALSE)","v":"Usinage, fourniture et pose"},{"$f":"INDEX(TabFinition[FINITION],MATCH(VLOOKUP(RELEVE_COTES!$G$12,TabNuancierVTL[],3,FALSE)&VLOOKUP(RELEVE_COTES!$G$13,TabNuancierVTL[],3,FALSE),TabFinition[TYPE EXT]&TabFinition[TYPE INT],0))","v":{"$error":"#N/A"}},"INT",{"$f":"RELEVE_COTES!$E$16","v":"platines + vérins"},"NON",{"$f":"IF(RELEVE_COTES!$I$20 = \"Huisserie Bois\",RELEVE_COTES!$R93,IF(RELEVE_COTES!$I$20 = \"Huisserie Banchée\",RELEVE_COTES!$M93,IF(RELEVE_COTES!$I$20 = \"Bâti Scellé\",RELEVE_COTES!$O93,\"\")))","v":""},null,{"$f":"VLOOKUP(RELEVE_COTES!$K$11,TabSerrureRef[],3,FALSE)","v":{"$error":"#N/A"}},{"$f":"VLOOKUP(RELEVE_COTES!$K$11,TabSerrureRef[],6,FALSE)","v":{"$error":"#N/A"}}]
[{"$error":"#VALUE!"},{"$error":"#VALUE!"},{"$f":"IF(RELEVE_COTES!$A94<>\"\",SUBSTITUTE(SUBSTITUTE(SUBSTITUTE(SUBSTITUTE(SUBSTITUTE(SUBSTITUTE(SUBSTITUTE(SUBSTITUTE(RELEVE_COTES!$A94,\" \",\"\"),\"-\",\"/\"),\".\",\"/\"),\"\\\",\"/\"),\",\",\"/\"),\"+\",\"_\"),\"&\",\"_\"),\"*\",\"/\"),\"\")","v":""},{"$f":"RELEVE_COTES!$B94","v":0},1,{"$f":"IF(RELEVE_COTES!C94<>\"\",SUBSTITUTE(SUBSTITUTE(SUBSTITUTE(SUBSTITUTE(SUBSTITUTE(SUBSTITUTE(SUBSTITUTE(SUBSTITUTE(RELEVE_COTES!C94,\" \",\"\"),\"-\",\"\"),\".\",\",\"),\"\\\",\"\"),\",\",\",\"),\"+\",\"\"),\"&\",\"\"),\"*\",\"\"),\"\")","v":""},{"$f":"IF(RELEVE_COTES!D94<>\"\",SUBSTITUTE(SUBSTITUTE(SUBSTITUTE(SUBSTITUTE(SUBSTITUTE(SUBSTITUTE(SUBSTITUTE(SUBSTITUTE(RELEVE_COTES!D94,\" \",\"\"),\"-\",\"\"),\".\",\",\"),\"\\\",\"\"),\",\",\",\"),\"+\",\"\"),\"&\",\"\"),\"*\",\"\"),\"\")","v":""},{"$f":"IF(RELEVE_COTES!E94<>\"\",SUBSTITUTE(SUBSTITUTE(SUBSTITUTE(SUBSTITUTE(SUBSTITUTE(SUBSTITUTE(SUBSTITUTE(SUBSTITUTE(RELEVE_COTES!E94,\" \",\"\"),\"-\",\"\"),\".\",\",\"),\"\\\",\"\"),\",\",\",\"),\"+\",\"\"),\"&\",\"\"),\"*\",\"\"),\"\")","v":""},{"$f":"IF(RELEVE_COTES!F94<>\"\",SUBSTITUTE(SUBSTITUTE(SUBSTITUTE(SUBSTITUTE(SUBSTITUTE(SUBSTITUTE(SUBSTITUTE(SUBSTITUTE(RELEVE_COTES!F94,\" \",\"\"),\"-\",\"\"),\".\",\",\"),\"\\\",\"\"),\",\",\",\"),\"+\",\"\"),\"&\",\"\"),\"*\",\"\"),\"\")","v":""},{"$f":"IF(RELEVE_COTES!G94<>\"\",SUBSTITUTE(SUBSTITUTE(SUBSTITUTE(SUBSTITUTE(SUBSTITUTE(SUBSTITUTE(SUBSTITUTE(SUBSTITUTE(RELEVE_COTES!G94,\" \",\"\"),\"-\",\"\"),\".\",\",\"),\"\\\",\"\"),\",\",\",\"),\"+\",\"\"),\"&\",\"\"),\"*\",\"\"),\"\")","v":""},{"$f":"IF($D46=\"GP\",IF(RELEVE_COTES!$I94=\"\",0,IF(RELEVE_COTES!$I94=\"\",\"\",RELEVE_COTES!$I94)),IF(RELEVE_COTES!$H94=\"\",0,IF(RELEVE_COTES!$H94=\"\",\"\",RELEVE_COTES!$H94)))","v":0},{"$f":"IF($D46=\"GP\",IF(RELEVE_COTES!$H94=\"\",0,IF(RELEVE_COTES!$H94=\"\",\"\",RELEVE_COTES!$H94)),IF(RELEVE_COTES!$I94=\"\",0,IF(RELEVE_COTES!$I94=\"\",\"\",RELEVE_COTES!$I94)))","v":0},{"$f":"IF(RELEVE_COTES!$J94=\"\",0,IF(RELEVE_COTES!$J94=\"\",\"\",RELEVE_COTES!$J94))","v":0},{"$f":"VLOOKUP(RELEVE_COTES!$K94,TabExistantRef1[],2,FALSE)","v":{"$error":"#N/A"}},{"$f":"IF($Y$1=\"BOIS\",RELEVE_COTES!$O94,0)","v":{"$error":"#N/A"}},{"$f":"IF($Y$1=\"BOIS\",RELEVE_COTES!$P94,0)","v":{"$error":"#N/A"}},{"$f":"IF($Y$1=\"BOIS\",RELEVE_COTES!$Q94,0)","v":{"$error":"#N/A"}},{"$error":"#N/A"},{"$f":"IF($Y$1=\"BANCHE\",RELEVE_COTES!$L94,0)","v":{"$error":"#N/A"}},{"$error":"#N/A"},{"$error":"#N/A"},{"$f":"IF($Y$1<>\"BANCHE\",RELEVE_COTES!$L94,0)","v":{"$error":"#N/A"}},{"$f":"IF(AND($Y$1<>\"BANCHE\",RELEVE_COTES!$M94<>\"\"),RELEVE_COTES!$M94,20)","v":{"$error":"#N/A"}},{"$f":"IF($Y$1<>\"BANCHE\",IF(RELEVE_COTES!$N94<>\"\",RELEVE_COTES!$N94,10),0)","v":{"$error":"#N/A"}},{"$f":"IF(RELEVE_COTES!$I$20=\"Huisserie Banchée\",\"Banche\",IF(RELEVE_COTES!$I$20=\"Huisserie Bois\",\"Bois\",IF(RELEVE_COTES!$I$20=\"Bâti Scellé\",\"Bâti Métal.\")))","v":false},{"$f":"RELEVE_COTES!$C$11","v":0},{"$f":"RELEVE_COTES!$K$12","v":0},{"$f":"VLOOKUP(AA46,TabSeuilRef[],2,FALSE)","v":{"$error":"#N/A"}},{"$f":"\"Paumelles \"&RELEVE_COTES!$E$15","v":"Paumelles "},{"$f":"IF(RELEVE_COTES!$K$16<>\"Déporté\",RELEVE_COTES!$K$16,RELEVE_COTES!$K$16&\" / \"&VLOOKUP(RELEVE_COTES!$L$16,TabOptUsSerr[],2,FALSE))","v":"SANS"},{"$f":"RELEVE_COTES!$K$11","v":0},{"$f":"VLOOKUP(RELEVE_COTES!$G$12,TabNuancierVTL[],2,FALSE)&\"/\"&VLOOKUP(RELEVE_COTES!$G$13,TabNuancierVTL[],2,FALSE)","v":{"$error":"#N/A"}},{"$f":"IF(RELEVE_COTES!$E$14=\"Pr.Peint\",\"PP\",VLOOKUP(RELEVE_COTES!$G$14,TabNuancHM[],2,FALSE))","v":"PP"},{"$error":"#N/A"},{"$f":"IF(RELEVE_COTES!$C$11 =\"R32S-R02\",\"OUI\",\"NON\")","v":"NON"},"NON","",{"$f":"IF(AI46=\"OUI\",RELEVE_COTES!$N$16,\"\")","v":""},null,{"$f":"RELEVE_COTES!$E$12&\"/\"&RELEVE_COTES!$E$13","v":" SANS/ SANS"},{"$f":"IF(RELEVE_COTES!$K$15<>\"SANS\",RELEVE_COTES!$L$15&\" \"&RELEVE_COTES!$K$15,\"\")&IF(RELEVE_COTES!$N$15<>\"SANS\",\" / PMR: \"&RELEVE_COTES!$O$15&\" \"&RELEVE_COTES!$N$15,\"\")","v":""},{"$f":"IF(RELEVE_COTES!$K$14 <> \"SANS\",RELEVE_COTES!$O$14&\" \"&RELEVE_COTES!$K$14,\"\")","v":"U+F "},{"$f":"IF(RELEVE_COTES!$K$13 <> \"SANS\",RELEVE_COTES!$O$13&\" \"&RELEVE_COTES!$K$13,\"SANS\")","v":"U+F "},{"$f":"VLOOKUP(RELEVE_COTES!$O$11,TabOptUsSerr[],2,FALSE)","v":"Usinage, fourniture et pose"},{"$f":"INDEX(TabFinition[FINITION],MATCH(VLOOKUP(RELEVE_COTES!$G$12,TabNuancierVTL[],3,FALSE)&VLOOKUP(RELEVE_COTES!$G$13,TabNuancierVTL[],3,FALSE),TabFinition[TYPE EXT]&TabFinition[TYPE INT],0))","v":{"$error":"#N/A"}},"INT",{"$f":"RELEVE_COTES!$E$16","v":"platines + vérins"},"NON",{"$f":"IF(RELEVE_COTES!$I$20 = \"Huisserie Bois\",RELEVE_COTES!$R94,IF(RELEVE_COTES!$I$20 = \"Huisserie Banchée\",RELEVE_COTES!$M94,IF(RELEVE_COTES!$I$20 = \"Bâti Scellé\",RELEVE_COTES!$O94,\"\")))","v":""},null,{"$f":"VLOOKUP(RELEVE_COTES!$K$11,TabSerrureRef[],3,FALSE)","v":{"$error":"#N/A"}},{"$f":"VLOOKUP(RELEVE_COTES!$K$11,TabSerrureRef[],6,FALSE)","v":{"$error":"#N/A"}}]
[{"$error":"#VALUE!"},{"$error":"#VALUE!"},{"$f":"IF(RELEVE_COTES!$A95<>\"\",SUBSTITUTE(SUBSTITUTE(SUBSTITUTE(SUBSTITUTE(SUBSTITUTE(SUBSTITUTE(SUBSTITUTE(SUBSTITUTE(RELEVE_COTES!$A95,\" \",\"\"),\"-\",\"/\"),\".\",\"/\"),\"\\\",\"/\"),\",\",\"/\"),\"+\",\"_\"),\"&\",\"_\"),\"*\",\"/\"),\"\")","v":""},{"$f":"RELEVE_COTES!$B95","v":0},1,{"$f":"IF(RELEVE_COTES!C95<>\"\",SUBSTITUTE(SUBSTITUTE(SUBSTITUTE(SUBSTITUTE(SUBSTITUTE(SUBSTITUTE(SUBSTITUTE(SUBSTITUTE(RELEVE_COTES!C95,\" \",\"\"),\"-\",\"\"),\".\",\",\"),\"\\\",\"\"),\",\",\",\"),\"+\",\"\"),\"&\",\"\"),\"*\",\"\"),\"\")","v":""},{"$f":"IF(RELEVE_COTES!D95<>\"\",SUBSTITUTE(SUBSTITUTE(SUBSTITUTE(SUBSTITUTE(SUBSTITUTE(SUBSTITUTE(SUBSTITUTE(SUBSTITUTE(RELEVE_COTES!D95,\" \",\"\"),\"-\",\"\"),\".\",\",\"),\"\\\",\"\"),\",\",\",\"),\"+\",\"\"),\"&\",\"\"),\"*\",\"\"),\"\")","v":""},{"$f":"IF(RELEVE_COTES!E95<>\"\",SUBSTITUTE(SUBSTITUTE(SUBSTITUTE(SUBSTITUTE(SUBSTITUTE(SUBSTITUTE(SUBSTITUTE(SUBSTITUTE(RELEVE_COTES!E95,\" \",\"\"),\"-\",\"\"),\".\",\",\"),\"\\\",\"\"),\",\",\",\"),\"+\",\"\"),\"&\",\"\"),\"*\",\"\"),\"\")","v":""},{"$f":"IF(RELEVE_COTES!F95<>\"\",SUBSTITUTE(SUBSTITUTE(SUBSTITUTE(SUBSTITUTE(SUBSTITUTE(SUBSTITUTE(SUBSTITUTE(SUBSTITUTE(RELEVE_COTES!F95,\" \",\"\"),\"-\",\"\"),\".\",\",\"),\"\\\",\"\"),\",\",\",\"),\"+\",\"\"),\"&\",\"\"),\"*\",\"\"),\"\")","v":""},{"$f":"IF(RELEVE_COTES!G95<>\"\",SUBSTITUTE(SUBSTITUTE(SUBSTITUTE(SUBSTITUTE(SUBSTITUTE(SUBSTITUTE(SUBSTITUTE(SUBSTITUTE(RELEVE_COTES!G95,\" \",\"\"),\"-\",\"\"),\".\",\",\"),\"\\\",\"\"),\",\",\",\"),\"+\",\"\"),\"&\",\"\"),\"*\",\"\"),\"\")","v":""},{"$f":"IF($D47=\"GP\",IF(RELEVE_COTES!$I95=\"\",0,IF(RELEVE_COTES!$I95=\"\",\"\",RELEVE_COTES!$I95)),IF(RELEVE_COTES!$H95=\"\",0,IF(RELEVE_COTES!$H95=\"\",\"\",RELEVE_COTES!$H95)))","v":0},{"$f":"IF($D47=\"GP\",IF(RELEVE_COTES!$H95=\"\",0,IF(RELEVE_COTES!$H95=\"\",\"\",RELEVE_COTES!$H95)),IF(RELEVE_COTES!$I95=\"\",0,IF(RELEVE_COTES!$I95=\"\",\"\",RELEVE_COTES!$I95)))","v":0},{"$f":"IF(RELEVE_COTES!$J95=\"\",0,IF(RELEVE_COTES!$J95=\"\",\"\",RELEVE_COTES!$J95))","v":0},{"$f":"VLOOKUP(RELEVE_COTES!$K95,TabExistantRef1[],2,FALSE)","v":{"$error":"#N/A"}},{"$f":"IF($Y$1=\"BOIS\",RELEVE_COTES!$O95,0)","v":{"$error":"#N/A"}},{"$f":"IF($Y$1=\"BOIS\",RELEVE_COTES!$P95,0)","v":{"$error":"#N/A"}},{"$f":"IF($Y$1=\"BOIS\",RELEVE_COTES!$Q95,0)","v":{"$error":"#N/A"}},{"$error":"#N/A"},{"$f":"IF($Y$1=\"BANCHE\",RELEVE_COTES!$L95,0)","v":{"$error":"#N/A"}},{"$error":"#N/A"},{"$error":"#N/A"},{"$f":"IF($Y$1<>\"BANCHE\",RELEVE_COTES!$L95,0)","v":{"$error":"#N/A"}},{"$f":"IF(AND($Y$1<>\"BANCHE\",RELEVE_COTES!$M95<>\"\"),RELEVE_COTES!$M95,20)","v":{"$error":"#N/A"}},{"$f":"IF($Y$1<>\"BANCHE\",IF(RELEVE_COTES!$N95<>\"\",RELEVE_COTES!$N95,10),0)","v":{"$error":"#N/A"}},{"$f":"IF(RELEVE_COTES!$I$20=\"Huisserie Banchée\",\"Banche\",IF(RELEVE_COTES!$I$20=\"Huisserie Bois\",\"Bois\",IF(RELEVE_COTES!$I$20=\"Bâti Scellé\",\"Bâti Métal.\")))","v":false},{"$f":"RELEVE_COTES!$C$11","v":0},{"$f":"RELEVE_COTES!$K$12","v":0},{"$f":"VLOOKUP(AA47,TabSeuilRef[],2,FALSE)","v":{"$error":"#N/A"}},{"$f":"\"Paumelles \"&RELEVE_COTES!$E$15","v":"Paumelles "},{"$f":"IF(RELEVE_COTES!$K$16<>\"Déporté\",RELEVE_COTES!$K$16,RELEVE_COTES!$K$16&\" / \"&VLOOKUP(RELEVE_COTES!$L$16,TabOptUsSerr[],2,FALSE))","v":"SANS"},{"$f":"RELEVE_COTES!$K$11","v":0},{"$f":"VLOOKUP(RELEVE_COTES!$G$12,TabNuancierVTL[],2,FALSE)&\"/\"&VLOOKUP(RELEVE_COTES!$G$13,TabNuancierVTL[],2,FALSE)","v":{"$error":"#N/A"}},{"$f":"IF(RELEVE_COTES!$E$14=\"Pr.Peint\",\"PP\",VLOOKUP(RELEVE_COTES!$G$14,TabNuancHM[],2,FALSE))","v":"PP"},{"$error":"#N/A"},{"$f":"IF(RELEVE_COTES!$C$11 =\"R32S-R02\",\"OUI\",\"NON\")","v":"NON"},"NON","",{"$f":"IF(AI47=\"OUI\",RELEVE_COTES!$N$16,\"\")","v":""},null,{"$f":"RELEVE_COTES!$E$12&\"/\"&RELEVE_COTES!$E$13","v":" SANS/ SANS"},{"$f":"IF(RELEVE_COTES!$K$15<>\"SANS\",RELEVE_COTES!$L$15&\" \"&RELEVE_COTES!$K$15,\"\")&IF(RELEVE_COTES!$N$15<>\"SANS\",\" / PMR: \"&RELEVE_COTES!$O$15&\" \"&RELEVE_COTES!$N$15,\"\")","v":""},{"$f":"IF(RELEVE_COTES!$K$14 <> \"SANS\",RELEVE_COTES!$O$14&\" \"&RELEVE_COTES!$K$14,\"\")","v":"U+F "},{"$f":"IF(RELEVE_COTES!$K$13 <> \"SANS\",RELEVE_COTES!$O$13&\" \"&RELEVE_COTES!$K$13,\"SANS\")","v":"U+F "},{"$f":"VLOOKUP(RELEVE_COTES!$O$11,TabOptUsSerr[],2,FALSE)","v":"Usinage, fourniture et pose"},{"$f":"INDEX(TabFinition[FINITION],MATCH(VLOOKUP(RELEVE_COTES!$G$12,TabNuancierVTL[],3,FALSE)&VLOOKUP(RELEVE_COTES!$G$13,TabNuancierVTL[],3,FALSE),TabFinition[TYPE EXT]&TabFinition[TYPE INT],0))","v":{"$error":"#N/A"}},"INT",{"$f":"RELEVE_COTES!$E$16","v":"platines + vérins"},"NON",{"$f":"IF(RELEVE_COTES!$I$20 = \"Huisserie Bois\",RELEVE_COTES!$R95,IF(RELEVE_COTES!$I$20 = \"Huisserie Banchée\",RELEVE_COTES!$M95,IF(RELEVE_COTES!$I$20 = \"Bâti Scellé\",RELEVE_COTES!$O95,\"\")))","v":""},null,{"$f":"VLOOKUP(RELEVE_COTES!$K$11,TabSerrureRef[],3,FALSE)","v":{"$error":"#N/A"}},{"$f":"VLOOKUP(RELEVE_COTES!$K$11,TabSerrureRef[],6,FALSE)","v":{"$error":"#N/A"}}]
[{"$error":"#VALUE!"},{"$error":"#VALUE!"},{"$f":"IF(RELEVE_COTES!$A96<>\"\",SUBSTITUTE(SUBSTITUTE(SUBSTITUTE(SUBSTITUTE(SUBSTITUTE(SUBSTITUTE(SUBSTITUTE(SUBSTITUTE(RELEVE_COTES!$A96,\" \",\"\"),\"-\",\"/\"),\".\",\"/\"),\"\\\",\"/\"),\",\",\"/\"),\"+\",\"_\"),\"&\",\"_\"),\"*\",\"/\"),\"\")","v":""},{"$f":"RELEVE_COTES!$B96","v":0},1,{"$f":"IF(RELEVE_COTES!C96<>\"\",SUBSTITUTE(SUBSTITUTE(SUBSTITUTE(SUBSTITUTE(SUBSTITUTE(SUBSTITUTE(SUBSTITUTE(SUBSTITUTE(RELEVE_COTES!C96,\" \",\"\"),\"-\",\"\"),\".\",\",\"),\"\\\",\"\"),\",\",\",\"),\"+\",\"\"),\"&\",\"\"),\"*\",\"\"),\"\")","v":""},{"$f":"IF(RELEVE_COTES!D96<>\"\",SUBSTITUTE(SUBSTITUTE(SUBSTITUTE(SUBSTITUTE(SUBSTITUTE(SUBSTITUTE(SUBSTITUTE(SUBSTITUTE(RELEVE_COTES!D96,\" \",\"\"),\"-\",\"\"),\".\",\",\"),\"\\\",\"\"),\",\",\",\"),\"+\",\"\"),\"&\",\"\"),\"*\",\"\"),\"\")","v":""},{"$f":"IF(RELEVE_COTES!E96<>\"\",SUBSTITUTE(SUBSTITUTE(SUBSTITUTE(SUBSTITUTE(SUBSTITUTE(SUBSTITUTE(SUBSTITUTE(SUBSTITUTE(RELEVE_COTES!E96,\" \",\"\"),\"-\",\"\"),\".\",\",\"),\"\\\",\"\"),\",\",\",\"),\"+\",\"\"),\"&\",\"\"),\"*\",\"\"),\"\")","v":""},{"$f":"IF(RELEVE_COTES!F96<>\"\",SUBSTITUTE(SUBSTITUTE(SUBSTITUTE(SUBSTITUTE(SUBSTITUTE(SUBSTITUTE(SUBSTITUTE(SUBSTITUTE(RELEVE_COTES!F96,\" \",\"\"),\"-\",\"\"),\".\",\",\"),\"\\\",\"\"),\",\",\",\"),\"+\",\"\"),\"&\",\"\"),\"*\",\"\"),\"\")","v":""},{"$f":"IF(RELEVE_COTES!G96<>\"\",SUBSTITUTE(SUBSTITUTE(SUBSTITUTE(SUBSTITUTE(SUBSTITUTE(SUBSTITUTE(SUBSTITUTE(SUBSTITUTE(RELEVE_COTES!G96,\" \",\"\"),\"-\",\"\"),\".\",\",\"),\"\\\",\"\"),\",\",\",\"),\"+\",\"\"),\"&\",\"\"),\"*\",\"\"),\"\")","v":""},{"$f":"IF($D48=\"GP\",IF(RELEVE_COTES!$I96=\"\",0,IF(RELEVE_COTES!$I96=\"\",\"\",RELEVE_COTES!$I96)),IF(RELEVE_COTES!$H96=\"\",0,IF(RELEVE_COTES!$H96=\"\",\"\",RELEVE_COTES!$H96)))","v":0},{"$f":"IF($D48=\"GP\",IF(RELEVE_COTES!$H96=\"\",0,IF(RELEVE_COTES!$H96=\"\",\"\",RELEVE_COTES!$H96)),IF(RELEVE_COTES!$I96=\"\",0,IF(RELEVE_COTES!$I96=\"\",\"\",RELEVE_COTES!$I96)))","v":0},{"$f":"IF(RELEVE_COTES!$J96=\"\",0,IF(RELEVE_COTES!$J96=\"\",\"\",RELEVE_COTES!$J96))","v":0},{"$f":"VLOOKUP(RELEVE_COTES!$K96,TabExistantRef1[],2,FALSE)","v":{"$error":"#N/A"}},{"$f":"IF($Y$1=\"BOIS\",RELEVE_COTES!$O96,0)","v":{"$error":"#N/A"}},{"$f":"IF($Y$1=\"BOIS\",RELEVE_COTES!$P96,0)","v":{"$error":"#N/A"}},{"$f":"IF($Y$1=\"BOIS\",RELEVE_COTES!$Q96,0)","v":{"$error":"#N/A"}},{"$error":"#N/A"},{"$f":"IF($Y$1=\"BANCHE\",RELEVE_COTES!$L96,0)","v":{"$error":"#N/A"}},{"$error":"#N/A"},{"$error":"#N/A"},{"$f":"IF($Y$1<>\"BANCHE\",RELEVE_COTES!$L96,0)","v":{"$error":"#N/A"}},{"$f":"IF(AND($Y$1<>\"BANCHE\",RELEVE_COTES!$M96<>\"\"),RELEVE_COTES!$M96,20)","v":{"$error":"#N/A"}},{"$f":"IF($Y$1<>\"BANCHE\",IF(RELEVE_COTES!$N96<>\"\",RELEVE_COTES!$N96,10),0)","v":{"$error":"#N/A"}},{"$f":"IF(RELEVE_COTES!$I$20=\"Huisserie Banchée\",\"Banche\",IF(RELEVE_COTES!$I$20=\"Huisserie Bois\",\"Bois\",IF(RELEVE_COTES!$I$20=\"Bâti Scellé\",\"Bâti Métal.\")))","v":false},{"$f":"RELEVE_COTES!$C$11","v":0},{"$f":"RELEVE_COTES!$K$12","v":0},{"$f":"VLOOKUP(AA48,TabSeuilRef[],2,FALSE)","v":{"$error":"#N/A"}},{"$f":"\"Paumelles \"&RELEVE_COTES!$E$15","v":"Paumelles "},{"$f":"IF(RELEVE_COTES!$K$16<>\"Déporté\",RELEVE_COTES!$K$16,RELEVE_COTES!$K$16&\" / \"&VLOOKUP(RELEVE_COTES!$L$16,TabOptUsSerr[],2,FALSE))","v":"SANS"},{"$f":"RELEVE_COTES!$K$11","v":0},{"$f":"VLOOKUP(RELEVE_COTES!$G$12,TabNuancierVTL[],2,FALSE)&\"/\"&VLOOKUP(RELEVE_COTES!$G$13,TabNuancierVTL[],2,FALSE)","v":{"$error":"#N/A"}},{"$f":"IF(RELEVE_COTES!$E$14=\"Pr.Peint\",\"PP\",VLOOKUP(RELEVE_COTES!$G$14,TabNuancHM[],2,FALSE))","v":"PP"},{"$error":"#N/A"},{"$f":"IF(RELEVE_COTES!$C$11 =\"R32S-R02\",\"OUI\",\"NON\")","v":"NON"},"NON","",{"$f":"IF(AI48=\"OUI\",RELEVE_COTES!$N$16,\"\")","v":""},null,{"$f":"RELEVE_COTES!$E$12&\"/\"&RELEVE_COTES!$E$13","v":" SANS/ SANS"},{"$f":"IF(RELEVE_COTES!$K$15<>\"SANS\",RELEVE_COTES!$L$15&\" \"&RELEVE_COTES!$K$15,\"\")&IF(RELEVE_COTES!$N$15<>\"SANS\",\" / PMR: \"&RELEVE_COTES!$O$15&\" \"&RELEVE_COTES!$N$15,\"\")","v":""},{"$f":"IF(RELEVE_COTES!$K$14 <> \"SANS\",RELEVE_COTES!$O$14&\" \"&RELEVE_COTES!$K$14,\"\")","v":"U+F "},{"$f":"IF(RELEVE_COTES!$K$13 <> \"SANS\",RELEVE_COTES!$O$13&\" \"&RELEVE_COTES!$K$13,\"SANS\")","v":"U+F "},{"$f":"VLOOKUP(RELEVE_COTES!$O$11,TabOptUsSerr[],2,FALSE)","v":"Usinage, fourniture et pose"},{"$f":"INDEX(TabFinition[FINITION],MATCH(VLOOKUP(RELEVE_COTES!$G$12,TabNuancierVTL[],3,FALSE)&VLOOKUP(RELEVE_COTES!$G$13,TabNuancierVTL[],3,FALSE),TabFinition[TYPE EXT]&TabFinition[TYPE INT],0))","v":{"$error":"#N/A"}},"INT",{"$f":"RELEVE_COTES!$E$16","v":"platines + vérins"},"NON",{"$f":"IF(RELEVE_COTES!$I$20 = \"Huisserie Bois\",RELEVE_COTES!$R96,IF(RELEVE_COTES!$I$20 = \"Huisserie Banchée\",RELEVE_COTES!$M96,IF(RELEVE_COTES!$I$20 = \"Bâti Scellé\",RELEVE_COTES!$O96,\"\")))","v":""},null,{"$f":"VLOOKUP(RELEVE_COTES!$K$11,TabSerrureRef[],3,FALSE)","v":{"$error":"#N/A"}},{"$f":"VLOOKUP(RELEVE_COTES!$K$11,TabSerrureRef[],6,FALSE)","v":{"$error":"#N/A"}}]
[{"$error":"#VALUE!"},{"$error":"#VALUE!"},{"$f":"IF(RELEVE_COTES!$A97<>\"\",SUBSTITUTE(SUBSTITUTE(SUBSTITUTE(SUBSTITUTE(SUBSTITUTE(SUBSTITUTE(SUBSTITUTE(SUBSTITUTE(RELEVE_COTES!$A97,\" \",\"\"),\"-\",\"/\"),\".\",\"/\"),\"\\\",\"/\"),\",\",\"/\"),\"+\",\"_\"),\"&\",\"_\"),\"*\",\"/\"),\"\")","v":""},{"$f":"RELEVE_COTES!$B97","v":0},1,{"$f":"IF(RELEVE_COTES!C97<>\"\",SUBSTITUTE(SUBSTITUTE(SUBSTITUTE(SUBSTITUTE(SUBSTITUTE(SUBSTITUTE(SUBSTITUTE(SUBSTITUTE(RELEVE_COTES!C97,\" \",\"\"),\"-\",\"\"),\".\",\",\"),\"\\\",\"\"),\",\",\",\"),\"+\",\"\"),\"&\",\"\"),\"*\",\"\"),\"\")","v":""},{"$f":"IF(RELEVE_COTES!D97<>\"\",SUBSTITUTE(SUBSTITUTE(SUBSTITUTE(SUBSTITUTE(SUBSTITUTE(SUBSTITUTE(SUBSTITUTE(SUBSTITUTE(RELEVE_COTES!D97,\" \",\"\"),\"-\",\"\"),\".\",\",\"),\"\\\",\"\"),\",\",\",\"),\"+\",\"\"),\"&\",\"\"),\"*\",\"\"),\"\")","v":""},{"$f":"IF(RELEVE_COTES!E97<>\"\",SUBSTITUTE(SUBSTITUTE(SUBSTITUTE(SUBSTITUTE(SUBSTITUTE(SUBSTITUTE(SUBSTITUTE(SUBSTITUTE(RELEVE_COTES!E97,\" \",\"\"),\"-\",\"\"),\".\",\",\"),\"\\\",\"\"),\",\",\",\"),\"+\",\"\"),\"&\",\"\"),\"*\",\"\"),\"\")","v":""},{"$f":"IF(RELEVE_COTES!F97<>\"\",SUBSTITUTE(SUBSTITUTE(SUBSTITUTE(SUBSTITUTE(SUBSTITUTE(SUBSTITUTE(SUBSTITUTE(SUBSTITUTE(RELEVE_COTES!F97,\" \",\"\"),\"-\",\"\"),\".\",\",\"),\"\\\",\"\"),\",\",\",\"),\"+\",\"\"),\"&\",\"\"),\"*\",\"\"),\"\")","v":""},{"$f":"IF(RELEVE_COTES!G97<>\"\",SUBSTITUTE(SUBSTITUTE(SUBSTITUTE(SUBSTITUTE(SUBSTITUTE(SUBSTITUTE(SUBSTITUTE(SUBSTITUTE(RELEVE_COTES!G97,\" \",\"\"),\"-\",\"\"),\".\",\",\"),\"\\\",\"\"),\",\",\",\"),\"+\",\"\"),\"&\",\"\"),\"*\",\"\"),\"\")","v":""},{"$f":"IF($D49=\"GP\",IF(RELEVE_COTES!$I97=\"\",0,IF(RELEVE_COTES!$I97=\"\",\"\",RELEVE_COTES!$I97)),IF(RELEVE_COTES!$H97=\"\",0,IF(RELEVE_COTES!$H97=\"\",\"\",RELEVE_COTES!$H97)))","v":0},{"$f":"IF($D49=\"GP\",IF(RELEVE_COTES!$H97=\"\",0,IF(RELEVE_COTES!$H97=\"\",\"\",RELEVE_COTES!$H97)),IF(RELEVE_COTES!$I97=\"\",0,IF(RELEVE_COTES!$I97=\"\",\"\",RELEVE_COTES!$I97)))","v":0},{"$f":"IF(RELEVE_COTES!$J97=\"\",0,IF(RELEVE_COTES!$J97=\"\",\"\",RELEVE_COTES!$J97))","v":0},{"$f":"VLOOKUP(RELEVE_COTES!$K97,TabExistantRef1[],2,FALSE)","v":{"$error":"#N/A"}},{"$f":"IF($Y$1=\"BOIS\",RELEVE_COTES!$O97,0)","v":{"$error":"#N/A"}},{"$f":"IF($Y$1=\"BOIS\",RELEVE_COTES!$P97,0)","v":{"$error":"#N/A"}},{"$f":"IF($Y$1=\"BOIS\",RELEVE_COTES!$Q97,0)","v":{"$error":"#N/A"}},{"$error":"#N/A"},{"$f":"IF($Y$1=\"BANCHE\",RELEVE_COTES!$L97,0)","v":{"$error":"#N/A"}},{"$error":"#N/A"},{"$error":"#N/A"},{"$f":"IF($Y$1<>\"BANCHE\",RELEVE_COTES!$L97,0)","v":{"$error":"#N/A"}},{"$f":"IF(AND($Y$1<>\"BANCHE\",RELEVE_COTES!$M97<>\"\"),RELEVE_COTES!$M97,20)","v":{"$error":"#N/A"}},{"$f":"IF($Y$1<>\"BANCHE\",IF(RELEVE_COTES!$N97<>\"\",RELEVE_COTES!$N97,10),0)","v":{"$error":"#N/A"}},{"$f":"IF(RELEVE_COTES!$I$20=\"Huisserie Banchée\",\"Banche\",IF(RELEVE_COTES!$I$20=\"Huisserie Bois\",\"Bois\",IF(RELEVE_COTES!$I$20=\"Bâti Scellé\",\"Bâti Métal.\")))","v":false},{"$f":"RELEVE_COTES!$C$11","v":0},{"$f":"RELEVE_COTES!$K$12","v":0},{"$f":"VLOOKUP(AA49,TabSeuilRef[],2,FALSE)","v":{"$error":"#N/A"}},{"$f":"\"Paumelles \"&RELEVE_COTES!$E$15","v":"Paumelles "},{"$f":"IF(RELEVE_COTES!$K$16<>\"Déporté\",RELEVE_COTES!$K$16,RELEVE_COTES!$K$16&\" / \"&VLOOKUP(RELEVE_COTES!$L$16,TabOptUsSerr[],2,FALSE))","v":"SANS"},{"$f":"RELEVE_COTES!$K$11","v":0},{"$f":"VLOOKUP(RELEVE_COTES!$G$12,TabNuancierVTL[],2,FALSE)&\"/\"&VLOOKUP(RELEVE_COTES!$G$13,TabNuancierVTL[],2,FALSE)","v":{"$error":"#N/A"}},{"$f":"IF(RELEVE_COTES!$E$14=\"Pr.Peint\",\"PP\",VLOOKUP(RELEVE_COTES!$G$14,TabNuancHM[],2,FALSE))","v":"PP"},{"$error":"#N/A"},{"$f":"IF(RELEVE_COTES!$C$11 =\"R32S-R02\",\"OUI\",\"NON\")","v":"NON"},"NON","",{"$f":"IF(AI49=\"OUI\",RELEVE_COTES!$N$16,\"\")","v":""},null,{"$f":"RELEVE_COTES!$E$12&\"/\"&RELEVE_COTES!$E$13","v":" SANS/ SANS"},{"$f":"IF(RELEVE_COTES!$K$15<>\"SANS\",RELEVE_COTES!$L$15&\" \"&RELEVE_COTES!$K$15,\"\")&IF(RELEVE_COTES!$N$15<>\"SANS\",\" / PMR: \"&RELEVE_COTES!$O$15&\" \"&RELEVE_COTES!$N$15,\"\")","v":""},{"$f":"IF(RELEVE_COTES!$K$14 <> \"SANS\",RELEVE_COTES!$O$14&\" \"&RELEVE_COTES!$K$14,\"\")","v":"U+F "},{"$f":"IF(RELEVE_COTES!$K$13 <> \"SANS\",RELEVE_COTES!$O$13&\" \"&RELEVE_COTES!$K$13,\"SANS\")","v":"U+F "},{"$f":"VLOOKUP(RELEVE_COTES!$O$11,TabOptUsSerr[],2,FALSE)","v":"Usinage, fourniture et pose"},{"$f":"INDEX(TabFinition[FINITION],MATCH(VLOOKUP(RELEVE_COTES!$G$12,TabNuancierVTL[],3,FALSE)&VLOOKUP(RELEVE_COTES!$G$13,TabNuancierVTL[],3,FALSE),TabFinition[TYPE EXT]&TabFinition[TYPE INT],0))","v":{"$error":"#N/A"}},"INT",{"$f":"RELEVE_COTES!$E$16","v":"platines + vérins"},"NON",{"$f":"IF(RELEVE_COTES!$I$20 = \"Huisserie Bois\",RELEVE_COTES!$R97,IF(RELEVE_COTES!$I$20 = \"Huisserie Banchée\",RELEVE_COTES!$M97,IF(RELEVE_COTES!$I$20 = \"Bâti Scellé\",RELEVE_COTES!$O97,\"\")))","v":""},null,{"$f":"VLOOKUP(RELEVE_COTES!$K$11,TabSerrureRef[],3,FALSE)","v":{"$error":"#N/A"}},{"$f":"VLOOKUP(RELEVE_COTES!$K$11,TabSerrureRef[],6,FALSE)","v":{"$error":"#N/A"}}]
[{"$error":"#VALUE!"},{"$error":"#VALUE!"},{"$f":"IF(RELEVE_COTES!$A98<>\"\",SUBSTITUTE(SUBSTITUTE(SUBSTITUTE(SUBSTITUTE(SUBSTITUTE(SUBSTITUTE(SUBSTITUTE(SUBSTITUTE(RELEVE_COTES!$A98,\" \",\"\"),\"-\",\"/\"),\".\",\"/\"),\"\\\",\"/\"),\",\",\"/\"),\"+\",\"_\"),\"&\",\"_\"),\"*\",\"/\"),\"\")","v":""},{"$f":"RELEVE_COTES!$B98","v":0},1,{"$f":"IF(RELEVE_COTES!C98<>\"\",SUBSTITUTE(SUBSTITUTE(SUBSTITUTE(SUBSTITUTE(SUBSTITUTE(SUBSTITUTE(SUBSTITUTE(SUBSTITUTE(RELEVE_COTES!C98,\" \",\"\"),\"-\",\"\"),\".\",\",\"),\"\\\",\"\"),\",\",\",\"),\"+\",\"\"),\"&\",\"\"),\"*\",\"\"),\"\")","v":""},{"$f":"IF(RELEVE_COTES!D98<>\"\",SUBSTITUTE(SUBSTITUTE(SUBSTITUTE(SUBSTITUTE(SUBSTITUTE(SUBSTITUTE(SUBSTITUTE(SUBSTITUTE(RELEVE_COTES!D98,\" \",\"\"),\"-\",\"\"),\".\",\",\"),\"\\\",\"\"),\",\",\",\"),\"+\",\"\"),\"&\",\"\"),\"*\",\"\"),\"\")","v":""},{"$f":"IF(RELEVE_COTES!E98<>\"\",SUBSTITUTE(SUBSTITUTE(SUBSTITUTE(SUBSTITUTE(SUBSTITUTE(SUBSTITUTE(SUBSTITUTE(SUBSTITUTE(RELEVE_COTES!E98,\" \",\"\"),\"-\",\"\"),\".\",\",\"),\"\\\",\"\"),\",\",\",\"),\"+\",\"\"),\"&\",\"\"),\"*\",\"\"),\"\")","v":""},{"$f":"IF(RELEVE_COTES!F98<>\"\",SUBSTITUTE(SUBSTITUTE(SUBSTITUTE(SUBSTITUTE(SUBSTITUTE(SUBSTITUTE(SUBSTITUTE(SUBSTITUTE(RELEVE_COTES!F98,\" \",\"\"),\"-\",\"\"),\".\",\",\"),\"\\\",\"\"),\",\",\",\"),\"+\",\"\"),\"&\",\"\"),\"*\",\"\"),\"\")","v":""},{"$f":"IF(RELEVE_COTES!G98<>\"\",SUBSTITUTE(SUBSTITUTE(SUBSTITUTE(SUBSTITUTE(SUBSTITUTE(SUBSTITUTE(SUBSTITUTE(SUBSTITUTE(RELEVE_COTES!G98,\" \",\"\"),\"-\",\"\"),\".\",\",\"),\"\\\",\"\"),\",\",\",\"),\"+\",\"\"),\"&\",\"\"),\"*\",\"\"),\"\")","v":""},{"$f":"IF($D50=\"GP\",IF(RELEVE_COTES!$I98=\"\",0,IF(RELEVE_COTES!$I98=\"\",\"\",RELEVE_COTES!$I98)),IF(RELEVE_COTES!$H98=\"\",0,IF(RELEVE_COTES!$H98=\"\",\"\",RELEVE_COTES!$H98)))","v":0},{"$f":"IF($D50=\"GP\",IF(RELEVE_COTES!$H98=\"\",0,IF(RELEVE_COTES!$H98=\"\",\"\",RELEVE_COTES!$H98)),IF(RELEVE_COTES!$I98=\"\",0,IF(RELEVE_COTES!$I98=\"\",\"\",RELEVE_COTES!$I98)))","v":0},{"$f":"IF(RELEVE_COTES!$J98=\"\",0,IF(RELEVE_COTES!$J98=\"\",\"\",RELEVE_COTES!$J98))","v":0},{"$f":"VLOOKUP(RELEVE_COTES!$K98,TabExistantRef1[],2,FALSE)","v":{"$error":"#N/A"}},{"$f":"IF($Y$1=\"BOIS\",RELEVE_COTES!$O98,0)","v":{"$error":"#N/A"}},{"$f":"IF($Y$1=\"BOIS\",RELEVE_COTES!$P98,0)","v":{"$error":"#N/A"}},{"$f":"IF($Y$1=\"BOIS\",RELEVE_COTES!$Q98,0)","v":{"$error":"#N/A"}},{"$error":"#N/A"},{"$f":"IF($Y$1=\"BANCHE\",RELEVE_COTES!$L98,0)","v":{"$error":"#N/A"}},{"$error":"#N/A"},{"$error":"#N/A"},{"$f":"IF($Y$1<>\"BANCHE\",RELEVE_COTES!$L98,0)","v":{"$error":"#N/A"}},{"$f":"IF(AND($Y$1<>\"BANCHE\",RELEVE_COTES!$M98<>\"\"),RELEVE_COTES!$M98,20)","v":{"$error":"#N/A"}},{"$f":"IF($Y$1<>\"BANCHE\",IF(RELEVE_COTES!$N98<>\"\",RELEVE_COTES!$N98,10),0)","v":{"$error":"#N/A"}},{"$f":"IF(RELEVE_COTES!$I$20=\"Huisserie Banchée\",\"Banche\",IF(RELEVE_COTES!$I$20=\"Huisserie Bois\",\"Bois\",IF(RELEVE_COTES!$I$20=\"Bâti Scellé\",\"Bâti Métal.\")))","v":false},{"$f":"RELEVE_COTES!$C$11","v":0},{"$f":"RELEVE_COTES!$K$12","v":0},{"$f":"VLOOKUP(AA50,TabSeuilRef[],2,FALSE)","v":{"$error":"#N/A"}},{"$f":"\"Paumelles \"&RELEVE_COTES!$E$15","v":"Paumelles "},{"$f":"IF(RELEVE_COTES!$K$16<>\"Déporté\",RELEVE_COTES!$K$16,RELEVE_COTES!$K$16&\" / \"&VLOOKUP(RELEVE_COTES!$L$16,TabOptUsSerr[],2,FALSE))","v":"SANS"},{"$f":"RELEVE_COTES!$K$11","v":0},{"$f":"VLOOKUP(RELEVE_COTES!$G$12,TabNuancierVTL[],2,FALSE)&\"/\"&VLOOKUP(RELEVE_COTES!$G$13,TabNuancierVTL[],2,FALSE)","v":{"$error":"#N/A"}},{"$f":"IF(RELEVE_COTES!$E$14=\"Pr.Peint\",\"PP\",VLOOKUP(RELEVE_COTES!$G$14,TabNuancHM[],2,FALSE))","v":"PP"},{"$error":"#N/A"},{"$f":"IF(RELEVE_COTES!$C$11 =\"R32S-R02\",\"OUI\",\"NON\")","v":"NON"},"NON","",{"$f":"IF(AI50=\"OUI\",RELEVE_COTES!$N$16,\"\")","v":""},null,{"$f":"RELEVE_COTES!$E$12&\"/\"&RELEVE_COTES!$E$13","v":" SANS/ SANS"},{"$f":"IF(RELEVE_COTES!$K$15<>\"SANS\",RELEVE_COTES!$L$15&\" \"&RELEVE_COTES!$K$15,\"\")&IF(RELEVE_COTES!$N$15<>\"SANS\",\" / PMR: \"&RELEVE_COTES!$O$15&\" \"&RELEVE_COTES!$N$15,\"\")","v":""},{"$f":"IF(RELEVE_COTES!$K$14 <> \"SANS\",RELEVE_COTES!$O$14&\" \"&RELEVE_COTES!$K$14,\"\")","v":"U+F "},{"$f":"IF(RELEVE_COTES!$K$13 <> \"SANS\",RELEVE_COTES!$O$13&\" \"&RELEVE_COTES!$K$13,\"SANS\")","v":"U+F "},{"$f":"VLOOKUP(RELEVE_COTES!$O$11,TabOptUsSerr[],2,FALSE)","v":"Usinage, fourniture et pose"},{"$f":"INDEX(TabFinition[FINITION],MATCH(VLOOKUP(RELEVE_COTES!$G$12,TabNuancierVTL[],3,FALSE)&VLOOKUP(RELEVE_COTES!$G$13,TabNuancierVTL[],3,FALSE),TabFinition[TYPE EXT]&TabFinition[TYPE INT],0))","v":{"$error":"#N/A"}},"INT",{"$f":"RELEVE_COTES!$E$16","v":"platines + vérins"},"NON",{"$f":"IF(RELEVE_COTES!$I$20 = \"Huisserie Bois\",RELEVE_COTES!$R98,IF(RELEVE_COTES!$I$20 = \"Huisserie Banchée\",RELEVE_COTES!$M98,IF(RELEVE_COTES!$I$20 = \"Bâti Scellé\",RELEVE_COTES!$O98,\"\")))","v":""},null,{"$f":"VLOOKUP(RELEVE_COTES!$K$11,TabSerrureRef[],3,FALSE)","v":{"$error":"#N/A"}},{"$f":"VLOOKUP(RELEVE_COTES!$K$11,TabSerrureRef[],6,FALSE)","v":{"$error":"#N/A"}}]
[{"$error":"#VALUE!"},{"$error":"#VALUE!"},{"$f":"IF(RELEVE_COTES!$A99<>\"\",SUBSTITUTE(SUBSTITUTE(SUBSTITUTE(SUBSTITUTE(SUBSTITUTE(SUBSTITUTE(SUBSTITUTE(SUBSTITUTE(RELEVE_COTES!$A99,\" \",\"\"),\"-\",\"/\"),\".\",\"/\"),\"\\\",\"/\"),\",\",\"/\"),\"+\",\"_\"),\"&\",\"_\"),\"*\",\"/\"),\"\")","v":""},{"$f":"RELEVE_COTES!$B99","v":0},1,{"$f":"IF(RELEVE_COTES!C99<>\"\",SUBSTITUTE(SUBSTITUTE(SUBSTITUTE(SUBSTITUTE(SUBSTITUTE(SUBSTITUTE(SUBSTITUTE(SUBSTITUTE(RELEVE_COTES!C99,\" \",\"\"),\"-\",\"\"),\".\",\",\"),\"\\\",\"\"),\",\",\",\"),\"+\",\"\"),\"&\",\"\"),\"*\",\"\"),\"\")","v":""},{"$f":"IF(RELEVE_COTES!D99<>\"\",SUBSTITUTE(SUBSTITUTE(SUBSTITUTE(SUBSTITUTE(SUBSTITUTE(SUBSTITUTE(SUBSTITUTE(SUBSTITUTE(RELEVE_COTES!D99,\" \",\"\"),\"-\",\"\"),\".\",\",\"),\"\\\",\"\"),\",\",\",\"),\"+\",\"\"),\"&\",\"\"),\"*\",\"\"),\"\")","v":""},{"$f":"IF(RELEVE_COTES!E99<>\"\",SUBSTITUTE(SUBSTITUTE(SUBSTITUTE(SUBSTITUTE(SUBSTITUTE(SUBSTITUTE(SUBSTITUTE(SUBSTITUTE(RELEVE_COTES!E99,\" \",\"\"),\"-\",\"\"),\".\",\",\"),\"\\\",\"\"),\",\",\",\"),\"+\",\"\"),\"&\",\"\"),\"*\",\"\"),\"\")","v":""},{"$f":"IF(RELEVE_COTES!F99<>\"\",SUBSTITUTE(SUBSTITUTE(SUBSTITUTE(SUBSTITUTE(SUBSTITUTE(SUBSTITUTE(SUBSTITUTE(SUBSTITUTE(RELEVE_COTES!F99,\" \",\"\"),\"-\",\"\"),\".\",\",\"),\"\\\",\"\"),\",\",\",\"),\"+\",\"\"),\"&\",\"\"),\"*\",\"\"),\"\")","v":""},{"$f":"IF(RELEVE_COTES!G99<>\"\",SUBSTITUTE(SUBSTITUTE(SUBSTITUTE(SUBSTITUTE(SUBSTITUTE(SUBSTITUTE(SUBSTITUTE(SUBSTITUTE(RELEVE_COTES!G99,\" \",\"\"),\"-\",\"\"),\".\",\",\"),\"\\\",\"\"),\",\",\",\"),\"+\",\"\"),\"&\",\"\"),\"*\",\"\"),\"\")","v":""},{"$f":"IF($D51=\"GP\",IF(RELEVE_COTES!$I99=\"\",0,IF(RELEVE_COTES!$I99=\"\",\"\",RELEVE_COTES!$I99)),IF(RELEVE_COTES!$H99=\"\",0,IF(RELEVE_COTES!$H99=\"\",\"\",RELEVE_COTES!$H99)))","v":0},{"$f":"IF($D51=\"GP\",IF(RELEVE_COTES!$H99=\"\",0,IF(RELEVE_COTES!$H99=\"\",\"\",RELEVE_COTES!$H99)),IF(RELEVE_COTES!$I99=\"\",0,IF(RELEVE_COTES!$I99=\"\",\"\",RELEVE_COTES!$I99)))","v":0},{"$f":"IF(RELEVE_COTES!$J99=\"\",0,IF(RELEVE_COTES!$J99=\"\",\"\",RELEVE_COTES!$J99))","v":0},{"$f":"VLOOKUP(RELEVE_COTES!$K99,TabExistantRef1[],2,FALSE)","v":{"$error":"#N/A"}},{"$f":"IF($Y$1=\"BOIS\",RELEVE_COTES!$O99,0)","v":{"$error":"#N/A"}},{"$f":"IF($Y$1=\"BOIS\",RELEVE_COTES!$P99,0)","v":{"$error":"#N/A"}},{"$f":"IF($Y$1=\"BOIS\",RELEVE_COTES!$Q99,0)","v":{"$error":"#N/A"}},{"$error":"#N/A"},{"$f":"IF($Y$1=\"BANCHE\",RELEVE_COTES!$L99,0)","v":{"$error":"#N/A"}},{"$error":"#N/A"},{"$error":"#N/A"},{"$f":"IF($Y$1<>\"BANCHE\",RELEVE_COTES!$L99,0)","v":{"$error":"#N/A"}},{"$f":"IF(AND($Y$1<>\"BANCHE\",RELEVE_COTES!$M99<>\"\"),RELEVE_COTES!$M99,20)","v":{"$error":"#N/A"}},{"$f":"IF($Y$1<>\"BANCHE\",IF(RELEVE_COTES!$N99<>\"\",RELEVE_COTES!$N99,10),0)","v":{"$error":"#N/A"}},{"$f":"IF(RELEVE_COTES!$I$20=\"Huisserie Banchée\",\"Banche\",IF(RELEVE_COTES!$I$20=\"Huisserie Bois\",\"Bois\",IF(RELEVE_COTES!$I$20=\"Bâti Scellé\",\"Bâti Métal.\")))","v":false},{"$f":"RELEVE_COTES!$C$11","v":0},{"$f":"RELEVE_COTES!$K$12","v":0},{"$f":"VLOOKUP(AA51,TabSeuilRef[],2,FALSE)","v":{"$error":"#N/A"}},{"$f":"\"Paumelles \"&RELEVE_COTES!$E$15","v":"Paumelles "},{"$f":"IF(RELEVE_COTES!$K$16<>\"Déporté\",RELEVE_COTES!$K$16,RELEVE_COTES!$K$16&\" / \"&VLOOKUP(RELEVE_COTES!$L$16,TabOptUsSerr[],2,FALSE))","v":"SANS"},{"$f":"RELEVE_COTES!$K$11","v":0},{"$f":"VLOOKUP(RELEVE_COTES!$G$12,TabNuancierVTL[],2,FALSE)&\"/\"&VLOOKUP(RELEVE_COTES!$G$13,TabNuancierVTL[],2,FALSE)","v":{"$error":"#N/A"}},{"$f":"IF(RELEVE_COTES!$E$14=\"Pr.Peint\",\"PP\",VLOOKUP(RELEVE_COTES!$G$14,TabNuancHM[],2,FALSE))","v":"PP"},{"$error":"#N/A"},{"$f":"IF(RELEVE_COTES!$C$11 =\"R32S-R02\",\"OUI\",\"NON\")","v":"NON"},"NON","",{"$f":"IF(AI51=\"OUI\",RELEVE_COTES!$N$16,\"\")","v":""},null,{"$f":"RELEVE_COTES!$E$12&\"/\"&RELEVE_COTES!$E$13","v":" SANS/ SANS"},{"$f":"IF(RELEVE_COTES!$K$15<>\"SANS\",RELEVE_COTES!$L$15&\" \"&RELEVE_COTES!$K$15,\"\")&IF(RELEVE_COTES!$N$15<>\"SANS\",\" / PMR: \"&RELEVE_COTES!$O$15&\" \"&RELEVE_COTES!$N$15,\"\")","v":""},{"$f":"IF(RELEVE_COTES!$K$14 <> \"SANS\",RELEVE_COTES!$O$14&\" \"&RELEVE_COTES!$K$14,\"\")","v":"U+F "},{"$f":"IF(RELEVE_COTES!$K$13 <> \"SANS\",RELEVE_COTES!$O$13&\" \"&RELEVE_COTES!$K$13,\"SANS\")","v":"U+F "},{"$f":"VLOOKUP(RELEVE_COTES!$O$11,TabOptUsSerr[],2,FALSE)","v":"Usinage, fourniture et pose"},{"$f":"INDEX(TabFinition[FINITION],MATCH(VLOOKUP(RELEVE_COTES!$G$12,TabNuancierVTL[],3,FALSE)&VLOOKUP(RELEVE_COTES!$G$13,TabNuancierVTL[],3,FALSE),TabFinition[TYPE EXT]&TabFinition[TYPE INT],0))","v":{"$error":"#N/A"}},"INT",{"$f":"RELEVE_COTES!$E$16","v":"platines + vérins"},"NON",{"$f":"IF(RELEVE_COTES!$I$20 = \"Huisserie Bois\",RELEVE_COTES!$R99,IF(RELEVE_COTES!$I$20 = \"Huisserie Banchée\",RELEVE_COTES!$M99,IF(RELEVE_COTES!$I$20 = \"Bâti Scellé\",RELEVE_COTES!$O99,\"\")))","v":""},null,{"$f":"VLOOKUP(RELEVE_COTES!$K$11,TabSerrureRef[],3,FALSE)","v":{"$error":"#N/A"}},{"$f":"VLOOKUP(RELEVE_COTES!$K$11,TabSerrureRef[],6,FALSE)","v":{"$error":"#N/A"}}]
[{"$error":"#VALUE!"},{"$error":"#VALUE!"},{"$f":"IF(RELEVE_COTES!$A100<>\"\",SUBSTITUTE(SUBSTITUTE(SUBSTITUTE(SUBSTITUTE(SUBSTITUTE(SUBSTITUTE(SUBSTITUTE(SUBSTITUTE(RELEVE_COTES!$A100,\" \",\"\"),\"-\",\"/\"),\".\",\"/\"),\"\\\",\"/\"),\",\",\"/\"),\"+\",\"_\"),\"&\",\"_\"),\"*\",\"/\"),\"\")","v":""},{"$f":"RELEVE_COTES!$B100","v":0},1,{"$f":"IF(RELEVE_COTES!C100<>\"\",SUBSTITUTE(SUBSTITUTE(SUBSTITUTE(SUBSTITUTE(SUBSTITUTE(SUBSTITUTE(SUBSTITUTE(SUBSTITUTE(RELEVE_COTES!C100,\" \",\"\"),\"-\",\"\"),\".\",\",\"),\"\\\",\"\"),\",\",\",\"),\"+\",\"\"),\"&\",\"\"),\"*\",\"\"),\"\")","v":""},{"$f":"IF(RELEVE_COTES!D100<>\"\",SUBSTITUTE(SUBSTITUTE(SUBSTITUTE(SUBSTITUTE(SUBSTITUTE(SUBSTITUTE(SUBSTITUTE(SUBSTITUTE(RELEVE_COTES!D100,\" \",\"\"),\"-\",\"\"),\".\",\",\"),\"\\\",\"\"),\",\",\",\"),\"+\",\"\"),\"&\",\"\"),\"*\",\"\"),\"\")","v":""},{"$f":"IF(RELEVE_COTES!E100<>\"\",SUBSTITUTE(SUBSTITUTE(SUBSTITUTE(SUBSTITUTE(SUBSTITUTE(SUBSTITUTE(SUBSTITUTE(SUBSTITUTE(RELEVE_COTES!E100,\" \",\"\"),\"-\",\"\"),\".\",\",\"),\"\\\",\"\"),\",\",\",\"),\"+\",\"\"),\"&\",\"\"),\"*\",\"\"),\"\")","v":""},{"$f":"IF(RELEVE_COTES!F100<>\"\",SUBSTITUTE(SUBSTITUTE(SUBSTITUTE(SUBSTITUTE(SUBSTITUTE(SUBSTITUTE(SUBSTITUTE(SUBSTITUTE(RELEVE_COTES!F100,\" \",\"\"),\"-\",\"\"),\".\",\",\"),\"\\\",\"\"),\",\",\",\"),\"+\",\"\"),\"&\",\"\"),\"*\",\"\"),\"\")","v":""},{"$f":"IF(RELEVE_COTES!G100<>\"\",SUBSTITUTE(SUBSTITUTE(SUBSTITUTE(SUBSTITUTE(SUBSTITUTE(SUBSTITUTE(SUBSTITUTE(SUBSTITUTE(RELEVE_COTES!G100,\" \",\"\"),\"-\",\"\"),\".\",\",\"),\"\\\",\"\"),\",\",\",\"),\"+\",\"\"),\"&\",\"\"),\"*\",\"\"),\"\")","v":""},{"$f":"IF($D52=\"GP\",IF(RELEVE_COTES!$I100=\"\",0,IF(RELEVE_COTES!$I100=\"\",\"\",RELEVE_COTES!$I100)),IF(RELEVE_COTES!$H100=\"\",0,IF(RELEVE_COTES!$H100=\"\",\"\",RELEVE_COTES!$H100)))","v":0},{"$f":"IF($D52=\"GP\",IF(RELEVE_COTES!$H100=\"\",0,IF(RELEVE_COTES!$H100=\"\",\"\",RELEVE_COTES!$H100)),IF(RELEVE_COTES!$I100=\"\",0,IF(RELEVE_COTES!$I100=\"\",\"\",RELEVE_COTES!$I100)))","v":0},{"$f":"IF(RELEVE_COTES!$J100=\"\",0,IF(RELEVE_COTES!$J100=\"\",\"\",RELEVE_COTES!$J100))","v":0},{"$f":"VLOOKUP(RELEVE_COTES!$K100,TabExistantRef1[],2,FALSE)","v":{"$error":"#N/A"}},{"$f":"IF($Y$1=\"BOIS\",RELEVE_COTES!$O100,0)","v":{"$error":"#N/A"}},{"$f":"IF($Y$1=\"BOIS\",RELEVE_COTES!$P100,0)","v":{"$error":"#N/A"}},{"$f":"IF($Y$1=\"BOIS\",RELEVE_COTES!$Q100,0)","v":{"$error":"#N/A"}},{"$error":"#N/A"},{"$f":"IF($Y$1=\"BANCHE\",RELEVE_COTES!$L100,0)","v":{"$error":"#N/A"}},{"$error":"#N/A"},{"$error":"#N/A"},{"$f":"IF($Y$1<>\"BANCHE\",RELEVE_COTES!$L100,0)","v":{"$error":"#N/A"}},{"$f":"IF(AND($Y$1<>\"BANCHE\",RELEVE_COTES!$M100<>\"\"),RELEVE_COTES!$M100,20)","v":{"$error":"#N/A"}},{"$f":"IF($Y$1<>\"BANCHE\",IF(RELEVE_COTES!$N100<>\"\",RELEVE_COTES!$N100,10),0)","v":{"$error":"#N/A"}},{"$f":"IF(RELEVE_COTES!$I$20=\"Huisserie Banchée\",\"Banche\",IF(RELEVE_COTES!$I$20=\"Huisserie Bois\",\"Bois\",IF(RELEVE_COTES!$I$20=\"Bâti Scellé\",\"Bâti Métal.\")))","v":false},{"$f":"RELEVE_COTES!$C$11","v":0},{"$f":"RELEVE_COTES!$K$12","v":0},{"$f":"VLOOKUP(AA52,TabSeuilRef[],2,FALSE)","v":{"$error":"#N/A"}},{"$f":"\"Paumelles \"&RELEVE_COTES!$E$15","v":"Paumelles "},{"$f":"IF(RELEVE_COTES!$K$16<>\"Déporté\",RELEVE_COTES!$K$16,RELEVE_COTES!$K$16&\" / \"&VLOOKUP(RELEVE_COTES!$L$16,TabOptUsSerr[],2,FALSE))","v":"SANS"},{"$f":"RELEVE_COTES!$K$11","v":0},{"$f":"VLOOKUP(RELEVE_COTES!$G$12,TabNuancierVTL[],2,FALSE)&\"/\"&VLOOKUP(RELEVE_COTES!$G$13,TabNuancierVTL[],2,FALSE)","v":{"$error":"#N/A"}},{"$f":"IF(RELEVE_COTES!$E$14=\"Pr.Peint\",\"PP\",VLOOKUP(RELEVE_COTES!$G$14,TabNuancHM[],2,FALSE))","v":"PP"},{"$error":"#N/A"},{"$f":"IF(RELEVE_COTES!$C$11 =\"R32S-R02\",\"OUI\",\"NON\")","v":"NON"},"NON","",{"$f":"IF(AI52=\"OUI\",RELEVE_COTES!$N$16,\"\")","v":""},null,{"$f":"RELEVE_COTES!$E$12&\"/\"&RELEVE_COTES!$E$13","v":" SANS/ SANS"},{"$f":"IF(RELEVE_COTES!$K$15<>\"SANS\",RELEVE_COTES!$L$15&\" \"&RELEVE_COTES!$K$15,\"\")&IF(RELEVE_COTES!$N$15<>\"SANS\",\" / PMR: \"&RELEVE_COTES!$O$15&\" \"&RELEVE_COTES!$N$15,\"\")","v":""},{"$f":"IF(RELEVE_COTES!$K$14 <> \"SANS\",RELEVE_COTES!$O$14&\" \"&RELEVE_COTES!$K$14,\"\")","v":"U+F "},{"$f":"IF(RELEVE_COTES!$K$13 <> \"SANS\",RELEVE_COTES!$O$13&\" \"&RELEVE_COTES!$K$13,\"SANS\")","v":"U+F "},{"$f":"VLOOKUP(RELEVE_COTES!$O$11,TabOptUsSerr[],2,FALSE)","v":"Usinage, fourniture et pose"},{"$f":"INDEX(TabFinition[FINITION],MATCH(VLOOKUP(RELEVE_COTES!$G$12,TabNuancierVTL[],3,FALSE)&VLOOKUP(RELEVE_COTES!$G$13,TabNuancierVTL[],3,FALSE),TabFinition[TYPE EXT]&TabFinition[TYPE INT],0))","v":{"$error":"#N/A"}},"INT",{"$f":"RELEVE_COTES!$E$16","v":"platines + vérins"},"NON",{"$f":"IF(RELEVE_COTES!$I$20 = \"Huisserie Bois\",RELEVE_COTES!$R100,IF(RELEVE_COTES!$I$20 = \"Huisserie Banchée\",RELEVE_COTES!$M100,IF(RELEVE_COTES!$I$20 = \"Bâti Scellé\",RELEVE_COTES!$O100,\"\")))","v":""},null,{"$f":"VLOOKUP(RELEVE_COTES!$K$11,TabSerrureRef[],3,FALSE)","v":{"$error":"#N/A"}},{"$f":"VLOOKUP(RELEVE_COTES!$K$11,TabSerrureRef[],6,FALSE)","v":{"$error":"#N/A"}}]
[{"$error":"#VALUE!"},{"$error":"#VALUE!"},{"$f":"IF(RELEVE_COTES!$A101<>\"\",SUBSTITUTE(SUBSTITUTE(SUBSTITUTE(SUBSTITUTE(SUBSTITUTE(SUBSTITUTE(SUBSTITUTE(SUBSTITUTE(RELEVE_COTES!$A101,\" \",\"\"),\"-\",\"/\"),\".\",\"/\"),\"\\\",\"/\"),\",\",\"/\"),\"+\",\"_\"),\"&\",\"_\"),\"*\",\"/\"),\"\")","v":""},{"$f":"RELEVE_COTES!$B101","v":0},1,{"$f":"IF(RELEVE_COTES!C101<>\"\",SUBSTITUTE(SUBSTITUTE(SUBSTITUTE(SUBSTITUTE(SUBSTITUTE(SUBSTITUTE(SUBSTITUTE(SUBSTITUTE(RELEVE_COTES!C101,\" \",\"\"),\"-\",\"\"),\".\",\",\"),\"\\\",\"\"),\",\",\",\"),\"+\",\"\"),\"&\",\"\"),\"*\",\"\"),\"\")","v":""},{"$f":"IF(RELEVE_COTES!D101<>\"\",SUBSTITUTE(SUBSTITUTE(SUBSTITUTE(SUBSTITUTE(SUBSTITUTE(SUBSTITUTE(SUBSTITUTE(SUBSTITUTE(RELEVE_COTES!D101,\" \",\"\"),\"-\",\"\"),\".\",\",\"),\"\\\",\"\"),\",\",\",\"),\"+\",\"\"),\"&\",\"\"),\"*\",\"\"),\"\")","v":""},{"$f":"IF(RELEVE_COTES!E101<>\"\",SUBSTITUTE(SUBSTITUTE(SUBSTITUTE(SUBSTITUTE(SUBSTITUTE(SUBSTITUTE(SUBSTITUTE(SUBSTITUTE(RELEVE_COTES!E101,\" \",\"\"),\"-\",\"\"),\".\",\",\"),\"\\\",\"\"),\",\",\",\"),\"+\",\"\"),\"&\",\"\"),\"*\",\"\"),\"\")","v":""},{"$f":"IF(RELEVE_COTES!F101<>\"\",SUBSTITUTE(SUBSTITUTE(SUBSTITUTE(SUBSTITUTE(SUBSTITUTE(SUBSTITUTE(SUBSTITUTE(SUBSTITUTE(RELEVE_COTES!F101,\" \",\"\"),\"-\",\"\"),\".\",\",\"),\"\\\",\"\"),\",\",\",\"),\"+\",\"\"),\"&\",\"\"),\"*\",\"\"),\"\")","v":""},{"$f":"IF(RELEVE_COTES!G101<>\"\",SUBSTITUTE(SUBSTITUTE(SUBSTITUTE(SUBSTITUTE(SUBSTITUTE(SUBSTITUTE(SUBSTITUTE(SUBSTITUTE(RELEVE_COTES!G101,\" \",\"\"),\"-\",\"\"),\".\",\",\"),\"\\\",\"\"),\",\",\",\"),\"+\",\"\"),\"&\",\"\"),\"*\",\"\"),\"\")","v":""},{"$f":"IF($D53=\"GP\",IF(RELEVE_COTES!$I101=\"\",0,IF(RELEVE_COTES!$I101=\"\",\"\",RELEVE_COTES!$I101)),IF(RELEVE_COTES!$H101=\"\",0,IF(RELEVE_COTES!$H101=\"\",\"\",RELEVE_COTES!$H101)))","v":0},{"$f":"IF($D53=\"GP\",IF(RELEVE_COTES!$H101=\"\",0,IF(RELEVE_COTES!$H101=\"\",\"\",RELEVE_COTES!$H101)),IF(RELEVE_COTES!$I101=\"\",0,IF(RELEVE_COTES!$I101=\"\",\"\",RELEVE_COTES!$I101)))","v":0},{"$f":"IF(RELEVE_COTES!$J101=\"\",0,IF(RELEVE_COTES!$J101=\"\",\"\",RELEVE_COTES!$J101))","v":0},{"$f":"VLOOKUP(RELEVE_COTES!$K101,TabExistantRef1[],2,FALSE)","v":{"$error":"#N/A"}},{"$f":"IF($Y$1=\"BOIS\",RELEVE_COTES!$O101,0)","v":{"$error":"#N/A"}},{"$f":"IF($Y$1=\"BOIS\",RELEVE_COTES!$P101,0)","v":{"$error":"#N/A"}},{"$f":"IF($Y$1=\"BOIS\",RELEVE_COTES!$Q101,0)","v":{"$error":"#N/A"}},{"$error":"#N/A"},{"$f":"IF($Y$1=\"BANCHE\",RELEVE_COTES!$L101,0)","v":{"$error":"#N/A"}},{"$error":"#N/A"},{"$error":"#N/A"},{"$f":"IF($Y$1<>\"BANCHE\",RELEVE_COTES!$L101,0)","v":{"$error":"#N/A"}},{"$f":"IF(AND($Y$1<>\"BANCHE\",RELEVE_COTES!$M101<>\"\"),RELEVE_COTES!$M101,20)","v":{"$error":"#N/A"}},{"$f":"IF($Y$1<>\"BANCHE\",IF(RELEVE_COTES!$N101<>\"\",RELEVE_COTES!$N101,10),0)","v":{"$error":"#N/A"}},{"$f":"IF(RELEVE_COTES!$I$20=\"Huisserie Banchée\",\"Banche\",IF(RELEVE_COTES!$I$20=\"Huisserie Bois\",\"Bois\",IF(RELEVE_COTES!$I$20=\"Bâti Scellé\",\"Bâti Métal.\")))","v":false},{"$f":"RELEVE_COTES!$C$11","v":0},{"$f":"RELEVE_COTES!$K$12","v":0},{"$f":"VLOOKUP(AA53,TabSeuilRef[],2,FALSE)","v":{"$error":"#N/A"}},{"$f":"\"Paumelles \"&RELEVE_COTES!$E$15","v":"Paumelles "},{"$f":"IF(RELEVE_COTES!$K$16<>\"Déporté\",RELEVE_COTES!$K$16,RELEVE_COTES!$K$16&\" / \"&VLOOKUP(RELEVE_COTES!$L$16,TabOptUsSerr[],2,FALSE))","v":"SANS"},{"$f":"RELEVE_COTES!$K$11","v":0},{"$f":"VLOOKUP(RELEVE_COTES!$G$12,TabNuancierVTL[],2,FALSE)&\"/\"&VLOOKUP(RELEVE_COTES!$G$13,TabNuancierVTL[],2,FALSE)","v":{"$error":"#N/A"}},{"$f":"IF(RELEVE_COTES!$E$14=\"Pr.Peint\",\"PP\",VLOOKUP(RELEVE_COTES!$G$14,TabNuancHM[],2,FALSE))","v":"PP"},{"$error":"#N/A"},{"$f":"IF(RELEVE_COTES!$C$11 =\"R32S-R02\",\"OUI\",\"NON\")","v":"NON"},"NON","",{"$f":"IF(AI53=\"OUI\",RELEVE_COTES!$N$16,\"\")","v":""},null,{"$f":"RELEVE_COTES!$E$12&\"/\"&RELEVE_COTES!$E$13","v":" SANS/ SANS"},{"$f":"IF(RELEVE_COTES!$K$15<>\"SANS\",RELEVE_COTES!$L$15&\" \"&RELEVE_COTES!$K$15,\"\")&IF(RELEVE_COTES!$N$15<>\"SANS\",\" / PMR: \"&RELEVE_COTES!$O$15&\" \"&RELEVE_COTES!$N$15,\"\")","v":""},{"$f":"IF(RELEVE_COTES!$K$14 <> \"SANS\",RELEVE_COTES!$O$14&\" \"&RELEVE_COTES!$K$14,\"\")","v":"U+F "},{"$f":"IF(RELEVE_COTES!$K$13 <> \"SANS\",RELEVE_COTES!$O$13&\" \"&RELEVE_COTES!$K$13,\"SANS\")","v":"U+F "},{"$f":"VLOOKUP(RELEVE_COTES!$O$11,TabOptUsSerr[],2,FALSE)","v":"Usinage, fourniture et pose"},{"$f":"INDEX(TabFinition[FINITION],MATCH(VLOOKUP(RELEVE_COTES!$G$12,TabNuancierVTL[],3,FALSE)&VLOOKUP(RELEVE_COTES!$G$13,TabNuancierVTL[],3,FALSE),TabFinition[TYPE EXT]&TabFinition[TYPE INT],0))","v":{"$error":"#N/A"}},"INT",{"$f":"RELEVE_COTES!$E$16","v":"platines + vérins"},"NON",{"$f":"IF(RELEVE_COTES!$I$20 = \"Huisserie Bois\",RELEVE_COTES!$R101,IF(RELEVE_COTES!$I$20 = \"Huisserie Banchée\",RELEVE_COTES!$M101,IF(RELEVE_COTES!$I$20 = \"Bâti Scellé\",RELEVE_COTES!$O101,\"\")))","v":""},null,{"$f":"VLOOKUP(RELEVE_COTES!$K$11,TabSerrureRef[],3,FALSE)","v":{"$error":"#N/A"}},{"$f":"VLOOKUP(RELEVE_COTES!$K$11,TabSerrureRef[],6,FALSE)","v":{"$error":"#N/A"}}]
[{"$error":"#VALUE!"},{"$error":"#VALUE!"},{"$f":"IF(RELEVE_COTES!$A102<>\"\",SUBSTITUTE(SUBSTITUTE(SUBSTITUTE(SUBSTITUTE(SUBSTITUTE(SUBSTITUTE(SUBSTITUTE(SUBSTITUTE(RELEVE_COTES!$A102,\" \",\"\"),\"-\",\"/\"),\".\",\"/\"),\"\\\",\"/\"),\",\",\"/\"),\"+\",\"_\"),\"&\",\"_\"),\"*\",\"/\"),\"\")","v":""},{"$f":"RELEVE_COTES!$B102","v":0},1,{"$f":"IF(RELEVE_COTES!C102<>\"\",SUBSTITUTE(SUBSTITUTE(SUBSTITUTE(SUBSTITUTE(SUBSTITUTE(SUBSTITUTE(SUBSTITUTE(SUBSTITUTE(RELEVE_COTES!C102,\" \",\"\"),\"-\",\"\"),\".\",\",\"),\"\\\",\"\"),\",\",\",\"),\"+\",\"\"),\"&\",\"\"),\"*\",\"\"),\"\")","v":""},{"$f":"IF(RELEVE_COTES!D102<>\"\",SUBSTITUTE(SUBSTITUTE(SUBSTITUTE(SUBSTITUTE(SUBSTITUTE(SUBSTITUTE(SUBSTITUTE(SUBSTITUTE(RELEVE_COTES!D102,\" \",\"\"),\"-\",\"\"),\".\",\",\"),\"\\\",\"\"),\",\",\",\"),\"+\",\"\"),\"&\",\"\"),\"*\",\"\"),\"\")","v":""},{"$f":"IF(RELEVE_COTES!E102<>\"\",SUBSTITUTE(SUBSTITUTE(SUBSTITUTE(SUBSTITUTE(SUBSTITUTE(SUBSTITUTE(SUBSTITUTE(SUBSTITUTE(RELEVE_COTES!E102,\" \",\"\"),\"-\",\"\"),\".\",\",\"),\"\\\",\"\"),\",\",\",\"),\"+\",\"\"),\"&\",\"\"),\"*\",\"\"),\"\")","v":""},{"$f":"IF(RELEVE_COTES!F102<>\"\",SUBSTITUTE(SUBSTITUTE(SUBSTITUTE(SUBSTITUTE(SUBSTITUTE(SUBSTITUTE(SUBSTITUTE(SUBSTITUTE(RELEVE_COTES!F102,\" \",\"\"),\"-\",\"\"),\".\",\",\"),\"\\\",\"\"),\",\",\",\"),\"+\",\"\"),\"&\",\"\"),\"*\",\"\"),\"\")","v":""},{"$f":"IF(RELEVE_COTES!G102<>\"\",SUBSTITUTE(SUBSTITUTE(SUBSTITUTE(SUBSTITUTE(SUBSTITUTE(SUBSTITUTE(SUBSTITUTE(SUBSTITUTE(RELEVE_COTES!G102,\" \",\"\"),\"-\",\"\"),\".\",\",\"),\"\\\",\"\"),\",\",\",\"),\"+\",\"\"),\"&\",\"\"),\"*\",\"\"),\"\")","v":""},{"$f":"IF($D54=\"GP\",IF(RELEVE_COTES!$I102=\"\",0,IF(RELEVE_COTES!$I102=\"\",\"\",RELEVE_COTES!$I102)),IF(RELEVE_COTES!$H102=\"\",0,IF(RELEVE_COTES!$H102=\"\",\"\",RELEVE_COTES!$H102)))","v":0},{"$f":"IF($D54=\"GP\",IF(RELEVE_COTES!$H102=\"\",0,IF(RELEVE_COTES!$H102=\"\",\"\",RELEVE_COTES!$H102)),IF(RELEVE_COTES!$I102=\"\",0,IF(RELEVE_COTES!$I102=\"\",\"\",RELEVE_COTES!$I102)))","v":0},{"$f":"IF(RELEVE_COTES!$J102=\"\",0,IF(RELEVE_COTES!$J102=\"\",\"\",RELEVE_COTES!$J102))","v":0},{"$f":"VLOOKUP(RELEVE_COTES!$K102,TabExistantRef1[],2,FALSE)","v":{"$error":"#N/A"}},{"$f":"IF($Y$1=\"BOIS\",RELEVE_COTES!$O102,0)","v":{"$error":"#N/A"}},{"$f":"IF($Y$1=\"BOIS\",RELEVE_COTES!$P102,0)","v":{"$error":"#N/A"}},{"$f":"IF($Y$1=\"BOIS\",RELEVE_COTES!$Q102,0)","v":{"$error":"#N/A"}},{"$error":"#N/A"},{"$f":"IF($Y$1=\"BANCHE\",RELEVE_COTES!$L102,0)","v":{"$error":"#N/A"}},{"$error":"#N/A"},{"$error":"#N/A"},{"$f":"IF($Y$1<>\"BANCHE\",RELEVE_COTES!$L102,0)","v":{"$error":"#N/A"}},{"$f":"IF(AND($Y$1<>\"BANCHE\",RELEVE_COTES!$M102<>\"\"),RELEVE_COTES!$M102,20)","v":{"$error":"#N/A"}},{"$f":"IF($Y$1<>\"BANCHE\",IF(RELEVE_COTES!$N102<>\"\",RELEVE_COTES!$N102,10),0)","v":{"$error":"#N/A"}},{"$f":"IF(RELEVE_COTES!$I$20=\"Huisserie Banchée\",\"Banche\",IF(RELEVE_COTES!$I$20=\"Huisserie Bois\",\"Bois\",IF(RELEVE_COTES!$I$20=\"Bâti Scellé\",\"Bâti Métal.\")))","v":false},{"$f":"RELEVE_COTES!$C$11","v":0},{"$f":"RELEVE_COTES!$K$12","v":0},{"$f":"VLOOKUP(AA54,TabSeuilRef[],2,FALSE)","v":{"$error":"#N/A"}},{"$f":"\"Paumelles \"&RELEVE_COTES!$E$15","v":"Paumelles "},{"$f":"IF(RELEVE_COTES!$K$16<>\"Déporté\",RELEVE_COTES!$K$16,RELEVE_COTES!$K$16&\" / \"&VLOOKUP(RELEVE_COTES!$L$16,TabOptUsSerr[],2,FALSE))","v":"SANS"},{"$f":"RELEVE_COTES!$K$11","v":0},{"$f":"VLOOKUP(RELEVE_COTES!$G$12,TabNuancierVTL[],2,FALSE)&\"/\"&VLOOKUP(RELEVE_COTES!$G$13,TabNuancierVTL[],2,FALSE)","v":{"$error":"#N/A"}},{"$f":"IF(RELEVE_COTES!$E$14=\"Pr.Peint\",\"PP\",VLOOKUP(RELEVE_COTES!$G$14,TabNuancHM[],2,FALSE))","v":"PP"},{"$error":"#N/A"},{"$f":"IF(RELEVE_COTES!$C$11 =\"R32S-R02\",\"OUI\",\"NON\")","v":"NON"},"NON","",{"$f":"IF(AI54=\"OUI\",RELEVE_COTES!$N$16,\"\")","v":""},null,{"$f":"RELEVE_COTES!$E$12&\"/\"&RELEVE_COTES!$E$13","v":" SANS/ SANS"},{"$f":"IF(RELEVE_COTES!$K$15<>\"SANS\",RELEVE_COTES!$L$15&\" \"&RELEVE_COTES!$K$15,\"\")&IF(RELEVE_COTES!$N$15<>\"SANS\",\" / PMR: \"&RELEVE_COTES!$O$15&\" \"&RELEVE_COTES!$N$15,\"\")","v":""},{"$f":"IF(RELEVE_COTES!$K$14 <> \"SANS\",RELEVE_COTES!$O$14&\" \"&RELEVE_COTES!$K$14,\"\")","v":"U+F "},{"$f":"IF(RELEVE_COTES!$K$13 <> \"SANS\",RELEVE_COTES!$O$13&\" \"&RELEVE_COTES!$K$13,\"SANS\")","v":"U+F "},{"$f":"VLOOKUP(RELEVE_COTES!$O$11,TabOptUsSerr[],2,FALSE)","v":"Usinage, fourniture et pose"},{"$f":"INDEX(TabFinition[FINITION],MATCH(VLOOKUP(RELEVE_COTES!$G$12,TabNuancierVTL[],3,FALSE)&VLOOKUP(RELEVE_COTES!$G$13,TabNuancierVTL[],3,FALSE),TabFinition[TYPE EXT]&TabFinition[TYPE INT],0))","v":{"$error":"#N/A"}},"INT",{"$f":"RELEVE_COTES!$E$16","v":"platines + vérins"},"NON",{"$f":"IF(RELEVE_COTES!$I$20 = \"Huisserie Bois\",RELEVE_COTES!$R102,IF(RELEVE_COTES!$I$20 = \"Huisserie Banchée\",RELEVE_COTES!$M102,IF(RELEVE_COTES!$I$20 = \"Bâti Scellé\",RELEVE_COTES!$O102,\"\")))","v":""},null,{"$f":"VLOOKUP(RELEVE_COTES!$K$11,TabSerrureRef[],3,FALSE)","v":{"$error":"#N/A"}},{"$f":"VLOOKUP(RELEVE_COTES!$K$11,TabSerrureRef[],6,FALSE)","v":{"$error":"#N/A"}}]
[{"$error":"#VALUE!"},{"$error":"#VALUE!"},{"$f":"IF(RELEVE_COTES!$A103<>\"\",SUBSTITUTE(SUBSTITUTE(SUBSTITUTE(SUBSTITUTE(SUBSTITUTE(SUBSTITUTE(SUBSTITUTE(SUBSTITUTE(RELEVE_COTES!$A103,\" \",\"\"),\"-\",\"/\"),\".\",\"/\"),\"\\\",\"/\"),\",\",\"/\"),\"+\",\"_\"),\"&\",\"_\"),\"*\",\"/\"),\"\")","v":""},{"$f":"RELEVE_COTES!$B103","v":0},1,{"$f":"IF(RELEVE_COTES!C103<>\"\",SUBSTITUTE(SUBSTITUTE(SUBSTITUTE(SUBSTITUTE(SUBSTITUTE(SUBSTITUTE(SUBSTITUTE(SUBSTITUTE(RELEVE_COTES!C103,\" \",\"\"),\"-\",\"\"),\".\",\",\"),\"\\\",\"\"),\",\",\",\"),\"+\",\"\"),\"&\",\"\"),\"*\",\"\"),\"\")","v":""},{"$f":"IF(RELEVE_COTES!D103<>\"\",SUBSTITUTE(SUBSTITUTE(SUBSTITUTE(SUBSTITUTE(SUBSTITUTE(SUBSTITUTE(SUBSTITUTE(SUBSTITUTE(RELEVE_COTES!D103,\" \",\"\"),\"-\",\"\"),\".\",\",\"),\"\\\",\"\"),\",\",\",\"),\"+\",\"\"),\"&\",\"\"),\"*\",\"\"),\"\")","v":""},{"$f":"IF(RELEVE_COTES!E103<>\"\",SUBSTITUTE(SUBSTITUTE(SUBSTITUTE(SUBSTITUTE(SUBSTITUTE(SUBSTITUTE(SUBSTITUTE(SUBSTITUTE(RELEVE_COTES!E103,\" \",\"\"),\"-\",\"\"),\".\",\",\"),\"\\\",\"\"),\",\",\",\"),\"+\",\"\"),\"&\",\"\"),\"*\",\"\"),\"\")","v":""},{"$f":"IF(RELEVE_COTES!F103<>\"\",SUBSTITUTE(SUBSTITUTE(SUBSTITUTE(SUBSTITUTE(SUBSTITUTE(SUBSTITUTE(SUBSTITUTE(SUBSTITUTE(RELEVE_COTES!F103,\" \",\"\"),\"-\",\"\"),\".\",\",\"),\"\\\",\"\"),\",\",\",\"),\"+\",\"\"),\"&\",\"\"),\"*\",\"\"),\"\")","v":""},{"$f":"IF(RELEVE_COTES!G103<>\"\",SUBSTITUTE(SUBSTITUTE(SUBSTITUTE(SUBSTITUTE(SUBSTITUTE(SUBSTITUTE(SUBSTITUTE(SUBSTITUTE(RELEVE_COTES!G103,\" \",\"\"),\"-\",\"\"),\".\",\",\"),\"\\\",\"\"),\",\",\",\"),\"+\",\"\"),\"&\",\"\"),\"*\",\"\"),\"\")","v":""},{"$f":"IF($D55=\"GP\",IF(RELEVE_COTES!$I103=\"\",0,IF(RELEVE_COTES!$I103=\"\",\"\",RELEVE_COTES!$I103)),IF(RELEVE_COTES!$H103=\"\",0,IF(RELEVE_COTES!$H103=\"\",\"\",RELEVE_COTES!$H103)))","v":0},{"$f":"IF($D55=\"GP\",IF(RELEVE_COTES!$H103=\"\",0,IF(RELEVE_COTES!$H103=\"\",\"\",RELEVE_COTES!$H103)),IF(RELEVE_COTES!$I103=\"\",0,IF(RELEVE_COTES!$I103=\"\",\"\",RELEVE_COTES!$I103)))","v":0},{"$f":"IF(RELEVE_COTES!$J103=\"\",0,IF(RELEVE_COTES!$J103=\"\",\"\",RELEVE_COTES!$J103))","v":0},{"$f":"VLOOKUP(RELEVE_COTES!$K103,TabExistantRef1[],2,FALSE)","v":{"$error":"#N/A"}},{"$f":"IF($Y$1=\"BOIS\",RELEVE_COTES!$O103,0)","v":{"$error":"#N/A"}},{"$f":"IF($Y$1=\"BOIS\",RELEVE_COTES!$P103,0)","v":{"$error":"#N/A"}},{"$f":"IF($Y$1=\"BOIS\",RELEVE_COTES!$Q103,0)","v":{"$error":"#N/A"}},{"$error":"#N/A"},{"$f":"IF($Y$1=\"BANCHE\",RELEVE_COTES!$L103,0)","v":{"$error":"#N/A"}},{"$error":"#N/A"},{"$error":"#N/A"},{"$f":"IF($Y$1<>\"BANCHE\",RELEVE_COTES!$L103,0)","v":{"$error":"#N/A"}},{"$f":"IF(AND($Y$1<>\"BANCHE\",RELEVE_COTES!$M103<>\"\"),RELEVE_COTES!$M103,20)","v":{"$error":"#N/A"}},{"$f":"IF($Y$1<>\"BANCHE\",IF(RELEVE_COTES!$N103<>\"\",RELEVE_COTES!$N103,10),0)","v":{"$error":"#N/A"}},{"$f":"IF(RELEVE_COTES!$I$20=\"Huisserie Banchée\",\"Banche\",IF(RELEVE_COTES!$I$20=\"Huisserie Bois\",\"Bois\",IF(RELEVE_COTES!$I$20=\"Bâti Scellé\",\"Bâti Métal.\")))","v":false},{"$f":"RELEVE_COTES!$C$11","v":0},{"$f":"RELEVE_COTES!$K$12","v":0},{"$f":"VLOOKUP(AA55,TabSeuilRef[],2,FALSE)","v":{"$error":"#N/A"}},{"$f":"\"Paumelles \"&RELEVE_COTES!$E$15","v":"Paumelles "},{"$f":"IF(RELEVE_COTES!$K$16<>\"Déporté\",RELEVE_COTES!$K$16,RELEVE_COTES!$K$16&\" / \"&VLOOKUP(RELEVE_COTES!$L$16,TabOptUsSerr[],2,FALSE))","v":"SANS"},{"$f":"RELEVE_COTES!$K$11","v":0},{"$f":"VLOOKUP(RELEVE_COTES!$G$12,TabNuancierVTL[],2,FALSE)&\"/\"&VLOOKUP(RELEVE_COTES!$G$13,TabNuancierVTL[],2,FALSE)","v":{"$error":"#N/A"}},{"$f":"IF(RELEVE_COTES!$E$14=\"Pr.Peint\",\"PP\",VLOOKUP(RELEVE_COTES!$G$14,TabNuancHM[],2,FALSE))","v":"PP"},{"$error":"#N/A"},{"$f":"IF(RELEVE_COTES!$C$11 =\"R32S-R02\",\"OUI\",\"NON\")","v":"NON"},"NON","",{"$f":"IF(AI55=\"OUI\",RELEVE_COTES!$N$16,\"\")","v":""},null,{"$f":"RELEVE_COTES!$E$12&\"/\"&RELEVE_COTES!$E$13","v":" SANS/ SANS"},{"$f":"IF(RELEVE_COTES!$K$15<>\"SANS\",RELEVE_COTES!$L$15&\" \"&RELEVE_COTES!$K$15,\"\")&IF(RELEVE_COTES!$N$15<>\"SANS\",\" / PMR: \"&RELEVE_COTES!$O$15&\" \"&RELEVE_COTES!$N$15,\"\")","v":""},{"$f":"IF(RELEVE_COTES!$K$14 <> \"SANS\",RELEVE_COTES!$O$14&\" \"&RELEVE_COTES!$K$14,\"\")","v":"U+F "},{"$f":"IF(RELEVE_COTES!$K$13 <> \"SANS\",RELEVE_COTES!$O$13&\" \"&RELEVE_COTES!$K$13,\"SANS\")","v":"U+F "},{"$f":"VLOOKUP(RELEVE_COTES!$O$11,TabOptUsSerr[],2,FALSE)","v":"Usinage, fourniture et pose"},{"$f":"INDEX(TabFinition[FINITION],MATCH(VLOOKUP(RELEVE_COTES!$G$12,TabNuancierVTL[],3,FALSE)&VLOOKUP(RELEVE_COTES!$G$13,TabNuancierVTL[],3,FALSE),TabFinition[TYPE EXT]&TabFinition[TYPE INT],0))","v":{"$error":"#N/A"}},"INT",{"$f":"RELEVE_COTES!$E$16","v":"platines + vérins"},"NON",{"$f":"IF(RELEVE_COTES!$I$20 = \"Huisserie Bois\",RELEVE_COTES!$R103,IF(RELEVE_COTES!$I$20 = \"Huisserie Banchée\",RELEVE_COTES!$M103,IF(RELEVE_COTES!$I$20 = \"Bâti Scellé\",RELEVE_COTES!$O103,\"\")))","v":""},null,{"$f":"VLOOKUP(RELEVE_COTES!$K$11,TabSerrureRef[],3,FALSE)","v":{"$error":"#N/A"}},{"$f":"VLOOKUP(RELEVE_COTES!$K$11,TabSerrureRef[],6,FALSE)","v":{"$error":"#N/A"}}]
[{"$error":"#VALUE!"},{"$error":"#VALUE!"},{"$f":"IF(RELEVE_COTES!$A104<>\"\",SUBSTITUTE(SUBSTITUTE(SUBSTITUTE(SUBSTITUTE(SUBSTITUTE(SUBSTITUTE(SUBSTITUTE(SUBSTITUTE(RELEVE_COTES!$A104,\" \",\"\"),\"-\",\"/\"),\".\",\"/\"),\"\\\",\"/\"),\",\",\"/\"),\"+\",\"_\"),\"&\",\"_\"),\"*\",\"/\"),\"\")","v":""},{"$f":"RELEVE_COTES!$B104","v":0},1,{"$f":"IF(RELEVE_COTES!C104<>\"\",SUBSTITUTE(SUBSTITUTE(SUBSTITUTE(SUBSTITUTE(SUBSTITUTE(SUBSTITUTE(SUBSTITUTE(SUBSTITUTE(RELEVE_COTES!C104,\" \",\"\"),\"-\",\"\"),\".\",\",\"),\"\\\",\"\"),\",\",\",\"),\"+\",\"\"),\"&\",\"\"),\"*\",\"\"),\"\")","v":""},{"$f":"IF(RELEVE_COTES!D104<>\"\",SUBSTITUTE(SUBSTITUTE(SUBSTITUTE(SUBSTITUTE(SUBSTITUTE(SUBSTITUTE(SUBSTITUTE(SUBSTITUTE(RELEVE_COTES!D104,\" \",\"\"),\"-\",\"\"),\".\",\",\"),\"\\\",\"\"),\",\",\",\"),\"+\",\"\"),\"&\",\"\"),\"*\",\"\"),\"\")","v":""},{"$f":"IF(RELEVE_COTES!E104<>\"\",SUBSTITUTE(SUBSTITUTE(SUBSTITUTE(SUBSTITUTE(SUBSTITUTE(SUBSTITUTE(SUBSTITUTE(SUBSTITUTE(RELEVE_COTES!E104,\" \",\"\"),\"-\",\"\"),\".\",\",\"),\"\\\",\"\"),\",\",\",\"),\"+\",\"\"),\"&\",\"\"),\"*\",\"\"),\"\")","v":""},{"$f":"IF(RELEVE_COTES!F104<>\"\",SUBSTITUTE(SUBSTITUTE(SUBSTITUTE(SUBSTITUTE(SUBSTITUTE(SUBSTITUTE(SUBSTITUTE(SUBSTITUTE(RELEVE_COTES!F104,\" \",\"\"),\"-\",\"\"),\".\",\",\"),\"\\\",\"\"),\",\",\",\"),\"+\",\"\"),\"&\",\"\"),\"*\",\"\"),\"\")","v":""},{"$f":"IF(RELEVE_COTES!G104<>\"\",SUBSTITUTE(SUBSTITUTE(SUBSTITUTE(SUBSTITUTE(SUBSTITUTE(SUBSTITUTE(SUBSTITUTE(SUBSTITUTE(RELEVE_COTES!G104,\" \",\"\"),\"-\",\"\"),\".\",\",\"),\"\\\",\"\"),\",\",\",\"),\"+\",\"\"),\"&\",\"\"),\"*\",\"\"),\"\")","v":""},{"$f":"IF($D56=\"GP\",IF(RELEVE_COTES!$I104=\"\",0,IF(RELEVE_COTES!$I104=\"\",\"\",RELEVE_COTES!$I104)),IF(RELEVE_COTES!$H104=\"\",0,IF(RELEVE_COTES!$H104=\"\",\"\",RELEVE_COTES!$H104)))","v":0},{"$f":"IF($D56=\"GP\",IF(RELEVE_COTES!$H104=\"\",0,IF(RELEVE_COTES!$H104=\"\",\"\",RELEVE_COTES!$H104)),IF(RELEVE_COTES!$I104=\"\",0,IF(RELEVE_COTES!$I104=\"\",\"\",RELEVE_COTES!$I104)))","v":0},{"$f":"IF(RELEVE_COTES!$J104=\"\",0,IF(RELEVE_COTES!$J104=\"\",\"\",RELEVE_COTES!$J104))","v":0},{"$f":"VLOOKUP(RELEVE_COTES!$K104,TabExistantRef1[],2,FALSE)","v":{"$error":"#N/A"}},{"$f":"IF($Y$1=\"BOIS\",RELEVE_COTES!$O104,0)","v":{"$error":"#N/A"}},{"$f":"IF($Y$1=\"BOIS\",RELEVE_COTES!$P104,0)","v":{"$error":"#N/A"}},{"$f":"IF($Y$1=\"BOIS\",RELEVE_COTES!$Q104,0)","v":{"$error":"#N/A"}},{"$error":"#N/A"},{"$f":"IF($Y$1=\"BANCHE\",RELEVE_COTES!$L104,0)","v":{"$error":"#N/A"}},{"$error":"#N/A"},{"$error":"#N/A"},{"$f":"IF($Y$1<>\"BANCHE\",RELEVE_COTES!$L104,0)","v":{"$error":"#N/A"}},{"$f":"IF(AND($Y$1<>\"BANCHE\",RELEVE_COTES!$M104<>\"\"),RELEVE_COTES!$M104,20)","v":{"$error":"#N/A"}},{"$f":"IF($Y$1<>\"BANCHE\",IF(RELEVE_COTES!$N104<>\"\",RELEVE_COTES!$N104,10),0)","v":{"$error":"#N/A"}},{"$f":"IF(RELEVE_COTES!$I$20=\"Huisserie Banchée\",\"Banche\",IF(RELEVE_COTES!$I$20=\"Huisserie Bois\",\"Bois\",IF(RELEVE_COTES!$I$20=\"Bâti Scellé\",\"Bâti Métal.\")))","v":false},{"$f":"RELEVE_COTES!$C$11","v":0},{"$f":"RELEVE_COTES!$K$12","v":0},{"$f":"VLOOKUP(AA56,TabSeuilRef[],2,FALSE)","v":{"$error":"#N/A"}},{"$f":"\"Paumelles \"&RELEVE_COTES!$E$15","v":"Paumelles "},{"$f":"IF(RELEVE_COTES!$K$16<>\"Déporté\",RELEVE_COTES!$K$16,RELEVE_COTES!$K$16&\" / \"&VLOOKUP(RELEVE_COTES!$L$16,TabOptUsSerr[],2,FALSE))","v":"SANS"},{"$f":"RELEVE_COTES!$K$11","v":0},{"$f":"VLOOKUP(RELEVE_COTES!$G$12,TabNuancierVTL[],2,FALSE)&\"/\"&VLOOKUP(RELEVE_COTES!$G$13,TabNuancierVTL[],2,FALSE)","v":{"$error":"#N/A"}},{"$f":"IF(RELEVE_COTES!$E$14=\"Pr.Peint\",\"PP\",VLOOKUP(RELEVE_COTES!$G$14,TabNuancHM[],2,FALSE))","v":"PP"},{"$error":"#N/A"},{"$f":"IF(RELEVE_COTES!$C$11 =\"R32S-R02\",\"OUI\",\"NON\")","v":"NON"},"NON","",{"$f":"IF(AI56=\"OUI\",RELEVE_COTES!$N$16,\"\")","v":""},null,{"$f":"RELEVE_COTES!$E$12&\"/\"&RELEVE_COTES!$E$13","v":" SANS/ SANS"},{"$f":"IF(RELEVE_COTES!$K$15<>\"SANS\",RELEVE_COTES!$L$15&\" \"&RELEVE_COTES!$K$15,\"\")&IF(RELEVE_COTES!$N$15<>\"SANS\",\" / PMR: \"&RELEVE_COTES!$O$15&\" \"&RELEVE_COTES!$N$15,\"\")","v":""},{"$f":"IF(RELEVE_COTES!$K$14 <> \"SANS\",RELEVE_COTES!$O$14&\" \"&RELEVE_COTES!$K$14,\"\")","v":"U+F "},{"$f":"IF(RELEVE_COTES!$K$13 <> \"SANS\",RELEVE_COTES!$O$13&\" \"&RELEVE_COTES!$K$13,\"SANS\")","v":"U+F "},{"$f":"VLOOKUP(RELEVE_COTES!$O$11,TabOptUsSerr[],2,FALSE)","v":"Usinage, fourniture et pose"},{"$f":"INDEX(TabFinition[FINITION],MATCH(VLOOKUP(RELEVE_COTES!$G$12,TabNuancierVTL[],3,FALSE)&VLOOKUP(RELEVE_COTES!$G$13,TabNuancierVTL[],3,FALSE),TabFinition[TYPE EXT]&TabFinition[TYPE INT],0))","v":{"$error":"#N/A"}},"INT",{"$f":"RELEVE_COTES!$E$16","v":"platines + vérins"},"NON",{"$f":"IF(RELEVE_COTES!$I$20 = \"Huisserie Bois\",RELEVE_COTES!$R104,IF(RELEVE_COTES!$I$20 = \"Huisserie Banchée\",RELEVE_COTES!$M104,IF(RELEVE_COTES!$I$20 = \"Bâti Scellé\",RELEVE_COTES!$O104,\"\")))","v":""},null,{"$f":"VLOOKUP(RELEVE_COTES!$K$11,TabSerrureRef[],3,FALSE)","v":{"$error":"#N/A"}},{"$f":"VLOOKUP(RELEVE_COTES!$K$11,TabSerrureRef[],6,FALSE)","v":{"$error":"#N/A"}}]
[{"$error":"#VALUE!"},{"$error":"#VALUE!"},{"$f":"IF(RELEVE_COTES!$A105<>\"\",SUBSTITUTE(SUBSTITUTE(SUBSTITUTE(SUBSTITUTE(SUBSTITUTE(SUBSTITUTE(SUBSTITUTE(SUBSTITUTE(RELEVE_COTES!$A105,\" \",\"\"),\"-\",\"/\"),\".\",\"/\"),\"\\\",\"/\"),\",\",\"/\"),\"+\",\"_\"),\"&\",\"_\"),\"*\",\"/\"),\"\")","v":""},{"$f":"RELEVE_COTES!$B105","v":0},1,{"$f":"IF(RELEVE_COTES!C105<>\"\",SUBSTITUTE(SUBSTITUTE(SUBSTITUTE(SUBSTITUTE(SUBSTITUTE(SUBSTITUTE(SUBSTITUTE(SUBSTITUTE(RELEVE_COTES!C105,\" \",\"\"),\"-\",\"\"),\".\",\",\"),\"\\\",\"\"),\",\",\",\"),\"+\",\"\"),\"&\",\"\"),\"*\",\"\"),\"\")","v":""},{"$f":"IF(RELEVE_COTES!D105<>\"\",SUBSTITUTE(SUBSTITUTE(SUBSTITUTE(SUBSTITUTE(SUBSTITUTE(SUBSTITUTE(SUBSTITUTE(SUBSTITUTE(RELEVE_COTES!D105,\" \",\"\"),\"-\",\"\"),\".\",\",\"),\"\\\",\"\"),\",\",\",\"),\"+\",\"\"),\"&\",\"\"),\"*\",\"\"),\"\")","v":""},{"$f":"IF(RELEVE_COTES!E105<>\"\",SUBSTITUTE(SUBSTITUTE(SUBSTITUTE(SUBSTITUTE(SUBSTITUTE(SUBSTITUTE(SUBSTITUTE(SUBSTITUTE(RELEVE_COTES!E105,\" \",\"\"),\"-\",\"\"),\".\",\",\"),\"\\\",\"\"),\",\",\",\"),\"+\",\"\"),\"&\",\"\"),\"*\",\"\"),\"\")","v":""},{"$f":"IF(RELEVE_COTES!F105<>\"\",SUBSTITUTE(SUBSTITUTE(SUBSTITUTE(SUBSTITUTE(SUBSTITUTE(SUBSTITUTE(SUBSTITUTE(SUBSTITUTE(RELEVE_COTES!F105,\" \",\"\"),\"-\",\"\"),\".\",\",\"),\"\\\",\"\"),\",\",\",\"),\"+\",\"\"),\"&\",\"\"),\"*\",\"\"),\"\")","v":""},{"$f":"IF(RELEVE_COTES!G105<>\"\",SUBSTITUTE(SUBSTITUTE(SUBSTITUTE(SUBSTITUTE(SUBSTITUTE(SUBSTITUTE(SUBSTITUTE(SUBSTITUTE(RELEVE_COTES!G105,\" \",\"\"),\"-\",\"\"),\".\",\",\"),\"\\\",\"\"),\",\",\",\"),\"+\",\"\"),\"&\",\"\"),\"*\",\"\"),\"\")","v":""},{"$f":"IF($D57=\"GP\",IF(RELEVE_COTES!$I105=\"\",0,IF(RELEVE_COTES!$I105=\"\",\"\",RELEVE_COTES!$I105)),IF(RELEVE_COTES!$H105=\"\",0,IF(RELEVE_COTES!$H105=\"\",\"\",RELEVE_COTES!$H105)))","v":0},{"$f":"IF($D57=\"GP\",IF(RELEVE_COTES!$H105=\"\",0,IF(RELEVE_COTES!$H105=\"\",\"\",RELEVE_COTES!$H105)),IF(RELEVE_COTES!$I105=\"\",0,IF(RELEVE_COTES!$I105=\"\",\"\",RELEVE_COTES!$I105)))","v":0},{"$f":"IF(RELEVE_COTES!$J105=\"\",0,IF(RELEVE_COTES!$J105=\"\",\"\",RELEVE_COTES!$J105))","v":0},{"$f":"VLOOKUP(RELEVE_COTES!$K105,TabExistantRef1[],2,FALSE)","v":{"$error":"#N/A"}},{"$f":"IF($Y$1=\"BOIS\",RELEVE_COTES!$O105,0)","v":{"$error":"#N/A"}},{"$f":"IF($Y$1=\"BOIS\",RELEVE_COTES!$P105,0)","v":{"$error":"#N/A"}},{"$f":"IF($Y$1=\"BOIS\",RELEVE_COTES!$Q105,0)","v":{"$error":"#N/A"}},{"$error":"#N/A"},{"$f":"IF($Y$1=\"BANCHE\",RELEVE_COTES!$L105,0)","v":{"$error":"#N/A"}},{"$error":"#N/A"},{"$error":"#N/A"},{"$f":"IF($Y$1<>\"BANCHE\",RELEVE_COTES!$L105,0)","v":{"$error":"#N/A"}},{"$f":"IF(AND($Y$1<>\"BANCHE\",RELEVE_COTES!$M105<>\"\"),RELEVE_COTES!$M105,20)","v":{"$error":"#N/A"}},{"$f":"IF($Y$1<>\"BANCHE\",IF(RELEVE_COTES!$N105<>\"\",RELEVE_COTES!$N105,10),0)","v":{"$error":"#N/A"}},{"$f":"IF(RELEVE_COTES!$I$20=\"Huisserie Banchée\",\"Banche\",IF(RELEVE_COTES!$I$20=\"Huisserie Bois\",\"Bois\",IF(RELEVE_COTES!$I$20=\"Bâti Scellé\",\"Bâti Métal.\")))","v":false},{"$f":"RELEVE_COTES!$C$11","v":0},{"$f":"RELEVE_COTES!$K$12","v":0},{"$f":"VLOOKUP(AA57,TabSeuilRef[],2,FALSE)","v":{"$error":"#N/A"}},{"$f":"\"Paumelles \"&RELEVE_COTES!$E$15","v":"Paumelles "},{"$f":"IF(RELEVE_COTES!$K$16<>\"Déporté\",RELEVE_COTES!$K$16,RELEVE_COTES!$K$16&\" / \"&VLOOKUP(RELEVE_COTES!$L$16,TabOptUsSerr[],2,FALSE))","v":"SANS"},{"$f":"RELEVE_COTES!$K$11","v":0},{"$f":"VLOOKUP(RELEVE_COTES!$G$12,TabNuancierVTL[],2,FALSE)&\"/\"&VLOOKUP(RELEVE_COTES!$G$13,TabNuancierVTL[],2,FALSE)","v":{"$error":"#N/A"}},{"$f":"IF(RELEVE_COTES!$E$14=\"Pr.Peint\",\"PP\",VLOOKUP(RELEVE_COTES!$G$14,TabNuancHM[],2,FALSE))","v":"PP"},{"$error":"#N/A"},{"$f":"IF(RELEVE_COTES!$C$11 =\"R32S-R02\",\"OUI\",\"NON\")","v":"NON"},"NON","",{"$f":"IF(AI57=\"OUI\",RELEVE_COTES!$N$16,\"\")","v":""},null,{"$f":"RELEVE_COTES!$E$12&\"/\"&RELEVE_COTES!$E$13","v":" SANS/ SANS"},{"$f":"IF(RELEVE_COTES!$K$15<>\"SANS\",RELEVE_COTES!$L$15&\" \"&RELEVE_COTES!$K$15,\"\")&IF(RELEVE_COTES!$N$15<>\"SANS\",\" / PMR: \"&RELEVE_COTES!$O$15&\" \"&RELEVE_COTES!$N$15,\"\")","v":""},{"$f":"IF(RELEVE_COTES!$K$14 <> \"SANS\",RELEVE_COTES!$O$14&\" \"&RELEVE_COTES!$K$14,\"\")","v":"U+F "},{"$f":"IF(RELEVE_COTES!$K$13 <> \"SANS\",RELEVE_COTES!$O$13&\" \"&RELEVE_COTES!$K$13,\"SANS\")","v":"U+F "},{"$f":"VLOOKUP(RELEVE_COTES!$O$11,TabOptUsSerr[],2,FALSE)","v":"Usinage, fourniture et pose"},{"$f":"INDEX(TabFinition[FINITION],MATCH(VLOOKUP(RELEVE_COTES!$G$12,TabNuancierVTL[],3,FALSE)&VLOOKUP(RELEVE_COTES!$G$13,TabNuancierVTL[],3,FALSE),TabFinition[TYPE EXT]&TabFinition[TYPE INT],0))","v":{"$error":"#N/A"}},"INT",{"$f":"RELEVE_COTES!$E$16","v":"platines + vérins"},"NON",{"$f":"IF(RELEVE_COTES!$I$20 = \"Huisserie Bois\",RELEVE_COTES!$R105,IF(RELEVE_COTES!$I$20 = \"Huisserie Banchée\",RELEVE_COTES!$M105,IF(RELEVE_COTES!$I$20 = \"Bâti Scellé\",RELEVE_COTES!$O105,\"\")))","v":""},null,{"$f":"VLOOKUP(RELEVE_COTES!$K$11,TabSerrureRef[],3,FALSE)","v":{"$error":"#N/A"}},{"$f":"VLOOKUP(RELEVE_COTES!$K$11,TabSerrureRef[],6,FALSE)","v":{"$error":"#N/A"}}]
[{"$error":"#VALUE!"},{"$error":"#VALUE!"},{"$f":"IF(RELEVE_COTES!$A106<>\"\",SUBSTITUTE(SUBSTITUTE(SUBSTITUTE(SUBSTITUTE(SUBSTITUTE(SUBSTITUTE(SUBSTITUTE(SUBSTITUTE(RELEVE_COTES!$A106,\" \",\"\"),\"-\",\"/\"),\".\",\"/\"),\"\\\",\"/\"),\",\",\"/\"),\"+\",\"_\"),\"&\",\"_\"),\"*\",\"/\"),\"\")","v":""},{"$f":"RELEVE_COTES!$B106","v":0},1,{"$f":"IF(RELEVE_COTES!C106<>\"\",SUBSTITUTE(SUBSTITUTE(SUBSTITUTE(SUBSTITUTE(SUBSTITUTE(SUBSTITUTE(SUBSTITUTE(SUBSTITUTE(RELEVE_COTES!C106,\" \",\"\"),\"-\",\"\"),\".\",\",\"),\"\\\",\"\"),\",\",\",\"),\"+\",\"\"),\"&\",\"\"),\"*\",\"\"),\"\")","v":""},{"$f":"IF(RELEVE_COTES!D106<>\"\",SUBSTITUTE(SUBSTITUTE(SUBSTITUTE(SUBSTITUTE(SUBSTITUTE(SUBSTITUTE(SUBSTITUTE(SUBSTITUTE(RELEVE_COTES!D106,\" \",\"\"),\"-\",\"\"),\".\",\",\"),\"\\\",\"\"),\",\",\",\"),\"+\",\"\"),\"&\",\"\"),\"*\",\"\"),\"\")","v":""},{"$f":"IF(RELEVE_COTES!E106<>\"\",SUBSTITUTE(SUBSTITUTE(SUBSTITUTE(SUBSTITUTE(SUBSTITUTE(SUBSTITUTE(SUBSTITUTE(SUBSTITUTE(RELEVE_COTES!E106,\" \",\"\"),\"-\",\"\"),\".\",\",\"),\"\\\",\"\"),\",\",\",\"),\"+\",\"\"),\"&\",\"\"),\"*\",\"\"),\"\")","v":""},{"$f":"IF(RELEVE_COTES!F106<>\"\",SUBSTITUTE(SUBSTITUTE(SUBSTITUTE(SUBSTITUTE(SUBSTITUTE(SUBSTITUTE(SUBSTITUTE(SUBSTITUTE(RELEVE_COTES!F106,\" \",\"\"),\"-\",\"\"),\".\",\",\"),\"\\\",\"\"),\",\",\",\"),\"+\",\"\"),\"&\",\"\"),\"*\",\"\"),\"\")","v":""},{"$f":"IF(RELEVE_COTES!G106<>\"\",SUBSTITUTE(SUBSTITUTE(SUBSTITUTE(SUBSTITUTE(SUBSTITUTE(SUBSTITUTE(SUBSTITUTE(SUBSTITUTE(RELEVE_COTES!G106,\" \",\"\"),\"-\",\"\"),\".\",\",\"),\"\\\",\"\"),\",\",\",\"),\"+\",\"\"),\"&\",\"\"),\"*\",\"\"),\"\")","v":""},{"$f":"IF($D58=\"GP\",IF(RELEVE_COTES!$I106=\"\",0,IF(RELEVE_COTES!$I106=\"\",\"\",RELEVE_COTES!$I106)),IF(RELEVE_COTES!$H106=\"\",0,IF(RELEVE_COTES!$H106=\"\",\"\",RELEVE_COTES!$H106)))","v":0},{"$f":"IF($D58=\"GP\",IF(RELEVE_COTES!$H106=\"\",0,IF(RELEVE_COTES!$H106=\"\",\"\",RELEVE_COTES!$H106)),IF(RELEVE_COTES!$I106=\"\",0,IF(RELEVE_COTES!$I106=\"\",\"\",RELEVE_COTES!$I106)))","v":0},{"$f":"IF(RELEVE_COTES!$J106=\"\",0,IF(RELEVE_COTES!$J106=\"\",\"\",RELEVE_COTES!$J106))","v":0},{"$f":"VLOOKUP(RELEVE_COTES!$K106,TabExistantRef1[],2,FALSE)","v":{"$error":"#N/A"}},{"$f":"IF($Y$1=\"BOIS\",RELEVE_COTES!$O106,0)","v":{"$error":"#N/A"}},{"$f":"IF($Y$1=\"BOIS\",RELEVE_COTES!$P106,0)","v":{"$error":"#N/A"}},{"$f":"IF($Y$1=\"BOIS\",RELEVE_COTES!$Q106,0)","v":{"$error":"#N/A"}},{"$error":"#N/A"},{"$f":"IF($Y$1=\"BANCHE\",RELEVE_COTES!$L106,0)","v":{"$error":"#N/A"}},{"$error":"#N/A"},{"$error":"#N/A"},{"$f":"IF($Y$1<>\"BANCHE\",RELEVE_COTES!$L106,0)","v":{"$error":"#N/A"}},{"$f":"IF(AND($Y$1<>\"BANCHE\",RELEVE_COTES!$M106<>\"\"),RELEVE_COTES!$M106,20)","v":{"$error":"#N/A"}},{"$f":"IF($Y$1<>\"BANCHE\",IF(RELEVE_COTES!$N106<>\"\",RELEVE_COTES!$N106,10),0)","v":{"$error":"#N/A"}},{"$f":"IF(RELEVE_COTES!$I$20=\"Huisserie Banchée\",\"Banche\",IF(RELEVE_COTES!$I$20=\"Huisserie Bois\",\"Bois\",IF(RELEVE_COTES!$I$20=\"Bâti Scellé\",\"Bâti Métal.\")))","v":false},{"$f":"RELEVE_COTES!$C$11","v":0},{"$f":"RELEVE_COTES!$K$12","v":0},{"$f":"VLOOKUP(AA58,TabSeuilRef[],2,FALSE)","v":{"$error":"#N/A"}},{"$f":"\"Paumelles \"&RELEVE_COTES!$E$15","v":"Paumelles "},{"$f":"IF(RELEVE_COTES!$K$16<>\"Déporté\",RELEVE_COTES!$K$16,RELEVE_COTES!$K$16&\" / \"&VLOOKUP(RELEVE_COTES!$L$16,TabOptUsSerr[],2,FALSE))","v":"SANS"},{"$f":"RELEVE_COTES!$K$11","v":0},{"$f":"VLOOKUP(RELEVE_COTES!$G$12,TabNuancierVTL[],2,FALSE)&\"/\"&VLOOKUP(RELEVE_COTES!$G$13,TabNuancierVTL[],2,FALSE)","v":{"$error":"#N/A"}},{"$f":"IF(RELEVE_COTES!$E$14=\"Pr.Peint\",\"PP\",VLOOKUP(RELEVE_COTES!$G$14,TabNuancHM[],2,FALSE))","v":"PP"},{"$error":"#N/A"},{"$f":"IF(RELEVE_COTES!$C$11 =\"R32S-R02\",\"OUI\",\"NON\")","v":"NON"},"NON","",{"$f":"IF(AI58=\"OUI\",RELEVE_COTES!$N$16,\"\")","v":""},null,{"$f":"RELEVE_COTES!$E$12&\"/\"&RELEVE_COTES!$E$13","v":" SANS/ SANS"},{"$f":"IF(RELEVE_COTES!$K$15<>\"SANS\",RELEVE_COTES!$L$15&\" \"&RELEVE_COTES!$K$15,\"\")&IF(RELEVE_COTES!$N$15<>\"SANS\",\" / PMR: \"&RELEVE_COTES!$O$15&\" \"&RELEVE_COTES!$N$15,\"\")","v":""},{"$f":"IF(RELEVE_COTES!$K$14 <> \"SANS\",RELEVE_COTES!$O$14&\" \"&RELEVE_COTES!$K$14,\"\")","v":"U+F "},{"$f":"IF(RELEVE_COTES!$K$13 <> \"SANS\",RELEVE_COTES!$O$13&\" \"&RELEVE_COTES!$K$13,\"SANS\")","v":"U+F "},{"$f":"VLOOKUP(RELEVE_COTES!$O$11,TabOptUsSerr[],2,FALSE)","v":"Usinage, fourniture et pose"},{"$f":"INDEX(TabFinition[FINITION],MATCH(VLOOKUP(RELEVE_COTES!$G$12,TabNuancierVTL[],3,FALSE)&VLOOKUP(RELEVE_COTES!$G$13,TabNuancierVTL[],3,FALSE),TabFinition[TYPE EXT]&TabFinition[TYPE INT],0))","v":{"$error":"#N/A"}},"INT",{"$f":"RELEVE_COTES!$E$16","v":"platines + vérins"},"NON",{"$f":"IF(RELEVE_COTES!$I$20 = \"Huisserie Bois\",RELEVE_COTES!$R106,IF(RELEVE_COTES!$I$20 = \"Huisserie Banchée\",RELEVE_COTES!$M106,IF(RELEVE_COTES!$I$20 = \"Bâti Scellé\",RELEVE_COTES!$O106,\"\")))","v":""},null,{"$f":"VLOOKUP(RELEVE_COTES!$K$11,TabSerrureRef[],3,FALSE)","v":{"$error":"#N/A"}},{"$f":"VLOOKUP(RELEVE_COTES!$K$11,TabSerrureRef[],6,FALSE)","v":{"$error":"#N/A"}}]
[{"$error":"#VALUE!"},{"$error":"#VALUE!"},{"$f":"IF(RELEVE_COTES!$A107<>\"\",SUBSTITUTE(SUBSTITUTE(SUBSTITUTE(SUBSTITUTE(SUBSTITUTE(SUBSTITUTE(SUBSTITUTE(SUBSTITUTE(RELEVE_COTES!$A107,\" \",\"\"),\"-\",\"/\"),\".\",\"/\"),\"\\\",\"/\"),\",\",\"/\"),\"+\",\"_\"),\"&\",\"_\"),\"*\",\"/\"),\"\")","v":""},{"$f":"RELEVE_COTES!$B107","v":0},1,{"$f":"IF(RELEVE_COTES!C107<>\"\",SUBSTITUTE(SUBSTITUTE(SUBSTITUTE(SUBSTITUTE(SUBSTITUTE(SUBSTITUTE(SUBSTITUTE(SUBSTITUTE(RELEVE_COTES!C107,\" \",\"\"),\"-\",\"\"),\".\",\",\"),\"\\\",\"\"),\",\",\",\"),\"+\",\"\"),\"&\",\"\"),\"*\",\"\"),\"\")","v":""},{"$f":"IF(RELEVE_COTES!D107<>\"\",SUBSTITUTE(SUBSTITUTE(SUBSTITUTE(SUBSTITUTE(SUBSTITUTE(SUBSTITUTE(SUBSTITUTE(SUBSTITUTE(RELEVE_COTES!D107,\" \",\"\"),\"-\",\"\"),\".\",\",\"),\"\\\",\"\"),\",\",\",\"),\"+\",\"\"),\"&\",\"\"),\"*\",\"\"),\"\")","v":""},{"$f":"IF(RELEVE_COTES!E107<>\"\",SUBSTITUTE(SUBSTITUTE(SUBSTITUTE(SUBSTITUTE(SUBSTITUTE(SUBSTITUTE(SUBSTITUTE(SUBSTITUTE(RELEVE_COTES!E107,\" \",\"\"),\"-\",\"\"),\".\",\",\"),\"\\\",\"\"),\",\",\",\"),\"+\",\"\"),\"&\",\"\"),\"*\",\"\"),\"\")","v":""},{"$f":"IF(RELEVE_COTES!F107<>\"\",SUBSTITUTE(SUBSTITUTE(SUBSTITUTE(SUBSTITUTE(SUBSTITUTE(SUBSTITUTE(SUBSTITUTE(SUBSTITUTE(RELEVE_COTES!F107,\" \",\"\"),\"-\",\"\"),\".\",\",\"),\"\\\",\"\"),\",\",\",\"),\"+\",\"\"),\"&\",\"\"),\"*\",\"\"),\"\")","v":""},{"$f":"IF(RELEVE_COTES!G107<>\"\",SUBSTITUTE(SUBSTITUTE(SUBSTITUTE(SUBSTITUTE(SUBSTITUTE(SUBSTITUTE(SUBSTITUTE(SUBSTITUTE(RELEVE_COTES!G107,\" \",\"\"),\"-\",\"\"),\".\",\",\"),\"\\\",\"\"),\",\",\",\"),\"+\",\"\"),\"&\",\"\"),\"*\",\"\"),\"\")","v":""},{"$f":"IF($D59=\"GP\",IF(RELEVE_COTES!$I107=\"\",0,IF(RELEVE_COTES!$I107=\"\",\"\",RELEVE_COTES!$I107)),IF(RELEVE_COTES!$H107=\"\",0,IF(RELEVE_COTES!$H107=\"\",\"\",RELEVE_COTES!$H107)))","v":0},{"$f":"IF($D59=\"GP\",IF(RELEVE_COTES!$H107=\"\",0,IF(RELEVE_COTES!$H107=\"\",\"\",RELEVE_COTES!$H107)),IF(RELEVE_COTES!$I107=\"\",0,IF(RELEVE_COTES!$I107=\"\",\"\",RELEVE_COTES!$I107)))","v":0},{"$f":"IF(RELEVE_COTES!$J107=\"\",0,IF(RELEVE_COTES!$J107=\"\",\"\",RELEVE_COTES!$J107))","v":0},{"$f":"VLOOKUP(RELEVE_COTES!$K107,TabExistantRef1[],2,FALSE)","v":{"$error":"#N/A"}},{"$f":"IF($Y$1=\"BOIS\",RELEVE_COTES!$O107,0)","v":{"$error":"#N/A"}},{"$f":"IF($Y$1=\"BOIS\",RELEVE_COTES!$P107,0)","v":{"$error":"#N/A"}},{"$f":"IF($Y$1=\"BOIS\",RELEVE_COTES!$Q107,0)","v":{"$error":"#N/A"}},{"$error":"#N/A"},{"$f":"IF($Y$1=\"BANCHE\",RELEVE_COTES!$L107,0)","v":{"$error":"#N/A"}},{"$error":"#N/A"},{"$error":"#N/A"},{"$f":"IF($Y$1<>\"BANCHE\",RELEVE_COTES!$L107,0)","v":{"$error":"#N/A"}},{"$f":"IF(AND($Y$1<>\"BANCHE\",RELEVE_COTES!$M107<>\"\"),RELEVE_COTES!$M107,20)","v":{"$error":"#N/A"}},{"$f":"IF($Y$1<>\"BANCHE\",IF(RELEVE_COTES!$N107<>\"\",RELEVE_COTES!$N107,10),0)","v":{"$error":"#N/A"}},{"$f":"IF(RELEVE_COTES!$I$20=\"Huisserie Banchée\",\"Banche\",IF(RELEVE_COTES!$I$20=\"Huisserie Bois\",\"Bois\",IF(RELEVE_COTES!$I$20=\"Bâti Scellé\",\"Bâti Métal.\")))","v":false},{"$f":"RELEVE_COTES!$C$11","v":0},{"$f":"RELEVE_COTES!$K$12","v":0},{"$f":"VLOOKUP(AA59,TabSeuilRef[],2,FALSE)","v":{"$error":"#N/A"}},{"$f":"\"Paumelles \"&RELEVE_COTES!$E$15","v":"Paumelles "},{"$f":"IF(RELEVE_COTES!$K$16<>\"Déporté\",RELEVE_COTES!$K$16,RELEVE_COTES!$K$16&\" / \"&VLOOKUP(RELEVE_COTES!$L$16,TabOptUsSerr[],2,FALSE))","v":"SANS"},{"$f":"RELEVE_COTES!$K$11","v":0},{"$f":"VLOOKUP(RELEVE_COTES!$G$12,TabNuancierVTL[],2,FALSE)&\"/\"&VLOOKUP(RELEVE_COTES!$G$13,TabNuancierVTL[],2,FALSE)","v":{"$error":"#N/A"}},{"$f":"IF(RELEVE_COTES!$E$14=\"Pr.Peint\",\"PP\",VLOOKUP(RELEVE_COTES!$G$14,TabNuancHM[],2,FALSE))","v":"PP"},{"$error":"#N/A"},{"$f":"IF(RELEVE_COTES!$C$11 =\"R32S-R02\",\"OUI\",\"NON\")","v":"NON"},"NON","",{"$f":"IF(AI59=\"OUI\",RELEVE_COTES!$N$16,\"\")","v":""},null,{"$f":"RELEVE_COTES!$E$12&\"/\"&RELEVE_COTES!$E$13","v":" SANS/ SANS"},{"$f":"IF(RELEVE_COTES!$K$15<>\"SANS\",RELEVE_COTES!$L$15&\" \"&RELEVE_COTES!$K$15,\"\")&IF(RELEVE_COTES!$N$15<>\"SANS\",\" / PMR: \"&RELEVE_COTES!$O$15&\" \"&RELEVE_COTES!$N$15,\"\")","v":""},{"$f":"IF(RELEVE_COTES!$K$14 <> \"SANS\",RELEVE_COTES!$O$14&\" \"&RELEVE_COTES!$K$14,\"\")","v":"U+F "},{"$f":"IF(RELEVE_COTES!$K$13 <> \"SANS\",RELEVE_COTES!$O$13&\" \"&RELEVE_COTES!$K$13,\"SANS\")","v":"U+F "},{"$f":"VLOOKUP(RELEVE_COTES!$O$11,TabOptUsSerr[],2,FALSE)","v":"Usinage, fourniture et pose"},{"$f":"INDEX(TabFinition[FINITION],MATCH(VLOOKUP(RELEVE_COTES!$G$12,TabNuancierVTL[],3,FALSE)&VLOOKUP(RELEVE_COTES!$G$13,TabNuancierVTL[],3,FALSE),TabFinition[TYPE EXT]&TabFinition[TYPE INT],0))","v":{"$error":"#N/A"}},"INT",{"$f":"RELEVE_COTES!$E$16","v":"platines + vérins"},"NON",{"$f":"IF(RELEVE_COTES!$I$20 = \"Huisserie Bois\",RELEVE_COTES!$R107,IF(RELEVE_COTES!$I$20 = \"Huisserie Banchée\",RELEVE_COTES!$M107,IF(RELEVE_COTES!$I$20 = \"Bâti Scellé\",RELEVE_COTES!$O107,\"\")))","v":""}]
[{"$error":"#VALUE!"},{"$error":"#VALUE!"},{"$f":"IF(RELEVE_COTES!$A108<>\"\",SUBSTITUTE(SUBSTITUTE(SUBSTITUTE(SUBSTITUTE(SUBSTITUTE(SUBSTITUTE(SUBSTITUTE(SUBSTITUTE(RELEVE_COTES!$A108,\" \",\"\"),\"-\",\"/\"),\".\",\"/\"),\"\\\",\"/\"),\",\",\"/\"),\"+\",\"_\"),\"&\",\"_\"),\"*\",\"/\"),\"\")","v":""},{"$f":"RELEVE_COTES!$B108","v":0},1,{"$f":"IF(RELEVE_COTES!C108<>\"\",SUBSTITUTE(SUBSTITUTE(SUBSTITUTE(SUBSTITUTE(SUBSTITUTE(SUBSTITUTE(SUBSTITUTE(SUBSTITUTE(RELEVE_COTES!C108,\" \",\"\"),\"-\",\"\"),\".\",\",\"),\"\\\",\"\"),\",\",\",\"),\"+\",\"\"),\"&\",\"\"),\"*\",\"\"),\"\")","v":""},{"$f":"IF(RELEVE_COTES!D108<>\"\",SUBSTITUTE(SUBSTITUTE(SUBSTITUTE(SUBSTITUTE(SUBSTITUTE(SUBSTITUTE(SUBSTITUTE(SUBSTITUTE(RELEVE_COTES!D108,\" \",\"\"),\"-\",\"\"),\".\",\",\"),\"\\\",\"\"),\",\",\",\"),\"+\",\"\"),\"&\",\"\"),\"*\",\"\"),\"\")","v":""},{"$f":"IF(RELEVE_COTES!E108<>\"\",SUBSTITUTE(SUBSTITUTE(SUBSTITUTE(SUBSTITUTE(SUBSTITUTE(SUBSTITUTE(SUBSTITUTE(SUBSTITUTE(RELEVE_COTES!E108,\" \",\"\"),\"-\",\"\"),\".\",\",\"),\"\\\",\"\"),\",\",\",\"),\"+\",\"\"),\"&\",\"\"),\"*\",\"\"),\"\")","v":""},{"$f":"IF(RELEVE_COTES!F108<>\"\",SUBSTITUTE(SUBSTITUTE(SUBSTITUTE(SUBSTITUTE(SUBSTITUTE(SUBSTITUTE(SUBSTITUTE(SUBSTITUTE(RELEVE_COTES!F108,\" \",\"\"),\"-\",\"\"),\".\",\",\"),\"\\\",\"\"),\",\",\",\"),\"+\",\"\"),\"&\",\"\"),\"*\",\"\"),\"\")","v":""},{"$f":"IF(RELEVE_COTES!G108<>\"\",SUBSTITUTE(SUBSTITUTE(SUBSTITUTE(SUBSTITUTE(SUBSTITUTE(SUBSTITUTE(SUBSTITUTE(SUBSTITUTE(RELEVE_COTES!G108,\" \",\"\"),\"-\",\"\"),\".\",\",\"),\"\\\",\"\"),\",\",\",\"),\"+\",\"\"),\"&\",\"\"),\"*\",\"\"),\"\")","v":""},{"$f":"IF($D60=\"GP\",IF(RELEVE_COTES!$I108=\"\",0,IF(RELEVE_COTES!$I108=\"\",\"\",RELEVE_COTES!$I108)),IF(RELEVE_COTES!$H108=\"\",0,IF(RELEVE_COTES!$H108=\"\",\"\",RELEVE_COTES!$H108)))","v":0},{"$f":"IF($D60=\"GP\",IF(RELEVE_COTES!$H108=\"\",0,IF(RELEVE_COTES!$H108=\"\",\"\",RELEVE_COTES!$H108)),IF(RELEVE_COTES!$I108=\"\",0,IF(RELEVE_COTES!$I108=\"\",\"\",RELEVE_COTES!$I108)))","v":0},{"$f":"IF(RELEVE_COTES!$J108=\"\",0,IF(RELEVE_COTES!$J108=\"\",\"\",RELEVE_COTES!$J108))","v":0},{"$f":"VLOOKUP(RELEVE_COTES!$K108,TabExistantRef1[],2,FALSE)","v":{"$error":"#N/A"}},{"$f":"IF($Y$1=\"BOIS\",RELEVE_COTES!$O108,0)","v":{"$error":"#N/A"}},{"$f":"IF($Y$1=\"BOIS\",RELEVE_COTES!$P108,0)","v":{"$error":"#N/A"}},{"$f":"IF($Y$1=\"BOIS\",RELEVE_COTES!$Q108,0)","v":{"$error":"#N/A"}},{"$error":"#N/A"},{"$f":"IF($Y$1=\"BANCHE\",RELEVE_COTES!$L108,0)","v":{"$error":"#N/A"}},{"$error":"#N/A"},{"$error":"#N/A"},{"$f":"IF($Y$1<>\"BANCHE\",RELEVE_COTES!$L108,0)","v":{"$error":"#N/A"}},{"$f":"IF(AND($Y$1<>\"BANCHE\",RELEVE_COTES!$M108<>\"\"),RELEVE_COTES!$M108,20)","v":{"$error":"#N/A"}},{"$f":"IF($Y$1<>\"BANCHE\",IF(RELEVE_COTES!$N108<>\"\",RELEVE_COTES!$N108,10),0)","v":{"$error":"#N/A"}},{"$f":"IF(RELEVE_COTES!$I$20=\"Huisserie Banchée\",\"Banche\",IF(RELEVE_COTES!$I$20=\"Huisserie Bois\",\"Bois\",IF(RELEVE_COTES!$I$20=\"Bâti Scellé\",\"Bâti Métal.\")))","v":false},{"$f":"RELEVE_COTES!$C$11","v":0},{"$f":"RELEVE_COTES!$K$12","v":0},{"$f":"VLOOKUP(AA60,TabSeuilRef[],2,FALSE)","v":{"$error":"#N/A"}},{"$f":"\"Paumelles \"&RELEVE_COTES!$E$15","v":"Paumelles "},{"$f":"IF(RELEVE_COTES!$K$16<>\"Déporté\",RELEVE_COTES!$K$16,RELEVE_COTES!$K$16&\" / \"&VLOOKUP(RELEVE_COTES!$L$16,TabOptUsSerr[],2,FALSE))","v":"SANS"},{"$f":"RELEVE_COTES!$K$11","v":0},{"$f":"VLOOKUP(RELEVE_COTES!$G$12,TabNuancierVTL[],2,FALSE)&\"/\"&VLOOKUP(RELEVE_COTES!$G$13,TabNuancierVTL[],2,FALSE)","v":{"$error":"#N/A"}},{"$f":"IF(RELEVE_COTES!$E$14=\"Pr.Peint\",\"PP\",VLOOKUP(RELEVE_COTES!$G$14,TabNuancHM[],2,FALSE))","v":"PP"},{"$error":"#N/A"},{"$f":"IF(RELEVE_COTES!$C$11 =\"R32S-R02\",\"OUI\",\"NON\")","v":"NON"},"NON","",{"$f":"IF(AI60=\"OUI\",RELEVE_COTES!$N$16,\"\")","v":""},null,{"$f":"RELEVE_COTES!$E$12&\"/\"&RELEVE_COTES!$E$13","v":" SANS/ SANS"},{"$f":"IF(RELEVE_COTES!$K$15<>\"SANS\",RELEVE_COTES!$L$15&\" \"&RELEVE_COTES!$K$15,\"\")&IF(RELEVE_COTES!$N$15<>\"SANS\",\" / PMR: \"&RELEVE_COTES!$O$15&\" \"&RELEVE_COTES!$N$15,\"\")","v":""},{"$f":"IF(RELEVE_COTES!$K$14 <> \"SANS\",RELEVE_COTES!$O$14&\" \"&RELEVE_COTES!$K$14,\"\")","v":"U+F "},{"$f":"IF(RELEVE_COTES!$K$13 <> \"SANS\",RELEVE_COTES!$O$13&\" \"&RELEVE_COTES!$K$13,\"SANS\")","v":"U+F "},{"$f":"VLOOKUP(RELEVE_COTES!$O$11,TabOptUsSerr[],2,FALSE)","v":"Usinage, fourniture et pose"},{"$f":"INDEX(TabFinition[FINITION],MATCH(VLOOKUP(RELEVE_COTES!$G$12,TabNuancierVTL[],3,FALSE)&VLOOKUP(RELEVE_COTES!$G$13,TabNuancierVTL[],3,FALSE),TabFinition[TYPE EXT]&TabFinition[TYPE INT],0))","v":{"$error":"#N/A"}},"INT",{"$f":"RELEVE_COTES!$E$16","v":"platines + vérins"},"NON",{"$f":"IF(RELEVE_COTES!$I$20 = \"Huisserie Bois\",RELEVE_COTES!$R108,IF(RELEVE_COTES!$I$20 = \"Huisserie Banchée\",RELEVE_COTES!$M108,IF(RELEVE_COTES!$I$20 = \"Bâti Scellé\",RELEVE_COTES!$O108,\"\")))","v":""}]
[{"$error":"#VALUE!"},{"$error":"#VALUE!"},{"$f":"IF(RELEVE_COTES!$A109<>\"\",SUBSTITUTE(SUBSTITUTE(SUBSTITUTE(SUBSTITUTE(SUBSTITUTE(SUBSTITUTE(SUBSTITUTE(SUBSTITUTE(RELEVE_COTES!$A109,\" \",\"\"),\"-\",\"/\"),\".\",\"/\"),\"\\\",\"/\"),\",\",\"/\"),\"+\",\"_\"),\"&\",\"_\"),\"*\",\"/\"),\"\")","v":""},{"$f":"RELEVE_COTES!$B109","v":0},1,{"$f":"IF(RELEVE_COTES!C109<>\"\",SUBSTITUTE(SUBSTITUTE(SUBSTITUTE(SUBSTITUTE(SUBSTITUTE(SUBSTITUTE(SUBSTITUTE(SUBSTITUTE(RELEVE_COTES!C109,\" \",\"\"),\"-\",\"\"),\".\",\",\"),\"\\\",\"\"),\",\",\",\"),\"+\",\"\"),\"&\",\"\"),\"*\",\"\"),\"\")","v":""},{"$f":"IF(RELEVE_COTES!D109<>\"\",SUBSTITUTE(SUBSTITUTE(SUBSTITUTE(SUBSTITUTE(SUBSTITUTE(SUBSTITUTE(SUBSTITUTE(SUBSTITUTE(RELEVE_COTES!D109,\" \",\"\"),\"-\",\"\"),\".\",\",\"),\"\\\",\"\"),\",\",\",\"),\"+\",\"\"),\"&\",\"\"),\"*\",\"\"),\"\")","v":""},{"$f":"IF(RELEVE_COTES!E109<>\"\",SUBSTITUTE(SUBSTITUTE(SUBSTITUTE(SUBSTITUTE(SUBSTITUTE(SUBSTITUTE(SUBSTITUTE(SUBSTITUTE(RELEVE_COTES!E109,\" \",\"\"),\"-\",\"\"),\".\",\",\"),\"\\\",\"\"),\",\",\",\"),\"+\",\"\"),\"&\",\"\"),\"*\",\"\"),\"\")","v":""},{"$f":"IF(RELEVE_COTES!F109<>\"\",SUBSTITUTE(SUBSTITUTE(SUBSTITUTE(SUBSTITUTE(SUBSTITUTE(SUBSTITUTE(SUBSTITUTE(SUBSTITUTE(RELEVE_COTES!F109,\" \",\"\"),\"-\",\"\"),\".\",\",\"),\"\\\",\"\"),\",\",\",\"),\"+\",\"\"),\"&\",\"\"),\"*\",\"\"),\"\")","v":""},{"$f":"IF(RELEVE_COTES!G109<>\"\",SUBSTITUTE(SUBSTITUTE(SUBSTITUTE(SUBSTITUTE(SUBSTITUTE(SUBSTITUTE(SUBSTITUTE(SUBSTITUTE(RELEVE_COTES!G109,\" \",\"\"),\"-\",\"\"),\".\",\",\"),\"\\\",\"\"),\",\",\",\"),\"+\",\"\"),\"&\",\"\"),\"*\",\"\"),\"\")","v":""},{"$f":"IF($D61=\"GP\",IF(RELEVE_COTES!$I109=\"\",0,IF(RELEVE_COTES!$I109=\"\",\"\",RELEVE_COTES!$I109)),IF(RELEVE_COTES!$H109=\"\",0,IF(RELEVE_COTES!$H109=\"\",\"\",RELEVE_COTES!$H109)))","v":0},{"$f":"IF($D61=\"GP\",IF(RELEVE_COTES!$H109=\"\",0,IF(RELEVE_COTES!$H109=\"\",\"\",RELEVE_COTES!$H109)),IF(RELEVE_COTES!$I109=\"\",0,IF(RELEVE_COTES!$I109=\"\",\"\",RELEVE_COTES!$I109)))","v":0},{"$f":"IF(RELEVE_COTES!$J109=\"\",0,IF(RELEVE_COTES!$J109=\"\",\"\",RELEVE_COTES!$J109))","v":0},{"$f":"VLOOKUP(RELEVE_COTES!$K109,TabExistantRef1[],2,FALSE)","v":{"$error":"#N/A"}},{"$f":"IF($Y$1=\"BOIS\",RELEVE_COTES!$O109,0)","v":{"$error":"#N/A"}},{"$f":"IF($Y$1=\"BOIS\",RELEVE_COTES!$P109,0)","v":{"$error":"#N/A"}},{"$f":"IF($Y$1=\"BOIS\",RELEVE_COTES!$Q109,0)","v":{"$error":"#N/A"}},{"$error":"#N/A"},{"$f":"IF($Y$1=\"BANCHE\",RELEVE_COTES!$L109,0)","v":{"$error":"#N/A"}},{"$error":"#N/A"},{"$error":"#N/A"},{"$f":"IF($Y$1<>\"BANCHE\",RELEVE_COTES!$L109,0)","v":{"$error":"#N/A"}},{"$f":"IF(AND($Y$1<>\"BANCHE\",RELEVE_COTES!$M109<>\"\"),RELEVE_COTES!$M109,20)","v":{"$error":"#N/A"}},{"$f":"IF($Y$1<>\"BANCHE\",IF(RELEVE_COTES!$N109<>\"\",RELEVE_COTES!$N109,10),0)","v":{"$error":"#N/A"}},{"$f":"IF(RELEVE_COTES!$I$20=\"Huisserie Banchée\",\"Banche\",IF(RELEVE_COTES!$I$20=\"Huisserie Bois\",\"Bois\",IF(RELEVE_COTES!$I$20=\"Bâti Scellé\",\"Bâti Métal.\")))","v":false},{"$f":"RELEVE_COTES!$C$11","v":0},{"$f":"RELEVE_COTES!$K$12","v":0},{"$f":"VLOOKUP(AA61,TabSeuilRef[],2,FALSE)","v":{"$error":"#N/A"}},{"$f":"\"Paumelles \"&RELEVE_COTES!$E$15","v":"Paumelles "},{"$f":"IF(RELEVE_COTES!$K$16<>\"Déporté\",RELEVE_COTES!$K$16,RELEVE_COTES!$K$16&\" / \"&VLOOKUP(RELEVE_COTES!$L$16,TabOptUsSerr[],2,FALSE))","v":"SANS"},{"$f":"RELEVE_COTES!$K$11","v":0},{"$f":"VLOOKUP(RELEVE_COTES!$G$12,TabNuancierVTL[],2,FALSE)&\"/\"&VLOOKUP(RELEVE_COTES!$G$13,TabNuancierVTL[],2,FALSE)","v":{"$error":"#N/A"}},{"$f":"IF(RELEVE_COTES!$E$14=\"Pr.Peint\",\"PP\",VLOOKUP(RELEVE_COTES!$G$14,TabNuancHM[],2,FALSE))","v":"PP"},{"$f":"N61","v":{"$error":"#N/A"}},{"$f":"IF(RELEVE_COTES!$C$11 =\"R32S-R02\",\"OUI\",\"NON\")","v":"NON"},"NON",{"$f":"IF(AI61=\"OUI\",\"SEMI FIXE\",\"\")","v":""},{"$f":"IF(AI61=\"OUI\",RELEVE_COTES!$N$16,\"\")","v":""},null,{"$f":"RELEVE_COTES!$E$12&\"/\"&RELEVE_COTES!$E$13","v":" SANS/ SANS"},{"$f":"IF(RELEVE_COTES!$K$15<>\"SANS\",RELEVE_COTES!$L$15&\" \"&RELEVE_COTES!$K$15,\"\")&IF(RELEVE_COTES!$N$15<>\"SANS\",\" / PMR: \"&RELEVE_COTES!$O$15&\" \"&RELEVE_COTES!$N$15,\"\")","v":""},{"$f":"IF(RELEVE_COTES!$K$14 <> \"SANS\",RELEVE_COTES!$O$14&\" \"&RELEVE_COTES!$K$14,\"\")","v":"U+F "},{"$f":"IF(RELEVE_COTES!$K$13 <> \"SANS\",RELEVE_COTES!$O$13&\" \"&RELEVE_COTES!$K$13,\"SANS\")","v":"U+F "},{"$f":"VLOOKUP(RELEVE_COTES!$O$11,TabOptUsSerr[],2,FALSE)","v":"Usinage, fourniture et pose"},{"$f":"INDEX(TabFinition[FINITION],MATCH(VLOOKUP(RELEVE_COTES!$G$12,TabNuancierVTL[],3,FALSE)&VLOOKUP(RELEVE_COTES!$G$13,TabNuancierVTL[],3,FALSE),TabFinition[TYPE EXT]&TabFinition[TYPE INT],0))","v":{"$error":"#N/A"}},"INT",{"$f":"RELEVE_COTES!$E$16","v":"platines + vérins"},"NON",{"$f":"IF(RELEVE_COTES!$I$20 = \"Huisserie Bois\",RELEVE_COTES!$R109,IF(RELEVE_COTES!$I$20 = \"Huisserie Banchée\",RELEVE_COTES!$M109,IF(RELEVE_COTES!$I$20 = \"Bâti Scellé\",RELEVE_COTES!$O109,\"\")))","v":""}]
[{"$error":"#VALUE!"},{"$error":"#VALUE!"},{"$f":"IF(RELEVE_COTES!$A110<>\"\",SUBSTITUTE(SUBSTITUTE(SUBSTITUTE(SUBSTITUTE(SUBSTITUTE(SUBSTITUTE(SUBSTITUTE(SUBSTITUTE(RELEVE_COTES!$A110,\" \",\"\"),\"-\",\"/\"),\".\",\"/\"),\"\\\",\"/\"),\",\",\"/\"),\"+\",\"_\"),\"&\",\"_\"),\"*\",\"/\"),\"\")","v":""},{"$f":"RELEVE_COTES!$B110","v":0},1,{"$f":"IF(RELEVE_COTES!C110<>\"\",SUBSTITUTE(SUBSTITUTE(SUBSTITUTE(SUBSTITUTE(SUBSTITUTE(SUBSTITUTE(SUBSTITUTE(SUBSTITUTE(RELEVE_COTES!C110,\" \",\"\"),\"-\",\"\"),\".\",\",\"),\"\\\",\"\"),\",\",\",\"),\"+\",\"\"),\"&\",\"\"),\"*\",\"\"),\"\")","v":""},{"$f":"IF(RELEVE_COTES!D110<>\"\",SUBSTITUTE(SUBSTITUTE(SUBSTITUTE(SUBSTITUTE(SUBSTITUTE(SUBSTITUTE(SUBSTITUTE(SUBSTITUTE(RELEVE_COTES!D110,\" \",\"\"),\"-\",\"\"),\".\",\",\"),\"\\\",\"\"),\",\",\",\"),\"+\",\"\"),\"&\",\"\"),\"*\",\"\"),\"\")","v":""},{"$f":"IF(RELEVE_COTES!E110<>\"\",SUBSTITUTE(SUBSTITUTE(SUBSTITUTE(SUBSTITUTE(SUBSTITUTE(SUBSTITUTE(SUBSTITUTE(SUBSTITUTE(RELEVE_COTES!E110,\" \",\"\"),\"-\",\"\"),\".\",\",\"),\"\\\",\"\"),\",\",\",\"),\"+\",\"\"),\"&\",\"\"),\"*\",\"\"),\"\")","v":""},{"$f":"IF(RELEVE_COTES!F110<>\"\",SUBSTITUTE(SUBSTITUTE(SUBSTITUTE(SUBSTITUTE(SUBSTITUTE(SUBSTITUTE(SUBSTITUTE(SUBSTITUTE(RELEVE_COTES!F110,\" \",\"\"),\"-\",\"\"),\".\",\",\"),\"\\\",\"\"),\",\",\",\"),\"+\",\"\"),\"&\",\"\"),\"*\",\"\"),\"\")","v":""},{"$f":"IF(RELEVE_COTES!G110<>\"\",SUBSTITUTE(SUBSTITUTE(SUBSTITUTE(SUBSTITUTE(SUBSTITUTE(SUBSTITUTE(SUBSTITUTE(SUBSTITUTE(RELEVE_COTES!G110,\" \",\"\"),\"-\",\"\"),\".\",\",\"),\"\\\",\"\"),\",\",\",\"),\"+\",\"\"),\"&\",\"\"),\"*\",\"\"),\"\")","v":""},{"$f":"IF($D62=\"GP\",IF(RELEVE_COTES!$I110=\"\",0,IF(RELEVE_COTES!$I110=\"\",\"\",RELEVE_COTES!$I110)),IF(RELEVE_COTES!$H110=\"\",0,IF(RELEVE_COTES!$H110=\"\",\"\",RELEVE_COTES!$H110)))","v":0},{"$f":"IF($D62=\"GP\",IF(RELEVE_COTES!$H110=\"\",0,IF(RELEVE_COTES!$H110=\"\",\"\",RELEVE_COTES!$H110)),IF(RELEVE_COTES!$I110=\"\",0,IF(RELEVE_COTES!$I110=\"\",\"\",RELEVE_COTES!$I110)))","v":0},{"$f":"IF(RELEVE_COTES!$J110=\"\",0,IF(RELEVE_COTES!$J110=\"\",\"\",RELEVE_COTES!$J110))","v":0},{"$f":"VLOOKUP(RELEVE_COTES!$K110,TabExistantRef1[],2,FALSE)","v":{"$error":"#N/A"}},{"$f":"IF($Y$1=\"BOIS\",RELEVE_COTES!$O110,0)","v":{"$error":"#N/A"}},{"$f":"IF($Y$1=\"BOIS\",RELEVE_COTES!$P110,0)","v":{"$error":"#N/A"}},{"$f":"IF($Y$1=\"BOIS\",RELEVE_COTES!$Q110,0)","v":{"$error":"#N/A"}},{"$error":"#N/A"},{"$f":"IF($Y$1=\"BANCHE\",RELEVE_COTES!$L110,0)","v":{"$error":"#N/A"}},{"$error":"#N/A"},{"$error":"#N/A"},{"$f":"IF($Y$1<>\"BANCHE\",RELEVE_COTES!$L110,0)","v":{"$error":"#N/A"}},{"$f":"IF(AND($Y$1<>\"BANCHE\",RELEVE_COTES!$M110<>\"\"),RELEVE_COTES!$M110,20)","v":{"$error":"#N/A"}},{"$f":"IF($Y$1<>\"BANCHE\",IF(RELEVE_COTES!$N110<>\"\",RELEVE_COTES!$N110,10),0)","v":{"$error":"#N/A"}},{"$f":"IF(RELEVE_COTES!$I$20=\"Huisserie Banchée\",\"Banche\",IF(RELEVE_COTES!$I$20=\"Huisserie Bois\",\"Bois\",IF(RELEVE_COTES!$I$20=\"Bâti Scellé\",\"Bâti Métal.\")))","v":false},{"$f":"RELEVE_COTES!$C$11","v":0},{"$f":"RELEVE_COTES!$K$12","v":0},{"$f":"VLOOKUP(AA62,TabSeuilRef[],2,FALSE)","v":{"$error":"#N/A"}},{"$f":"\"Paumelles \"&RELEVE_COTES!$E$15","v":"Paumelles "},{"$f":"IF(RELEVE_COTES!$K$16<>\"Déporté\",RELEVE_COTES!$K$16,RELEVE_COTES!$K$16&\" / \"&VLOOKUP(RELEVE_COTES!$L$16,TabOptUsSerr[],2,FALSE))","v":"SANS"},{"$f":"RELEVE_COTES!$K$11","v":0},{"$f":"VLOOKUP(RELEVE_COTES!$G$12,TabNuancierVTL[],2,FALSE)&\"/\"&VLOOKUP(RELEVE_COTES!$G$13,TabNuancierVTL[],2,FALSE)","v":{"$error":"#N/A"}},{"$f":"IF(RELEVE_COTES!$E$14=\"Pr.Peint\",\"PP\",VLOOKUP(RELEVE_COTES!$G$14,TabNuancHM[],2,FALSE))","v":"PP"},{"$error":"#N/A"},{"$f":"IF(RELEVE_COTES!$C$11 =\"R32S-R02\",\"OUI\",\"NON\")","v":"NON"},"NON","",{"$f":"IF(AI62=\"OUI\",RELEVE_COTES!$N$16,\"\")","v":""},null,{"$f":"RELEVE_COTES!$E$12&\"/\"&RELEVE_COTES!$E$13","v":" SANS/ SANS"},{"$f":"IF(RELEVE_COTES!$K$15<>\"SANS\",RELEVE_COTES!$L$15&\" \"&RELEVE_COTES!$K$15,\"\")&IF(RELEVE_COTES!$N$15<>\"SANS\",\" / PMR: \"&RELEVE_COTES!$O$15&\" \"&RELEVE_COTES!$N$15,\"\")","v":""},{"$f":"IF(RELEVE_COTES!$K$14 <> \"SANS\",RELEVE_COTES!$O$14&\" \"&RELEVE_COTES!$K$14,\"\")","v":"U+F "},{"$f":"IF(RELEVE_COTES!$K$13 <> \"SANS\",RELEVE_COTES!$O$13&\" \"&RELEVE_COTES!$K$13,\"SANS\")","v":"U+F "},{"$f":"VLOOKUP(RELEVE_COTES!$O$11,TabOptUsSerr[],2,FALSE)","v":"Usinage, fourniture et pose"},{"$f":"INDEX(TabFinition[FINITION],MATCH(VLOOKUP(RELEVE_COTES!$G$12,TabNuancierVTL[],3,FALSE)&VLOOKUP(RELEVE_COTES!$G$13,TabNuancierVTL[],3,FALSE),TabFinition[TYPE EXT]&TabFinition[TYPE INT],0))","v":{"$error":"#N/A"}},"INT",{"$f":"RELEVE_COTES!$E$16","v":"platines + vérins"},"NON",{"$f":"IF(RELEVE_COTES!$I$20 = \"Huisserie Bois\",RELEVE_COTES!$R110,IF(RELEVE_COTES!$I$20 = \"Huisserie Banchée\",RELEVE_COTES!$M110,IF(RELEVE_COTES!$I$20 = \"Bâti Scellé\",RELEVE_COTES!$O110,\"\")))","v":""}]
[{"$error":"#VALUE!"},{"$error":"#VALUE!"},{"$f":"IF(RELEVE_COTES!$A111<>\"\",SUBSTITUTE(SUBSTITUTE(SUBSTITUTE(SUBSTITUTE(SUBSTITUTE(SUBSTITUTE(SUBSTITUTE(SUBSTITUTE(RELEVE_COTES!$A111,\" \",\"\"),\"-\",\"/\"),\".\",\"/\"),\"\\\",\"/\"),\",\",\"/\"),\"+\",\"_\"),\"&\",\"_\"),\"*\",\"/\"),\"\")","v":""},{"$f":"RELEVE_COTES!$B111","v":0},1,{"$f":"IF(RELEVE_COTES!C111<>\"\",SUBSTITUTE(SUBSTITUTE(SUBSTITUTE(SUBSTITUTE(SUBSTITUTE(SUBSTITUTE(SUBSTITUTE(SUBSTITUTE(RELEVE_COTES!C111,\" \",\"\"),\"-\",\"\"),\".\",\",\"),\"\\\",\"\"),\",\",\",\"),\"+\",\"\"),\"&\",\"\"),\"*\",\"\"),\"\")","v":""},{"$f":"IF(RELEVE_COTES!D111<>\"\",SUBSTITUTE(SUBSTITUTE(SUBSTITUTE(SUBSTITUTE(SUBSTITUTE(SUBSTITUTE(SUBSTITUTE(SUBSTITUTE(RELEVE_COTES!D111,\" \",\"\"),\"-\",\"\"),\".\",\",\"),\"\\\",\"\"),\",\",\",\"),\"+\",\"\"),\"&\",\"\"),\"*\",\"\"),\"\")","v":""},{"$f":"IF(RELEVE_COTES!E111<>\"\",SUBSTITUTE(SUBSTITUTE(SUBSTITUTE(SUBSTITUTE(SUBSTITUTE(SUBSTITUTE(SUBSTITUTE(SUBSTITUTE(RELEVE_COTES!E111,\" \",\"\"),\"-\",\"\"),\".\",\",\"),\"\\\",\"\"),\",\",\",\"),\"+\",\"\"),\"&\",\"\"),\"*\",\"\"),\"\")","v":""},{"$f":"IF(RELEVE_COTES!F111<>\"\",SUBSTITUTE(SUBSTITUTE(SUBSTITUTE(SUBSTITUTE(SUBSTITUTE(SUBSTITUTE(SUBSTITUTE(SUBSTITUTE(RELEVE_COTES!F111,\" \",\"\"),\"-\",\"\"),\".\",\",\"),\"\\\",\"\"),\",\",\",\"),\"+\",\"\"),\"&\",\"\"),\"*\",\"\"),\"\")","v":""},{"$f":"IF(RELEVE_COTES!G111<>\"\",SUBSTITUTE(SUBSTITUTE(SUBSTITUTE(SUBSTITUTE(SUBSTITUTE(SUBSTITUTE(SUBSTITUTE(SUBSTITUTE(RELEVE_COTES!G111,\" \",\"\"),\"-\",\"\"),\".\",\",\"),\"\\\",\"\"),\",\",\",\"),\"+\",\"\"),\"&\",\"\"),\"*\",\"\"),\"\")","v":""},{"$f":"IF($D63=\"GP\",IF(RELEVE_COTES!$I111=\"\",0,IF(RELEVE_COTES!$I111=\"\",\"\",RELEVE_COTES!$I111)),IF(RELEVE_COTES!$H111=\"\",0,IF(RELEVE_COTES!$H111=\"\",\"\",RELEVE_COTES!$H111)))","v":0},{"$f":"IF($D63=\"GP\",IF(RELEVE_COTES!$H111=\"\",0,IF(RELEVE_COTES!$H111=\"\",\"\",RELEVE_COTES!$H111)),IF(RELEVE_COTES!$I111=\"\",0,IF(RELEVE_COTES!$I111=\"\",\"\",RELEVE_COTES!$I111)))","v":0},{"$f":"IF(RELEVE_COTES!$J111=\"\",0,IF(RELEVE_COTES!$J111=\"\",\"\",RELEVE_COTES!$J111))","v":0},{"$f":"VLOOKUP(RELEVE_COTES!$K111,TabExistantRef1[],2,FALSE)","v":{"$error":"#N/A"}},{"$f":"IF($Y$1=\"BOIS\",RELEVE_COTES!$O111,0)","v":{"$error":"#N/A"}},{"$f":"IF($Y$1=\"BOIS\",RELEVE_COTES!$P111,0)","v":{"$error":"#N/A"}},{"$f":"IF($Y$1=\"BOIS\",RELEVE_COTES!$Q111,0)","v":{"$error":"#N/A"}},{"$error":"#N/A"},{"$f":"IF($Y$1=\"BANCHE\",RELEVE_COTES!$L111,0)","v":{"$error":"#N/A"}},{"$error":"#N/A"},{"$error":"#N/A"},{"$f":"IF($Y$1<>\"BANCHE\",RELEVE_COTES!$L111,0)","v":{"$error":"#N/A"}},{"$f":"IF(AND($Y$1<>\"BANCHE\",RELEVE_COTES!$M111<>\"\"),RELEVE_COTES!$M111,20)","v":{"$error":"#N/A"}},{"$f":"IF($Y$1<>\"BANCHE\",IF(RELEVE_COTES!$N111<>\"\",RELEVE_COTES!$N111,10),0)","v":{"$error":"#N/A"}},{"$f":"IF(RELEVE_COTES!$I$20=\"Huisserie Banchée\",\"Banche\",IF(RELEVE_COTES!$I$20=\"Huisserie Bois\",\"Bois\",IF(RELEVE_COTES!$I$20=\"Bâti Scellé\",\"Bâti Métal.\")))","v":false},{"$f":"RELEVE_COTES!$C$11","v":0},{"$f":"RELEVE_COTES!$K$12","v":0},{"$f":"VLOOKUP(AA63,TabSeuilRef[],2,FALSE)","v":{"$error":"#N/A"}},{"$f":"\"Paumelles \"&RELEVE_COTES!$E$15","v":"Paumelles "},{"$f":"IF(RELEVE_COTES!$K$16<>\"Déporté\",RELEVE_COTES!$K$16,RELEVE_COTES!$K$16&\" / \"&VLOOKUP(RELEVE_COTES!$L$16,TabOptUsSerr[],2,FALSE))","v":"SANS"},{"$f":"RELEVE_COTES!$K$11","v":0},{"$f":"VLOOKUP(RELEVE_COTES!$G$12,TabNuancierVTL[],2,FALSE)&\"/\"&VLOOKUP(RELEVE_COTES!$G$13,TabNuancierVTL[],2,FALSE)","v":{"$error":"#N/A"}},{"$f":"IF(RELEVE_COTES!$E$14=\"Pr.Peint\",\"PP\",VLOOKUP(RELEVE_COTES!$G$14,TabNuancHM[],2,FALSE))","v":"PP"},{"$error":"#N/A"},{"$f":"IF(RELEVE_COTES!$C$11 =\"R32S-R02\",\"OUI\",\"NON\")","v":"NON"},"NON","",{"$f":"IF(AI63=\"OUI\",RELEVE_COTES!$N$16,\"\")","v":""},null,{"$f":"RELEVE_COTES!$E$12&\"/\"&RELEVE_COTES!$E$13","v":" SANS/ SANS"},{"$f":"IF(RELEVE_COTES!$K$15<>\"SANS\",RELEVE_COTES!$L$15&\" \"&RELEVE_COTES!$K$15,\"\")&IF(RELEVE_COTES!$N$15<>\"SANS\",\" / PMR: \"&RELEVE_COTES!$O$15&\" \"&RELEVE_COTES!$N$15,\"\")","v":""},{"$f":"IF(RELEVE_COTES!$K$14 <> \"SANS\",RELEVE_COTES!$O$14&\" \"&RELEVE_COTES!$K$14,\"\")","v":"U+F "},{"$f":"IF(RELEVE_COTES!$K$13 <> \"SANS\",RELEVE_COTES!$O$13&\" \"&RELEVE_COTES!$K$13,\"SANS\")","v":"U+F "},{"$f":"VLOOKUP(RELEVE_COTES!$O$11,TabOptUsSerr[],2,FALSE)","v":"Usinage, fourniture et pose"},{"$f":"INDEX(TabFinition[FINITION],MATCH(VLOOKUP(RELEVE_COTES!$G$12,TabNuancierVTL[],3,FALSE)&VLOOKUP(RELEVE_COTES!$G$13,TabNuancierVTL[],3,FALSE),TabFinition[TYPE EXT]&TabFinition[TYPE INT],0))","v":{"$error":"#N/A"}},"INT",{"$f":"RELEVE_COTES!$E$16","v":"platines + vérins"},"NON",{"$f":"IF(RELEVE_COTES!$I$20 = \"Huisserie Bois\",RELEVE_COTES!$R111,IF(RELEVE_COTES!$I$20 = \"Huisserie Banchée\",RELEVE_COTES!$M111,IF(RELEVE_COTES!$I$20 = \"Bâti Scellé\",RELEVE_COTES!$O111,\"\")))","v":""}]
[{"$error":"#VALUE!"},{"$error":"#VALUE!"},{"$f":"IF(RELEVE_COTES!$A112<>\"\",SUBSTITUTE(SUBSTITUTE(SUBSTITUTE(SUBSTITUTE(SUBSTITUTE(SUBSTITUTE(SUBSTITUTE(SUBSTITUTE(RELEVE_COTES!$A112,\" \",\"\"),\"-\",\"/\"),\".\",\"/\"),\"\\\",\"/\"),\",\",\"/\"),\"+\",\"_\"),\"&\",\"_\"),\"*\",\"/\"),\"\")","v":""},{"$f":"RELEVE_COTES!$B112","v":0},1,{"$f":"IF(RELEVE_COTES!C112<>\"\",SUBSTITUTE(SUBSTITUTE(SUBSTITUTE(SUBSTITUTE(SUBSTITUTE(SUBSTITUTE(SUBSTITUTE(SUBSTITUTE(RELEVE_COTES!C112,\" \",\"\"),\"-\",\"\"),\".\",\",\"),\"\\\",\"\"),\",\",\",\"),\"+\",\"\"),\"&\",\"\"),\"*\",\"\"),\"\")","v":""},{"$f":"IF(RELEVE_COTES!D112<>\"\",SUBSTITUTE(SUBSTITUTE(SUBSTITUTE(SUBSTITUTE(SUBSTITUTE(SUBSTITUTE(SUBSTITUTE(SUBSTITUTE(RELEVE_COTES!D112,\" \",\"\"),\"-\",\"\"),\".\",\",\"),\"\\\",\"\"),\",\",\",\"),\"+\",\"\"),\"&\",\"\"),\"*\",\"\"),\"\")","v":""},{"$f":"IF(RELEVE_COTES!E112<>\"\",SUBSTITUTE(SUBSTITUTE(SUBSTITUTE(SUBSTITUTE(SUBSTITUTE(SUBSTITUTE(SUBSTITUTE(SUBSTITUTE(RELEVE_COTES!E112,\" \",\"\"),\"-\",\"\"),\".\",\",\"),\"\\\",\"\"),\",\",\",\"),\"+\",\"\"),\"&\",\"\"),\"*\",\"\"),\"\")","v":""},{"$f":"IF(RELEVE_COTES!F112<>\"\",SUBSTITUTE(SUBSTITUTE(SUBSTITUTE(SUBSTITUTE(SUBSTITUTE(SUBSTITUTE(SUBSTITUTE(SUBSTITUTE(RELEVE_COTES!F112,\" \",\"\"),\"-\",\"\"),\".\",\",\"),\"\\\",\"\"),\",\",\",\"),\"+\",\"\"),\"&\",\"\"),\"*\",\"\"),\"\")","v":""},{"$f":"IF(RELEVE_COTES!G112<>\"\",SUBSTITUTE(SUBSTITUTE(SUBSTITUTE(SUBSTITUTE(SUBSTITUTE(SUBSTITUTE(SUBSTITUTE(SUBSTITUTE(RELEVE_COTES!G112,\" \",\"\"),\"-\",\"\"),\".\",\",\"),\"\\\",\"\"),\",\",\",\"),\"+\",\"\"),\"&\",\"\"),\"*\",\"\"),\"\")","v":""},{"$f":"IF($D64=\"GP\",IF(RELEVE_COTES!$I112=\"\",0,IF(RELEVE_COTES!$I112=\"\",\"\",RELEVE_COTES!$I112)),IF(RELEVE_COTES!$H112=\"\",0,IF(RELEVE_COTES!$H112=\"\",\"\",RELEVE_COTES!$H112)))","v":0},{"$f":"IF($D64=\"GP\",IF(RELEVE_COTES!$H112=\"\",0,IF(RELEVE_COTES!$H112=\"\",\"\",RELEVE_COTES!$H112)),IF(RELEVE_COTES!$I112=\"\",0,IF(RELEVE_COTES!$I112=\"\",\"\",RELEVE_COTES!$I112)))","v":0},{"$f":"IF(RELEVE_COTES!$J112=\"\",0,IF(RELEVE_COTES!$J112=\"\",\"\",RELEVE_COTES!$J112))","v":0},{"$f":"VLOOKUP(RELEVE_COTES!$K112,TabExistantRef1[],2,FALSE)","v":{"$error":"#N/A"}},{"$f":"IF($Y$1=\"BOIS\",RELEVE_COTES!$O112,0)","v":{"$error":"#N/A"}},{"$f":"IF($Y$1=\"BOIS\",RELEVE_COTES!$P112,0)","v":{"$error":"#N/A"}},{"$f":"IF($Y$1=\"BOIS\",RELEVE_COTES!$Q112,0)","v":{"$error":"#N/A"}},{"$error":"#N/A"},{"$f":"IF($Y$1=\"BANCHE\",RELEVE_COTES!$L112,0)","v":{"$error":"#N/A"}},{"$error":"#N/A"},{"$error":"#N/A"},{"$f":"IF($Y$1<>\"BANCHE\",RELEVE_COTES!$L112,0)","v":{"$error":"#N/A"}},{"$f":"IF(AND($Y$1<>\"BANCHE\",RELEVE_COTES!$M112<>\"\"),RELEVE_COTES!$M112,20)","v":{"$error":"#N/A"}},{"$f":"IF($Y$1<>\"BANCHE\",IF(RELEVE_COTES!$N112<>\"\",RELEVE_COTES!$N112,10),0)","v":{"$error":"#N/A"}},{"$f":"IF(RELEVE_COTES!$I$20=\"Huisserie Banchée\",\"Banche\",IF(RELEVE_COTES!$I$20=\"Huisserie Bois\",\"Bois\",IF(RELEVE_COTES!$I$20=\"Bâti Scellé\",\"Bâti Métal.\")))","v":false},{"$f":"RELEVE_COTES!$C$11","v":0},{"$f":"RELEVE_COTES!$K$12","v":0},{"$f":"VLOOKUP(AA64,TabSeuilRef[],2,FALSE)","v":{"$error":"#N/A"}},{"$f":"\"Paumelles \"&RELEVE_COTES!$E$15","v":"Paumelles "},{"$f":"IF(RELEVE_COTES!$K$16<>\"Déporté\",RELEVE_COTES!$K$16,RELEVE_COTES!$K$16&\" / \"&VLOOKUP(RELEVE_COTES!$L$16,TabOptUsSerr[],2,FALSE))","v":"SANS"},{"$f":"RELEVE_COTES!$K$11","v":0},{"$f":"VLOOKUP(RELEVE_COTES!$G$12,TabNuancierVTL[],2,FALSE)&\"/\"&VLOOKUP(RELEVE_COTES!$G$13,TabNuancierVTL[],2,FALSE)","v":{"$error":"#N/A"}},{"$f":"IF(RELEVE_COTES!$E$14=\"Pr.Peint\",\"PP\",VLOOKUP(RELEVE_COTES!$G$14,TabNuancHM[],2,FALSE))","v":"PP"},{"$error":"#N/A"},{"$f":"IF(RELEVE_COTES!$C$11 =\"R32S-R02\",\"OUI\",\"NON\")","v":"NON"},"NON","",{"$f":"IF(AI64=\"OUI\",RELEVE_COTES!$N$16,\"\")","v":""},null,{"$f":"RELEVE_COTES!$E$12&\"/\"&RELEVE_COTES!$E$13","v":" SANS/ SANS"},{"$f":"IF(RELEVE_COTES!$K$15<>\"SANS\",RELEVE_COTES!$L$15&\" \"&RELEVE_COTES!$K$15,\"\")&IF(RELEVE_COTES!$N$15<>\"SANS\",\" / PMR: \"&RELEVE_COTES!$O$15&\" \"&RELEVE_COTES!$N$15,\"\")","v":""},{"$f":"IF(RELEVE_COTES!$K$14 <> \"SANS\",RELEVE_COTES!$O$14&\" \"&RELEVE_COTES!$K$14,\"\")","v":"U+F "},{"$f":"IF(RELEVE_COTES!$K$13 <> \"SANS\",RELEVE_COTES!$O$13&\" \"&RELEVE_COTES!$K$13,\"SANS\")","v":"U+F "},{"$f":"VLOOKUP(RELEVE_COTES!$O$11,TabOptUsSerr[],2,FALSE)","v":"Usinage, fourniture et pose"},{"$f":"INDEX(TabFinition[FINITION],MATCH(VLOOKUP(RELEVE_COTES!$G$12,TabNuancierVTL[],3,FALSE)&VLOOKUP(RELEVE_COTES!$G$13,TabNuancierVTL[],3,FALSE),TabFinition[TYPE EXT]&TabFinition[TYPE INT],0))","v":{"$error":"#N/A"}},"INT",{"$f":"RELEVE_COTES!$E$16","v":"platines + vérins"},"NON",{"$f":"IF(RELEVE_COTES!$I$20 = \"Huisserie Bois\",RELEVE_COTES!$R112,IF(RELEVE_COTES!$I$20 = \"Huisserie Banchée\",RELEVE_COTES!$M112,IF(RELEVE_COTES!$I$20 = \"Bâti Scellé\",RELEVE_COTES!$O112,\"\")))","v":""}]
[{"$error":"#VALUE!"},{"$error":"#VALUE!"},{"$f":"IF(RELEVE_COTES!$A113<>\"\",SUBSTITUTE(SUBSTITUTE(SUBSTITUTE(SUBSTITUTE(SUBSTITUTE(SUBSTITUTE(SUBSTITUTE(SUBSTITUTE(RELEVE_COTES!$A113,\" \",\"\"),\"-\",\"/\"),\".\",\"/\"),\"\\\",\"/\"),\",\",\"/\"),\"+\",\"_\"),\"&\",\"_\"),\"*\",\"/\"),\"\")","v":""},{"$f":"RELEVE_COTES!$B113","v":0},1,{"$f":"IF(RELEVE_COTES!C113<>\"\",SUBSTITUTE(SUBSTITUTE(SUBSTITUTE(SUBSTITUTE(SUBSTITUTE(SUBSTITUTE(SUBSTITUTE(SUBSTITUTE(RELEVE_COTES!C113,\" \",\"\"),\"-\",\"\"),\".\",\",\"),\"\\\",\"\"),\",\",\",\"),\"+\",\"\"),\"&\",\"\"),\"*\",\"\"),\"\")","v":""},{"$f":"IF(RELEVE_COTES!D113<>\"\",SUBSTITUTE(SUBSTITUTE(SUBSTITUTE(SUBSTITUTE(SUBSTITUTE(SUBSTITUTE(SUBSTITUTE(SUBSTITUTE(RELEVE_COTES!D113,\" \",\"\"),\"-\",\"\"),\".\",\",\"),\"\\\",\"\"),\",\",\",\"),\"+\",\"\"),\"&\",\"\"),\"*\",\"\"),\"\")","v":""},{"$f":"IF(RELEVE_COTES!E113<>\"\",SUBSTITUTE(SUBSTITUTE(SUBSTITUTE(SUBSTITUTE(SUBSTITUTE(SUBSTITUTE(SUBSTITUTE(SUBSTITUTE(RELEVE_COTES!E113,\" \",\"\"),\"-\",\"\"),\".\",\",\"),\"\\\",\"\"),\",\",\",\"),\"+\",\"\"),\"&\",\"\"),\"*\",\"\"),\"\")","v":""},{"$f":"IF(RELEVE_COTES!F113<>\"\",SUBSTITUTE(SUBSTITUTE(SUBSTITUTE(SUBSTITUTE(SUBSTITUTE(SUBSTITUTE(SUBSTITUTE(SUBSTITUTE(RELEVE_COTES!F113,\" \",\"\"),\"-\",\"\"),\".\",\",\"),\"\\\",\"\"),\",\",\",\"),\"+\",\"\"),\"&\",\"\"),\"*\",\"\"),\"\")","v":""},{"$f":"IF(RELEVE_COTES!G113<>\"\",SUBSTITUTE(SUBSTITUTE(SUBSTITUTE(SUBSTITUTE(SUBSTITUTE(SUBSTITUTE(SUBSTITUTE(SUBSTITUTE(RELEVE_COTES!G113,\" \",\"\"),\"-\",\"\"),\".\",\",\"),\"\\\",\"\"),\",\",\",\"),\"+\",\"\"),\"&\",\"\"),\"*\",\"\"),\"\")","v":""},{"$f":"IF($D65=\"GP\",IF(RELEVE_COTES!$I113=\"\",0,IF(RELEVE_COTES!$I113=\"\",\"\",RELEVE_COTES!$I113)),IF(RELEVE_COTES!$H113=\"\",0,IF(RELEVE_COTES!$H113=\"\",\"\",RELEVE_COTES!$H113)))","v":0},{"$f":"IF($D65=\"GP\",IF(RELEVE_COTES!$H113=\"\",0,IF(RELEVE_COTES!$H113=\"\",\"\",RELEVE_COTES!$H113)),IF(RELEVE_COTES!$I113=\"\",0,IF(RELEVE_COTES!$I113=\"\",\"\",RELEVE_COTES!$I113)))","v":0},{"$f":"IF(RELEVE_COTES!$J113=\"\",0,IF(RELEVE_COTES!$J113=\"\",\"\",RELEVE_COTES!$J113))","v":0},{"$f":"VLOOKUP(RELEVE_COTES!$K113,TabExistantRef1[],2,FALSE)","v":{"$error":"#N/A"}},{"$f":"IF($Y$1=\"BOIS\",RELEVE_COTES!$O113,0)","v":{"$error":"#N/A"}},{"$f":"IF($Y$1=\"BOIS\",RELEVE_COTES!$P113,0)","v":{"$error":"#N/A"}},{"$f":"IF($Y$1=\"BOIS\",RELEVE_COTES!$Q113,0)","v":{"$error":"#N/A"}},{"$error":"#N/A"},{"$f":"IF($Y$1=\"BANCHE\",RELEVE_COTES!$L113,0)","v":{"$error":"#N/A"}},{"$error":"#N/A"},{"$error":"#N/A"},{"$f":"IF($Y$1<>\"BANCHE\",RELEVE_COTES!$L113,0)","v":{"$error":"#N/A"}},{"$f":"IF(AND($Y$1<>\"BANCHE\",RELEVE_COTES!$M113<>\"\"),RELEVE_COTES!$M113,20)","v":{"$error":"#N/A"}},{"$f":"IF($Y$1<>\"BANCHE\",IF(RELEVE_COTES!$N113<>\"\",RELEVE_COTES!$N113,10),0)","v":{"$error":"#N/A"}},{"$f":"IF(RELEVE_COTES!$I$20=\"Huisserie Banchée\",\"Banche\",IF(RELEVE_COTES!$I$20=\"Huisserie Bois\",\"Bois\",IF(RELEVE_COTES!$I$20=\"Bâti Scellé\",\"Bâti Métal.\")))","v":false},{"$f":"RELEVE_COTES!$C$11","v":0},{"$f":"RELEVE_COTES!$K$12","v":0},{"$f":"VLOOKUP(AA65,TabSeuilRef[],2,FALSE)","v":{"$error":"#N/A"}},{"$f":"\"Paumelles \"&RELEVE_COTES!$E$15","v":"Paumelles "},{"$f":"IF(RELEVE_COTES!$K$16<>\"Déporté\",RELEVE_COTES!$K$16,RELEVE_COTES!$K$16&\" / \"&VLOOKUP(RELEVE_COTES!$L$16,TabOptUsSerr[],2,FALSE))","v":"SANS"},{"$f":"RELEVE_COTES!$K$11","v":0},{"$f":"VLOOKUP(RELEVE_COTES!$G$12,TabNuancierVTL[],2,FALSE)&\"/\"&VLOOKUP(RELEVE_COTES!$G$13,TabNuancierVTL[],2,FALSE)","v":{"$error":"#N/A"}},{"$f":"IF(RELEVE_COTES!$E$14=\"Pr.Peint\",\"PP\",VLOOKUP(RELEVE_COTES!$G$14,TabNuancHM[],2,FALSE))","v":"PP"},{"$error":"#N/A"},{"$f":"IF(RELEVE_COTES!$C$11 =\"R32S-R02\",\"OUI\",\"NON\")","v":"NON"},"NON","",{"$f":"IF(AI65=\"OUI\",RELEVE_COTES!$N$16,\"\")","v":""},null,{"$f":"RELEVE_COTES!$E$12&\"/\"&RELEVE_COTES!$E$13","v":" SANS/ SANS"},{"$f":"IF(RELEVE_COTES!$K$15<>\"SANS\",RELEVE_COTES!$L$15&\" \"&RELEVE_COTES!$K$15,\"\")&IF(RELEVE_COTES!$N$15<>\"SANS\",\" / PMR: \"&RELEVE_COTES!$O$15&\" \"&RELEVE_COTES!$N$15,\"\")","v":""},{"$f":"IF(RELEVE_COTES!$K$14 <> \"SANS\",RELEVE_COTES!$O$14&\" \"&RELEVE_COTES!$K$14,\"\")","v":"U+F "},{"$f":"IF(RELEVE_COTES!$K$13 <> \"SANS\",RELEVE_COTES!$O$13&\" \"&RELEVE_COTES!$K$13,\"SANS\")","v":"U+F "},{"$f":"VLOOKUP(RELEVE_COTES!$O$11,TabOptUsSerr[],2,FALSE)","v":"Usinage, fourniture et pose"},{"$f":"INDEX(TabFinition[FINITION],MATCH(VLOOKUP(RELEVE_COTES!$G$12,TabNuancierVTL[],3,FALSE)&VLOOKUP(RELEVE_COTES!$G$13,TabNuancierVTL[],3,FALSE),TabFinition[TYPE EXT]&TabFinition[TYPE INT],0))","v":{"$error":"#N/A"}},"INT",{"$f":"RELEVE_COTES!$E$16","v":"platines + vérins"},"NON",{"$f":"IF(RELEVE_COTES!$I$20 = \"Huisserie Bois\",RELEVE_COTES!$R113,IF(RELEVE_COTES!$I$20 = \"Huisserie Banchée\",RELEVE_COTES!$M113,IF(RELEVE_COTES!$I$20 = \"Bâti Scellé\",RELEVE_COTES!$O113,\"\")))","v":""}]
[{"$error":"#VALUE!"},{"$error":"#VALUE!"},{"$f":"IF(RELEVE_COTES!$A114<>\"\",SUBSTITUTE(SUBSTITUTE(SUBSTITUTE(SUBSTITUTE(SUBSTITUTE(SUBSTITUTE(SUBSTITUTE(SUBSTITUTE(RELEVE_COTES!$A114,\" \",\"\"),\"-\",\"/\"),\".\",\"/\"),\"\\\",\"/\"),\",\",\"/\"),\"+\",\"_\"),\"&\",\"_\"),\"*\",\"/\"),\"\")","v":""},{"$f":"RELEVE_COTES!$B114","v":0},1,{"$f":"IF(RELEVE_COTES!C114<>\"\",SUBSTITUTE(SUBSTITUTE(SUBSTITUTE(SUBSTITUTE(SUBSTITUTE(SUBSTITUTE(SUBSTITUTE(SUBSTITUTE(RELEVE_COTES!C114,\" \",\"\"),\"-\",\"\"),\".\",\",\"),\"\\\",\"\"),\",\",\",\"),\"+\",\"\"),\"&\",\"\"),\"*\",\"\"),\"\")","v":""},{"$f":"IF(RELEVE_COTES!D114<>\"\",SUBSTITUTE(SUBSTITUTE(SUBSTITUTE(SUBSTITUTE(SUBSTITUTE(SUBSTITUTE(SUBSTITUTE(SUBSTITUTE(RELEVE_COTES!D114,\" \",\"\"),\"-\",\"\"),\".\",\",\"),\"\\\",\"\"),\",\",\",\"),\"+\",\"\"),\"&\",\"\"),\"*\",\"\"),\"\")","v":""},{"$f":"IF(RELEVE_COTES!E114<>\"\",SUBSTITUTE(SUBSTITUTE(SUBSTITUTE(SUBSTITUTE(SUBSTITUTE(SUBSTITUTE(SUBSTITUTE(SUBSTITUTE(RELEVE_COTES!E114,\" \",\"\"),\"-\",\"\"),\".\",\",\"),\"\\\",\"\"),\",\",\",\"),\"+\",\"\"),\"&\",\"\"),\"*\",\"\"),\"\")","v":""},{"$f":"IF(RELEVE_COTES!F114<>\"\",SUBSTITUTE(SUBSTITUTE(SUBSTITUTE(SUBSTITUTE(SUBSTITUTE(SUBSTITUTE(SUBSTITUTE(SUBSTITUTE(RELEVE_COTES!F114,\" \",\"\"),\"-\",\"\"),\".\",\",\"),\"\\\",\"\"),\",\",\",\"),\"+\",\"\"),\"&\",\"\"),\"*\",\"\"),\"\")","v":""},{"$f":"IF(RELEVE_COTES!G114<>\"\",SUBSTITUTE(SUBSTITUTE(SUBSTITUTE(SUBSTITUTE(SUBSTITUTE(SUBSTITUTE(SUBSTITUTE(SUBSTITUTE(RELEVE_COTES!G114,\" \",\"\"),\"-\",\"\"),\".\",\",\"),\"\\\",\"\"),\",\",\",\"),\"+\",\"\"),\"&\",\"\"),\"*\",\"\"),\"\")","v":""},{"$f":"IF($D66=\"GP\",IF(RELEVE_COTES!$I114=\"\",0,IF(RELEVE_COTES!$I114=\"\",\"\",RELEVE_COTES!$I114)),IF(RELEVE_COTES!$H114=\"\",0,IF(RELEVE_COTES!$H114=\"\",\"\",RELEVE_COTES!$H114)))","v":0},{"$f":"IF($D66=\"GP\",IF(RELEVE_COTES!$H114=\"\",0,IF(RELEVE_COTES!$H114=\"\",\"\",RELEVE_COTES!$H114)),IF(RELEVE_COTES!$I114=\"\",0,IF(RELEVE_COTES!$I114=\"\",\"\",RELEVE_COTES!$I114)))","v":0},{"$f":"IF(RELEVE_COTES!$J114=\"\",0,IF(RELEVE_COTES!$J114=\"\",\"\",RELEVE_COTES!$J114))","v":0},{"$f":"VLOOKUP(RELEVE_COTES!$K114,TabExistantRef1[],2,FALSE)","v":{"$error":"#N/A"}},{"$f":"IF($Y$1=\"BOIS\",RELEVE_COTES!$O114,0)","v":{"$error":"#N/A"}},{"$f":"IF($Y$1=\"BOIS\",RELEVE_COTES!$P114,0)","v":{"$error":"#N/A"}},{"$f":"IF($Y$1=\"BOIS\",RELEVE_COTES!$Q114,0)","v":{"$error":"#N/A"}},{"$error":"#N/A"},{"$f":"IF($Y$1=\"BANCHE\",RELEVE_COTES!$L114,0)","v":{"$error":"#N/A"}},{"$error":"#N/A"},{"$error":"#N/A"},{"$f":"IF($Y$1<>\"BANCHE\",RELEVE_COTES!$L114,0)","v":{"$error":"#N/A"}},{"$f":"IF(AND($Y$1<>\"BANCHE\",RELEVE_COTES!$M114<>\"\"),RELEVE_COTES!$M114,20)","v":{"$error":"#N/A"}},{"$f":"IF($Y$1<>\"BANCHE\",IF(RELEVE_COTES!$N114<>\"\",RELEVE_COTES!$N114,10),0)","v":{"$error":"#N/A"}},{"$f":"IF(RELEVE_COTES!$I$20=\"Huisserie Banchée\",\"Banche\",IF(RELEVE_COTES!$I$20=\"Huisserie Bois\",\"Bois\",IF(RELEVE_COTES!$I$20=\"Bâti Scellé\",\"Bâti Métal.\")))","v":false},{"$f":"RELEVE_COTES!$C$11","v":0},{"$f":"RELEVE_COTES!$K$12","v":0},{"$f":"VLOOKUP(AA66,TabSeuilRef[],2,FALSE)","v":{"$error":"#N/A"}},{"$f":"\"Paumelles \"&RELEVE_COTES!$E$15","v":"Paumelles "},{"$f":"IF(RELEVE_COTES!$K$16<>\"Déporté\",RELEVE_COTES!$K$16,RELEVE_COTES!$K$16&\" / \"&VLOOKUP(RELEVE_COTES!$L$16,TabOptUsSerr[],2,FALSE))","v":"SANS"},{"$f":"RELEVE_COTES!$K$11","v":0},{"$f":"VLOOKUP(RELEVE_COTES!$G$12,TabNuancierVTL[],2,FALSE)&\"/\"&VLOOKUP(RELEVE_COTES!$G$13,TabNuancierVTL[],2,FALSE)","v":{"$error":"#N/A"}},{"$f":"IF(RELEVE_COTES!$E$14=\"Pr.Peint\",\"PP\",VLOOKUP(RELEVE_COTES!$G$14,TabNuancHM[],2,FALSE))","v":"PP"},{"$error":"#N/A"},{"$f":"IF(RELEVE_COTES!$C$11 =\"R32S-R02\",\"OUI\",\"NON\")","v":"NON"},"NON","",{"$f":"IF(AI66=\"OUI\",RELEVE_COTES!$N$16,\"\")","v":""},null,{"$f":"RELEVE_COTES!$E$12&\"/\"&RELEVE_COTES!$E$13","v":" SANS/ SANS"},{"$f":"IF(RELEVE_COTES!$K$15<>\"SANS\",RELEVE_COTES!$L$15&\" \"&RELEVE_COTES!$K$15,\"\")&IF(RELEVE_COTES!$N$15<>\"SANS\",\" / PMR: \"&RELEVE_COTES!$O$15&\" \"&RELEVE_COTES!$N$15,\"\")","v":""},{"$f":"IF(RELEVE_COTES!$K$14 <> \"SANS\",RELEVE_COTES!$O$14&\" \"&RELEVE_COTES!$K$14,\"\")","v":"U+F "},{"$f":"IF(RELEVE_COTES!$K$13 <> \"SANS\",RELEVE_COTES!$O$13&\" \"&RELEVE_COTES!$K$13,\"SANS\")","v":"U+F "},{"$f":"VLOOKUP(RELEVE_COTES!$O$11,TabOptUsSerr[],2,FALSE)","v":"Usinage, fourniture et pose"},{"$f":"INDEX(TabFinition[FINITION],MATCH(VLOOKUP(RELEVE_COTES!$G$12,TabNuancierVTL[],3,FALSE)&VLOOKUP(RELEVE_COTES!$G$13,TabNuancierVTL[],3,FALSE),TabFinition[TYPE EXT]&TabFinition[TYPE INT],0))","v":{"$error":"#N/A"}},"INT",{"$f":"RELEVE_COTES!$E$16","v":"platines + vérins"},"NON",{"$f":"IF(RELEVE_COTES!$I$20 = \"Huisserie Bois\",RELEVE_COTES!$R114,IF(RELEVE_COTES!$I$20 = \"Huisserie Banchée\",RELEVE_COTES!$M114,IF(RELEVE_COTES!$I$20 = \"Bâti Scellé\",RELEVE_COTES!$O114,\"\")))","v":""}]
[{"$error":"#VALUE!"},{"$error":"#VALUE!"},{"$f":"IF(RELEVE_COTES!$A115<>\"\",SUBSTITUTE(SUBSTITUTE(SUBSTITUTE(SUBSTITUTE(SUBSTITUTE(SUBSTITUTE(SUBSTITUTE(SUBSTITUTE(RELEVE_COTES!$A115,\" \",\"\"),\"-\",\"/\"),\".\",\"/\"),\"\\\",\"/\"),\",\",\"/\"),\"+\",\"_\"),\"&\",\"_\"),\"*\",\"/\"),\"\")","v":""},{"$f":"RELEVE_COTES!$B115","v":0},1,{"$f":"IF(RELEVE_COTES!C115<>\"\",SUBSTITUTE(SUBSTITUTE(SUBSTITUTE(SUBSTITUTE(SUBSTITUTE(SUBSTITUTE(SUBSTITUTE(SUBSTITUTE(RELEVE_COTES!C115,\" \",\"\"),\"-\",\"\"),\".\",\",\"),\"\\\",\"\"),\",\",\",\"),\"+\",\"\"),\"&\",\"\"),\"*\",\"\"),\"\")","v":""},{"$f":"IF(RELEVE_COTES!D115<>\"\",SUBSTITUTE(SUBSTITUTE(SUBSTITUTE(SUBSTITUTE(SUBSTITUTE(SUBSTITUTE(SUBSTITUTE(SUBSTITUTE(RELEVE_COTES!D115,\" \",\"\"),\"-\",\"\"),\".\",\",\"),\"\\\",\"\"),\",\",\",\"),\"+\",\"\"),\"&\",\"\"),\"*\",\"\"),\"\")","v":""},{"$f":"IF(RELEVE_COTES!E115<>\"\",SUBSTITUTE(SUBSTITUTE(SUBSTITUTE(SUBSTITUTE(SUBSTITUTE(SUBSTITUTE(SUBSTITUTE(SUBSTITUTE(RELEVE_COTES!E115,\" \",\"\"),\"-\",\"\"),\".\",\",\"),\"\\\",\"\"),\",\",\",\"),\"+\",\"\"),\"&\",\"\"),\"*\",\"\"),\"\")","v":""},{"$f":"IF(RELEVE_COTES!F115<>\"\",SUBSTITUTE(SUBSTITUTE(SUBSTITUTE(SUBSTITUTE(SUBSTITUTE(SUBSTITUTE(SUBSTITUTE(SUBSTITUTE(RELEVE_COTES!F115,\" \",\"\"),\"-\",\"\"),\".\",\",\"),\"\\\",\"\"),\",\",\",\"),\"+\",\"\"),\"&\",\"\"),\"*\",\"\"),\"\")","v":""},{"$f":"IF(RELEVE_COTES!G115<>\"\",SUBSTITUTE(SUBSTITUTE(SUBSTITUTE(SUBSTITUTE(SUBSTITUTE(SUBSTITUTE(SUBSTITUTE(SUBSTITUTE(RELEVE_COTES!G115,\" \",\"\"),\"-\",\"\"),\".\",\",\"),\"\\\",\"\"),\",\",\",\"),\"+\",\"\"),\"&\",\"\"),\"*\",\"\"),\"\")","v":""},{"$f":"IF($D67=\"GP\",IF(RELEVE_COTES!$I115=\"\",0,IF(RELEVE_COTES!$I115=\"\",\"\",RELEVE_COTES!$I115)),IF(RELEVE_COTES!$H115=\"\",0,IF(RELEVE_COTES!$H115=\"\",\"\",RELEVE_COTES!$H115)))","v":0},{"$f":"IF($D67=\"GP\",IF(RELEVE_COTES!$H115=\"\",0,IF(RELEVE_COTES!$H115=\"\",\"\",RELEVE_COTES!$H115)),IF(RELEVE_COTES!$I115=\"\",0,IF(RELEVE_COTES!$I115=\"\",\"\",RELEVE_COTES!$I115)))","v":0},{"$f":"IF(RELEVE_COTES!$J115=\"\",0,IF(RELEVE_COTES!$J115=\"\",\"\",RELEVE_COTES!$J115))","v":0},{"$f":"VLOOKUP(RELEVE_COTES!$K115,TabExistantRef1[],2,FALSE)","v":{"$error":"#N/A"}},{"$f":"IF($Y$1=\"BOIS\",RELEVE_COTES!$O115,0)","v":{"$error":"#N/A"}},{"$f":"IF($Y$1=\"BOIS\",RELEVE_COTES!$P115,0)","v":{"$error":"#N/A"}},{"$f":"IF($Y$1=\"BOIS\",RELEVE_COTES!$Q115,0)","v":{"$error":"#N/A"}},{"$error":"#N/A"},{"$f":"IF($Y$1=\"BANCHE\",RELEVE_COTES!$L115,0)","v":{"$error":"#N/A"}},{"$error":"#N/A"},{"$error":"#N/A"},{"$f":"IF($Y$1<>\"BANCHE\",RELEVE_COTES!$L115,0)","v":{"$error":"#N/A"}},{"$f":"IF(AND($Y$1<>\"BANCHE\",RELEVE_COTES!$M115<>\"\"),RELEVE_COTES!$M115,20)","v":{"$error":"#N/A"}},{"$f":"IF($Y$1<>\"BANCHE\",IF(RELEVE_COTES!$N115<>\"\",RELEVE_COTES!$N115,10),0)","v":{"$error":"#N/A"}},{"$f":"IF(RELEVE_COTES!$I$20=\"Huisserie Banchée\",\"Banche\",IF(RELEVE_COTES!$I$20=\"Huisserie Bois\",\"Bois\",IF(RELEVE_COTES!$I$20=\"Bâti Scellé\",\"Bâti Métal.\")))","v":false},{"$f":"RELEVE_COTES!$C$11","v":0},{"$f":"RELEVE_COTES!$K$12","v":0},{"$f":"VLOOKUP(AA67,TabSeuilRef[],2,FALSE)","v":{"$error":"#N/A"}},{"$f":"\"Paumelles \"&RELEVE_COTES!$E$15","v":"Paumelles "},{"$f":"IF(RELEVE_COTES!$K$16<>\"Déporté\",RELEVE_COTES!$K$16,RELEVE_COTES!$K$16&\" / \"&VLOOKUP(RELEVE_COTES!$L$16,TabOptUsSerr[],2,FALSE))","v":"SANS"},{"$f":"RELEVE_COTES!$K$11","v":0},{"$f":"VLOOKUP(RELEVE_COTES!$G$12,TabNuancierVTL[],2,FALSE)&\"/\"&VLOOKUP(RELEVE_COTES!$G$13,TabNuancierVTL[],2,FALSE)","v":{"$error":"#N/A"}},{"$f":"IF(RELEVE_COTES!$E$14=\"Pr.Peint\",\"PP\",VLOOKUP(RELEVE_COTES!$G$14,TabNuancHM[],2,FALSE))","v":"PP"},{"$error":"#N/A"},{"$f":"IF(RELEVE_COTES!$C$11 =\"R32S-R02\",\"OUI\",\"NON\")","v":"NON"},"NON","",{"$f":"IF(AI67=\"OUI\",RELEVE_COTES!$N$16,\"\")","v":""},null,{"$f":"RELEVE_COTES!$E$12&\"/\"&RELEVE_COTES!$E$13","v":" SANS/ SANS"},{"$f":"IF(RELEVE_COTES!$K$15<>\"SANS\",RELEVE_COTES!$L$15&\" \"&RELEVE_COTES!$K$15,\"\")&IF(RELEVE_COTES!$N$15<>\"SANS\",\" / PMR: \"&RELEVE_COTES!$O$15&\" \"&RELEVE_COTES!$N$15,\"\")","v":""},{"$f":"IF(RELEVE_COTES!$K$14 <> \"SANS\",RELEVE_COTES!$O$14&\" \"&RELEVE_COTES!$K$14,\"\")","v":"U+F "},{"$f":"IF(RELEVE_COTES!$K$13 <> \"SANS\",RELEVE_COTES!$O$13&\" \"&RELEVE_COTES!$K$13,\"SANS\")","v":"U+F "},{"$f":"VLOOKUP(RELEVE_COTES!$O$11,TabOptUsSerr[],2,FALSE)","v":"Usinage, fourniture et pose"},{"$f":"INDEX(TabFinition[FINITION],MATCH(VLOOKUP(RELEVE_COTES!$G$12,TabNuancierVTL[],3,FALSE)&VLOOKUP(RELEVE_COTES!$G$13,TabNuancierVTL[],3,FALSE),TabFinition[TYPE EXT]&TabFinition[TYPE INT],0))","v":{"$error":"#N/A"}},"INT",{"$f":"RELEVE_COTES!$E$16","v":"platines + vérins"},"NON",{"$f":"IF(RELEVE_COTES!$I$20 = \"Huisserie Bois\",RELEVE_COTES!$R115,IF(RELEVE_COTES!$I$20 = \"Huisserie Banchée\",RELEVE_COTES!$M115,IF(RELEVE_COTES!$I$20 = \"Bâti Scellé\",RELEVE_COTES!$O115,\"\")))","v":""}]
[{"$error":"#VALUE!"},{"$error":"#VALUE!"},{"$f":"IF(RELEVE_COTES!$A116<>\"\",SUBSTITUTE(SUBSTITUTE(SUBSTITUTE(SUBSTITUTE(SUBSTITUTE(SUBSTITUTE(SUBSTITUTE(SUBSTITUTE(RELEVE_COTES!$A116,\" \",\"\"),\"-\",\"/\"),\".\",\"/\"),\"\\\",\"/\"),\",\",\"/\"),\"+\",\"_\"),\"&\",\"_\"),\"*\",\"/\"),\"\")","v":""},{"$f":"RELEVE_COTES!$B116","v":0},1,{"$f":"IF(RELEVE_COTES!C116<>\"\",SUBSTITUTE(SUBSTITUTE(SUBSTITUTE(SUBSTITUTE(SUBSTITUTE(SUBSTITUTE(SUBSTITUTE(SUBSTITUTE(RELEVE_COTES!C116,\" \",\"\"),\"-\",\"\"),\".\",\",\"),\"\\\",\"\"),\",\",\",\"),\"+\",\"\"),\"&\",\"\"),\"*\",\"\"),\"\")","v":""},{"$f":"IF(RELEVE_COTES!D116<>\"\",SUBSTITUTE(SUBSTITUTE(SUBSTITUTE(SUBSTITUTE(SUBSTITUTE(SUBSTITUTE(SUBSTITUTE(SUBSTITUTE(RELEVE_COTES!D116,\" \",\"\"),\"-\",\"\"),\".\",\",\"),\"\\\",\"\"),\",\",\",\"),\"+\",\"\"),\"&\",\"\"),\"*\",\"\"),\"\")","v":""},{"$f":"IF(RELEVE_COTES!E116<>\"\",SUBSTITUTE(SUBSTITUTE(SUBSTITUTE(SUBSTITUTE(SUBSTITUTE(SUBSTITUTE(SUBSTITUTE(SUBSTITUTE(RELEVE_COTES!E116,\" \",\"\"),\"-\",\"\"),\".\",\",\"),\"\\\",\"\"),\",\",\",\"),\"+\",\"\"),\"&\",\"\"),\"*\",\"\"),\"\")","v":""},{"$f":"IF(RELEVE_COTES!F116<>\"\",SUBSTITUTE(SUBSTITUTE(SUBSTITUTE(SUBSTITUTE(SUBSTITUTE(SUBSTITUTE(SUBSTITUTE(SUBSTITUTE(RELEVE_COTES!F116,\" \",\"\"),\"-\",\"\"),\".\",\",\"),\"\\\",\"\"),\",\",\",\"),\"+\",\"\"),\"&\",\"\"),\"*\",\"\"),\"\")","v":""},{"$f":"IF(RELEVE_COTES!G116<>\"\",SUBSTITUTE(SUBSTITUTE(SUBSTITUTE(SUBSTITUTE(SUBSTITUTE(SUBSTITUTE(SUBSTITUTE(SUBSTITUTE(RELEVE_COTES!G116,\" \",\"\"),\"-\",\"\"),\".\",\",\"),\"\\\",\"\"),\",\",\",\"),\"+\",\"\"),\"&\",\"\"),\"*\",\"\"),\"\")","v":""},{"$f":"IF($D68=\"GP\",IF(RELEVE_COTES!$I116=\"\",0,IF(RELEVE_COTES!$I116=\"\",\"\",RELEVE_COTES!$I116)),IF(RELEVE_COTES!$H116=\"\",0,IF(RELEVE_COTES!$H116=\"\",\"\",RELEVE_COTES!$H116)))","v":0},{"$f":"IF($D68=\"GP\",IF(RELEVE_COTES!$H116=\"\",0,IF(RELEVE_COTES!$H116=\"\",\"\",RELEVE_COTES!$H116)),IF(RELEVE_COTES!$I116=\"\",0,IF(RELEVE_COTES!$I116=\"\",\"\",RELEVE_COTES!$I116)))","v":0},{"$f":"IF(RELEVE_COTES!$J116=\"\",0,IF(RELEVE_COTES!$J116=\"\",\"\",RELEVE_COTES!$J116))","v":0},{"$f":"VLOOKUP(RELEVE_COTES!$K116,TabExistantRef1[],2,FALSE)","v":{"$error":"#N/A"}},{"$f":"IF($Y$1=\"BOIS\",RELEVE_COTES!$O116,0)","v":{"$error":"#N/A"}},{"$f":"IF($Y$1=\"BOIS\",RELEVE_COTES!$P116,0)","v":{"$error":"#N/A"}},{"$f":"IF($Y$1=\"BOIS\",RELEVE_COTES!$Q116,0)","v":{"$error":"#N/A"}},{"$error":"#N/A"},{"$f":"IF($Y$1=\"BANCHE\",RELEVE_COTES!$L116,0)","v":{"$error":"#N/A"}},{"$error":"#N/A"},{"$error":"#N/A"},{"$f":"IF($Y$1<>\"BANCHE\",RELEVE_COTES!$L116,0)","v":{"$error":"#N/A"}},{"$f":"IF(AND($Y$1<>\"BANCHE\",RELEVE_COTES!$M116<>\"\"),RELEVE_COTES!$M116,20)","v":{"$error":"#N/A"}},{"$f":"IF($Y$1<>\"BANCHE\",IF(RELEVE_COTES!$N116<>\"\",RELEVE_COTES!$N116,10),0)","v":{"$error":"#N/A"}},{"$f":"IF(RELEVE_COTES!$I$20=\"Huisserie Banchée\",\"Banche\",IF(RELEVE_COTES!$I$20=\"Huisserie Bois\",\"Bois\",IF(RELEVE_COTES!$I$20=\"Bâti Scellé\",\"Bâti Métal.\")))","v":false},{"$f":"RELEVE_COTES!$C$11","v":0},{"$f":"RELEVE_COTES!$K$12","v":0},{"$f":"VLOOKUP(AA68,TabSeuilRef[],2,FALSE)","v":{"$error":"#N/A"}},{"$f":"\"Paumelles \"&RELEVE_COTES!$E$15","v":"Paumelles "},{"$f":"IF(RELEVE_COTES!$K$16<>\"Déporté\",RELEVE_COTES!$K$16,RELEVE_COTES!$K$16&\" / \"&VLOOKUP(RELEVE_COTES!$L$16,TabOptUsSerr[],2,FALSE))","v":"SANS"},{"$f":"RELEVE_COTES!$K$11","v":0},{"$f":"VLOOKUP(RELEVE_COTES!$G$12,TabNuancierVTL[],2,FALSE)&\"/\"&VLOOKUP(RELEVE_COTES!$G$13,TabNuancierVTL[],2,FALSE)","v":{"$error":"#N/A"}},{"$f":"IF(RELEVE_COTES!$E$14=\"Pr.Peint\",\"PP\",VLOOKUP(RELEVE_COTES!$G$14,TabNuancHM[],2,FALSE))","v":"PP"},{"$error":"#N/A"},{"$f":"IF(RELEVE_COTES!$C$11 =\"R32S-R02\",\"OUI\",\"NON\")","v":"NON"},"NON","",{"$f":"IF(AI68=\"OUI\",RELEVE_COTES!$N$16,\"\")","v":""},null,{"$f":"RELEVE_COTES!$E$12&\"/\"&RELEVE_COTES!$E$13","v":" SANS/ SANS"},{"$f":"IF(RELEVE_COTES!$K$15<>\"SANS\",RELEVE_COTES!$L$15&\" \"&RELEVE_COTES!$K$15,\"\")&IF(RELEVE_COTES!$N$15<>\"SANS\",\" / PMR: \"&RELEVE_COTES!$O$15&\" \"&RELEVE_COTES!$N$15,\"\")","v":""},{"$f":"IF(RELEVE_COTES!$K$14 <> \"SANS\",RELEVE_COTES!$O$14&\" \"&RELEVE_COTES!$K$14,\"\")","v":"U+F "},{"$f":"IF(RELEVE_COTES!$K$13 <> \"SANS\",RELEVE_COTES!$O$13&\" \"&RELEVE_COTES!$K$13,\"SANS\")","v":"U+F "},{"$f":"VLOOKUP(RELEVE_COTES!$O$11,TabOptUsSerr[],2,FALSE)","v":"Usinage, fourniture et pose"},{"$f":"INDEX(TabFinition[FINITION],MATCH(VLOOKUP(RELEVE_COTES!$G$12,TabNuancierVTL[],3,FALSE)&VLOOKUP(RELEVE_COTES!$G$13,TabNuancierVTL[],3,FALSE),TabFinition[TYPE EXT]&TabFinition[TYPE INT],0))","v":{"$error":"#N/A"}},"INT",{"$f":"RELEVE_COTES!$E$16","v":"platines + vérins"},"NON",{"$f":"IF(RELEVE_COTES!$I$20 = \"Huisserie Bois\",RELEVE_COTES!$R116,IF(RELEVE_COTES!$I$20 = \"Huisserie Banchée\",RELEVE_COTES!$M116,IF(RELEVE_COTES!$I$20 = \"Bâti Scellé\",RELEVE_COTES!$O116,\"\")))","v":""}]
[{"$error":"#VALUE!"},{"$error":"#VALUE!"},{"$f":"IF(RELEVE_COTES!$A117<>\"\",SUBSTITUTE(SUBSTITUTE(SUBSTITUTE(SUBSTITUTE(SUBSTITUTE(SUBSTITUTE(SUBSTITUTE(SUBSTITUTE(RELEVE_COTES!$A117,\" \",\"\"),\"-\",\"/\"),\".\",\"/\"),\"\\\",\"/\"),\",\",\"/\"),\"+\",\"_\"),\"&\",\"_\"),\"*\",\"/\"),\"\")","v":""},{"$f":"RELEVE_COTES!$B117","v":0},1,{"$f":"IF(RELEVE_COTES!C117<>\"\",SUBSTITUTE(SUBSTITUTE(SUBSTITUTE(SUBSTITUTE(SUBSTITUTE(SUBSTITUTE(SUBSTITUTE(SUBSTITUTE(RELEVE_COTES!C117,\" \",\"\"),\"-\",\"\"),\".\",\",\"),\"\\\",\"\"),\",\",\",\"),\"+\",\"\"),\"&\",\"\"),\"*\",\"\"),\"\")","v":""},{"$f":"IF(RELEVE_COTES!D117<>\"\",SUBSTITUTE(SUBSTITUTE(SUBSTITUTE(SUBSTITUTE(SUBSTITUTE(SUBSTITUTE(SUBSTITUTE(SUBSTITUTE(RELEVE_COTES!D117,\" \",\"\"),\"-\",\"\"),\".\",\",\"),\"\\\",\"\"),\",\",\",\"),\"+\",\"\"),\"&\",\"\"),\"*\",\"\"),\"\")","v":""},{"$f":"IF(RELEVE_COTES!E117<>\"\",SUBSTITUTE(SUBSTITUTE(SUBSTITUTE(SUBSTITUTE(SUBSTITUTE(SUBSTITUTE(SUBSTITUTE(SUBSTITUTE(RELEVE_COTES!E117,\" \",\"\"),\"-\",\"\"),\".\",\",\"),\"\\\",\"\"),\",\",\",\"),\"+\",\"\"),\"&\",\"\"),\"*\",\"\"),\"\")","v":""},{"$f":"IF(RELEVE_COTES!F117<>\"\",SUBSTITUTE(SUBSTITUTE(SUBSTITUTE(SUBSTITUTE(SUBSTITUTE(SUBSTITUTE(SUBSTITUTE(SUBSTITUTE(RELEVE_COTES!F117,\" \",\"\"),\"-\",\"\"),\".\",\",\"),\"\\\",\"\"),\",\",\",\"),\"+\",\"\"),\"&\",\"\"),\"*\",\"\"),\"\")","v":""},{"$f":"IF(RELEVE_COTES!G117<>\"\",SUBSTITUTE(SUBSTITUTE(SUBSTITUTE(SUBSTITUTE(SUBSTITUTE(SUBSTITUTE(SUBSTITUTE(SUBSTITUTE(RELEVE_COTES!G117,\" \",\"\"),\"-\",\"\"),\".\",\",\"),\"\\\",\"\"),\",\",\",\"),\"+\",\"\"),\"&\",\"\"),\"*\",\"\"),\"\")","v":""},{"$f":"IF($D69=\"GP\",IF(RELEVE_COTES!$I117=\"\",0,IF(RELEVE_COTES!$I117=\"\",\"\",RELEVE_COTES!$I117)),IF(RELEVE_COTES!$H117=\"\",0,IF(RELEVE_COTES!$H117=\"\",\"\",RELEVE_COTES!$H117)))","v":0},{"$f":"IF($D69=\"GP\",IF(RELEVE_COTES!$H117=\"\",0,IF(RELEVE_COTES!$H117=\"\",\"\",RELEVE_COTES!$H117)),IF(RELEVE_COTES!$I117=\"\",0,IF(RELEVE_COTES!$I117=\"\",\"\",RELEVE_COTES!$I117)))","v":0},{"$f":"IF(RELEVE_COTES!$J117=\"\",0,IF(RELEVE_COTES!$J117=\"\",\"\",RELEVE_COTES!$J117))","v":0},{"$f":"VLOOKUP(RELEVE_COTES!$K117,TabExistantRef1[],2,FALSE)","v":{"$error":"#N/A"}},{"$f":"IF($Y$1=\"BOIS\",RELEVE_COTES!$O117,0)","v":{"$error":"#N/A"}},{"$f":"IF($Y$1=\"BOIS\",RELEVE_COTES!$P117,0)","v":{"$error":"#N/A"}},{"$f":"IF($Y$1=\"BOIS\",RELEVE_COTES!$Q117,0)","v":{"$error":"#N/A"}},{"$error":"#N/A"},{"$f":"IF($Y$1=\"BANCHE\",RELEVE_COTES!$L117,0)","v":{"$error":"#N/A"}},{"$error":"#N/A"},{"$error":"#N/A"},{"$f":"IF($Y$1<>\"BANCHE\",RELEVE_COTES!$L117,0)","v":{"$error":"#N/A"}},{"$f":"IF(AND($Y$1<>\"BANCHE\",RELEVE_COTES!$M117<>\"\"),RELEVE_COTES!$M117,20)","v":{"$error":"#N/A"}},{"$f":"IF($Y$1<>\"BANCHE\",IF(RELEVE_COTES!$N117<>\"\",RELEVE_COTES!$N117,10),0)","v":{"$error":"#N/A"}},{"$f":"IF(RELEVE_COTES!$I$20=\"Huisserie Banchée\",\"Banche\",IF(RELEVE_COTES!$I$20=\"Huisserie Bois\",\"Bois\",IF(RELEVE_COTES!$I$20=\"Bâti Scellé\",\"Bâti Métal.\")))","v":false},{"$f":"RELEVE_COTES!$C$11","v":0},{"$f":"RELEVE_COTES!$K$12","v":0},{"$f":"VLOOKUP(AA69,TabSeuilRef[],2,FALSE)","v":{"$error":"#N/A"}},{"$f":"\"Paumelles \"&RELEVE_COTES!$E$15","v":"Paumelles "},{"$f":"IF(RELEVE_COTES!$K$16<>\"Déporté\",RELEVE_COTES!$K$16,RELEVE_COTES!$K$16&\" / \"&VLOOKUP(RELEVE_COTES!$L$16,TabOptUsSerr[],2,FALSE))","v":"SANS"},{"$f":"RELEVE_COTES!$K$11","v":0},{"$f":"VLOOKUP(RELEVE_COTES!$G$12,TabNuancierVTL[],2,FALSE)&\"/\"&VLOOKUP(RELEVE_COTES!$G$13,TabNuancierVTL[],2,FALSE)","v":{"$error":"#N/A"}},{"$f":"IF(RELEVE_COTES!$E$14=\"Pr.Peint\",\"PP\",VLOOKUP(RELEVE_COTES!$G$14,TabNuancHM[],2,FALSE))","v":"PP"},{"$error":"#N/A"},{"$f":"IF(RELEVE_COTES!$C$11 =\"R32S-R02\",\"OUI\",\"NON\")","v":"NON"},"NON","",{"$f":"IF(AI69=\"OUI\",RELEVE_COTES!$N$16,\"\")","v":""},null,{"$f":"RELEVE_COTES!$E$12&\"/\"&RELEVE_COTES!$E$13","v":" SANS/ SANS"},{"$f":"IF(RELEVE_COTES!$K$15<>\"SANS\",RELEVE_COTES!$L$15&\" \"&RELEVE_COTES!$K$15,\"\")&IF(RELEVE_COTES!$N$15<>\"SANS\",\" / PMR: \"&RELEVE_COTES!$O$15&\" \"&RELEVE_COTES!$N$15,\"\")","v":""},{"$f":"IF(RELEVE_COTES!$K$14 <> \"SANS\",RELEVE_COTES!$O$14&\" \"&RELEVE_COTES!$K$14,\"\")","v":"U+F "},{"$f":"IF(RELEVE_COTES!$K$13 <> \"SANS\",RELEVE_COTES!$O$13&\" \"&RELEVE_COTES!$K$13,\"SANS\")","v":"U+F "},{"$f":"VLOOKUP(RELEVE_COTES!$O$11,TabOptUsSerr[],2,FALSE)","v":"Usinage, fourniture et pose"},{"$f":"INDEX(TabFinition[FINITION],MATCH(VLOOKUP(RELEVE_COTES!$G$12,TabNuancierVTL[],3,FALSE)&VLOOKUP(RELEVE_COTES!$G$13,TabNuancierVTL[],3,FALSE),TabFinition[TYPE EXT]&TabFinition[TYPE INT],0))","v":{"$error":"#N/A"}},"INT",{"$f":"RELEVE_COTES!$E$16","v":"platines + vérins"},"NON",{"$f":"IF(RELEVE_COTES!$I$20 = \"Huisserie Bois\",RELEVE_COTES!$R117,IF(RELEVE_COTES!$I$20 = \"Huisserie Banchée\",RELEVE_COTES!$M117,IF(RELEVE_COTES!$I$20 = \"Bâti Scellé\",RELEVE_COTES!$O117,\"\")))","v":""}]
[{"$error":"#VALUE!"},{"$error":"#VALUE!"},{"$f":"IF(RELEVE_COTES!$A118<>\"\",SUBSTITUTE(SUBSTITUTE(SUBSTITUTE(SUBSTITUTE(SUBSTITUTE(SUBSTITUTE(SUBSTITUTE(SUBSTITUTE(RELEVE_COTES!$A118,\" \",\"\"),\"-\",\"/\"),\".\",\"/\"),\"\\\",\"/\"),\",\",\"/\"),\"+\",\"_\"),\"&\",\"_\"),\"*\",\"/\"),\"\")","v":""},{"$f":"RELEVE_COTES!$B118","v":0},1,{"$f":"IF(RELEVE_COTES!C118<>\"\",SUBSTITUTE(SUBSTITUTE(SUBSTITUTE(SUBSTITUTE(SUBSTITUTE(SUBSTITUTE(SUBSTITUTE(SUBSTITUTE(RELEVE_COTES!C118,\" \",\"\"),\"-\",\"\"),\".\",\",\"),\"\\\",\"\"),\",\",\",\"),\"+\",\"\"),\"&\",\"\"),\"*\",\"\"),\"\")","v":""},{"$f":"IF(RELEVE_COTES!D118<>\"\",SUBSTITUTE(SUBSTITUTE(SUBSTITUTE(SUBSTITUTE(SUBSTITUTE(SUBSTITUTE(SUBSTITUTE(SUBSTITUTE(RELEVE_COTES!D118,\" \",\"\"),\"-\",\"\"),\".\",\",\"),\"\\\",\"\"),\",\",\",\"),\"+\",\"\"),\"&\",\"\"),\"*\",\"\"),\"\")","v":""},{"$f":"IF(RELEVE_COTES!E118<>\"\",SUBSTITUTE(SUBSTITUTE(SUBSTITUTE(SUBSTITUTE(SUBSTITUTE(SUBSTITUTE(SUBSTITUTE(SUBSTITUTE(RELEVE_COTES!E118,\" \",\"\"),\"-\",\"\"),\".\",\",\"),\"\\\",\"\"),\",\",\",\"),\"+\",\"\"),\"&\",\"\"),\"*\",\"\"),\"\")","v":""},{"$f":"IF(RELEVE_COTES!F118<>\"\",SUBSTITUTE(SUBSTITUTE(SUBSTITUTE(SUBSTITUTE(SUBSTITUTE(SUBSTITUTE(SUBSTITUTE(SUBSTITUTE(RELEVE_COTES!F118,\" \",\"\"),\"-\",\"\"),\".\",\",\"),\"\\\",\"\"),\",\",\",\"),\"+\",\"\"),\"&\",\"\"),\"*\",\"\"),\"\")","v":""},{"$f":"IF(RELEVE_COTES!G118<>\"\",SUBSTITUTE(SUBSTITUTE(SUBSTITUTE(SUBSTITUTE(SUBSTITUTE(SUBSTITUTE(SUBSTITUTE(SUBSTITUTE(RELEVE_COTES!G118,\" \",\"\"),\"-\",\"\"),\".\",\",\"),\"\\\",\"\"),\",\",\",\"),\"+\",\"\"),\"&\",\"\"),\"*\",\"\"),\"\")","v":""},{"$f":"IF($D70=\"GP\",IF(RELEVE_COTES!$I118=\"\",0,IF(RELEVE_COTES!$I118=\"\",\"\",RELEVE_COTES!$I118)),IF(RELEVE_COTES!$H118=\"\",0,IF(RELEVE_COTES!$H118=\"\",\"\",RELEVE_COTES!$H118)))","v":0},{"$f":"IF($D70=\"GP\",IF(RELEVE_COTES!$H118=\"\",0,IF(RELEVE_COTES!$H118=\"\",\"\",RELEVE_COTES!$H118)),IF(RELEVE_COTES!$I118=\"\",0,IF(RELEVE_COTES!$I118=\"\",\"\",RELEVE_COTES!$I118)))","v":0},{"$f":"IF(RELEVE_COTES!$J118=\"\",0,IF(RELEVE_COTES!$J118=\"\",\"\",RELEVE_COTES!$J118))","v":0},{"$f":"VLOOKUP(RELEVE_COTES!$K118,TabExistantRef1[],2,FALSE)","v":{"$error":"#N/A"}},{"$f":"IF($Y$1=\"BOIS\",RELEVE_COTES!$O118,0)","v":{"$error":"#N/A"}},{"$f":"IF($Y$1=\"BOIS\",RELEVE_COTES!$P118,0)","v":{"$error":"#N/A"}},{"$f":"IF($Y$1=\"BOIS\",RELEVE_COTES!$Q118,0)","v":{"$error":"#N/A"}},{"$error":"#N/A"},{"$f":"IF($Y$1=\"BANCHE\",RELEVE_COTES!$L118,0)","v":{"$error":"#N/A"}},{"$error":"#N/A"},{"$error":"#N/A"},{"$f":"IF($Y$1<>\"BANCHE\",RELEVE_COTES!$L118,0)","v":{"$error":"#N/A"}},{"$f":"IF(AND($Y$1<>\"BANCHE\",RELEVE_COTES!$M118<>\"\"),RELEVE_COTES!$M118,20)","v":{"$error":"#N/A"}},{"$f":"IF($Y$1<>\"BANCHE\",IF(RELEVE_COTES!$N118<>\"\",RELEVE_COTES!$N118,10),0)","v":{"$error":"#N/A"}},{"$f":"IF(RELEVE_COTES!$I$20=\"Huisserie Banchée\",\"Banche\",IF(RELEVE_COTES!$I$20=\"Huisserie Bois\",\"Bois\",IF(RELEVE_COTES!$I$20=\"Bâti Scellé\",\"Bâti Métal.\")))","v":false},{"$f":"RELEVE_COTES!$C$11","v":0},{"$f":"RELEVE_COTES!$K$12","v":0},{"$f":"VLOOKUP(AA70,TabSeuilRef[],2,FALSE)","v":{"$error":"#N/A"}},{"$f":"\"Paumelles \"&RELEVE_COTES!$E$15","v":"Paumelles "},{"$f":"IF(RELEVE_COTES!$K$16<>\"Déporté\",RELEVE_COTES!$K$16,RELEVE_COTES!$K$16&\" / \"&VLOOKUP(RELEVE_COTES!$L$16,TabOptUsSerr[],2,FALSE))","v":"SANS"},{"$f":"RELEVE_COTES!$K$11","v":0},{"$f":"VLOOKUP(RELEVE_COTES!$G$12,TabNuancierVTL[],2,FALSE)&\"/\"&VLOOKUP(RELEVE_COTES!$G$13,TabNuancierVTL[],2,FALSE)","v":{"$error":"#N/A"}},{"$f":"IF(RELEVE_COTES!$E$14=\"Pr.Peint\",\"PP\",VLOOKUP(RELEVE_COTES!$G$14,TabNuancHM[],2,FALSE))","v":"PP"},{"$error":"#N/A"},{"$f":"IF(RELEVE_COTES!$C$11 =\"R32S-R02\",\"OUI\",\"NON\")","v":"NON"},"NON","",{"$f":"IF(AI70=\"OUI\",RELEVE_COTES!$N$16,\"\")","v":""},null,{"$f":"RELEVE_COTES!$E$12&\"/\"&RELEVE_COTES!$E$13","v":" SANS/ SANS"},{"$f":"IF(RELEVE_COTES!$K$15<>\"SANS\",RELEVE_COTES!$L$15&\" \"&RELEVE_COTES!$K$15,\"\")&IF(RELEVE_COTES!$N$15<>\"SANS\",\" / PMR: \"&RELEVE_COTES!$O$15&\" \"&RELEVE_COTES!$N$15,\"\")","v":""},{"$f":"IF(RELEVE_COTES!$K$14 <> \"SANS\",RELEVE_COTES!$O$14&\" \"&RELEVE_COTES!$K$14,\"\")","v":"U+F "},{"$f":"IF(RELEVE_COTES!$K$13 <> \"SANS\",RELEVE_COTES!$O$13&\" \"&RELEVE_COTES!$K$13,\"SANS\")","v":"U+F "},{"$f":"VLOOKUP(RELEVE_COTES!$O$11,TabOptUsSerr[],2,FALSE)","v":"Usinage, fourniture et pose"},{"$f":"INDEX(TabFinition[FINITION],MATCH(VLOOKUP(RELEVE_COTES!$G$12,TabNuancierVTL[],3,FALSE)&VLOOKUP(RELEVE_COTES!$G$13,TabNuancierVTL[],3,FALSE),TabFinition[TYPE EXT]&TabFinition[TYPE INT],0))","v":{"$error":"#N/A"}},"INT",{"$f":"RELEVE_COTES!$E$16","v":"platines + vérins"},"NON",{"$f":"IF(RELEVE_COTES!$I$20 = \"Huisserie Bois\",RELEVE_COTES!$R118,IF(RELEVE_COTES!$I$20 = \"Huisserie Banchée\",RELEVE_COTES!$M118,IF(RELEVE_COTES!$I$20 = \"Bâti Scellé\",RELEVE_COTES!$O118,\"\")))","v":""}]
[{"$error":"#VALUE!"},{"$error":"#VALUE!"},{"$f":"IF(RELEVE_COTES!$A119<>\"\",SUBSTITUTE(SUBSTITUTE(SUBSTITUTE(SUBSTITUTE(SUBSTITUTE(SUBSTITUTE(SUBSTITUTE(SUBSTITUTE(RELEVE_COTES!$A119,\" \",\"\"),\"-\",\"/\"),\".\",\"/\"),\"\\\",\"/\"),\",\",\"/\"),\"+\",\"_\"),\"&\",\"_\"),\"*\",\"/\"),\"\")","v":""},{"$f":"RELEVE_COTES!$B119","v":0},1,{"$f":"IF(RELEVE_COTES!C119<>\"\",SUBSTITUTE(SUBSTITUTE(SUBSTITUTE(SUBSTITUTE(SUBSTITUTE(SUBSTITUTE(SUBSTITUTE(SUBSTITUTE(RELEVE_COTES!C119,\" \",\"\"),\"-\",\"\"),\".\",\",\"),\"\\\",\"\"),\",\",\",\"),\"+\",\"\"),\"&\",\"\"),\"*\",\"\"),\"\")","v":""},{"$f":"IF(RELEVE_COTES!D119<>\"\",SUBSTITUTE(SUBSTITUTE(SUBSTITUTE(SUBSTITUTE(SUBSTITUTE(SUBSTITUTE(SUBSTITUTE(SUBSTITUTE(RELEVE_COTES!D119,\" \",\"\"),\"-\",\"\"),\".\",\",\"),\"\\\",\"\"),\",\",\",\"),\"+\",\"\"),\"&\",\"\"),\"*\",\"\"),\"\")","v":""},{"$f":"IF(RELEVE_COTES!E119<>\"\",SUBSTITUTE(SUBSTITUTE(SUBSTITUTE(SUBSTITUTE(SUBSTITUTE(SUBSTITUTE(SUBSTITUTE(SUBSTITUTE(RELEVE_COTES!E119,\" \",\"\"),\"-\",\"\"),\".\",\",\"),\"\\\",\"\"),\",\",\",\"),\"+\",\"\"),\"&\",\"\"),\"*\",\"\"),\"\")","v":""},{"$f":"IF(RELEVE_COTES!F119<>\"\",SUBSTITUTE(SUBSTITUTE(SUBSTITUTE(SUBSTITUTE(SUBSTITUTE(SUBSTITUTE(SUBSTITUTE(SUBSTITUTE(RELEVE_COTES!F119,\" \",\"\"),\"-\",\"\"),\".\",\",\"),\"\\\",\"\"),\",\",\",\"),\"+\",\"\"),\"&\",\"\"),\"*\",\"\"),\"\")","v":""},{"$f":"IF(RELEVE_COTES!G119<>\"\",SUBSTITUTE(SUBSTITUTE(SUBSTITUTE(SUBSTITUTE(SUBSTITUTE(SUBSTITUTE(SUBSTITUTE(SUBSTITUTE(RELEVE_COTES!G119,\" \",\"\"),\"-\",\"\"),\".\",\",\"),\"\\\",\"\"),\",\",\",\"),\"+\",\"\"),\"&\",\"\"),\"*\",\"\"),\"\")","v":""},{"$f":"IF($D71=\"GP\",IF(RELEVE_COTES!$I119=\"\",0,IF(RELEVE_COTES!$I119=\"\",\"\",RELEVE_COTES!$I119)),IF(RELEVE_COTES!$H119=\"\",0,IF(RELEVE_COTES!$H119=\"\",\"\",RELEVE_COTES!$H119)))","v":0},{"$f":"IF($D71=\"GP\",IF(RELEVE_COTES!$H119=\"\",0,IF(RELEVE_COTES!$H119=\"\",\"\",RELEVE_COTES!$H119)),IF(RELEVE_COTES!$I119=\"\",0,IF(RELEVE_COTES!$I119=\"\",\"\",RELEVE_COTES!$I119)))","v":0},{"$f":"IF(RELEVE_COTES!$J119=\"\",0,IF(RELEVE_COTES!$J119=\"\",\"\",RELEVE_COTES!$J119))","v":0},{"$f":"VLOOKUP(RELEVE_COTES!$K119,TabExistantRef1[],2,FALSE)","v":{"$error":"#N/A"}},{"$f":"IF($Y$1=\"BOIS\",RELEVE_COTES!$O119,0)","v":{"$error":"#N/A"}},{"$f":"IF($Y$1=\"BOIS\",RELEVE_COTES!$P119,0)","v":{"$error":"#N/A"}},{"$f":"IF($Y$1=\"BOIS\",RELEVE_COTES!$Q119,0)","v":{"$error":"#N/A"}},{"$error":"#N/A"},{"$f":"IF($Y$1=\"BANCHE\",RELEVE_COTES!$L119,0)","v":{"$error":"#N/A"}},{"$error":"#N/A"},{"$error":"#N/A"},{"$f":"IF($Y$1<>\"BANCHE\",RELEVE_COTES!$L119,0)","v":{"$error":"#N/A"}},{"$f":"IF(AND($Y$1<>\"BANCHE\",RELEVE_COTES!$M119<>\"\"),RELEVE_COTES!$M119,20)","v":{"$error":"#N/A"}},{"$f":"IF($Y$1<>\"BANCHE\",IF(RELEVE_COTES!$N119<>\"\",RELEVE_COTES!$N119,10),0)","v":{"$error":"#N/A"}},{"$f":"IF(RELEVE_COTES!$I$20=\"Huisserie Banchée\",\"Banche\",IF(RELEVE_COTES!$I$20=\"Huisserie Bois\",\"Bois\",IF(RELEVE_COTES!$I$20=\"Bâti Scellé\",\"Bâti Métal.\")))","v":false},{"$f":"RELEVE_COTES!$C$11","v":0},{"$f":"RELEVE_COTES!$K$12","v":0},{"$f":"VLOOKUP(AA71,TabSeuilRef[],2,FALSE)","v":{"$error":"#N/A"}},{"$f":"\"Paumelles \"&RELEVE_COTES!$E$15","v":"Paumelles "},{"$f":"IF(RELEVE_COTES!$K$16<>\"Déporté\",RELEVE_COTES!$K$16,RELEVE_COTES!$K$16&\" / \"&VLOOKUP(RELEVE_COTES!$L$16,TabOptUsSerr[],2,FALSE))","v":"SANS"},{"$f":"RELEVE_COTES!$K$11","v":0},{"$f":"VLOOKUP(RELEVE_COTES!$G$12,TabNuancierVTL[],2,FALSE)&\"/\"&VLOOKUP(RELEVE_COTES!$G$13,TabNuancierVTL[],2,FALSE)","v":{"$error":"#N/A"}},{"$f":"IF(RELEVE_COTES!$E$14=\"Pr.Peint\",\"PP\",VLOOKUP(RELEVE_COTES!$G$14,TabNuancHM[],2,FALSE))","v":"PP"},{"$error":"#N/A"},{"$f":"IF(RELEVE_COTES!$C$11 =\"R32S-R02\",\"OUI\",\"NON\")","v":"NON"},"NON","",{"$f":"IF(AI71=\"OUI\",RELEVE_COTES!$N$16,\"\")","v":""},null,{"$f":"RELEVE_COTES!$E$12&\"/\"&RELEVE_COTES!$E$13","v":" SANS/ SANS"},{"$f":"IF(RELEVE_COTES!$K$15<>\"SANS\",RELEVE_COTES!$L$15&\" \"&RELEVE_COTES!$K$15,\"\")&IF(RELEVE_COTES!$N$15<>\"SANS\",\" / PMR: \"&RELEVE_COTES!$O$15&\" \"&RELEVE_COTES!$N$15,\"\")","v":""},{"$f":"IF(RELEVE_COTES!$K$14 <> \"SANS\",RELEVE_COTES!$O$14&\" \"&RELEVE_COTES!$K$14,\"\")","v":"U+F "},{"$f":"IF(RELEVE_COTES!$K$13 <> \"SANS\",RELEVE_COTES!$O$13&\" \"&RELEVE_COTES!$K$13,\"SANS\")","v":"U+F "},{"$f":"VLOOKUP(RELEVE_COTES!$O$11,TabOptUsSerr[],2,FALSE)","v":"Usinage, fourniture et pose"},{"$f":"INDEX(TabFinition[FINITION],MATCH(VLOOKUP(RELEVE_COTES!$G$12,TabNuancierVTL[],3,FALSE)&VLOOKUP(RELEVE_COTES!$G$13,TabNuancierVTL[],3,FALSE),TabFinition[TYPE EXT]&TabFinition[TYPE INT],0))","v":{"$error":"#N/A"}},"INT",{"$f":"RELEVE_COTES!$E$16","v":"platines + vérins"},"NON",{"$f":"IF(RELEVE_COTES!$I$20 = \"Huisserie Bois\",RELEVE_COTES!$R119,IF(RELEVE_COTES!$I$20 = \"Huisserie Banchée\",RELEVE_COTES!$M119,IF(RELEVE_COTES!$I$20 = \"Bâti Scellé\",RELEVE_COTES!$O119,\"\")))","v":""}]
[{"$error":"#VALUE!"},{"$error":"#VALUE!"},{"$f":"IF(RELEVE_COTES!$A120<>\"\",SUBSTITUTE(SUBSTITUTE(SUBSTITUTE(SUBSTITUTE(SUBSTITUTE(SUBSTITUTE(SUBSTITUTE(SUBSTITUTE(RELEVE_COTES!$A120,\" \",\"\"),\"-\",\"/\"),\".\",\"/\"),\"\\\",\"/\"),\",\",\"/\"),\"+\",\"_\"),\"&\",\"_\"),\"*\",\"/\"),\"\")","v":""},{"$f":"RELEVE_COTES!$B120","v":0},1,{"$f":"IF(RELEVE_COTES!C120<>\"\",SUBSTITUTE(SUBSTITUTE(SUBSTITUTE(SUBSTITUTE(SUBSTITUTE(SUBSTITUTE(SUBSTITUTE(SUBSTITUTE(RELEVE_COTES!C120,\" \",\"\"),\"-\",\"\"),\".\",\",\"),\"\\\",\"\"),\",\",\",\"),\"+\",\"\"),\"&\",\"\"),\"*\",\"\"),\"\")","v":""},{"$f":"IF(RELEVE_COTES!D120<>\"\",SUBSTITUTE(SUBSTITUTE(SUBSTITUTE(SUBSTITUTE(SUBSTITUTE(SUBSTITUTE(SUBSTITUTE(SUBSTITUTE(RELEVE_COTES!D120,\" \",\"\"),\"-\",\"\"),\".\",\",\"),\"\\\",\"\"),\",\",\",\"),\"+\",\"\"),\"&\",\"\"),\"*\",\"\"),\"\")","v":""},{"$f":"IF(RELEVE_COTES!E120<>\"\",SUBSTITUTE(SUBSTITUTE(SUBSTITUTE(SUBSTITUTE(SUBSTITUTE(SUBSTITUTE(SUBSTITUTE(SUBSTITUTE(RELEVE_COTES!E120,\" \",\"\"),\"-\",\"\"),\".\",\",\"),\"\\\",\"\"),\",\",\",\"),\"+\",\"\"),\"&\",\"\"),\"*\",\"\"),\"\")","v":""},{"$f":"IF(RELEVE_COTES!F120<>\"\",SUBSTITUTE(SUBSTITUTE(SUBSTITUTE(SUBSTITUTE(SUBSTITUTE(SUBSTITUTE(SUBSTITUTE(SUBSTITUTE(RELEVE_COTES!F120,\" \",\"\"),\"-\",\"\"),\".\",\",\"),\"\\\",\"\"),\",\",\",\"),\"+\",\"\"),\"&\",\"\"),\"*\",\"\"),\"\")","v":""},{"$f":"IF(RELEVE_COTES!G120<>\"\",SUBSTITUTE(SUBSTITUTE(SUBSTITUTE(SUBSTITUTE(SUBSTITUTE(SUBSTITUTE(SUBSTITUTE(SUBSTITUTE(RELEVE_COTES!G120,\" \",\"\"),\"-\",\"\"),\".\",\",\"),\"\\\",\"\"),\",\",\",\"),\"+\",\"\"),\"&\",\"\"),\"*\",\"\"),\"\")","v":""},{"$f":"IF($D72=\"GP\",IF(RELEVE_COTES!$I120=\"\",0,IF(RELEVE_COTES!$I120=\"\",\"\",RELEVE_COTES!$I120)),IF(RELEVE_COTES!$H120=\"\",0,IF(RELEVE_COTES!$H120=\"\",\"\",RELEVE_COTES!$H120)))","v":0},{"$f":"IF($D72=\"GP\",IF(RELEVE_COTES!$H120=\"\",0,IF(RELEVE_COTES!$H120=\"\",\"\",RELEVE_COTES!$H120)),IF(RELEVE_COTES!$I120=\"\",0,IF(RELEVE_COTES!$I120=\"\",\"\",RELEVE_COTES!$I120)))","v":0},{"$f":"IF(RELEVE_COTES!$J120=\"\",0,IF(RELEVE_COTES!$J120=\"\",\"\",RELEVE_COTES!$J120))","v":0},{"$f":"VLOOKUP(RELEVE_COTES!$K120,TabExistantRef1[],2,FALSE)","v":{"$error":"#N/A"}},{"$f":"IF($Y$1=\"BOIS\",RELEVE_COTES!$O120,0)","v":{"$error":"#N/A"}},{"$f":"IF($Y$1=\"BOIS\",RELEVE_COTES!$P120,0)","v":{"$error":"#N/A"}},{"$f":"IF($Y$1=\"BOIS\",RELEVE_COTES!$Q120,0)","v":{"$error":"#N/A"}},{"$error":"#N/A"},{"$f":"IF($Y$1=\"BANCHE\",RELEVE_COTES!$L120,0)","v":{"$error":"#N/A"}},{"$error":"#N/A"},{"$error":"#N/A"},{"$f":"IF($Y$1<>\"BANCHE\",RELEVE_COTES!$L120,0)","v":{"$error":"#N/A"}},{"$f":"IF(AND($Y$1<>\"BANCHE\",RELEVE_COTES!$M120<>\"\"),RELEVE_COTES!$M120,20)","v":{"$error":"#N/A"}},{"$f":"IF($Y$1<>\"BANCHE\",IF(RELEVE_COTES!$N120<>\"\",RELEVE_COTES!$N120,10),0)","v":{"$error":"#N/A"}},{"$f":"IF(RELEVE_COTES!$I$20=\"Huisserie Banchée\",\"Banche\",IF(RELEVE_COTES!$I$20=\"Huisserie Bois\",\"Bois\",IF(RELEVE_COTES!$I$20=\"Bâti Scellé\",\"Bâti Métal.\")))","v":false},{"$f":"RELEVE_COTES!$C$11","v":0},{"$f":"RELEVE_COTES!$K$12","v":0},{"$f":"VLOOKUP(AA72,TabSeuilRef[],2,FALSE)","v":{"$error":"#N/A"}},{"$f":"\"Paumelles \"&RELEVE_COTES!$E$15","v":"Paumelles "},{"$f":"IF(RELEVE_COTES!$K$16<>\"Déporté\",RELEVE_COTES!$K$16,RELEVE_COTES!$K$16&\" / \"&VLOOKUP(RELEVE_COTES!$L$16,TabOptUsSerr[],2,FALSE))","v":"SANS"},{"$f":"RELEVE_COTES!$K$11","v":0},{"$f":"VLOOKUP(RELEVE_COTES!$G$12,TabNuancierVTL[],2,FALSE)&\"/\"&VLOOKUP(RELEVE_COTES!$G$13,TabNuancierVTL[],2,FALSE)","v":{"$error":"#N/A"}},{"$f":"IF(RELEVE_COTES!$E$14=\"Pr.Peint\",\"PP\",VLOOKUP(RELEVE_COTES!$G$14,TabNuancHM[],2,FALSE))","v":"PP"},{"$error":"#N/A"},{"$f":"IF(RELEVE_COTES!$C$11 =\"R32S-R02\",\"OUI\",\"NON\")","v":"NON"},"NON","",{"$f":"IF(AI72=\"OUI\",RELEVE_COTES!$N$16,\"\")","v":""},null,{"$f":"RELEVE_COTES!$E$12&\"/\"&RELEVE_COTES!$E$13","v":" SANS/ SANS"},{"$f":"IF(RELEVE_COTES!$K$15<>\"SANS\",RELEVE_COTES!$L$15&\" \"&RELEVE_COTES!$K$15,\"\")&IF(RELEVE_COTES!$N$15<>\"SANS\",\" / PMR: \"&RELEVE_COTES!$O$15&\" \"&RELEVE_COTES!$N$15,\"\")","v":""},{"$f":"IF(RELEVE_COTES!$K$14 <> \"SANS\",RELEVE_COTES!$O$14&\" \"&RELEVE_COTES!$K$14,\"\")","v":"U+F "},{"$f":"IF(RELEVE_COTES!$K$13 <> \"SANS\",RELEVE_COTES!$O$13&\" \"&RELEVE_COTES!$K$13,\"SANS\")","v":"U+F "},{"$f":"VLOOKUP(RELEVE_COTES!$O$11,TabOptUsSerr[],2,FALSE)","v":"Usinage, fourniture et pose"},{"$f":"INDEX(TabFinition[FINITION],MATCH(VLOOKUP(RELEVE_COTES!$G$12,TabNuancierVTL[],3,FALSE)&VLOOKUP(RELEVE_COTES!$G$13,TabNuancierVTL[],3,FALSE),TabFinition[TYPE EXT]&TabFinition[TYPE INT],0))","v":{"$error":"#N/A"}},"INT",{"$f":"RELEVE_COTES!$E$16","v":"platines + vérins"},"NON",{"$f":"IF(RELEVE_COTES!$I$20 = \"Huisserie Bois\",RELEVE_COTES!$R120,IF(RELEVE_COTES!$I$20 = \"Huisserie Banchée\",RELEVE_COTES!$M120,IF(RELEVE_COTES!$I$20 = \"Bâti Scellé\",RELEVE_COTES!$O120,\"\")))","v":""}]
[{"$error":"#VALUE!"},{"$error":"#VALUE!"},{"$f":"IF(RELEVE_COTES!$A121<>\"\",SUBSTITUTE(SUBSTITUTE(SUBSTITUTE(SUBSTITUTE(SUBSTITUTE(SUBSTITUTE(SUBSTITUTE(SUBSTITUTE(RELEVE_COTES!$A121,\" \",\"\"),\"-\",\"/\"),\".\",\"/\"),\"\\\",\"/\"),\",\",\"/\"),\"+\",\"_\"),\"&\",\"_\"),\"*\",\"/\"),\"\")","v":""},{"$f":"RELEVE_COTES!$B121","v":0},1,{"$f":"IF(RELEVE_COTES!C121<>\"\",SUBSTITUTE(SUBSTITUTE(SUBSTITUTE(SUBSTITUTE(SUBSTITUTE(SUBSTITUTE(SUBSTITUTE(SUBSTITUTE(RELEVE_COTES!C121,\" \",\"\"),\"-\",\"\"),\".\",\",\"),\"\\\",\"\"),\",\",\",\"),\"+\",\"\"),\"&\",\"\"),\"*\",\"\"),\"\")","v":""},{"$f":"IF(RELEVE_COTES!D121<>\"\",SUBSTITUTE(SUBSTITUTE(SUBSTITUTE(SUBSTITUTE(SUBSTITUTE(SUBSTITUTE(SUBSTITUTE(SUBSTITUTE(RELEVE_COTES!D121,\" \",\"\"),\"-\",\"\"),\".\",\",\"),\"\\\",\"\"),\",\",\",\"),\"+\",\"\"),\"&\",\"\"),\"*\",\"\"),\"\")","v":""},{"$f":"IF(RELEVE_COTES!E121<>\"\",SUBSTITUTE(SUBSTITUTE(SUBSTITUTE(SUBSTITUTE(SUBSTITUTE(SUBSTITUTE(SUBSTITUTE(SUBSTITUTE(RELEVE_COTES!E121,\" \",\"\"),\"-\",\"\"),\".\",\",\"),\"\\\",\"\"),\",\",\",\"),\"+\",\"\"),\"&\",\"\"),\"*\",\"\"),\"\")","v":""},{"$f":"IF(RELEVE_COTES!F121<>\"\",SUBSTITUTE(SUBSTITUTE(SUBSTITUTE(SUBSTITUTE(SUBSTITUTE(SUBSTITUTE(SUBSTITUTE(SUBSTITUTE(RELEVE_COTES!F121,\" \",\"\"),\"-\",\"\"),\".\",\",\"),\"\\\",\"\"),\",\",\",\"),\"+\",\"\"),\"&\",\"\"),\"*\",\"\"),\"\")","v":""},{"$f":"IF(RELEVE_COTES!G121<>\"\",SUBSTITUTE(SUBSTITUTE(SUBSTITUTE(SUBSTITUTE(SUBSTITUTE(SUBSTITUTE(SUBSTITUTE(SUBSTITUTE(RELEVE_COTES!G121,\" \",\"\"),\"-\",\"\"),\".\",\",\"),\"\\\",\"\"),\",\",\",\"),\"+\",\"\"),\"&\",\"\"),\"*\",\"\"),\"\")","v":""},{"$f":"IF($D73=\"GP\",IF(RELEVE_COTES!$I121=\"\",0,IF(RELEVE_COTES!$I121=\"\",\"\",RELEVE_COTES!$I121)),IF(RELEVE_COTES!$H121=\"\",0,IF(RELEVE_COTES!$H121=\"\",\"\",RELEVE_COTES!$H121)))","v":0},{"$f":"IF($D73=\"GP\",IF(RELEVE_COTES!$H121=\"\",0,IF(RELEVE_COTES!$H121=\"\",\"\",RELEVE_COTES!$H121)),IF(RELEVE_COTES!$I121=\"\",0,IF(RELEVE_COTES!$I121=\"\",\"\",RELEVE_COTES!$I121)))","v":0},{"$f":"IF(RELEVE_COTES!$J121=\"\",0,IF(RELEVE_COTES!$J121=\"\",\"\",RELEVE_COTES!$J121))","v":0},{"$f":"VLOOKUP(RELEVE_COTES!$K121,TabExistantRef1[],2,FALSE)","v":{"$error":"#N/A"}},{"$f":"IF($Y$1=\"BOIS\",RELEVE_COTES!$O121,0)","v":{"$error":"#N/A"}},{"$f":"IF($Y$1=\"BOIS\",RELEVE_COTES!$P121,0)","v":{"$error":"#N/A"}},{"$f":"IF($Y$1=\"BOIS\",RELEVE_COTES!$Q121,0)","v":{"$error":"#N/A"}},{"$error":"#N/A"},{"$f":"IF($Y$1=\"BANCHE\",RELEVE_COTES!$L121,0)","v":{"$error":"#N/A"}},{"$error":"#N/A"},{"$error":"#N/A"},{"$f":"IF($Y$1<>\"BANCHE\",RELEVE_COTES!$L121,0)","v":{"$error":"#N/A"}},{"$f":"IF(AND($Y$1<>\"BANCHE\",RELEVE_COTES!$M121<>\"\"),RELEVE_COTES!$M121,20)","v":{"$error":"#N/A"}},{"$f":"IF($Y$1<>\"BANCHE\",IF(RELEVE_COTES!$N121<>\"\",RELEVE_COTES!$N121,10),0)","v":{"$error":"#N/A"}},{"$f":"IF(RELEVE_COTES!$I$20=\"Huisserie Banchée\",\"Banche\",IF(RELEVE_COTES!$I$20=\"Huisserie Bois\",\"Bois\",IF(RELEVE_COTES!$I$20=\"Bâti Scellé\",\"Bâti Métal.\")))","v":false},{"$f":"RELEVE_COTES!$C$11","v":0},{"$f":"RELEVE_COTES!$K$12","v":0},{"$f":"VLOOKUP(AA73,TabSeuilRef[],2,FALSE)","v":{"$error":"#N/A"}},{"$f":"\"Paumelles \"&RELEVE_COTES!$E$15","v":"Paumelles "},{"$f":"IF(RELEVE_COTES!$K$16<>\"Déporté\",RELEVE_COTES!$K$16,RELEVE_COTES!$K$16&\" / \"&VLOOKUP(RELEVE_COTES!$L$16,TabOptUsSerr[],2,FALSE))","v":"SANS"},{"$f":"RELEVE_COTES!$K$11","v":0},{"$f":"VLOOKUP(RELEVE_COTES!$G$12,TabNuancierVTL[],2,FALSE)&\"/\"&VLOOKUP(RELEVE_COTES!$G$13,TabNuancierVTL[],2,FALSE)","v":{"$error":"#N/A"}},{"$f":"IF(RELEVE_COTES!$E$14=\"Pr.Peint\",\"PP\",VLOOKUP(RELEVE_COTES!$G$14,TabNuancHM[],2,FALSE))","v":"PP"},{"$error":"#N/A"},{"$f":"IF(RELEVE_COTES!$C$11 =\"R32S-R02\",\"OUI\",\"NON\")","v":"NON"},"NON","",{"$f":"IF(AI73=\"OUI\",RELEVE_COTES!$N$16,\"\")","v":""},null,{"$f":"RELEVE_COTES!$E$12&\"/\"&RELEVE_COTES!$E$13","v":" SANS/ SANS"},{"$f":"IF(RELEVE_COTES!$K$15<>\"SANS\",RELEVE_COTES!$L$15&\" \"&RELEVE_COTES!$K$15,\"\")&IF(RELEVE_COTES!$N$15<>\"SANS\",\" / PMR: \"&RELEVE_COTES!$O$15&\" \"&RELEVE_COTES!$N$15,\"\")","v":""},{"$f":"IF(RELEVE_COTES!$K$14 <> \"SANS\",RELEVE_COTES!$O$14&\" \"&RELEVE_COTES!$K$14,\"\")","v":"U+F "},{"$f":"IF(RELEVE_COTES!$K$13 <> \"SANS\",RELEVE_COTES!$O$13&\" \"&RELEVE_COTES!$K$13,\"SANS\")","v":"U+F "},{"$f":"VLOOKUP(RELEVE_COTES!$O$11,TabOptUsSerr[],2,FALSE)","v":"Usinage, fourniture et pose"},{"$f":"INDEX(TabFinition[FINITION],MATCH(VLOOKUP(RELEVE_COTES!$G$12,TabNuancierVTL[],3,FALSE)&VLOOKUP(RELEVE_COTES!$G$13,TabNuancierVTL[],3,FALSE),TabFinition[TYPE EXT]&TabFinition[TYPE INT],0))","v":{"$error":"#N/A"}},"INT",{"$f":"RELEVE_COTES!$E$16","v":"platines + vérins"},"NON",{"$f":"IF(RELEVE_COTES!$I$20 = \"Huisserie Bois\",RELEVE_COTES!$R121,IF(RELEVE_COTES!$I$20 = \"Huisserie Banchée\",RELEVE_COTES!$M121,IF(RELEVE_COTES!$I$20 = \"Bâti Scellé\",RELEVE_COTES!$O121,\"\")))","v":""}]
[{"$error":"#VALUE!"},{"$error":"#VALUE!"},{"$f":"IF(RELEVE_COTES!$A122<>\"\",SUBSTITUTE(SUBSTITUTE(SUBSTITUTE(SUBSTITUTE(SUBSTITUTE(SUBSTITUTE(SUBSTITUTE(SUBSTITUTE(RELEVE_COTES!$A122,\" \",\"\"),\"-\",\"/\"),\".\",\"/\"),\"\\\",\"/\"),\",\",\"/\"),\"+\",\"_\"),\"&\",\"_\"),\"*\",\"/\"),\"\")","v":""},{"$f":"RELEVE_COTES!$B122","v":0},1,{"$f":"IF(RELEVE_COTES!C122<>\"\",SUBSTITUTE(SUBSTITUTE(SUBSTITUTE(SUBSTITUTE(SUBSTITUTE(SUBSTITUTE(SUBSTITUTE(SUBSTITUTE(RELEVE_COTES!C122,\" \",\"\"),\"-\",\"\"),\".\",\",\"),\"\\\",\"\"),\",\",\",\"),\"+\",\"\"),\"&\",\"\"),\"*\",\"\"),\"\")","v":""},{"$f":"IF(RELEVE_COTES!D122<>\"\",SUBSTITUTE(SUBSTITUTE(SUBSTITUTE(SUBSTITUTE(SUBSTITUTE(SUBSTITUTE(SUBSTITUTE(SUBSTITUTE(RELEVE_COTES!D122,\" \",\"\"),\"-\",\"\"),\".\",\",\"),\"\\\",\"\"),\",\",\",\"),\"+\",\"\"),\"&\",\"\"),\"*\",\"\"),\"\")","v":""},{"$f":"IF(RELEVE_COTES!E122<>\"\",SUBSTITUTE(SUBSTITUTE(SUBSTITUTE(SUBSTITUTE(SUBSTITUTE(SUBSTITUTE(SUBSTITUTE(SUBSTITUTE(RELEVE_COTES!E122,\" \",\"\"),\"-\",\"\"),\".\",\",\"),\"\\\",\"\"),\",\",\",\"),\"+\",\"\"),\"&\",\"\"),\"*\",\"\"),\"\")","v":""},{"$f":"IF(RELEVE_COTES!F122<>\"\",SUBSTITUTE(SUBSTITUTE(SUBSTITUTE(SUBSTITUTE(SUBSTITUTE(SUBSTITUTE(SUBSTITUTE(SUBSTITUTE(RELEVE_COTES!F122,\" \",\"\"),\"-\",\"\"),\".\",\",\"),\"\\\",\"\"),\",\",\",\"),\"+\",\"\"),\"&\",\"\"),\"*\",\"\"),\"\")","v":""},{"$f":"IF(RELEVE_COTES!G122<>\"\",SUBSTITUTE(SUBSTITUTE(SUBSTITUTE(SUBSTITUTE(SUBSTITUTE(SUBSTITUTE(SUBSTITUTE(SUBSTITUTE(RELEVE_COTES!G122,\" \",\"\"),\"-\",\"\"),\".\",\",\"),\"\\\",\"\"),\",\",\",\"),\"+\",\"\"),\"&\",\"\"),\"*\",\"\"),\"\")","v":""},{"$f":"IF($D74=\"GP\",IF(RELEVE_COTES!$I122=\"\",0,IF(RELEVE_COTES!$I122=\"\",\"\",RELEVE_COTES!$I122)),IF(RELEVE_COTES!$H122=\"\",0,IF(RELEVE_COTES!$H122=\"\",\"\",RELEVE_COTES!$H122)))","v":0},{"$f":"IF($D74=\"GP\",IF(RELEVE_COTES!$H122=\"\",0,IF(RELEVE_COTES!$H122=\"\",\"\",RELEVE_COTES!$H122)),IF(RELEVE_COTES!$I122=\"\",0,IF(RELEVE_COTES!$I122=\"\",\"\",RELEVE_COTES!$I122)))","v":0},{"$f":"IF(RELEVE_COTES!$J122=\"\",0,IF(RELEVE_COTES!$J122=\"\",\"\",RELEVE_COTES!$J122))","v":0},{"$f":"VLOOKUP(RELEVE_COTES!$K122,TabExistantRef1[],2,FALSE)","v":{"$error":"#N/A"}},{"$f":"IF($Y$1=\"BOIS\",RELEVE_COTES!$O122,0)","v":{"$error":"#N/A"}},{"$f":"IF($Y$1=\"BOIS\",RELEVE_COTES!$P122,0)","v":{"$error":"#N/A"}},{"$f":"IF($Y$1=\"BOIS\",RELEVE_COTES!$Q122,0)","v":{"$error":"#N/A"}},{"$error":"#N/A"},{"$f":"IF($Y$1=\"BANCHE\",RELEVE_COTES!$L122,0)","v":{"$error":"#N/A"}},{"$error":"#N/A"},{"$error":"#N/A"},{"$f":"IF($Y$1<>\"BANCHE\",RELEVE_COTES!$L122,0)","v":{"$error":"#N/A"}},{"$f":"IF(AND($Y$1<>\"BANCHE\",RELEVE_COTES!$M122<>\"\"),RELEVE_COTES!$M122,20)","v":{"$error":"#N/A"}},{"$f":"IF($Y$1<>\"BANCHE\",IF(RELEVE_COTES!$N122<>\"\",RELEVE_COTES!$N122,10),0)","v":{"$error":"#N/A"}},{"$f":"IF(RELEVE_COTES!$I$20=\"Huisserie Banchée\",\"Banche\",IF(RELEVE_COTES!$I$20=\"Huisserie Bois\",\"Bois\",IF(RELEVE_COTES!$I$20=\"Bâti Scellé\",\"Bâti Métal.\")))","v":false},{"$f":"RELEVE_COTES!$C$11","v":0},{"$f":"RELEVE_COTES!$K$12","v":0},{"$f":"VLOOKUP(AA74,TabSeuilRef[],2,FALSE)","v":{"$error":"#N/A"}},{"$f":"\"Paumelles \"&RELEVE_COTES!$E$15","v":"Paumelles "},{"$f":"IF(RELEVE_COTES!$K$16<>\"Déporté\",RELEVE_COTES!$K$16,RELEVE_COTES!$K$16&\" / \"&VLOOKUP(RELEVE_COTES!$L$16,TabOptUsSerr[],2,FALSE))","v":"SANS"},{"$f":"RELEVE_COTES!$K$11","v":0},{"$f":"VLOOKUP(RELEVE_COTES!$G$12,TabNuancierVTL[],2,FALSE)&\"/\"&VLOOKUP(RELEVE_COTES!$G$13,TabNuancierVTL[],2,FALSE)","v":{"$error":"#N/A"}},{"$f":"IF(RELEVE_COTES!$E$14=\"Pr.Peint\",\"PP\",VLOOKUP(RELEVE_COTES!$G$14,TabNuancHM[],2,FALSE))","v":"PP"},{"$error":"#N/A"},{"$f":"IF(RELEVE_COTES!$C$11 =\"R32S-R02\",\"OUI\",\"NON\")","v":"NON"},"NON","",{"$f":"IF(AI74=\"OUI\",RELEVE_COTES!$N$16,\"\")","v":""},null,{"$f":"RELEVE_COTES!$E$12&\"/\"&RELEVE_COTES!$E$13","v":" SANS/ SANS"},{"$f":"IF(RELEVE_COTES!$K$15<>\"SANS\",RELEVE_COTES!$L$15&\" \"&RELEVE_COTES!$K$15,\"\")&IF(RELEVE_COTES!$N$15<>\"SANS\",\" / PMR: \"&RELEVE_COTES!$O$15&\" \"&RELEVE_COTES!$N$15,\"\")","v":""},{"$f":"IF(RELEVE_COTES!$K$14 <> \"SANS\",RELEVE_COTES!$O$14&\" \"&RELEVE_COTES!$K$14,\"\")","v":"U+F "},{"$f":"IF(RELEVE_COTES!$K$13 <> \"SANS\",RELEVE_COTES!$O$13&\" \"&RELEVE_COTES!$K$13,\"SANS\")","v":"U+F "},{"$f":"VLOOKUP(RELEVE_COTES!$O$11,TabOptUsSerr[],2,FALSE)","v":"Usinage, fourniture et pose"},{"$f":"INDEX(TabFinition[FINITION],MATCH(VLOOKUP(RELEVE_COTES!$G$12,TabNuancierVTL[],3,FALSE)&VLOOKUP(RELEVE_COTES!$G$13,TabNuancierVTL[],3,FALSE),TabFinition[TYPE EXT]&TabFinition[TYPE INT],0))","v":{"$error":"#N/A"}},"INT",{"$f":"RELEVE_COTES!$E$16","v":"platines + vérins"},"NON",{"$f":"IF(RELEVE_COTES!$I$20 = \"Huisserie Bois\",RELEVE_COTES!$R122,IF(RELEVE_COTES!$I$20 = \"Huisserie Banchée\",RELEVE_COTES!$M122,IF(RELEVE_COTES!$I$20 = \"Bâti Scellé\",RELEVE_COTES!$O122,\"\")))","v":""}]
[{"$error":"#VALUE!"},{"$error":"#VALUE!"},{"$f":"IF(RELEVE_COTES!$A123<>\"\",SUBSTITUTE(SUBSTITUTE(SUBSTITUTE(SUBSTITUTE(SUBSTITUTE(SUBSTITUTE(SUBSTITUTE(SUBSTITUTE(RELEVE_COTES!$A123,\" \",\"\"),\"-\",\"/\"),\".\",\"/\"),\"\\\",\"/\"),\",\",\"/\"),\"+\",\"_\"),\"&\",\"_\"),\"*\",\"/\"),\"\")","v":""},{"$f":"RELEVE_COTES!$B123","v":0},1,{"$f":"IF(RELEVE_COTES!C123<>\"\",SUBSTITUTE(SUBSTITUTE(SUBSTITUTE(SUBSTITUTE(SUBSTITUTE(SUBSTITUTE(SUBSTITUTE(SUBSTITUTE(RELEVE_COTES!C123,\" \",\"\"),\"-\",\"\"),\".\",\",\"),\"\\\",\"\"),\",\",\",\"),\"+\",\"\"),\"&\",\"\"),\"*\",\"\"),\"\")","v":""},{"$f":"IF(RELEVE_COTES!D123<>\"\",SUBSTITUTE(SUBSTITUTE(SUBSTITUTE(SUBSTITUTE(SUBSTITUTE(SUBSTITUTE(SUBSTITUTE(SUBSTITUTE(RELEVE_COTES!D123,\" \",\"\"),\"-\",\"\"),\".\",\",\"),\"\\\",\"\"),\",\",\",\"),\"+\",\"\"),\"&\",\"\"),\"*\",\"\"),\"\")","v":""},{"$f":"IF(RELEVE_COTES!E123<>\"\",SUBSTITUTE(SUBSTITUTE(SUBSTITUTE(SUBSTITUTE(SUBSTITUTE(SUBSTITUTE(SUBSTITUTE(SUBSTITUTE(RELEVE_COTES!E123,\" \",\"\"),\"-\",\"\"),\".\",\",\"),\"\\\",\"\"),\",\",\",\"),\"+\",\"\"),\"&\",\"\"),\"*\",\"\"),\"\")","v":""},{"$f":"IF(RELEVE_COTES!F123<>\"\",SUBSTITUTE(SUBSTITUTE(SUBSTITUTE(SUBSTITUTE(SUBSTITUTE(SUBSTITUTE(SUBSTITUTE(SUBSTITUTE(RELEVE_COTES!F123,\" \",\"\"),\"-\",\"\"),\".\",\",\"),\"\\\",\"\"),\",\",\",\"),\"+\",\"\"),\"&\",\"\"),\"*\",\"\"),\"\")","v":""},{"$f":"IF(RELEVE_COTES!G123<>\"\",SUBSTITUTE(SUBSTITUTE(SUBSTITUTE(SUBSTITUTE(SUBSTITUTE(SUBSTITUTE(SUBSTITUTE(SUBSTITUTE(RELEVE_COTES!G123,\" \",\"\"),\"-\",\"\"),\".\",\",\"),\"\\\",\"\"),\",\",\",\"),\"+\",\"\"),\"&\",\"\"),\"*\",\"\"),\"\")","v":""},{"$f":"IF($D75=\"GP\",IF(RELEVE_COTES!$I123=\"\",0,IF(RELEVE_COTES!$I123=\"\",\"\",RELEVE_COTES!$I123)),IF(RELEVE_COTES!$H123=\"\",0,IF(RELEVE_COTES!$H123=\"\",\"\",RELEVE_COTES!$H123)))","v":0},{"$f":"IF($D75=\"GP\",IF(RELEVE_COTES!$H123=\"\",0,IF(RELEVE_COTES!$H123=\"\",\"\",RELEVE_COTES!$H123)),IF(RELEVE_COTES!$I123=\"\",0,IF(RELEVE_COTES!$I123=\"\",\"\",RELEVE_COTES!$I123)))","v":0},{"$f":"IF(RELEVE_COTES!$J123=\"\",0,IF(RELEVE_COTES!$J123=\"\",\"\",RELEVE_COTES!$J123))","v":0},{"$f":"VLOOKUP(RELEVE_COTES!$K123,TabExistantRef1[],2,FALSE)","v":{"$error":"#N/A"}},{"$f":"IF($Y$1=\"BOIS\",RELEVE_COTES!$O123,0)","v":{"$error":"#N/A"}},{"$f":"IF($Y$1=\"BOIS\",RELEVE_COTES!$P123,0)","v":{"$error":"#N/A"}},{"$f":"IF($Y$1=\"BOIS\",RELEVE_COTES!$Q123,0)","v":{"$error":"#N/A"}},{"$error":"#N/A"},{"$f":"IF($Y$1=\"BANCHE\",RELEVE_COTES!$L123,0)","v":{"$error":"#N/A"}},{"$error":"#N/A"},{"$error":"#N/A"},{"$f":"IF($Y$1<>\"BANCHE\",RELEVE_COTES!$L123,0)","v":{"$error":"#N/A"}},{"$f":"IF(AND($Y$1<>\"BANCHE\",RELEVE_COTES!$M123<>\"\"),RELEVE_COTES!$M123,20)","v":{"$error":"#N/A"}},{"$f":"IF($Y$1<>\"BANCHE\",IF(RELEVE_COTES!$N123<>\"\",RELEVE_COTES!$N123,10),0)","v":{"$error":"#N/A"}},{"$f":"IF(RELEVE_COTES!$I$20=\"Huisserie Banchée\",\"Banche\",IF(RELEVE_COTES!$I$20=\"Huisserie Bois\",\"Bois\",IF(RELEVE_COTES!$I$20=\"Bâti Scellé\",\"Bâti Métal.\")))","v":false},{"$f":"RELEVE_COTES!$C$11","v":0},{"$f":"RELEVE_COTES!$K$12","v":0},{"$f":"VLOOKUP(AA75,TabSeuilRef[],2,FALSE)","v":{"$error":"#N/A"}},{"$f":"\"Paumelles \"&RELEVE_COTES!$E$15","v":"Paumelles "},{"$f":"IF(RELEVE_COTES!$K$16<>\"Déporté\",RELEVE_COTES!$K$16,RELEVE_COTES!$K$16&\" / \"&VLOOKUP(RELEVE_COTES!$L$16,TabOptUsSerr[],2,FALSE))","v":"SANS"},{"$f":"RELEVE_COTES!$K$11","v":0},{"$f":"VLOOKUP(RELEVE_COTES!$G$12,TabNuancierVTL[],2,FALSE)&\"/\"&VLOOKUP(RELEVE_COTES!$G$13,TabNuancierVTL[],2,FALSE)","v":{"$error":"#N/A"}},{"$f":"IF(RELEVE_COTES!$E$14=\"Pr.Peint\",\"PP\",VLOOKUP(RELEVE_COTES!$G$14,TabNuancHM[],2,FALSE))","v":"PP"},{"$error":"#N/A"},{"$f":"IF(RELEVE_COTES!$C$11 =\"R32S-R02\",\"OUI\",\"NON\")","v":"NON"},"NON","",{"$f":"IF(AI75=\"OUI\",RELEVE_COTES!$N$16,\"\")","v":""},null,{"$f":"RELEVE_COTES!$E$12&\"/\"&RELEVE_COTES!$E$13","v":" SANS/ SANS"},{"$f":"IF(RELEVE_COTES!$K$15<>\"SANS\",RELEVE_COTES!$L$15&\" \"&RELEVE_COTES!$K$15,\"\")&IF(RELEVE_COTES!$N$15<>\"SANS\",\" / PMR: \"&RELEVE_COTES!$O$15&\" \"&RELEVE_COTES!$N$15,\"\")","v":""},{"$f":"IF(RELEVE_COTES!$K$14 <> \"SANS\",RELEVE_COTES!$O$14&\" \"&RELEVE_COTES!$K$14,\"\")","v":"U+F "},{"$f":"IF(RELEVE_COTES!$K$13 <> \"SANS\",RELEVE_COTES!$O$13&\" \"&RELEVE_COTES!$K$13,\"SANS\")","v":"U+F "},{"$f":"VLOOKUP(RELEVE_COTES!$O$11,TabOptUsSerr[],2,FALSE)","v":"Usinage, fourniture et pose"},{"$f":"INDEX(TabFinition[FINITION],MATCH(VLOOKUP(RELEVE_COTES!$G$12,TabNuancierVTL[],3,FALSE)&VLOOKUP(RELEVE_COTES!$G$13,TabNuancierVTL[],3,FALSE),TabFinition[TYPE EXT]&TabFinition[TYPE INT],0))","v":{"$error":"#N/A"}},"INT",{"$f":"RELEVE_COTES!$E$16","v":"platines + vérins"},"NON",{"$f":"IF(RELEVE_COTES!$I$20 = \"Huisserie Bois\",RELEVE_COTES!$R123,IF(RELEVE_COTES!$I$20 = \"Huisserie Banchée\",RELEVE_COTES!$M123,IF(RELEVE_COTES!$I$20 = \"Bâti Scellé\",RELEVE_COTES!$O123,\"\")))","v":""}]
[{"$f":"G76+I76","v":{"$error":"#VALUE!"}},{"$f":"F76+I76+I76","v":{"$error":"#VALUE!"}},{"$f":"IF(RELEVE_COTES!$A124<>\"\",SUBSTITUTE(SUBSTITUTE(SUBSTITUTE(SUBSTITUTE(SUBSTITUTE(SUBSTITUTE(SUBSTITUTE(SUBSTITUTE(RELEVE_COTES!$A124,\" \",\"\"),\"-\",\"/\"),\".\",\"/\"),\"\\\",\"/\"),\",\",\"/\"),\"+\",\"_\"),\"&\",\"_\"),\"*\",\"/\"),\"\")","v":""},{"$f":"RELEVE_COTES!$B124","v":0},1,{"$f":"IF(RELEVE_COTES!C124<>\"\",SUBSTITUTE(SUBSTITUTE(SUBSTITUTE(SUBSTITUTE(SUBSTITUTE(SUBSTITUTE(SUBSTITUTE(SUBSTITUTE(RELEVE_COTES!C124,\" \",\"\"),\"-\",\"\"),\".\",\",\"),\"\\\",\"\"),\",\",\",\"),\"+\",\"\"),\"&\",\"\"),\"*\",\"\"),\"\")","v":""},{"$f":"IF(RELEVE_COTES!D124<>\"\",SUBSTITUTE(SUBSTITUTE(SUBSTITUTE(SUBSTITUTE(SUBSTITUTE(SUBSTITUTE(SUBSTITUTE(SUBSTITUTE(RELEVE_COTES!D124,\" \",\"\"),\"-\",\"\"),\".\",\",\"),\"\\\",\"\"),\",\",\",\"),\"+\",\"\"),\"&\",\"\"),\"*\",\"\"),\"\")","v":""},{"$f":"IF(RELEVE_COTES!E124<>\"\",SUBSTITUTE(SUBSTITUTE(SUBSTITUTE(SUBSTITUTE(SUBSTITUTE(SUBSTITUTE(SUBSTITUTE(SUBSTITUTE(RELEVE_COTES!E124,\" \",\"\"),\"-\",\"\"),\".\",\",\"),\"\\\",\"\"),\",\",\",\"),\"+\",\"\"),\"&\",\"\"),\"*\",\"\"),\"\")","v":""},{"$f":"IF(RELEVE_COTES!F124<>\"\",SUBSTITUTE(SUBSTITUTE(SUBSTITUTE(SUBSTITUTE(SUBSTITUTE(SUBSTITUTE(SUBSTITUTE(SUBSTITUTE(RELEVE_COTES!F124,\" \",\"\"),\"-\",\"\"),\".\",\",\"),\"\\\",\"\"),\",\",\",\"),\"+\",\"\"),\"&\",\"\"),\"*\",\"\"),\"\")","v":""},{"$f":"IF(RELEVE_COTES!G124<>\"\",SUBSTITUTE(SUBSTITUTE(SUBSTITUTE(SUBSTITUTE(SUBSTITUTE(SUBSTITUTE(SUBSTITUTE(SUBSTITUTE(RELEVE_COTES!G124,\" \",\"\"),\"-\",\"\"),\".\",\",\"),\"\\\",\"\"),\",\",\",\"),\"+\",\"\"),\"&\",\"\"),\"*\",\"\"),\"\")","v":""},{"$f":"IF($D76=\"GP\",IF(RELEVE_COTES!$I124=\"\",0,IF(RELEVE_COTES!$I124=\"\",\"\",RELEVE_COTES!$I124)),IF(RELEVE_COTES!$H124=\"\",0,IF(RELEVE_COTES!$H124=\"\",\"\",RELEVE_COTES!$H124)))","v":0},{"$f":"IF($D76=\"GP\",IF(RELEVE_COTES!$H124=\"\",0,IF(RELEVE_COTES!$H124=\"\",\"\",RELEVE_COTES!$H124)),IF(RELEVE_COTES!$I124=\"\",0,IF(RELEVE_COTES!$I124=\"\",\"\",RELEVE_COTES!$I124)))","v":0},{"$f":"IF(RELEVE_COTES!$J124=\"\",0,IF(RELEVE_COTES!$J124=\"\",\"\",RELEVE_COTES!$J124))","v":0},{"$f":"VLOOKUP(RELEVE_COTES!$K124,TabExistantRef1[],2,FALSE)","v":{"$error":"#N/A"}},{"$f":"IF($Y$1=\"BOIS\",RELEVE_COTES!$O124,0)","v":{"$error":"#N/A"}},{"$f":"IF($Y$1=\"BOIS\",RELEVE_COTES!$P124,0)","v":{"$error":"#N/A"}},{"$f":"IF($Y$1=\"BOIS\",RELEVE_COTES!$Q124,0)","v":{"$error":"#N/A"}},{"$error":"#N/A"},{"$f":"IF($Y$1=\"BANCHE\",RELEVE_COTES!$L124,0)","v":{"$error":"#N/A"}},{"$error":"#N/A"},{"$error":"#N/A"},{"$f":"IF($Y$1<>\"BANCHE\",RELEVE_COTES!$L124,0)","v":{"$error":"#N/A"}},{"$f":"IF(AND($Y$1<>\"BANCHE\",RELEVE_COTES!$M124<>\"\"),RELEVE_COTES!$M124,20)","v":{"$error":"#N/A"}},{"$f":"IF($Y$1<>\"BANCHE\",IF(RELEVE_COTES!$N124<>\"\",RELEVE_COTES!$N124,10),0)","v":{"$error":"#N/A"}},{"$f":"IF(RELEVE_COTES!$I$20=\"Huisserie Banchée\",\"Banche\",IF(RELEVE_COTES!$I$20=\"Huisserie Bois\",\"Bois\",IF(RELEVE_COTES!$I$20=\"Bâti Scellé\",\"Bâti Métal.\")))","v":false},{"$f":"RELEVE_COTES!$C$11","v":0},{"$f":"RELEVE_COTES!$K$12","v":0},{"$f":"VLOOKUP(AA76,TabSeuilRef[],2,FALSE)","v":{"$error":"#N/A"}},{"$f":"\"Paumelles \"&RELEVE_COTES!$E$15","v":"Paumelles "},{"$f":"IF(RELEVE_COTES!$K$16<>\"Déporté\",RELEVE_COTES!$K$16,RELEVE_COTES!$K$16&\" / \"&VLOOKUP(RELEVE_COTES!$L$16,TabOptUsSerr[],2,FALSE))","v":"SANS"},{"$f":"RELEVE_COTES!$K$11","v":0},{"$f":"VLOOKUP(RELEVE_COTES!$G$12,TabNuancierVTL[],2,FALSE)&\"/\"&VLOOKUP(RELEVE_COTES!$G$13,TabNuancierVTL[],2,FALSE)","v":{"$error":"#N/A"}},{"$f":"IF(RELEVE_COTES!$E$14=\"Pr.Peint\",\"PP\",VLOOKUP(RELEVE_COTES!$G$14,TabNuancHM[],2,FALSE))","v":"PP"},{"$error":"#N/A"},{"$f":"IF(RELEVE_COTES!$C$11 =\"R32S-R02\",\"OUI\",\"NON\")","v":"NON"},"NON","",{"$f":"IF(AI76=\"OUI\",RELEVE_COTES!$N$16,\"\")","v":""},null,{"$f":"RELEVE_COTES!$E$12&\"/\"&RELEVE_COTES!$E$13","v":" SANS/ SANS"},{"$f":"IF(RELEVE_COTES!$K$15<>\"SANS\",RELEVE_COTES!$L$15&\" \"&RELEVE_COTES!$K$15,\"\")&IF(RELEVE_COTES!$N$15<>\"SANS\",\" / PMR: \"&RELEVE_COTES!$O$15&\" \"&RELEVE_COTES!$N$15,\"\")","v":""},{"$f":"IF(RELEVE_COTES!$K$14 <> \"SANS\",RELEVE_COTES!$O$14&\" \"&RELEVE_COTES!$K$14,\"\")","v":"U+F "},{"$f":"IF(RELEVE_COTES!$K$13 <> \"SANS\",RELEVE_COTES!$O$13&\" \"&RELEVE_COTES!$K$13,\"SANS\")","v":"U+F "},{"$f":"VLOOKUP(RELEVE_COTES!$O$11,TabOptUsSerr[],2,FALSE)","v":"Usinage, fourniture et pose"},{"$f":"INDEX(TabFinition[FINITION],MATCH(VLOOKUP(RELEVE_COTES!$G$12,TabNuancierVTL[],3,FALSE)&VLOOKUP(RELEVE_COTES!$G$13,TabNuancierVTL[],3,FALSE),TabFinition[TYPE EXT]&TabFinition[TYPE INT],0))","v":{"$error":"#N/A"}},"INT",{"$f":"RELEVE_COTES!$E$16","v":"platines + vérins"},"NON",{"$f":"IF(RELEVE_COTES!$I$20 = \"Huisserie Bois\",RELEVE_COTES!$R124,IF(RELEVE_COTES!$I$20 = \"Huisserie Banchée\",RELEVE_COTES!$M124,IF(RELEVE_COTES!$I$20 = \"Bâti Scellé\",RELEVE_COTES!$O124,\"\")))","v":""}]
[{"$error":"#VALUE!"},{"$error":"#VALUE!"},{"$f":"IF(RELEVE_COTES!$A125<>\"\",SUBSTITUTE(SUBSTITUTE(SUBSTITUTE(SUBSTITUTE(SUBSTITUTE(SUBSTITUTE(SUBSTITUTE(SUBSTITUTE(RELEVE_COTES!$A125,\" \",\"\"),\"-\",\"/\"),\".\",\"/\"),\"\\\",\"/\"),\",\",\"/\"),\"+\",\"_\"),\"&\",\"_\"),\"*\",\"/\"),\"\")","v":""},{"$f":"RELEVE_COTES!$B125","v":0},1,{"$f":"IF(RELEVE_COTES!C125<>\"\",SUBSTITUTE(SUBSTITUTE(SUBSTITUTE(SUBSTITUTE(SUBSTITUTE(SUBSTITUTE(SUBSTITUTE(SUBSTITUTE(RELEVE_COTES!C125,\" \",\"\"),\"-\",\"\"),\".\",\",\"),\"\\\",\"\"),\",\",\",\"),\"+\",\"\"),\"&\",\"\"),\"*\",\"\"),\"\")","v":""},{"$f":"IF(RELEVE_COTES!D125<>\"\",SUBSTITUTE(SUBSTITUTE(SUBSTITUTE(SUBSTITUTE(SUBSTITUTE(SUBSTITUTE(SUBSTITUTE(SUBSTITUTE(RELEVE_COTES!D125,\" \",\"\"),\"-\",\"\"),\".\",\",\"),\"\\\",\"\"),\",\",\",\"),\"+\",\"\"),\"&\",\"\"),\"*\",\"\"),\"\")","v":""},{"$f":"IF(RELEVE_COTES!E125<>\"\",SUBSTITUTE(SUBSTITUTE(SUBSTITUTE(SUBSTITUTE(SUBSTITUTE(SUBSTITUTE(SUBSTITUTE(SUBSTITUTE(RELEVE_COTES!E125,\" \",\"\"),\"-\",\"\"),\".\",\",\"),\"\\\",\"\"),\",\",\",\"),\"+\",\"\"),\"&\",\"\"),\"*\",\"\"),\"\")","v":""},{"$f":"IF(RELEVE_COTES!F125<>\"\",SUBSTITUTE(SUBSTITUTE(SUBSTITUTE(SUBSTITUTE(SUBSTITUTE(SUBSTITUTE(SUBSTITUTE(SUBSTITUTE(RELEVE_COTES!F125,\" \",\"\"),\"-\",\"\"),\".\",\",\"),\"\\\",\"\"),\",\",\",\"),\"+\",\"\"),\"&\",\"\"),\"*\",\"\"),\"\")","v":""},{"$f":"IF(RELEVE_COTES!G125<>\"\",SUBSTITUTE(SUBSTITUTE(SUBSTITUTE(SUBSTITUTE(SUBSTITUTE(SUBSTITUTE(SUBSTITUTE(SUBSTITUTE(RELEVE_COTES!G125,\" \",\"\"),\"-\",\"\"),\".\",\",\"),\"\\\",\"\"),\",\",\",\"),\"+\",\"\"),\"&\",\"\"),\"*\",\"\"),\"\")","v":""},{"$f":"IF($D77=\"GP\",IF(RELEVE_COTES!$I125=\"\",0,IF(RELEVE_COTES!$I125=\"\",\"\",RELEVE_COTES!$I125)),IF(RELEVE_COTES!$H125=\"\",0,IF(RELEVE_COTES!$H125=\"\",\"\",RELEVE_COTES!$H125)))","v":0},{"$f":"IF($D77=\"GP\",IF(RELEVE_COTES!$H125=\"\",0,IF(RELEVE_COTES!$H125=\"\",\"\",RELEVE_COTES!$H125)),IF(RELEVE_COTES!$I125=\"\",0,IF(RELEVE_COTES!$I125=\"\",\"\",RELEVE_COTES!$I125)))","v":0},{"$f":"IF(RELEVE_COTES!$J125=\"\",0,IF(RELEVE_COTES!$J125=\"\",\"\",RELEVE_COTES!$J125))","v":0},{"$f":"VLOOKUP(RELEVE_COTES!$K125,TabExistantRef1[],2,FALSE)","v":{"$error":"#N/A"}},{"$f":"IF($Y$1=\"BOIS\",RELEVE_COTES!$O125,0)","v":{"$error":"#N/A"}},{"$f":"IF($Y$1=\"BOIS\",RELEVE_COTES!$P125,0)","v":{"$error":"#N/A"}},{"$f":"IF($Y$1=\"BOIS\",RELEVE_COTES!$Q125,0)","v":{"$error":"#N/A"}},{"$error":"#N/A"},{"$f":"IF($Y$1=\"BANCHE\",RELEVE_COTES!$L125,0)","v":{"$error":"#N/A"}},{"$error":"#N/A"},{"$error":"#N/A"},{"$f":"IF($Y$1<>\"BANCHE\",RELEVE_COTES!$L125,0)","v":{"$error":"#N/A"}},{"$f":"IF(AND($Y$1<>\"BANCHE\",RELEVE_COTES!$M125<>\"\"),RELEVE_COTES!$M125,20)","v":{"$error":"#N/A"}},{"$f":"IF($Y$1<>\"BANCHE\",IF(RELEVE_COTES!$N125<>\"\",RELEVE_COTES!$N125,10),0)","v":{"$error":"#N/A"}},{"$f":"IF(RELEVE_COTES!$I$20=\"Huisserie Banchée\",\"Banche\",IF(RELEVE_COTES!$I$20=\"Huisserie Bois\",\"Bois\",IF(RELEVE_COTES!$I$20=\"Bâti Scellé\",\"Bâti Métal.\")))","v":false},{"$f":"RELEVE_COTES!$C$11","v":0},{"$f":"RELEVE_COTES!$K$12","v":0},{"$f":"VLOOKUP(AA77,TabSeuilRef[],2,FALSE)","v":{"$error":"#N/A"}},{"$f":"\"Paumelles \"&RELEVE_COTES!$E$15","v":"Paumelles "},{"$f":"IF(RELEVE_COTES!$K$16<>\"Déporté\",RELEVE_COTES!$K$16,RELEVE_COTES!$K$16&\" / \"&VLOOKUP(RELEVE_COTES!$L$16,TabOptUsSerr[],2,FALSE))","v":"SANS"},{"$f":"RELEVE_COTES!$K$11","v":0},{"$f":"VLOOKUP(RELEVE_COTES!$G$12,TabNuancierVTL[],2,FALSE)&\"/\"&VLOOKUP(RELEVE_COTES!$G$13,TabNuancierVTL[],2,FALSE)","v":{"$error":"#N/A"}},{"$f":"IF(RELEVE_COTES!$E$14=\"Pr.Peint\",\"PP\",VLOOKUP(RELEVE_COTES!$G$14,TabNuancHM[],2,FALSE))","v":"PP"},{"$error":"#N/A"},{"$f":"IF(RELEVE_COTES!$C$11 =\"R32S-R02\",\"OUI\",\"NON\")","v":"NON"},"NON","",{"$f":"IF(AI77=\"OUI\",RELEVE_COTES!$N$16,\"\")","v":""},null,{"$f":"RELEVE_COTES!$E$12&\"/\"&RELEVE_COTES!$E$13","v":" SANS/ SANS"},{"$f":"IF(RELEVE_COTES!$K$15<>\"SANS\",RELEVE_COTES!$L$15&\" \"&RELEVE_COTES!$K$15,\"\")&IF(RELEVE_COTES!$N$15<>\"SANS\",\" / PMR: \"&RELEVE_COTES!$O$15&\" \"&RELEVE_COTES!$N$15,\"\")","v":""},{"$f":"IF(RELEVE_COTES!$K$14 <> \"SANS\",RELEVE_COTES!$O$14&\" \"&RELEVE_COTES!$K$14,\"\")","v":"U+F "},{"$f":"IF(RELEVE_COTES!$K$13 <> \"SANS\",RELEVE_COTES!$O$13&\" \"&RELEVE_COTES!$K$13,\"SANS\")","v":"U+F "},{"$f":"VLOOKUP(RELEVE_COTES!$O$11,TabOptUsSerr[],2,FALSE)","v":"Usinage, fourniture et pose"},{"$f":"INDEX(TabFinition[FINITION],MATCH(VLOOKUP(RELEVE_COTES!$G$12,TabNuancierVTL[],3,FALSE)&VLOOKUP(RELEVE_COTES!$G$13,TabNuancierVTL[],3,FALSE),TabFinition[TYPE EXT]&TabFinition[TYPE INT],0))","v":{"$error":"#N/A"}},"INT",{"$f":"RELEVE_COTES!$E$16","v":"platines + vérins"},"NON",{"$f":"IF(RELEVE_COTES!$I$20 = \"Huisserie Bois\",RELEVE_COTES!$R125,IF(RELEVE_COTES!$I$20 = \"Huisserie Banchée\",RELEVE_COTES!$M125,IF(RELEVE_COTES!$I$20 = \"Bâti Scellé\",RELEVE_COTES!$O125,\"\")))","v":""}]
[{"$error":"#VALUE!"},{"$error":"#VALUE!"},{"$f":"IF(RELEVE_COTES!$A126<>\"\",SUBSTITUTE(SUBSTITUTE(SUBSTITUTE(SUBSTITUTE(SUBSTITUTE(SUBSTITUTE(SUBSTITUTE(SUBSTITUTE(RELEVE_COTES!$A126,\" \",\"\"),\"-\",\"/\"),\".\",\"/\"),\"\\\",\"/\"),\",\",\"/\"),\"+\",\"_\"),\"&\",\"_\"),\"*\",\"/\"),\"\")","v":""},{"$f":"RELEVE_COTES!$B126","v":0},1,{"$f":"IF(RELEVE_COTES!C126<>\"\",SUBSTITUTE(SUBSTITUTE(SUBSTITUTE(SUBSTITUTE(SUBSTITUTE(SUBSTITUTE(SUBSTITUTE(SUBSTITUTE(RELEVE_COTES!C126,\" \",\"\"),\"-\",\"\"),\".\",\",\"),\"\\\",\"\"),\",\",\",\"),\"+\",\"\"),\"&\",\"\"),\"*\",\"\"),\"\")","v":""},{"$f":"IF(RELEVE_COTES!D126<>\"\",SUBSTITUTE(SUBSTITUTE(SUBSTITUTE(SUBSTITUTE(SUBSTITUTE(SUBSTITUTE(SUBSTITUTE(SUBSTITUTE(RELEVE_COTES!D126,\" \",\"\"),\"-\",\"\"),\".\",\",\"),\"\\\",\"\"),\",\",\",\"),\"+\",\"\"),\"&\",\"\"),\"*\",\"\"),\"\")","v":""},{"$f":"IF(RELEVE_COTES!E126<>\"\",SUBSTITUTE(SUBSTITUTE(SUBSTITUTE(SUBSTITUTE(SUBSTITUTE(SUBSTITUTE(SUBSTITUTE(SUBSTITUTE(RELEVE_COTES!E126,\" \",\"\"),\"-\",\"\"),\".\",\",\"),\"\\\",\"\"),\",\",\",\"),\"+\",\"\"),\"&\",\"\"),\"*\",\"\"),\"\")","v":""},{"$f":"IF(RELEVE_COTES!F126<>\"\",SUBSTITUTE(SUBSTITUTE(SUBSTITUTE(SUBSTITUTE(SUBSTITUTE(SUBSTITUTE(SUBSTITUTE(SUBSTITUTE(RELEVE_COTES!F126,\" \",\"\"),\"-\",\"\"),\".\",\",\"),\"\\\",\"\"),\",\",\",\"),\"+\",\"\"),\"&\",\"\"),\"*\",\"\"),\"\")","v":""},{"$f":"IF(RELEVE_COTES!G126<>\"\",SUBSTITUTE(SUBSTITUTE(SUBSTITUTE(SUBSTITUTE(SUBSTITUTE(SUBSTITUTE(SUBSTITUTE(SUBSTITUTE(RELEVE_COTES!G126,\" \",\"\"),\"-\",\"\"),\".\",\",\"),\"\\\",\"\"),\",\",\",\"),\"+\",\"\"),\"&\",\"\"),\"*\",\"\"),\"\")","v":""},{"$f":"IF($D78=\"GP\",IF(RELEVE_COTES!$I126=\"\",0,IF(RELEVE_COTES!$I126=\"\",\"\",RELEVE_COTES!$I126)),IF(RELEVE_COTES!$H126=\"\",0,IF(RELEVE_COTES!$H126=\"\",\"\",RELEVE_COTES!$H126)))","v":0},{"$f":"IF($D78=\"GP\",IF(RELEVE_COTES!$H126=\"\",0,IF(RELEVE_COTES!$H126=\"\",\"\",RELEVE_COTES!$H126)),IF(RELEVE_COTES!$I126=\"\",0,IF(RELEVE_COTES!$I126=\"\",\"\",RELEVE_COTES!$I126)))","v":0},{"$f":"IF(RELEVE_COTES!$J126=\"\",0,IF(RELEVE_COTES!$J126=\"\",\"\",RELEVE_COTES!$J126))","v":0},{"$f":"VLOOKUP(RELEVE_COTES!$K126,TabExistantRef1[],2,FALSE)","v":{"$error":"#N/A"}},{"$f":"IF($Y$1=\"BOIS\",RELEVE_COTES!$O126,0)","v":{"$error":"#N/A"}},{"$f":"IF($Y$1=\"BOIS\",RELEVE_COTES!$P126,0)","v":{"$error":"#N/A"}},{"$f":"IF($Y$1=\"BOIS\",RELEVE_COTES!$Q126,0)","v":{"$error":"#N/A"}},{"$error":"#N/A"},{"$f":"IF($Y$1=\"BANCHE\",RELEVE_COTES!$L126,0)","v":{"$error":"#N/A"}},{"$error":"#N/A"},{"$error":"#N/A"},{"$f":"IF($Y$1<>\"BANCHE\",RELEVE_COTES!$L126,0)","v":{"$error":"#N/A"}},{"$f":"IF(AND($Y$1<>\"BANCHE\",RELEVE_COTES!$M126<>\"\"),RELEVE_COTES!$M126,20)","v":{"$error":"#N/A"}},{"$f":"IF($Y$1<>\"BANCHE\",IF(RELEVE_COTES!$N126<>\"\",RELEVE_COTES!$N126,10),0)","v":{"$error":"#N/A"}},{"$f":"IF(RELEVE_COTES!$I$20=\"Huisserie Banchée\",\"Banche\",IF(RELEVE_COTES!$I$20=\"Huisserie Bois\",\"Bois\",IF(RELEVE_COTES!$I$20=\"Bâti Scellé\",\"Bâti Métal.\")))","v":false},{"$f":"RELEVE_COTES!$C$11","v":0},{"$f":"RELEVE_COTES!$K$12","v":0},{"$f":"VLOOKUP(AA78,TabSeuilRef[],2,FALSE)","v":{"$error":"#N/A"}},{"$f":"\"Paumelles \"&RELEVE_COTES!$E$15","v":"Paumelles "},{"$f":"IF(RELEVE_COTES!$K$16<>\"Déporté\",RELEVE_COTES!$K$16,RELEVE_COTES!$K$16&\" / \"&VLOOKUP(RELEVE_COTES!$L$16,TabOptUsSerr[],2,FALSE))","v":"SANS"},{"$f":"RELEVE_COTES!$K$11","v":0},{"$f":"VLOOKUP(RELEVE_COTES!$G$12,TabNuancierVTL[],2,FALSE)&\"/\"&VLOOKUP(RELEVE_COTES!$G$13,TabNuancierVTL[],2,FALSE)","v":{"$error":"#N/A"}},{"$f":"IF(RELEVE_COTES!$E$14=\"Pr.Peint\",\"PP\",VLOOKUP(RELEVE_COTES!$G$14,TabNuancHM[],2,FALSE))","v":"PP"},{"$error":"#N/A"},{"$f":"IF(RELEVE_COTES!$C$11 =\"R32S-R02\",\"OUI\",\"NON\")","v":"NON"},"NON","",{"$f":"IF(AI78=\"OUI\",RELEVE_COTES!$N$16,\"\")","v":""},null,{"$f":"RELEVE_COTES!$E$12&\"/\"&RELEVE_COTES!$E$13","v":" SANS/ SANS"},{"$f":"IF(RELEVE_COTES!$K$15<>\"SANS\",RELEVE_COTES!$L$15&\" \"&RELEVE_COTES!$K$15,\"\")&IF(RELEVE_COTES!$N$15<>\"SANS\",\" / PMR: \"&RELEVE_COTES!$O$15&\" \"&RELEVE_COTES!$N$15,\"\")","v":""},{"$f":"IF(RELEVE_COTES!$K$14 <> \"SANS\",RELEVE_COTES!$O$14&\" \"&RELEVE_COTES!$K$14,\"\")","v":"U+F "},{"$f":"IF(RELEVE_COTES!$K$13 <> \"SANS\",RELEVE_COTES!$O$13&\" \"&RELEVE_COTES!$K$13,\"SANS\")","v":"U+F "},{"$f":"VLOOKUP(RELEVE_COTES!$O$11,TabOptUsSerr[],2,FALSE)","v":"Usinage, fourniture et pose"},{"$f":"INDEX(TabFinition[FINITION],MATCH(VLOOKUP(RELEVE_COTES!$G$12,TabNuancierVTL[],3,FALSE)&VLOOKUP(RELEVE_COTES!$G$13,TabNuancierVTL[],3,FALSE),TabFinition[TYPE EXT]&TabFinition[TYPE INT],0))","v":{"$error":"#N/A"}},"INT",{"$f":"RELEVE_COTES!$E$16","v":"platines + vérins"},"NON",{"$f":"IF(RELEVE_COTES!$I$20 = \"Huisserie Bois\",RELEVE_COTES!$R126,IF(RELEVE_COTES!$I$20 = \"Huisserie Banchée\",RELEVE_COTES!$M126,IF(RELEVE_COTES!$I$20 = \"Bâti Scellé\",RELEVE_COTES!$O126,\"\")))","v":""}]
[{"$error":"#VALUE!"},{"$error":"#VALUE!"},{"$f":"IF(RELEVE_COTES!$A127<>\"\",SUBSTITUTE(SUBSTITUTE(SUBSTITUTE(SUBSTITUTE(SUBSTITUTE(SUBSTITUTE(SUBSTITUTE(SUBSTITUTE(RELEVE_COTES!$A127,\" \",\"\"),\"-\",\"/\"),\".\",\"/\"),\"\\\",\"/\"),\",\",\"/\"),\"+\",\"_\"),\"&\",\"_\"),\"*\",\"/\"),\"\")","v":""},{"$f":"RELEVE_COTES!$B127","v":0},1,{"$f":"IF(RELEVE_COTES!C127<>\"\",SUBSTITUTE(SUBSTITUTE(SUBSTITUTE(SUBSTITUTE(SUBSTITUTE(SUBSTITUTE(SUBSTITUTE(SUBSTITUTE(RELEVE_COTES!C127,\" \",\"\"),\"-\",\"\"),\".\",\",\"),\"\\\",\"\"),\",\",\",\"),\"+\",\"\"),\"&\",\"\"),\"*\",\"\"),\"\")","v":""},{"$f":"IF(RELEVE_COTES!D127<>\"\",SUBSTITUTE(SUBSTITUTE(SUBSTITUTE(SUBSTITUTE(SUBSTITUTE(SUBSTITUTE(SUBSTITUTE(SUBSTITUTE(RELEVE_COTES!D127,\" \",\"\"),\"-\",\"\"),\".\",\",\"),\"\\\",\"\"),\",\",\",\"),\"+\",\"\"),\"&\",\"\"),\"*\",\"\"),\"\")","v":""},{"$f":"IF(RELEVE_COTES!E127<>\"\",SUBSTITUTE(SUBSTITUTE(SUBSTITUTE(SUBSTITUTE(SUBSTITUTE(SUBSTITUTE(SUBSTITUTE(SUBSTITUTE(RELEVE_COTES!E127,\" \",\"\"),\"-\",\"\"),\".\",\",\"),\"\\\",\"\"),\",\",\",\"),\"+\",\"\"),\"&\",\"\"),\"*\",\"\"),\"\")","v":""},{"$f":"IF(RELEVE_COTES!F127<>\"\",SUBSTITUTE(SUBSTITUTE(SUBSTITUTE(SUBSTITUTE(SUBSTITUTE(SUBSTITUTE(SUBSTITUTE(SUBSTITUTE(RELEVE_COTES!F127,\" \",\"\"),\"-\",\"\"),\".\",\",\"),\"\\\",\"\"),\",\",\",\"),\"+\",\"\"),\"&\",\"\"),\"*\",\"\"),\"\")","v":""},{"$f":"IF(RELEVE_COTES!G127<>\"\",SUBSTITUTE(SUBSTITUTE(SUBSTITUTE(SUBSTITUTE(SUBSTITUTE(SUBSTITUTE(SUBSTITUTE(SUBSTITUTE(RELEVE_COTES!G127,\" \",\"\"),\"-\",\"\"),\".\",\",\"),\"\\\",\"\"),\",\",\",\"),\"+\",\"\"),\"&\",\"\"),\"*\",\"\"),\"\")","v":""},{"$f":"IF($D79=\"GP\",IF(RELEVE_COTES!$I127=\"\",0,IF(RELEVE_COTES!$I127=\"\",\"\",RELEVE_COTES!$I127)),IF(RELEVE_COTES!$H127=\"\",0,IF(RELEVE_COTES!$H127=\"\",\"\",RELEVE_COTES!$H127)))","v":0},{"$f":"IF($D79=\"GP\",IF(RELEVE_COTES!$H127=\"\",0,IF(RELEVE_COTES!$H127=\"\",\"\",RELEVE_COTES!$H127)),IF(RELEVE_COTES!$I127=\"\",0,IF(RELEVE_COTES!$I127=\"\",\"\",RELEVE_COTES!$I127)))","v":0},{"$f":"IF(RELEVE_COTES!$J127=\"\",0,IF(RELEVE_COTES!$J127=\"\",\"\",RELEVE_COTES!$J127))","v":0},{"$f":"VLOOKUP(RELEVE_COTES!$K127,TabExistantRef1[],2,FALSE)","v":{"$error":"#N/A"}},{"$f":"IF($Y$1=\"BOIS\",RELEVE_COTES!$O127,0)","v":{"$error":"#N/A"}},{"$f":"IF($Y$1=\"BOIS\",RELEVE_COTES!$P127,0)","v":{"$error":"#N/A"}},{"$f":"IF($Y$1=\"BOIS\",RELEVE_COTES!$Q127,0)","v":{"$error":"#N/A"}},{"$error":"#N/A"},{"$f":"IF($Y$1=\"BANCHE\",RELEVE_COTES!$L127,0)","v":{"$error":"#N/A"}},{"$error":"#N/A"},{"$error":"#N/A"},{"$f":"IF($Y$1<>\"BANCHE\",RELEVE_COTES!$L127,0)","v":{"$error":"#N/A"}},{"$f":"IF(AND($Y$1<>\"BANCHE\",RELEVE_COTES!$M127<>\"\"),RELEVE_COTES!$M127,20)","v":{"$error":"#N/A"}},{"$f":"IF($Y$1<>\"BANCHE\",IF(RELEVE_COTES!$N127<>\"\",RELEVE_COTES!$N127,10),0)","v":{"$error":"#N/A"}},{"$f":"IF(RELEVE_COTES!$I$20=\"Huisserie Banchée\",\"Banche\",IF(RELEVE_COTES!$I$20=\"Huisserie Bois\",\"Bois\",IF(RELEVE_COTES!$I$20=\"Bâti Scellé\",\"Bâti Métal.\")))","v":false},{"$f":"RELEVE_COTES!$C$11","v":0},{"$f":"RELEVE_COTES!$K$12","v":0},{"$f":"VLOOKUP(AA79,TabSeuilRef[],2,FALSE)","v":{"$error":"#N/A"}},{"$f":"\"Paumelles \"&RELEVE_COTES!$E$15","v":"Paumelles "},{"$f":"IF(RELEVE_COTES!$K$16<>\"Déporté\",RELEVE_COTES!$K$16,RELEVE_COTES!$K$16&\" / \"&VLOOKUP(RELEVE_COTES!$L$16,TabOptUsSerr[],2,FALSE))","v":"SANS"},{"$f":"RELEVE_COTES!$K$11","v":0},{"$f":"VLOOKUP(RELEVE_COTES!$G$12,TabNuancierVTL[],2,FALSE)&\"/\"&VLOOKUP(RELEVE_COTES!$G$13,TabNuancierVTL[],2,FALSE)","v":{"$error":"#N/A"}},{"$f":"IF(RELEVE_COTES!$E$14=\"Pr.Peint\",\"PP\",VLOOKUP(RELEVE_COTES!$G$14,TabNuancHM[],2,FALSE))","v":"PP"},{"$error":"#N/A"},{"$f":"IF(RELEVE_COTES!$C$11 =\"R32S-R02\",\"OUI\",\"NON\")","v":"NON"},"NON","",{"$f":"IF(AI79=\"OUI\",RELEVE_COTES!$N$16,\"\")","v":""},null,{"$f":"RELEVE_COTES!$E$12&\"/\"&RELEVE_COTES!$E$13","v":" SANS/ SANS"},{"$f":"IF(RELEVE_COTES!$K$15<>\"SANS\",RELEVE_COTES!$L$15&\" \"&RELEVE_COTES!$K$15,\"\")&IF(RELEVE_COTES!$N$15<>\"SANS\",\" / PMR: \"&RELEVE_COTES!$O$15&\" \"&RELEVE_COTES!$N$15,\"\")","v":""},{"$f":"IF(RELEVE_COTES!$K$14 <> \"SANS\",RELEVE_COTES!$O$14&\" \"&RELEVE_COTES!$K$14,\"\")","v":"U+F "},{"$f":"IF(RELEVE_COTES!$K$13 <> \"SANS\",RELEVE_COTES!$O$13&\" \"&RELEVE_COTES!$K$13,\"SANS\")","v":"U+F "},{"$f":"VLOOKUP(RELEVE_COTES!$O$11,TabOptUsSerr[],2,FALSE)","v":"Usinage, fourniture et pose"},{"$f":"INDEX(TabFinition[FINITION],MATCH(VLOOKUP(RELEVE_COTES!$G$12,TabNuancierVTL[],3,FALSE)&VLOOKUP(RELEVE_COTES!$G$13,TabNuancierVTL[],3,FALSE),TabFinition[TYPE EXT]&TabFinition[TYPE INT],0))","v":{"$error":"#N/A"}},"INT",{"$f":"RELEVE_COTES!$E$16","v":"platines + vérins"},"NON",{"$f":"IF(RELEVE_COTES!$I$20 = \"Huisserie Bois\",RELEVE_COTES!$R127,IF(RELEVE_COTES!$I$20 = \"Huisserie Banchée\",RELEVE_COTES!$M127,IF(RELEVE_COTES!$I$20 = \"Bâti Scellé\",RELEVE_COTES!$O127,\"\")))","v":""}]
[{"$error":"#VALUE!"},{"$error":"#VALUE!"},{"$f":"IF(RELEVE_COTES!$A128<>\"\",SUBSTITUTE(SUBSTITUTE(SUBSTITUTE(SUBSTITUTE(SUBSTITUTE(SUBSTITUTE(SUBSTITUTE(SUBSTITUTE(RELEVE_COTES!$A128,\" \",\"\"),\"-\",\"/\"),\".\",\"/\"),\"\\\",\"/\"),\",\",\"/\"),\"+\",\"_\"),\"&\",\"_\"),\"*\",\"/\"),\"\")","v":""},{"$f":"RELEVE_COTES!$B128","v":0},1,{"$f":"IF(RELEVE_COTES!C128<>\"\",SUBSTITUTE(SUBSTITUTE(SUBSTITUTE(SUBSTITUTE(SUBSTITUTE(SUBSTITUTE(SUBSTITUTE(SUBSTITUTE(RELEVE_COTES!C128,\" \",\"\"),\"-\",\"\"),\".\",\",\"),\"\\\",\"\"),\",\",\",\"),\"+\",\"\"),\"&\",\"\"),\"*\",\"\"),\"\")","v":""},{"$f":"IF(RELEVE_COTES!D128<>\"\",SUBSTITUTE(SUBSTITUTE(SUBSTITUTE(SUBSTITUTE(SUBSTITUTE(SUBSTITUTE(SUBSTITUTE(SUBSTITUTE(RELEVE_COTES!D128,\" \",\"\"),\"-\",\"\"),\".\",\",\"),\"\\\",\"\"),\",\",\",\"),\"+\",\"\"),\"&\",\"\"),\"*\",\"\"),\"\")","v":""},{"$f":"IF(RELEVE_COTES!E128<>\"\",SUBSTITUTE(SUBSTITUTE(SUBSTITUTE(SUBSTITUTE(SUBSTITUTE(SUBSTITUTE(SUBSTITUTE(SUBSTITUTE(RELEVE_COTES!E128,\" \",\"\"),\"-\",\"\"),\".\",\",\"),\"\\\",\"\"),\",\",\",\"),\"+\",\"\"),\"&\",\"\"),\"*\",\"\"),\"\")","v":""},{"$f":"IF(RELEVE_COTES!F128<>\"\",SUBSTITUTE(SUBSTITUTE(SUBSTITUTE(SUBSTITUTE(SUBSTITUTE(SUBSTITUTE(SUBSTITUTE(SUBSTITUTE(RELEVE_COTES!F128,\" \",\"\"),\"-\",\"\"),\".\",\",\"),\"\\\",\"\"),\",\",\",\"),\"+\",\"\"),\"&\",\"\"),\"*\",\"\"),\"\")","v":""},{"$f":"IF(RELEVE_COTES!G128<>\"\",SUBSTITUTE(SUBSTITUTE(SUBSTITUTE(SUBSTITUTE(SUBSTITUTE(SUBSTITUTE(SUBSTITUTE(SUBSTITUTE(RELEVE_COTES!G128,\" \",\"\"),\"-\",\"\"),\".\",\",\"),\"\\\",\"\"),\",\",\",\"),\"+\",\"\"),\"&\",\"\"),\"*\",\"\"),\"\")","v":""},{"$f":"IF($D80=\"GP\",IF(RELEVE_COTES!$I128=\"\",0,IF(RELEVE_COTES!$I128=\"\",\"\",RELEVE_COTES!$I128)),IF(RELEVE_COTES!$H128=\"\",0,IF(RELEVE_COTES!$H128=\"\",\"\",RELEVE_COTES!$H128)))","v":0},{"$f":"IF($D80=\"GP\",IF(RELEVE_COTES!$H128=\"\",0,IF(RELEVE_COTES!$H128=\"\",\"\",RELEVE_COTES!$H128)),IF(RELEVE_COTES!$I128=\"\",0,IF(RELEVE_COTES!$I128=\"\",\"\",RELEVE_COTES!$I128)))","v":0},{"$f":"IF(RELEVE_COTES!$J128=\"\",0,IF(RELEVE_COTES!$J128=\"\",\"\",RELEVE_COTES!$J128))","v":0},{"$f":"VLOOKUP(RELEVE_COTES!$K128,TabExistantRef1[],2,FALSE)","v":{"$error":"#N/A"}},{"$f":"IF($Y$1=\"BOIS\",RELEVE_COTES!$O128,0)","v":{"$error":"#N/A"}},{"$f":"IF($Y$1=\"BOIS\",RELEVE_COTES!$P128,0)","v":{"$error":"#N/A"}},{"$f":"IF($Y$1=\"BOIS\",RELEVE_COTES!$Q128,0)","v":{"$error":"#N/A"}},{"$error":"#N/A"},{"$f":"IF($Y$1=\"BANCHE\",RELEVE_COTES!$L128,0)","v":{"$error":"#N/A"}},{"$error":"#N/A"},{"$error":"#N/A"},{"$f":"IF($Y$1<>\"BANCHE\",RELEVE_COTES!$L128,0)","v":{"$error":"#N/A"}},{"$f":"IF(AND($Y$1<>\"BANCHE\",RELEVE_COTES!$M128<>\"\"),RELEVE_COTES!$M128,20)","v":{"$error":"#N/A"}},{"$f":"IF($Y$1<>\"BANCHE\",IF(RELEVE_COTES!$N128<>\"\",RELEVE_COTES!$N128,10),0)","v":{"$error":"#N/A"}},{"$f":"IF(RELEVE_COTES!$I$20=\"Huisserie Banchée\",\"Banche\",IF(RELEVE_COTES!$I$20=\"Huisserie Bois\",\"Bois\",IF(RELEVE_COTES!$I$20=\"Bâti Scellé\",\"Bâti Métal.\")))","v":false},{"$f":"RELEVE_COTES!$C$11","v":0},{"$f":"RELEVE_COTES!$K$12","v":0},{"$f":"VLOOKUP(AA80,TabSeuilRef[],2,FALSE)","v":{"$error":"#N/A"}},{"$f":"\"Paumelles \"&RELEVE_COTES!$E$15","v":"Paumelles "},{"$f":"IF(RELEVE_COTES!$K$16<>\"Déporté\",RELEVE_COTES!$K$16,RELEVE_COTES!$K$16&\" / \"&VLOOKUP(RELEVE_COTES!$L$16,TabOptUsSerr[],2,FALSE))","v":"SANS"},{"$f":"RELEVE_COTES!$K$11","v":0},{"$f":"VLOOKUP(RELEVE_COTES!$G$12,TabNuancierVTL[],2,FALSE)&\"/\"&VLOOKUP(RELEVE_COTES!$G$13,TabNuancierVTL[],2,FALSE)","v":{"$error":"#N/A"}},{"$f":"IF(RELEVE_COTES!$E$14=\"Pr.Peint\",\"PP\",VLOOKUP(RELEVE_COTES!$G$14,TabNuancHM[],2,FALSE))","v":"PP"},{"$error":"#N/A"},{"$f":"IF(RELEVE_COTES!$C$11 =\"R32S-R02\",\"OUI\",\"NON\")","v":"NON"},"NON","",{"$f":"IF(AI80=\"OUI\",RELEVE_COTES!$N$16,\"\")","v":""},null,{"$f":"RELEVE_COTES!$E$12&\"/\"&RELEVE_COTES!$E$13","v":" SANS/ SANS"},{"$f":"IF(RELEVE_COTES!$K$15<>\"SANS\",RELEVE_COTES!$L$15&\" \"&RELEVE_COTES!$K$15,\"\")&IF(RELEVE_COTES!$N$15<>\"SANS\",\" / PMR: \"&RELEVE_COTES!$O$15&\" \"&RELEVE_COTES!$N$15,\"\")","v":""},{"$f":"IF(RELEVE_COTES!$K$14 <> \"SANS\",RELEVE_COTES!$O$14&\" \"&RELEVE_COTES!$K$14,\"\")","v":"U+F "},{"$f":"IF(RELEVE_COTES!$K$13 <> \"SANS\",RELEVE_COTES!$O$13&\" \"&RELEVE_COTES!$K$13,\"SANS\")","v":"U+F "},{"$f":"VLOOKUP(RELEVE_COTES!$O$11,TabOptUsSerr[],2,FALSE)","v":"Usinage, fourniture et pose"},{"$f":"INDEX(TabFinition[FINITION],MATCH(VLOOKUP(RELEVE_COTES!$G$12,TabNuancierVTL[],3,FALSE)&VLOOKUP(RELEVE_COTES!$G$13,TabNuancierVTL[],3,FALSE),TabFinition[TYPE EXT]&TabFinition[TYPE INT],0))","v":{"$error":"#N/A"}},"INT",{"$f":"RELEVE_COTES!$E$16","v":"platines + vérins"},"NON",{"$f":"IF(RELEVE_COTES!$I$20 = \"Huisserie Bois\",RELEVE_COTES!$R128,IF(RELEVE_COTES!$I$20 = \"Huisserie Banchée\",RELEVE_COTES!$M128,IF(RELEVE_COTES!$I$20 = \"Bâti Scellé\",RELEVE_COTES!$O128,\"\")))","v":""}]
[{"$error":"#VALUE!"},{"$error":"#VALUE!"},{"$f":"IF(RELEVE_COTES!$A129<>\"\",SUBSTITUTE(SUBSTITUTE(SUBSTITUTE(SUBSTITUTE(SUBSTITUTE(SUBSTITUTE(SUBSTITUTE(SUBSTITUTE(RELEVE_COTES!$A129,\" \",\"\"),\"-\",\"/\"),\".\",\"/\"),\"\\\",\"/\"),\",\",\"/\"),\"+\",\"_\"),\"&\",\"_\"),\"*\",\"/\"),\"\")","v":""},{"$f":"RELEVE_COTES!$B129","v":0},1,{"$f":"IF(RELEVE_COTES!C129<>\"\",SUBSTITUTE(SUBSTITUTE(SUBSTITUTE(SUBSTITUTE(SUBSTITUTE(SUBSTITUTE(SUBSTITUTE(SUBSTITUTE(RELEVE_COTES!C129,\" \",\"\"),\"-\",\"\"),\".\",\",\"),\"\\\",\"\"),\",\",\",\"),\"+\",\"\"),\"&\",\"\"),\"*\",\"\"),\"\")","v":""},{"$f":"IF(RELEVE_COTES!D129<>\"\",SUBSTITUTE(SUBSTITUTE(SUBSTITUTE(SUBSTITUTE(SUBSTITUTE(SUBSTITUTE(SUBSTITUTE(SUBSTITUTE(RELEVE_COTES!D129,\" \",\"\"),\"-\",\"\"),\".\",\",\"),\"\\\",\"\"),\",\",\",\"),\"+\",\"\"),\"&\",\"\"),\"*\",\"\"),\"\")","v":""},{"$f":"IF(RELEVE_COTES!E129<>\"\",SUBSTITUTE(SUBSTITUTE(SUBSTITUTE(SUBSTITUTE(SUBSTITUTE(SUBSTITUTE(SUBSTITUTE(SUBSTITUTE(RELEVE_COTES!E129,\" \",\"\"),\"-\",\"\"),\".\",\",\"),\"\\\",\"\"),\",\",\",\"),\"+\",\"\"),\"&\",\"\"),\"*\",\"\"),\"\")","v":""},{"$f":"IF(RELEVE_COTES!F129<>\"\",SUBSTITUTE(SUBSTITUTE(SUBSTITUTE(SUBSTITUTE(SUBSTITUTE(SUBSTITUTE(SUBSTITUTE(SUBSTITUTE(RELEVE_COTES!F129,\" \",\"\"),\"-\",\"\"),\".\",\",\"),\"\\\",\"\"),\",\",\",\"),\"+\",\"\"),\"&\",\"\"),\"*\",\"\"),\"\")","v":""},{"$f":"IF(RELEVE_COTES!G129<>\"\",SUBSTITUTE(SUBSTITUTE(SUBSTITUTE(SUBSTITUTE(SUBSTITUTE(SUBSTITUTE(SUBSTITUTE(SUBSTITUTE(RELEVE_COTES!G129,\" \",\"\"),\"-\",\"\"),\".\",\",\"),\"\\\",\"\"),\",\",\",\"),\"+\",\"\"),\"&\",\"\"),\"*\",\"\"),\"\")","v":""},{"$f":"IF($D81=\"GP\",IF(RELEVE_COTES!$I129=\"\",0,IF(RELEVE_COTES!$I129=\"\",\"\",RELEVE_COTES!$I129)),IF(RELEVE_COTES!$H129=\"\",0,IF(RELEVE_COTES!$H129=\"\",\"\",RELEVE_COTES!$H129)))","v":0},{"$f":"IF($D81=\"GP\",IF(RELEVE_COTES!$H129=\"\",0,IF(RELEVE_COTES!$H129=\"\",\"\",RELEVE_COTES!$H129)),IF(RELEVE_COTES!$I129=\"\",0,IF(RELEVE_COTES!$I129=\"\",\"\",RELEVE_COTES!$I129)))","v":0},{"$f":"IF(RELEVE_COTES!$J129=\"\",0,IF(RELEVE_COTES!$J129=\"\",\"\",RELEVE_COTES!$J129))","v":0},{"$f":"VLOOKUP(RELEVE_COTES!$K129,TabExistantRef1[],2,FALSE)","v":{"$error":"#N/A"}},{"$f":"IF($Y$1=\"BOIS\",RELEVE_COTES!$O129,0)","v":{"$error":"#N/A"}},{"$f":"IF($Y$1=\"BOIS\",RELEVE_COTES!$P129,0)","v":{"$error":"#N/A"}},{"$f":"IF($Y$1=\"BOIS\",RELEVE_COTES!$Q129,0)","v":{"$error":"#N/A"}},{"$error":"#N/A"},{"$f":"IF($Y$1=\"BANCHE\",RELEVE_COTES!$L129,0)","v":{"$error":"#N/A"}},{"$error":"#N/A"},{"$error":"#N/A"},{"$f":"IF($Y$1<>\"BANCHE\",RELEVE_COTES!$L129,0)","v":{"$error":"#N/A"}},{"$f":"IF(AND($Y$1<>\"BANCHE\",RELEVE_COTES!$M129<>\"\"),RELEVE_COTES!$M129,20)","v":{"$error":"#N/A"}},{"$f":"IF($Y$1<>\"BANCHE\",IF(RELEVE_COTES!$N129<>\"\",RELEVE_COTES!$N129,10),0)","v":{"$error":"#N/A"}},{"$f":"IF(RELEVE_COTES!$I$20=\"Huisserie Banchée\",\"Banche\",IF(RELEVE_COTES!$I$20=\"Huisserie Bois\",\"Bois\",IF(RELEVE_COTES!$I$20=\"Bâti Scellé\",\"Bâti Métal.\")))","v":false},{"$f":"RELEVE_COTES!$C$11","v":0},{"$f":"RELEVE_COTES!$K$12","v":0},{"$f":"VLOOKUP(AA81,TabSeuilRef[],2,FALSE)","v":{"$error":"#N/A"}},{"$f":"\"Paumelles \"&RELEVE_COTES!$E$15","v":"Paumelles "},{"$f":"IF(RELEVE_COTES!$K$16<>\"Déporté\",RELEVE_COTES!$K$16,RELEVE_COTES!$K$16&\" / \"&VLOOKUP(RELEVE_COTES!$L$16,TabOptUsSerr[],2,FALSE))","v":"SANS"},{"$f":"RELEVE_COTES!$K$11","v":0},{"$f":"VLOOKUP(RELEVE_COTES!$G$12,TabNuancierVTL[],2,FALSE)&\"/\"&VLOOKUP(RELEVE_COTES!$G$13,TabNuancierVTL[],2,FALSE)","v":{"$error":"#N/A"}},{"$f":"IF(RELEVE_COTES!$E$14=\"Pr.Peint\",\"PP\",VLOOKUP(RELEVE_COTES!$G$14,TabNuancHM[],2,FALSE))","v":"PP"},{"$error":"#N/A"},{"$f":"IF(RELEVE_COTES!$C$11 =\"R32S-R02\",\"OUI\",\"NON\")","v":"NON"},"NON","",{"$f":"IF(AI81=\"OUI\",RELEVE_COTES!$N$16,\"\")","v":""},null,{"$f":"RELEVE_COTES!$E$12&\"/\"&RELEVE_COTES!$E$13","v":" SANS/ SANS"},{"$f":"IF(RELEVE_COTES!$K$15<>\"SANS\",RELEVE_COTES!$L$15&\" \"&RELEVE_COTES!$K$15,\"\")&IF(RELEVE_COTES!$N$15<>\"SANS\",\" / PMR: \"&RELEVE_COTES!$O$15&\" \"&RELEVE_COTES!$N$15,\"\")","v":""},{"$f":"IF(RELEVE_COTES!$K$14 <> \"SANS\",RELEVE_COTES!$O$14&\" \"&RELEVE_COTES!$K$14,\"\")","v":"U+F "},{"$f":"IF(RELEVE_COTES!$K$13 <> \"SANS\",RELEVE_COTES!$O$13&\" \"&RELEVE_COTES!$K$13,\"SANS\")","v":"U+F "},{"$f":"VLOOKUP(RELEVE_COTES!$O$11,TabOptUsSerr[],2,FALSE)","v":"Usinage, fourniture et pose"},{"$f":"INDEX(TabFinition[FINITION],MATCH(VLOOKUP(RELEVE_COTES!$G$12,TabNuancierVTL[],3,FALSE)&VLOOKUP(RELEVE_COTES!$G$13,TabNuancierVTL[],3,FALSE),TabFinition[TYPE EXT]&TabFinition[TYPE INT],0))","v":{"$error":"#N/A"}},"INT",{"$f":"RELEVE_COTES!$E$16","v":"platines + vérins"},"NON",{"$f":"IF(RELEVE_COTES!$I$20 = \"Huisserie Bois\",RELEVE_COTES!$R129,IF(RELEVE_COTES!$I$20 = \"Huisserie Banchée\",RELEVE_COTES!$M129,IF(RELEVE_COTES!$I$20 = \"Bâti Scellé\",RELEVE_COTES!$O129,\"\")))","v":""}]
[{"$error":"#VALUE!"},{"$error":"#VALUE!"},{"$f":"IF(RELEVE_COTES!$A130<>\"\",SUBSTITUTE(SUBSTITUTE(SUBSTITUTE(SUBSTITUTE(SUBSTITUTE(SUBSTITUTE(SUBSTITUTE(SUBSTITUTE(RELEVE_COTES!$A130,\" \",\"\"),\"-\",\"/\"),\".\",\"/\"),\"\\\",\"/\"),\",\",\"/\"),\"+\",\"_\"),\"&\",\"_\"),\"*\",\"/\"),\"\")","v":""},{"$f":"RELEVE_COTES!$B130","v":0},1,{"$f":"IF(RELEVE_COTES!C130<>\"\",SUBSTITUTE(SUBSTITUTE(SUBSTITUTE(SUBSTITUTE(SUBSTITUTE(SUBSTITUTE(SUBSTITUTE(SUBSTITUTE(RELEVE_COTES!C130,\" \",\"\"),\"-\",\"\"),\".\",\",\"),\"\\\",\"\"),\",\",\",\"),\"+\",\"\"),\"&\",\"\"),\"*\",\"\"),\"\")","v":""},{"$f":"IF(RELEVE_COTES!D130<>\"\",SUBSTITUTE(SUBSTITUTE(SUBSTITUTE(SUBSTITUTE(SUBSTITUTE(SUBSTITUTE(SUBSTITUTE(SUBSTITUTE(RELEVE_COTES!D130,\" \",\"\"),\"-\",\"\"),\".\",\",\"),\"\\\",\"\"),\",\",\",\"),\"+\",\"\"),\"&\",\"\"),\"*\",\"\"),\"\")","v":""},{"$f":"IF(RELEVE_COTES!E130<>\"\",SUBSTITUTE(SUBSTITUTE(SUBSTITUTE(SUBSTITUTE(SUBSTITUTE(SUBSTITUTE(SUBSTITUTE(SUBSTITUTE(RELEVE_COTES!E130,\" \",\"\"),\"-\",\"\"),\".\",\",\"),\"\\\",\"\"),\",\",\",\"),\"+\",\"\"),\"&\",\"\"),\"*\",\"\"),\"\")","v":""},{"$f":"IF(RELEVE_COTES!F130<>\"\",SUBSTITUTE(SUBSTITUTE(SUBSTITUTE(SUBSTITUTE(SUBSTITUTE(SUBSTITUTE(SUBSTITUTE(SUBSTITUTE(RELEVE_COTES!F130,\" \",\"\"),\"-\",\"\"),\".\",\",\"),\"\\\",\"\"),\",\",\",\"),\"+\",\"\"),\"&\",\"\"),\"*\",\"\"),\"\")","v":""},{"$f":"IF(RELEVE_COTES!G130<>\"\",SUBSTITUTE(SUBSTITUTE(SUBSTITUTE(SUBSTITUTE(SUBSTITUTE(SUBSTITUTE(SUBSTITUTE(SUBSTITUTE(RELEVE_COTES!G130,\" \",\"\"),\"-\",\"\"),\".\",\",\"),\"\\\",\"\"),\",\",\",\"),\"+\",\"\"),\"&\",\"\"),\"*\",\"\"),\"\")","v":""},{"$f":"IF($D82=\"GP\",IF(RELEVE_COTES!$I130=\"\",0,IF(RELEVE_COTES!$I130=\"\",\"\",RELEVE_COTES!$I130)),IF(RELEVE_COTES!$H130=\"\",0,IF(RELEVE_COTES!$H130=\"\",\"\",RELEVE_COTES!$H130)))","v":0},{"$f":"IF($D82=\"GP\",IF(RELEVE_COTES!$H130=\"\",0,IF(RELEVE_COTES!$H130=\"\",\"\",RELEVE_COTES!$H130)),IF(RELEVE_COTES!$I130=\"\",0,IF(RELEVE_COTES!$I130=\"\",\"\",RELEVE_COTES!$I130)))","v":0},{"$f":"IF(RELEVE_COTES!$J130=\"\",0,IF(RELEVE_COTES!$J130=\"\",\"\",RELEVE_COTES!$J130))","v":0},{"$f":"VLOOKUP(RELEVE_COTES!$K130,TabExistantRef1[],2,FALSE)","v":{"$error":"#N/A"}},{"$f":"IF($Y$1=\"BOIS\",RELEVE_COTES!$O130,0)","v":{"$error":"#N/A"}},{"$f":"IF($Y$1=\"BOIS\",RELEVE_COTES!$P130,0)","v":{"$error":"#N/A"}},{"$f":"IF($Y$1=\"BOIS\",RELEVE_COTES!$Q130,0)","v":{"$error":"#N/A"}},{"$error":"#N/A"},{"$f":"IF($Y$1=\"BANCHE\",RELEVE_COTES!$L130,0)","v":{"$error":"#N/A"}},{"$error":"#N/A"},{"$error":"#N/A"},{"$f":"IF($Y$1<>\"BANCHE\",RELEVE_COTES!$L130,0)","v":{"$error":"#N/A"}},{"$f":"IF(AND($Y$1<>\"BANCHE\",RELEVE_COTES!$M130<>\"\"),RELEVE_COTES!$M130,20)","v":{"$error":"#N/A"}},{"$f":"IF($Y$1<>\"BANCHE\",IF(RELEVE_COTES!$N130<>\"\",RELEVE_COTES!$N130,10),0)","v":{"$error":"#N/A"}},{"$f":"IF(RELEVE_COTES!$I$20=\"Huisserie Banchée\",\"Banche\",IF(RELEVE_COTES!$I$20=\"Huisserie Bois\",\"Bois\",IF(RELEVE_COTES!$I$20=\"Bâti Scellé\",\"Bâti Métal.\")))","v":false},{"$f":"RELEVE_COTES!$C$11","v":0},{"$f":"RELEVE_COTES!$K$12","v":0},{"$f":"VLOOKUP(AA82,TabSeuilRef[],2,FALSE)","v":{"$error":"#N/A"}},{"$f":"\"Paumelles \"&RELEVE_COTES!$E$15","v":"Paumelles "},{"$f":"IF(RELEVE_COTES!$K$16<>\"Déporté\",RELEVE_COTES!$K$16,RELEVE_COTES!$K$16&\" / \"&VLOOKUP(RELEVE_COTES!$L$16,TabOptUsSerr[],2,FALSE))","v":"SANS"},{"$f":"RELEVE_COTES!$K$11","v":0},{"$f":"VLOOKUP(RELEVE_COTES!$G$12,TabNuancierVTL[],2,FALSE)&\"/\"&VLOOKUP(RELEVE_COTES!$G$13,TabNuancierVTL[],2,FALSE)","v":{"$error":"#N/A"}},{"$f":"IF(RELEVE_COTES!$E$14=\"Pr.Peint\",\"PP\",VLOOKUP(RELEVE_COTES!$G$14,TabNuancHM[],2,FALSE))","v":"PP"},{"$error":"#N/A"},{"$f":"IF(RELEVE_COTES!$C$11 =\"R32S-R02\",\"OUI\",\"NON\")","v":"NON"},"NON","",{"$f":"IF(AI82=\"OUI\",RELEVE_COTES!$N$16,\"\")","v":""},null,{"$f":"RELEVE_COTES!$E$12&\"/\"&RELEVE_COTES!$E$13","v":" SANS/ SANS"},{"$f":"IF(RELEVE_COTES!$K$15<>\"SANS\",RELEVE_COTES!$L$15&\" \"&RELEVE_COTES!$K$15,\"\")&IF(RELEVE_COTES!$N$15<>\"SANS\",\" / PMR: \"&RELEVE_COTES!$O$15&\" \"&RELEVE_COTES!$N$15,\"\")","v":""},{"$f":"IF(RELEVE_COTES!$K$14 <> \"SANS\",RELEVE_COTES!$O$14&\" \"&RELEVE_COTES!$K$14,\"\")","v":"U+F "},{"$f":"IF(RELEVE_COTES!$K$13 <> \"SANS\",RELEVE_COTES!$O$13&\" \"&RELEVE_COTES!$K$13,\"SANS\")","v":"U+F "},{"$f":"VLOOKUP(RELEVE_COTES!$O$11,TabOptUsSerr[],2,FALSE)","v":"Usinage, fourniture et pose"},{"$f":"INDEX(TabFinition[FINITION],MATCH(VLOOKUP(RELEVE_COTES!$G$12,TabNuancierVTL[],3,FALSE)&VLOOKUP(RELEVE_COTES!$G$13,TabNuancierVTL[],3,FALSE),TabFinition[TYPE EXT]&TabFinition[TYPE INT],0))","v":{"$error":"#N/A"}},"INT",{"$f":"RELEVE_COTES!$E$16","v":"platines + vérins"},"NON",{"$f":"IF(RELEVE_COTES!$I$20 = \"Huisserie Bois\",RELEVE_COTES!$R130,IF(RELEVE_COTES!$I$20 = \"Huisserie Banchée\",RELEVE_COTES!$M130,IF(RELEVE_COTES!$I$20 = \"Bâti Scellé\",RELEVE_COTES!$O130,\"\")))","v":""}]
[{"$error":"#VALUE!"},{"$error":"#VALUE!"},{"$f":"IF(RELEVE_COTES!$A131<>\"\",SUBSTITUTE(SUBSTITUTE(SUBSTITUTE(SUBSTITUTE(SUBSTITUTE(SUBSTITUTE(SUBSTITUTE(SUBSTITUTE(RELEVE_COTES!$A131,\" \",\"\"),\"-\",\"/\"),\".\",\"/\"),\"\\\",\"/\"),\",\",\"/\"),\"+\",\"_\"),\"&\",\"_\"),\"*\",\"/\"),\"\")","v":""},{"$f":"RELEVE_COTES!$B131","v":0},1,{"$f":"IF(RELEVE_COTES!C131<>\"\",SUBSTITUTE(SUBSTITUTE(SUBSTITUTE(SUBSTITUTE(SUBSTITUTE(SUBSTITUTE(SUBSTITUTE(SUBSTITUTE(RELEVE_COTES!C131,\" \",\"\"),\"-\",\"\"),\".\",\",\"),\"\\\",\"\"),\",\",\",\"),\"+\",\"\"),\"&\",\"\"),\"*\",\"\"),\"\")","v":""},{"$f":"IF(RELEVE_COTES!D131<>\"\",SUBSTITUTE(SUBSTITUTE(SUBSTITUTE(SUBSTITUTE(SUBSTITUTE(SUBSTITUTE(SUBSTITUTE(SUBSTITUTE(RELEVE_COTES!D131,\" \",\"\"),\"-\",\"\"),\".\",\",\"),\"\\\",\"\"),\",\",\",\"),\"+\",\"\"),\"&\",\"\"),\"*\",\"\"),\"\")","v":""},{"$f":"IF(RELEVE_COTES!E131<>\"\",SUBSTITUTE(SUBSTITUTE(SUBSTITUTE(SUBSTITUTE(SUBSTITUTE(SUBSTITUTE(SUBSTITUTE(SUBSTITUTE(RELEVE_COTES!E131,\" \",\"\"),\"-\",\"\"),\".\",\",\"),\"\\\",\"\"),\",\",\",\"),\"+\",\"\"),\"&\",\"\"),\"*\",\"\"),\"\")","v":""},{"$f":"IF(RELEVE_COTES!F131<>\"\",SUBSTITUTE(SUBSTITUTE(SUBSTITUTE(SUBSTITUTE(SUBSTITUTE(SUBSTITUTE(SUBSTITUTE(SUBSTITUTE(RELEVE_COTES!F131,\" \",\"\"),\"-\",\"\"),\".\",\",\"),\"\\\",\"\"),\",\",\",\"),\"+\",\"\"),\"&\",\"\"),\"*\",\"\"),\"\")","v":""},{"$f":"IF(RELEVE_COTES!G131<>\"\",SUBSTITUTE(SUBSTITUTE(SUBSTITUTE(SUBSTITUTE(SUBSTITUTE(SUBSTITUTE(SUBSTITUTE(SUBSTITUTE(RELEVE_COTES!G131,\" \",\"\"),\"-\",\"\"),\".\",\",\"),\"\\\",\"\"),\",\",\",\"),\"+\",\"\"),\"&\",\"\"),\"*\",\"\"),\"\")","v":""},{"$f":"IF($D83=\"GP\",IF(RELEVE_COTES!$I131=\"\",0,IF(RELEVE_COTES!$I131=\"\",\"\",RELEVE_COTES!$I131)),IF(RELEVE_COTES!$H131=\"\",0,IF(RELEVE_COTES!$H131=\"\",\"\",RELEVE_COTES!$H131)))","v":0},{"$f":"IF($D83=\"GP\",IF(RELEVE_COTES!$H131=\"\",0,IF(RELEVE_COTES!$H131=\"\",\"\",RELEVE_COTES!$H131)),IF(RELEVE_COTES!$I131=\"\",0,IF(RELEVE_COTES!$I131=\"\",\"\",RELEVE_COTES!$I131)))","v":0},{"$f":"IF(RELEVE_COTES!$J131=\"\",0,IF(RELEVE_COTES!$J131=\"\",\"\",RELEVE_COTES!$J131))","v":0},{"$f":"VLOOKUP(RELEVE_COTES!$K131,TabExistantRef1[],2,FALSE)","v":{"$error":"#N/A"}},{"$f":"IF($Y$1=\"BOIS\",RELEVE_COTES!$O131,0)","v":{"$error":"#N/A"}},{"$f":"IF($Y$1=\"BOIS\",RELEVE_COTES!$P131,0)","v":{"$error":"#N/A"}},{"$f":"IF($Y$1=\"BOIS\",RELEVE_COTES!$Q131,0)","v":{"$error":"#N/A"}},{"$error":"#N/A"},{"$f":"IF($Y$1=\"BANCHE\",RELEVE_COTES!$L131,0)","v":{"$error":"#N/A"}},{"$error":"#N/A"},{"$error":"#N/A"},{"$f":"IF($Y$1<>\"BANCHE\",RELEVE_COTES!$L131,0)","v":{"$error":"#N/A"}},{"$f":"IF(AND($Y$1<>\"BANCHE\",RELEVE_COTES!$M131<>\"\"),RELEVE_COTES!$M131,20)","v":{"$error":"#N/A"}},{"$f":"IF($Y$1<>\"BANCHE\",IF(RELEVE_COTES!$N131<>\"\",RELEVE_COTES!$N131,10),0)","v":{"$error":"#N/A"}},{"$f":"IF(RELEVE_COTES!$I$20=\"Huisserie Banchée\",\"Banche\",IF(RELEVE_COTES!$I$20=\"Huisserie Bois\",\"Bois\",IF(RELEVE_COTES!$I$20=\"Bâti Scellé\",\"Bâti Métal.\")))","v":false},{"$f":"RELEVE_COTES!$C$11","v":0},{"$f":"RELEVE_COTES!$K$12","v":0},{"$f":"VLOOKUP(AA83,TabSeuilRef[],2,FALSE)","v":{"$error":"#N/A"}},{"$f":"\"Paumelles \"&RELEVE_COTES!$E$15","v":"Paumelles "},{"$f":"IF(RELEVE_COTES!$K$16<>\"Déporté\",RELEVE_COTES!$K$16,RELEVE_COTES!$K$16&\" / \"&VLOOKUP(RELEVE_COTES!$L$16,TabOptUsSerr[],2,FALSE))","v":"SANS"},{"$f":"RELEVE_COTES!$K$11","v":0},{"$f":"VLOOKUP(RELEVE_COTES!$G$12,TabNuancierVTL[],2,FALSE)&\"/\"&VLOOKUP(RELEVE_COTES!$G$13,TabNuancierVTL[],2,FALSE)","v":{"$error":"#N/A"}},{"$f":"IF(RELEVE_COTES!$E$14=\"Pr.Peint\",\"PP\",VLOOKUP(RELEVE_COTES!$G$14,TabNuancHM[],2,FALSE))","v":"PP"},{"$error":"#N/A"},{"$f":"IF(RELEVE_COTES!$C$11 =\"R32S-R02\",\"OUI\",\"NON\")","v":"NON"},"NON","",{"$f":"IF(AI83=\"OUI\",RELEVE_COTES!$N$16,\"\")","v":""},null,{"$f":"RELEVE_COTES!$E$12&\"/\"&RELEVE_COTES!$E$13","v":" SANS/ SANS"},{"$f":"IF(RELEVE_COTES!$K$15<>\"SANS\",RELEVE_COTES!$L$15&\" \"&RELEVE_COTES!$K$15,\"\")&IF(RELEVE_COTES!$N$15<>\"SANS\",\" / PMR: \"&RELEVE_COTES!$O$15&\" \"&RELEVE_COTES!$N$15,\"\")","v":""},{"$f":"IF(RELEVE_COTES!$K$14 <> \"SANS\",RELEVE_COTES!$O$14&\" \"&RELEVE_COTES!$K$14,\"\")","v":"U+F "},{"$f":"IF(RELEVE_COTES!$K$13 <> \"SANS\",RELEVE_COTES!$O$13&\" \"&RELEVE_COTES!$K$13,\"SANS\")","v":"U+F "},{"$f":"VLOOKUP(RELEVE_COTES!$O$11,TabOptUsSerr[],2,FALSE)","v":"Usinage, fourniture et pose"},{"$f":"INDEX(TabFinition[FINITION],MATCH(VLOOKUP(RELEVE_COTES!$G$12,TabNuancierVTL[],3,FALSE)&VLOOKUP(RELEVE_COTES!$G$13,TabNuancierVTL[],3,FALSE),TabFinition[TYPE EXT]&TabFinition[TYPE INT],0))","v":{"$error":"#N/A"}},"INT",{"$f":"RELEVE_COTES!$E$16","v":"platines + vérins"},"NON",{"$f":"IF(RELEVE_COTES!$I$20 = \"Huisserie Bois\",RELEVE_COTES!$R131,IF(RELEVE_COTES!$I$20 = \"Huisserie Banchée\",RELEVE_COTES!$M131,IF(RELEVE_COTES!$I$20 = \"Bâti Scellé\",RELEVE_COTES!$O131,\"\")))","v":""}]
[{"$error":"#VALUE!"},{"$error":"#VALUE!"},{"$f":"IF(RELEVE_COTES!$A132<>\"\",SUBSTITUTE(SUBSTITUTE(SUBSTITUTE(SUBSTITUTE(SUBSTITUTE(SUBSTITUTE(SUBSTITUTE(SUBSTITUTE(RELEVE_COTES!$A132,\" \",\"\"),\"-\",\"/\"),\".\",\"/\"),\"\\\",\"/\"),\",\",\"/\"),\"+\",\"_\"),\"&\",\"_\"),\"*\",\"/\"),\"\")","v":""},{"$f":"RELEVE_COTES!$B132","v":0},1,{"$f":"IF(RELEVE_COTES!C132<>\"\",SUBSTITUTE(SUBSTITUTE(SUBSTITUTE(SUBSTITUTE(SUBSTITUTE(SUBSTITUTE(SUBSTITUTE(SUBSTITUTE(RELEVE_COTES!C132,\" \",\"\"),\"-\",\"\"),\".\",\",\"),\"\\\",\"\"),\",\",\",\"),\"+\",\"\"),\"&\",\"\"),\"*\",\"\"),\"\")","v":""},{"$f":"IF(RELEVE_COTES!D132<>\"\",SUBSTITUTE(SUBSTITUTE(SUBSTITUTE(SUBSTITUTE(SUBSTITUTE(SUBSTITUTE(SUBSTITUTE(SUBSTITUTE(RELEVE_COTES!D132,\" \",\"\"),\"-\",\"\"),\".\",\",\"),\"\\\",\"\"),\",\",\",\"),\"+\",\"\"),\"&\",\"\"),\"*\",\"\"),\"\")","v":""},{"$f":"IF(RELEVE_COTES!E132<>\"\",SUBSTITUTE(SUBSTITUTE(SUBSTITUTE(SUBSTITUTE(SUBSTITUTE(SUBSTITUTE(SUBSTITUTE(SUBSTITUTE(RELEVE_COTES!E132,\" \",\"\"),\"-\",\"\"),\".\",\",\"),\"\\\",\"\"),\",\",\",\"),\"+\",\"\"),\"&\",\"\"),\"*\",\"\"),\"\")","v":""},{"$f":"IF(RELEVE_COTES!F132<>\"\",SUBSTITUTE(SUBSTITUTE(SUBSTITUTE(SUBSTITUTE(SUBSTITUTE(SUBSTITUTE(SUBSTITUTE(SUBSTITUTE(RELEVE_COTES!F132,\" \",\"\"),\"-\",\"\"),\".\",\",\"),\"\\\",\"\"),\",\",\",\"),\"+\",\"\"),\"&\",\"\"),\"*\",\"\"),\"\")","v":""},{"$f":"IF(RELEVE_COTES!G132<>\"\",SUBSTITUTE(SUBSTITUTE(SUBSTITUTE(SUBSTITUTE(SUBSTITUTE(SUBSTITUTE(SUBSTITUTE(SUBSTITUTE(RELEVE_COTES!G132,\" \",\"\"),\"-\",\"\"),\".\",\",\"),\"\\\",\"\"),\",\",\",\"),\"+\",\"\"),\"&\",\"\"),\"*\",\"\"),\"\")","v":""},{"$f":"IF($D84=\"GP\",IF(RELEVE_COTES!$I132=\"\",0,IF(RELEVE_COTES!$I132=\"\",\"\",RELEVE_COTES!$I132)),IF(RELEVE_COTES!$H132=\"\",0,IF(RELEVE_COTES!$H132=\"\",\"\",RELEVE_COTES!$H132)))","v":0},{"$f":"IF($D84=\"GP\",IF(RELEVE_COTES!$H132=\"\",0,IF(RELEVE_COTES!$H132=\"\",\"\",RELEVE_COTES!$H132)),IF(RELEVE_COTES!$I132=\"\",0,IF(RELEVE_COTES!$I132=\"\",\"\",RELEVE_COTES!$I132)))","v":0},{"$f":"IF(RELEVE_COTES!$J132=\"\",0,IF(RELEVE_COTES!$J132=\"\",\"\",RELEVE_COTES!$J132))","v":0},{"$f":"VLOOKUP(RELEVE_COTES!$K132,TabExistantRef1[],2,FALSE)","v":{"$error":"#N/A"}},{"$f":"IF($Y$1=\"BOIS\",RELEVE_COTES!$O132,0)","v":{"$error":"#N/A"}},{"$f":"IF($Y$1=\"BOIS\",RELEVE_COTES!$P132,0)","v":{"$error":"#N/A"}},{"$f":"IF($Y$1=\"BOIS\",RELEVE_COTES!$Q132,0)","v":{"$error":"#N/A"}},{"$error":"#N/A"},{"$f":"IF($Y$1=\"BANCHE\",RELEVE_COTES!$L132,0)","v":{"$error":"#N/A"}},{"$error":"#N/A"},{"$error":"#N/A"},{"$f":"IF($Y$1<>\"BANCHE\",RELEVE_COTES!$L132,0)","v":{"$error":"#N/A"}},{"$f":"IF(AND($Y$1<>\"BANCHE\",RELEVE_COTES!$M132<>\"\"),RELEVE_COTES!$M132,20)","v":{"$error":"#N/A"}},{"$f":"IF($Y$1<>\"BANCHE\",IF(RELEVE_COTES!$N132<>\"\",RELEVE_COTES!$N132,10),0)","v":{"$error":"#N/A"}},{"$f":"IF(RELEVE_COTES!$I$20=\"Huisserie Banchée\",\"Banche\",IF(RELEVE_COTES!$I$20=\"Huisserie Bois\",\"Bois\",IF(RELEVE_COTES!$I$20=\"Bâti Scellé\",\"Bâti Métal.\")))","v":false},{"$f":"RELEVE_COTES!$C$11","v":0},{"$f":"RELEVE_COTES!$K$12","v":0},{"$f":"VLOOKUP(AA84,TabSeuilRef[],2,FALSE)","v":{"$error":"#N/A"}},{"$f":"\"Paumelles \"&RELEVE_COTES!$E$15","v":"Paumelles "},{"$f":"IF(RELEVE_COTES!$K$16<>\"Déporté\",RELEVE_COTES!$K$16,RELEVE_COTES!$K$16&\" / \"&VLOOKUP(RELEVE_COTES!$L$16,TabOptUsSerr[],2,FALSE))","v":"SANS"},{"$f":"RELEVE_COTES!$K$11","v":0},{"$f":"VLOOKUP(RELEVE_COTES!$G$12,TabNuancierVTL[],2,FALSE)&\"/\"&VLOOKUP(RELEVE_COTES!$G$13,TabNuancierVTL[],2,FALSE)","v":{"$error":"#N/A"}},{"$f":"IF(RELEVE_COTES!$E$14=\"Pr.Peint\",\"PP\",VLOOKUP(RELEVE_COTES!$G$14,TabNuancHM[],2,FALSE))","v":"PP"},{"$error":"#N/A"},{"$f":"IF(RELEVE_COTES!$C$11 =\"R32S-R02\",\"OUI\",\"NON\")","v":"NON"},"NON","",{"$f":"IF(AI84=\"OUI\",RELEVE_COTES!$N$16,\"\")","v":""},null,{"$f":"RELEVE_COTES!$E$12&\"/\"&RELEVE_COTES!$E$13","v":" SANS/ SANS"},{"$f":"IF(RELEVE_COTES!$K$15<>\"SANS\",RELEVE_COTES!$L$15&\" \"&RELEVE_COTES!$K$15,\"\")&IF(RELEVE_COTES!$N$15<>\"SANS\",\" / PMR: \"&RELEVE_COTES!$O$15&\" \"&RELEVE_COTES!$N$15,\"\")","v":""},{"$f":"IF(RELEVE_COTES!$K$14 <> \"SANS\",RELEVE_COTES!$O$14&\" \"&RELEVE_COTES!$K$14,\"\")","v":"U+F "},{"$f":"IF(RELEVE_COTES!$K$13 <> \"SANS\",RELEVE_COTES!$O$13&\" \"&RELEVE_COTES!$K$13,\"SANS\")","v":"U+F "},{"$f":"VLOOKUP(RELEVE_COTES!$O$11,TabOptUsSerr[],2,FALSE)","v":"Usinage, fourniture et pose"},{"$f":"INDEX(TabFinition[FINITION],MATCH(VLOOKUP(RELEVE_COTES!$G$12,TabNuancierVTL[],3,FALSE)&VLOOKUP(RELEVE_COTES!$G$13,TabNuancierVTL[],3,FALSE),TabFinition[TYPE EXT]&TabFinition[TYPE INT],0))","v":{"$error":"#N/A"}},"INT",{"$f":"RELEVE_COTES!$E$16","v":"platines + vérins"},"NON",{"$f":"IF(RELEVE_COTES!$I$20 = \"Huisserie Bois\",RELEVE_COTES!$R132,IF(RELEVE_COTES!$I$20 = \"Huisserie Banchée\",RELEVE_COTES!$M132,IF(RELEVE_COTES!$I$20 = \"Bâti Scellé\",RELEVE_COTES!$O132,\"\")))","v":""}]
[{"$error":"#VALUE!"},{"$error":"#VALUE!"},{"$f":"IF(RELEVE_COTES!$A133<>\"\",SUBSTITUTE(SUBSTITUTE(SUBSTITUTE(SUBSTITUTE(SUBSTITUTE(SUBSTITUTE(SUBSTITUTE(SUBSTITUTE(RELEVE_COTES!$A133,\" \",\"\"),\"-\",\"/\"),\".\",\"/\"),\"\\\",\"/\"),\",\",\"/\"),\"+\",\"_\"),\"&\",\"_\"),\"*\",\"/\"),\"\")","v":""},{"$f":"RELEVE_COTES!$B133","v":0},1,{"$f":"IF(RELEVE_COTES!C133<>\"\",SUBSTITUTE(SUBSTITUTE(SUBSTITUTE(SUBSTITUTE(SUBSTITUTE(SUBSTITUTE(SUBSTITUTE(SUBSTITUTE(RELEVE_COTES!C133,\" \",\"\"),\"-\",\"\"),\".\",\",\"),\"\\\",\"\"),\",\",\",\"),\"+\",\"\"),\"&\",\"\"),\"*\",\"\"),\"\")","v":""},{"$f":"IF(RELEVE_COTES!D133<>\"\",SUBSTITUTE(SUBSTITUTE(SUBSTITUTE(SUBSTITUTE(SUBSTITUTE(SUBSTITUTE(SUBSTITUTE(SUBSTITUTE(RELEVE_COTES!D133,\" \",\"\"),\"-\",\"\"),\".\",\",\"),\"\\\",\"\"),\",\",\",\"),\"+\",\"\"),\"&\",\"\"),\"*\",\"\"),\"\")","v":""},{"$f":"IF(RELEVE_COTES!E133<>\"\",SUBSTITUTE(SUBSTITUTE(SUBSTITUTE(SUBSTITUTE(SUBSTITUTE(SUBSTITUTE(SUBSTITUTE(SUBSTITUTE(RELEVE_COTES!E133,\" \",\"\"),\"-\",\"\"),\".\",\",\"),\"\\\",\"\"),\",\",\",\"),\"+\",\"\"),\"&\",\"\"),\"*\",\"\"),\"\")","v":""},{"$f":"IF(RELEVE_COTES!F133<>\"\",SUBSTITUTE(SUBSTITUTE(SUBSTITUTE(SUBSTITUTE(SUBSTITUTE(SUBSTITUTE(SUBSTITUTE(SUBSTITUTE(RELEVE_COTES!F133,\" \",\"\"),\"-\",\"\"),\".\",\",\"),\"\\\",\"\"),\",\",\",\"),\"+\",\"\"),\"&\",\"\"),\"*\",\"\"),\"\")","v":""},{"$f":"IF(RELEVE_COTES!G133<>\"\",SUBSTITUTE(SUBSTITUTE(SUBSTITUTE(SUBSTITUTE(SUBSTITUTE(SUBSTITUTE(SUBSTITUTE(SUBSTITUTE(RELEVE_COTES!G133,\" \",\"\"),\"-\",\"\"),\".\",\",\"),\"\\\",\"\"),\",\",\",\"),\"+\",\"\"),\"&\",\"\"),\"*\",\"\"),\"\")","v":""},{"$f":"IF($D85=\"GP\",IF(RELEVE_COTES!$I133=\"\",0,IF(RELEVE_COTES!$I133=\"\",\"\",RELEVE_COTES!$I133)),IF(RELEVE_COTES!$H133=\"\",0,IF(RELEVE_COTES!$H133=\"\",\"\",RELEVE_COTES!$H133)))","v":0},{"$f":"IF($D85=\"GP\",IF(RELEVE_COTES!$H133=\"\",0,IF(RELEVE_COTES!$H133=\"\",\"\",RELEVE_COTES!$H133)),IF(RELEVE_COTES!$I133=\"\",0,IF(RELEVE_COTES!$I133=\"\",\"\",RELEVE_COTES!$I133)))","v":0},{"$f":"IF(RELEVE_COTES!$J133=\"\",0,IF(RELEVE_COTES!$J133=\"\",\"\",RELEVE_COTES!$J133))","v":0},{"$f":"VLOOKUP(RELEVE_COTES!$K133,TabExistantRef1[],2,FALSE)","v":{"$error":"#N/A"}},{"$f":"IF($Y$1=\"BOIS\",RELEVE_COTES!$O133,0)","v":{"$error":"#N/A"}},{"$f":"IF($Y$1=\"BOIS\",RELEVE_COTES!$P133,0)","v":{"$error":"#N/A"}},{"$f":"IF($Y$1=\"BOIS\",RELEVE_COTES!$Q133,0)","v":{"$error":"#N/A"}},{"$error":"#N/A"},{"$f":"IF($Y$1=\"BANCHE\",RELEVE_COTES!$L133,0)","v":{"$error":"#N/A"}},{"$error":"#N/A"},{"$error":"#N/A"},{"$f":"IF($Y$1<>\"BANCHE\",RELEVE_COTES!$L133,0)","v":{"$error":"#N/A"}},{"$f":"IF(AND($Y$1<>\"BANCHE\",RELEVE_COTES!$M133<>\"\"),RELEVE_COTES!$M133,20)","v":{"$error":"#N/A"}},{"$f":"IF($Y$1<>\"BANCHE\",IF(RELEVE_COTES!$N133<>\"\",RELEVE_COTES!$N133,10),0)","v":{"$error":"#N/A"}},{"$f":"IF(RELEVE_COTES!$I$20=\"Huisserie Banchée\",\"Banche\",IF(RELEVE_COTES!$I$20=\"Huisserie Bois\",\"Bois\",IF(RELEVE_COTES!$I$20=\"Bâti Scellé\",\"Bâti Métal.\")))","v":false},{"$f":"RELEVE_COTES!$C$11","v":0},{"$f":"RELEVE_COTES!$K$12","v":0},{"$f":"VLOOKUP(AA85,TabSeuilRef[],2,FALSE)","v":{"$error":"#N/A"}},{"$f":"\"Paumelles \"&RELEVE_COTES!$E$15","v":"Paumelles "},{"$f":"IF(RELEVE_COTES!$K$16<>\"Déporté\",RELEVE_COTES!$K$16,RELEVE_COTES!$K$16&\" / \"&VLOOKUP(RELEVE_COTES!$L$16,TabOptUsSerr[],2,FALSE))","v":"SANS"},{"$f":"RELEVE_COTES!$K$11","v":0},{"$f":"VLOOKUP(RELEVE_COTES!$G$12,TabNuancierVTL[],2,FALSE)&\"/\"&VLOOKUP(RELEVE_COTES!$G$13,TabNuancierVTL[],2,FALSE)","v":{"$error":"#N/A"}},{"$f":"IF(RELEVE_COTES!$E$14=\"Pr.Peint\",\"PP\",VLOOKUP(RELEVE_COTES!$G$14,TabNuancHM[],2,FALSE))","v":"PP"},{"$error":"#N/A"},{"$f":"IF(RELEVE_COTES!$C$11 =\"R32S-R02\",\"OUI\",\"NON\")","v":"NON"},"NON","",{"$f":"IF(AI85=\"OUI\",RELEVE_COTES!$N$16,\"\")","v":""},null,{"$f":"RELEVE_COTES!$E$12&\"/\"&RELEVE_COTES!$E$13","v":" SANS/ SANS"},{"$f":"IF(RELEVE_COTES!$K$15<>\"SANS\",RELEVE_COTES!$L$15&\" \"&RELEVE_COTES!$K$15,\"\")&IF(RELEVE_COTES!$N$15<>\"SANS\",\" / PMR: \"&RELEVE_COTES!$O$15&\" \"&RELEVE_COTES!$N$15,\"\")","v":""},{"$f":"IF(RELEVE_COTES!$K$14 <> \"SANS\",RELEVE_COTES!$O$14&\" \"&RELEVE_COTES!$K$14,\"\")","v":"U+F "},{"$f":"IF(RELEVE_COTES!$K$13 <> \"SANS\",RELEVE_COTES!$O$13&\" \"&RELEVE_COTES!$K$13,\"SANS\")","v":"U+F "},{"$f":"VLOOKUP(RELEVE_COTES!$O$11,TabOptUsSerr[],2,FALSE)","v":"Usinage, fourniture et pose"},{"$f":"INDEX(TabFinition[FINITION],MATCH(VLOOKUP(RELEVE_COTES!$G$12,TabNuancierVTL[],3,FALSE)&VLOOKUP(RELEVE_COTES!$G$13,TabNuancierVTL[],3,FALSE),TabFinition[TYPE EXT]&TabFinition[TYPE INT],0))","v":{"$error":"#N/A"}},"INT",{"$f":"RELEVE_COTES!$E$16","v":"platines + vérins"},"NON",{"$f":"IF(RELEVE_COTES!$I$20 = \"Huisserie Bois\",RELEVE_COTES!$R133,IF(RELEVE_COTES!$I$20 = \"Huisserie Banchée\",RELEVE_COTES!$M133,IF(RELEVE_COTES!$I$20 = \"Bâti Scellé\",RELEVE_COTES!$O133,\"\")))","v":""}]
[{"$error":"#VALUE!"},{"$error":"#VALUE!"},{"$f":"IF(RELEVE_COTES!$A134<>\"\",SUBSTITUTE(SUBSTITUTE(SUBSTITUTE(SUBSTITUTE(SUBSTITUTE(SUBSTITUTE(SUBSTITUTE(SUBSTITUTE(RELEVE_COTES!$A134,\" \",\"\"),\"-\",\"/\"),\".\",\"/\"),\"\\\",\"/\"),\",\",\"/\"),\"+\",\"_\"),\"&\",\"_\"),\"*\",\"/\"),\"\")","v":""},{"$f":"RELEVE_COTES!$B134","v":0},1,{"$f":"IF(RELEVE_COTES!C134<>\"\",SUBSTITUTE(SUBSTITUTE(SUBSTITUTE(SUBSTITUTE(SUBSTITUTE(SUBSTITUTE(SUBSTITUTE(SUBSTITUTE(RELEVE_COTES!C134,\" \",\"\"),\"-\",\"\"),\".\",\",\"),\"\\\",\"\"),\",\",\",\"),\"+\",\"\"),\"&\",\"\"),\"*\",\"\"),\"\")","v":""},{"$f":"IF(RELEVE_COTES!D134<>\"\",SUBSTITUTE(SUBSTITUTE(SUBSTITUTE(SUBSTITUTE(SUBSTITUTE(SUBSTITUTE(SUBSTITUTE(SUBSTITUTE(RELEVE_COTES!D134,\" \",\"\"),\"-\",\"\"),\".\",\",\"),\"\\\",\"\"),\",\",\",\"),\"+\",\"\"),\"&\",\"\"),\"*\",\"\"),\"\")","v":""},{"$f":"IF(RELEVE_COTES!E134<>\"\",SUBSTITUTE(SUBSTITUTE(SUBSTITUTE(SUBSTITUTE(SUBSTITUTE(SUBSTITUTE(SUBSTITUTE(SUBSTITUTE(RELEVE_COTES!E134,\" \",\"\"),\"-\",\"\"),\".\",\",\"),\"\\\",\"\"),\",\",\",\"),\"+\",\"\"),\"&\",\"\"),\"*\",\"\"),\"\")","v":""},{"$f":"IF(RELEVE_COTES!F134<>\"\",SUBSTITUTE(SUBSTITUTE(SUBSTITUTE(SUBSTITUTE(SUBSTITUTE(SUBSTITUTE(SUBSTITUTE(SUBSTITUTE(RELEVE_COTES!F134,\" \",\"\"),\"-\",\"\"),\".\",\",\"),\"\\\",\"\"),\",\",\",\"),\"+\",\"\"),\"&\",\"\"),\"*\",\"\"),\"\")","v":""},{"$f":"IF(RELEVE_COTES!G134<>\"\",SUBSTITUTE(SUBSTITUTE(SUBSTITUTE(SUBSTITUTE(SUBSTITUTE(SUBSTITUTE(SUBSTITUTE(SUBSTITUTE(RELEVE_COTES!G134,\" \",\"\"),\"-\",\"\"),\".\",\",\"),\"\\\",\"\"),\",\",\",\"),\"+\",\"\"),\"&\",\"\"),\"*\",\"\"),\"\")","v":""},{"$f":"IF($D86=\"GP\",IF(RELEVE_COTES!$I134=\"\",0,IF(RELEVE_COTES!$I134=\"\",\"\",RELEVE_COTES!$I134)),IF(RELEVE_COTES!$H134=\"\",0,IF(RELEVE_COTES!$H134=\"\",\"\",RELEVE_COTES!$H134)))","v":0},{"$f":"IF($D86=\"GP\",IF(RELEVE_COTES!$H134=\"\",0,IF(RELEVE_COTES!$H134=\"\",\"\",RELEVE_COTES!$H134)),IF(RELEVE_COTES!$I134=\"\",0,IF(RELEVE_COTES!$I134=\"\",\"\",RELEVE_COTES!$I134)))","v":0},{"$f":"IF(RELEVE_COTES!$J134=\"\",0,IF(RELEVE_COTES!$J134=\"\",\"\",RELEVE_COTES!$J134))","v":0},{"$f":"VLOOKUP(RELEVE_COTES!$K134,TabExistantRef1[],2,FALSE)","v":{"$error":"#N/A"}},{"$f":"IF($Y$1=\"BOIS\",RELEVE_COTES!$O134,0)","v":{"$error":"#N/A"}},{"$f":"IF($Y$1=\"BOIS\",RELEVE_COTES!$P134,0)","v":{"$error":"#N/A"}},{"$f":"IF($Y$1=\"BOIS\",RELEVE_COTES!$Q134,0)","v":{"$error":"#N/A"}},{"$error":"#N/A"},{"$f":"IF($Y$1=\"BANCHE\",RELEVE_COTES!$L134,0)","v":{"$error":"#N/A"}},{"$error":"#N/A"},{"$error":"#N/A"},{"$f":"IF($Y$1<>\"BANCHE\",RELEVE_COTES!$L134,0)","v":{"$error":"#N/A"}},{"$f":"IF(AND($Y$1<>\"BANCHE\",RELEVE_COTES!$M134<>\"\"),RELEVE_COTES!$M134,20)","v":{"$error":"#N/A"}},{"$f":"IF($Y$1<>\"BANCHE\",IF(RELEVE_COTES!$N134<>\"\",RELEVE_COTES!$N134,10),0)","v":{"$error":"#N/A"}},{"$f":"IF(RELEVE_COTES!$I$20=\"Huisserie Banchée\",\"Banche\",IF(RELEVE_COTES!$I$20=\"Huisserie Bois\",\"Bois\",IF(RELEVE_COTES!$I$20=\"Bâti Scellé\",\"Bâti Métal.\")))","v":false},{"$f":"RELEVE_COTES!$C$11","v":0},{"$f":"RELEVE_COTES!$K$12","v":0},{"$f":"VLOOKUP(AA86,TabSeuilRef[],2,FALSE)","v":{"$error":"#N/A"}},{"$f":"\"Paumelles \"&RELEVE_COTES!$E$15","v":"Paumelles "},{"$f":"IF(RELEVE_COTES!$K$16<>\"Déporté\",RELEVE_COTES!$K$16,RELEVE_COTES!$K$16&\" / \"&VLOOKUP(RELEVE_COTES!$L$16,TabOptUsSerr[],2,FALSE))","v":"SANS"},{"$f":"RELEVE_COTES!$K$11","v":0},{"$f":"VLOOKUP(RELEVE_COTES!$G$12,TabNuancierVTL[],2,FALSE)&\"/\"&VLOOKUP(RELEVE_COTES!$G$13,TabNuancierVTL[],2,FALSE)","v":{"$error":"#N/A"}},{"$f":"IF(RELEVE_COTES!$E$14=\"Pr.Peint\",\"PP\",VLOOKUP(RELEVE_COTES!$G$14,TabNuancHM[],2,FALSE))","v":"PP"},{"$error":"#N/A"},{"$f":"IF(RELEVE_COTES!$C$11 =\"R32S-R02\",\"OUI\",\"NON\")","v":"NON"},"NON","",{"$f":"IF(AI86=\"OUI\",RELEVE_COTES!$N$16,\"\")","v":""},null,{"$f":"RELEVE_COTES!$E$12&\"/\"&RELEVE_COTES!$E$13","v":" SANS/ SANS"},{"$f":"IF(RELEVE_COTES!$K$15<>\"SANS\",RELEVE_COTES!$L$15&\" \"&RELEVE_COTES!$K$15,\"\")&IF(RELEVE_COTES!$N$15<>\"SANS\",\" / PMR: \"&RELEVE_COTES!$O$15&\" \"&RELEVE_COTES!$N$15,\"\")","v":""},{"$f":"IF(RELEVE_COTES!$K$14 <> \"SANS\",RELEVE_COTES!$O$14&\" \"&RELEVE_COTES!$K$14,\"\")","v":"U+F "},{"$f":"IF(RELEVE_COTES!$K$13 <> \"SANS\",RELEVE_COTES!$O$13&\" \"&RELEVE_COTES!$K$13,\"SANS\")","v":"U+F "},{"$f":"VLOOKUP(RELEVE_COTES!$O$11,TabOptUsSerr[],2,FALSE)","v":"Usinage, fourniture et pose"},{"$f":"INDEX(TabFinition[FINITION],MATCH(VLOOKUP(RELEVE_COTES!$G$12,TabNuancierVTL[],3,FALSE)&VLOOKUP(RELEVE_COTES!$G$13,TabNuancierVTL[],3,FALSE),TabFinition[TYPE EXT]&TabFinition[TYPE INT],0))","v":{"$error":"#N/A"}},"INT",{"$f":"RELEVE_COTES!$E$16","v":"platines + vérins"},"NON",{"$f":"IF(RELEVE_COTES!$I$20 = \"Huisserie Bois\",RELEVE_COTES!$R134,IF(RELEVE_COTES!$I$20 = \"Huisserie Banchée\",RELEVE_COTES!$M134,IF(RELEVE_COTES!$I$20 = \"Bâti Scellé\",RELEVE_COTES!$O134,\"\")))","v":""}]
[{"$error":"#VALUE!"},{"$error":"#VALUE!"},{"$f":"IF(RELEVE_COTES!$A135<>\"\",SUBSTITUTE(SUBSTITUTE(SUBSTITUTE(SUBSTITUTE(SUBSTITUTE(SUBSTITUTE(SUBSTITUTE(SUBSTITUTE(RELEVE_COTES!$A135,\" \",\"\"),\"-\",\"/\"),\".\",\"/\"),\"\\\",\"/\"),\",\",\"/\"),\"+\",\"_\"),\"&\",\"_\"),\"*\",\"/\"),\"\")","v":""},{"$f":"RELEVE_COTES!$B135","v":0},1,{"$f":"IF(RELEVE_COTES!C135<>\"\",SUBSTITUTE(SUBSTITUTE(SUBSTITUTE(SUBSTITUTE(SUBSTITUTE(SUBSTITUTE(SUBSTITUTE(SUBSTITUTE(RELEVE_COTES!C135,\" \",\"\"),\"-\",\"\"),\".\",\",\"),\"\\\",\"\"),\",\",\",\"),\"+\",\"\"),\"&\",\"\"),\"*\",\"\"),\"\")","v":""},{"$f":"IF(RELEVE_COTES!D135<>\"\",SUBSTITUTE(SUBSTITUTE(SUBSTITUTE(SUBSTITUTE(SUBSTITUTE(SUBSTITUTE(SUBSTITUTE(SUBSTITUTE(RELEVE_COTES!D135,\" \",\"\"),\"-\",\"\"),\".\",\",\"),\"\\\",\"\"),\",\",\",\"),\"+\",\"\"),\"&\",\"\"),\"*\",\"\"),\"\")","v":""},{"$f":"IF(RELEVE_COTES!E135<>\"\",SUBSTITUTE(SUBSTITUTE(SUBSTITUTE(SUBSTITUTE(SUBSTITUTE(SUBSTITUTE(SUBSTITUTE(SUBSTITUTE(RELEVE_COTES!E135,\" \",\"\"),\"-\",\"\"),\".\",\",\"),\"\\\",\"\"),\",\",\",\"),\"+\",\"\"),\"&\",\"\"),\"*\",\"\"),\"\")","v":""},{"$f":"IF(RELEVE_COTES!F135<>\"\",SUBSTITUTE(SUBSTITUTE(SUBSTITUTE(SUBSTITUTE(SUBSTITUTE(SUBSTITUTE(SUBSTITUTE(SUBSTITUTE(RELEVE_COTES!F135,\" \",\"\"),\"-\",\"\"),\".\",\",\"),\"\\\",\"\"),\",\",\",\"),\"+\",\"\"),\"&\",\"\"),\"*\",\"\"),\"\")","v":""},{"$f":"IF(RELEVE_COTES!G135<>\"\",SUBSTITUTE(SUBSTITUTE(SUBSTITUTE(SUBSTITUTE(SUBSTITUTE(SUBSTITUTE(SUBSTITUTE(SUBSTITUTE(RELEVE_COTES!G135,\" \",\"\"),\"-\",\"\"),\".\",\",\"),\"\\\",\"\"),\",\",\",\"),\"+\",\"\"),\"&\",\"\"),\"*\",\"\"),\"\")","v":""},{"$f":"IF($D87=\"GP\",IF(RELEVE_COTES!$I135=\"\",0,IF(RELEVE_COTES!$I135=\"\",\"\",RELEVE_COTES!$I135)),IF(RELEVE_COTES!$H135=\"\",0,IF(RELEVE_COTES!$H135=\"\",\"\",RELEVE_COTES!$H135)))","v":0},{"$f":"IF($D87=\"GP\",IF(RELEVE_COTES!$H135=\"\",0,IF(RELEVE_COTES!$H135=\"\",\"\",RELEVE_COTES!$H135)),IF(RELEVE_COTES!$I135=\"\",0,IF(RELEVE_COTES!$I135=\"\",\"\",RELEVE_COTES!$I135)))","v":0},{"$f":"IF(RELEVE_COTES!$J135=\"\",0,IF(RELEVE_COTES!$J135=\"\",\"\",RELEVE_COTES!$J135))","v":0},{"$f":"VLOOKUP(RELEVE_COTES!$K135,TabExistantRef1[],2,FALSE)","v":{"$error":"#N/A"}},{"$f":"IF($Y$1=\"BOIS\",RELEVE_COTES!$O135,0)","v":{"$error":"#N/A"}},{"$f":"IF($Y$1=\"BOIS\",RELEVE_COTES!$P135,0)","v":{"$error":"#N/A"}},{"$f":"IF($Y$1=\"BOIS\",RELEVE_COTES!$Q135,0)","v":{"$error":"#N/A"}},{"$error":"#N/A"},{"$f":"IF($Y$1=\"BANCHE\",RELEVE_COTES!$L135,0)","v":{"$error":"#N/A"}},{"$error":"#N/A"},{"$error":"#N/A"},{"$f":"IF($Y$1<>\"BANCHE\",RELEVE_COTES!$L135,0)","v":{"$error":"#N/A"}},{"$f":"IF(AND($Y$1<>\"BANCHE\",RELEVE_COTES!$M135<>\"\"),RELEVE_COTES!$M135,20)","v":{"$error":"#N/A"}},{"$f":"IF($Y$1<>\"BANCHE\",IF(RELEVE_COTES!$N135<>\"\",RELEVE_COTES!$N135,10),0)","v":{"$error":"#N/A"}},{"$f":"IF(RELEVE_COTES!$I$20=\"Huisserie Banchée\",\"Banche\",IF(RELEVE_COTES!$I$20=\"Huisserie Bois\",\"Bois\",IF(RELEVE_COTES!$I$20=\"Bâti Scellé\",\"Bâti Métal.\")))","v":false},{"$f":"RELEVE_COTES!$C$11","v":0},{"$f":"RELEVE_COTES!$K$12","v":0},{"$f":"VLOOKUP(AA87,TabSeuilRef[],2,FALSE)","v":{"$error":"#N/A"}},{"$f":"\"Paumelles \"&RELEVE_COTES!$E$15","v":"Paumelles "},{"$f":"IF(RELEVE_COTES!$K$16<>\"Déporté\",RELEVE_COTES!$K$16,RELEVE_COTES!$K$16&\" / \"&VLOOKUP(RELEVE_COTES!$L$16,TabOptUsSerr[],2,FALSE))","v":"SANS"},{"$f":"RELEVE_COTES!$K$11","v":0},{"$f":"VLOOKUP(RELEVE_COTES!$G$12,TabNuancierVTL[],2,FALSE)&\"/\"&VLOOKUP(RELEVE_COTES!$G$13,TabNuancierVTL[],2,FALSE)","v":{"$error":"#N/A"}},{"$f":"IF(RELEVE_COTES!$E$14=\"Pr.Peint\",\"PP\",VLOOKUP(RELEVE_COTES!$G$14,TabNuancHM[],2,FALSE))","v":"PP"},{"$error":"#N/A"},{"$f":"IF(RELEVE_COTES!$C$11 =\"R32S-R02\",\"OUI\",\"NON\")","v":"NON"},"NON","",{"$f":"IF(AI87=\"OUI\",RELEVE_COTES!$N$16,\"\")","v":""},null,{"$f":"RELEVE_COTES!$E$12&\"/\"&RELEVE_COTES!$E$13","v":" SANS/ SANS"},{"$f":"IF(RELEVE_COTES!$K$15<>\"SANS\",RELEVE_COTES!$L$15&\" \"&RELEVE_COTES!$K$15,\"\")&IF(RELEVE_COTES!$N$15<>\"SANS\",\" / PMR: \"&RELEVE_COTES!$O$15&\" \"&RELEVE_COTES!$N$15,\"\")","v":""},{"$f":"IF(RELEVE_COTES!$K$14 <> \"SANS\",RELEVE_COTES!$O$14&\" \"&RELEVE_COTES!$K$14,\"\")","v":"U+F "},{"$f":"IF(RELEVE_COTES!$K$13 <> \"SANS\",RELEVE_COTES!$O$13&\" \"&RELEVE_COTES!$K$13,\"SANS\")","v":"U+F "},{"$f":"VLOOKUP(RELEVE_COTES!$O$11,TabOptUsSerr[],2,FALSE)","v":"Usinage, fourniture et pose"},{"$f":"INDEX(TabFinition[FINITION],MATCH(VLOOKUP(RELEVE_COTES!$G$12,TabNuancierVTL[],3,FALSE)&VLOOKUP(RELEVE_COTES!$G$13,TabNuancierVTL[],3,FALSE),TabFinition[TYPE EXT]&TabFinition[TYPE INT],0))","v":{"$error":"#N/A"}},"INT",{"$f":"RELEVE_COTES!$E$16","v":"platines + vérins"},"NON",{"$f":"IF(RELEVE_COTES!$I$20 = \"Huisserie Bois\",RELEVE_COTES!$R135,IF(RELEVE_COTES!$I$20 = \"Huisserie Banchée\",RELEVE_COTES!$M135,IF(RELEVE_COTES!$I$20 = \"Bâti Scellé\",RELEVE_COTES!$O135,\"\")))","v":""}]
[{"$error":"#VALUE!"},{"$error":"#VALUE!"},{"$f":"IF(RELEVE_COTES!$A136<>\"\",SUBSTITUTE(SUBSTITUTE(SUBSTITUTE(SUBSTITUTE(SUBSTITUTE(SUBSTITUTE(SUBSTITUTE(SUBSTITUTE(RELEVE_COTES!$A136,\" \",\"\"),\"-\",\"/\"),\".\",\"/\"),\"\\\",\"/\"),\",\",\"/\"),\"+\",\"_\"),\"&\",\"_\"),\"*\",\"/\"),\"\")","v":""},{"$f":"RELEVE_COTES!$B136","v":0},1,{"$f":"IF(RELEVE_COTES!C136<>\"\",SUBSTITUTE(SUBSTITUTE(SUBSTITUTE(SUBSTITUTE(SUBSTITUTE(SUBSTITUTE(SUBSTITUTE(SUBSTITUTE(RELEVE_COTES!C136,\" \",\"\"),\"-\",\"\"),\".\",\",\"),\"\\\",\"\"),\",\",\",\"),\"+\",\"\"),\"&\",\"\"),\"*\",\"\"),\"\")","v":""},{"$f":"IF(RELEVE_COTES!D136<>\"\",SUBSTITUTE(SUBSTITUTE(SUBSTITUTE(SUBSTITUTE(SUBSTITUTE(SUBSTITUTE(SUBSTITUTE(SUBSTITUTE(RELEVE_COTES!D136,\" \",\"\"),\"-\",\"\"),\".\",\",\"),\"\\\",\"\"),\",\",\",\"),\"+\",\"\"),\"&\",\"\"),\"*\",\"\"),\"\")","v":""},{"$f":"IF(RELEVE_COTES!E136<>\"\",SUBSTITUTE(SUBSTITUTE(SUBSTITUTE(SUBSTITUTE(SUBSTITUTE(SUBSTITUTE(SUBSTITUTE(SUBSTITUTE(RELEVE_COTES!E136,\" \",\"\"),\"-\",\"\"),\".\",\",\"),\"\\\",\"\"),\",\",\",\"),\"+\",\"\"),\"&\",\"\"),\"*\",\"\"),\"\")","v":""},{"$f":"IF(RELEVE_COTES!F136<>\"\",SUBSTITUTE(SUBSTITUTE(SUBSTITUTE(SUBSTITUTE(SUBSTITUTE(SUBSTITUTE(SUBSTITUTE(SUBSTITUTE(RELEVE_COTES!F136,\" \",\"\"),\"-\",\"\"),\".\",\",\"),\"\\\",\"\"),\",\",\",\"),\"+\",\"\"),\"&\",\"\"),\"*\",\"\"),\"\")","v":""},{"$f":"IF(RELEVE_COTES!G136<>\"\",SUBSTITUTE(SUBSTITUTE(SUBSTITUTE(SUBSTITUTE(SUBSTITUTE(SUBSTITUTE(SUBSTITUTE(SUBSTITUTE(RELEVE_COTES!G136,\" \",\"\"),\"-\",\"\"),\".\",\",\"),\"\\\",\"\"),\",\",\",\"),\"+\",\"\"),\"&\",\"\"),\"*\",\"\"),\"\")","v":""},{"$f":"IF($D88=\"GP\",IF(RELEVE_COTES!$I136=\"\",0,IF(RELEVE_COTES!$I136=\"\",\"\",RELEVE_COTES!$I136)),IF(RELEVE_COTES!$H136=\"\",0,IF(RELEVE_COTES!$H136=\"\",\"\",RELEVE_COTES!$H136)))","v":0},{"$f":"IF($D88=\"GP\",IF(RELEVE_COTES!$H136=\"\",0,IF(RELEVE_COTES!$H136=\"\",\"\",RELEVE_COTES!$H136)),IF(RELEVE_COTES!$I136=\"\",0,IF(RELEVE_COTES!$I136=\"\",\"\",RELEVE_COTES!$I136)))","v":0},{"$f":"IF(RELEVE_COTES!$J136=\"\",0,IF(RELEVE_COTES!$J136=\"\",\"\",RELEVE_COTES!$J136))","v":0},{"$f":"VLOOKUP(RELEVE_COTES!$K136,TabExistantRef1[],2,FALSE)","v":{"$error":"#N/A"}},{"$f":"IF($Y$1=\"BOIS\",RELEVE_COTES!$O136,0)","v":{"$error":"#N/A"}},{"$f":"IF($Y$1=\"BOIS\",RELEVE_COTES!$P136,0)","v":{"$error":"#N/A"}},{"$f":"IF($Y$1=\"BOIS\",RELEVE_COTES!$Q136,0)","v":{"$error":"#N/A"}},{"$error":"#N/A"},{"$f":"IF($Y$1=\"BANCHE\",RELEVE_COTES!$L136,0)","v":{"$error":"#N/A"}},{"$error":"#N/A"},{"$error":"#N/A"},{"$f":"IF($Y$1<>\"BANCHE\",RELEVE_COTES!$L136,0)","v":{"$error":"#N/A"}},{"$f":"IF(AND($Y$1<>\"BANCHE\",RELEVE_COTES!$M136<>\"\"),RELEVE_COTES!$M136,20)","v":{"$error":"#N/A"}},{"$f":"IF($Y$1<>\"BANCHE\",IF(RELEVE_COTES!$N136<>\"\",RELEVE_COTES!$N136,10),0)","v":{"$error":"#N/A"}},{"$f":"IF(RELEVE_COTES!$I$20=\"Huisserie Banchée\",\"Banche\",IF(RELEVE_COTES!$I$20=\"Huisserie Bois\",\"Bois\",IF(RELEVE_COTES!$I$20=\"Bâti Scellé\",\"Bâti Métal.\")))","v":false},{"$f":"RELEVE_COTES!$C$11","v":0},{"$f":"RELEVE_COTES!$K$12","v":0},{"$f":"VLOOKUP(AA88,TabSeuilRef[],2,FALSE)","v":{"$error":"#N/A"}},{"$f":"\"Paumelles \"&RELEVE_COTES!$E$15","v":"Paumelles "},{"$f":"IF(RELEVE_COTES!$K$16<>\"Déporté\",RELEVE_COTES!$K$16,RELEVE_COTES!$K$16&\" / \"&VLOOKUP(RELEVE_COTES!$L$16,TabOptUsSerr[],2,FALSE))","v":"SANS"},{"$f":"RELEVE_COTES!$K$11","v":0},{"$f":"VLOOKUP(RELEVE_COTES!$G$12,TabNuancierVTL[],2,FALSE)&\"/\"&VLOOKUP(RELEVE_COTES!$G$13,TabNuancierVTL[],2,FALSE)","v":{"$error":"#N/A"}},{"$f":"IF(RELEVE_COTES!$E$14=\"Pr.Peint\",\"PP\",VLOOKUP(RELEVE_COTES!$G$14,TabNuancHM[],2,FALSE))","v":"PP"},{"$error":"#N/A"},{"$f":"IF(RELEVE_COTES!$C$11 =\"R32S-R02\",\"OUI\",\"NON\")","v":"NON"},"NON","",{"$f":"IF(AI88=\"OUI\",RELEVE_COTES!$N$16,\"\")","v":""},null,{"$f":"RELEVE_COTES!$E$12&\"/\"&RELEVE_COTES!$E$13","v":" SANS/ SANS"},{"$f":"IF(RELEVE_COTES!$K$15<>\"SANS\",RELEVE_COTES!$L$15&\" \"&RELEVE_COTES!$K$15,\"\")&IF(RELEVE_COTES!$N$15<>\"SANS\",\" / PMR: \"&RELEVE_COTES!$O$15&\" \"&RELEVE_COTES!$N$15,\"\")","v":""},{"$f":"IF(RELEVE_COTES!$K$14 <> \"SANS\",RELEVE_COTES!$O$14&\" \"&RELEVE_COTES!$K$14,\"\")","v":"U+F "},{"$f":"IF(RELEVE_COTES!$K$13 <> \"SANS\",RELEVE_COTES!$O$13&\" \"&RELEVE_COTES!$K$13,\"SANS\")","v":"U+F "},{"$f":"VLOOKUP(RELEVE_COTES!$O$11,TabOptUsSerr[],2,FALSE)","v":"Usinage, fourniture et pose"},{"$f":"INDEX(TabFinition[FINITION],MATCH(VLOOKUP(RELEVE_COTES!$G$12,TabNuancierVTL[],3,FALSE)&VLOOKUP(RELEVE_COTES!$G$13,TabNuancierVTL[],3,FALSE),TabFinition[TYPE EXT]&TabFinition[TYPE INT],0))","v":{"$error":"#N/A"}},"INT",{"$f":"RELEVE_COTES!$E$16","v":"platines + vérins"},"NON",{"$f":"IF(RELEVE_COTES!$I$20 = \"Huisserie Bois\",RELEVE_COTES!$R136,IF(RELEVE_COTES!$I$20 = \"Huisserie Banchée\",RELEVE_COTES!$M136,IF(RELEVE_COTES!$I$20 = \"Bâti Scellé\",RELEVE_COTES!$O136,\"\")))","v":""}]
[{"$error":"#VALUE!"},{"$error":"#VALUE!"},{"$f":"IF(RELEVE_COTES!$A137<>\"\",SUBSTITUTE(SUBSTITUTE(SUBSTITUTE(SUBSTITUTE(SUBSTITUTE(SUBSTITUTE(SUBSTITUTE(SUBSTITUTE(RELEVE_COTES!$A137,\" \",\"\"),\"-\",\"/\"),\".\",\"/\"),\"\\\",\"/\"),\",\",\"/\"),\"+\",\"_\"),\"&\",\"_\"),\"*\",\"/\"),\"\")","v":""},{"$f":"RELEVE_COTES!$B137","v":0},1,{"$f":"IF(RELEVE_COTES!C137<>\"\",SUBSTITUTE(SUBSTITUTE(SUBSTITUTE(SUBSTITUTE(SUBSTITUTE(SUBSTITUTE(SUBSTITUTE(SUBSTITUTE(RELEVE_COTES!C137,\" \",\"\"),\"-\",\"\"),\".\",\",\"),\"\\\",\"\"),\",\",\",\"),\"+\",\"\"),\"&\",\"\"),\"*\",\"\"),\"\")","v":""},{"$f":"IF(RELEVE_COTES!D137<>\"\",SUBSTITUTE(SUBSTITUTE(SUBSTITUTE(SUBSTITUTE(SUBSTITUTE(SUBSTITUTE(SUBSTITUTE(SUBSTITUTE(RELEVE_COTES!D137,\" \",\"\"),\"-\",\"\"),\".\",\",\"),\"\\\",\"\"),\",\",\",\"),\"+\",\"\"),\"&\",\"\"),\"*\",\"\"),\"\")","v":""},{"$f":"IF(RELEVE_COTES!E137<>\"\",SUBSTITUTE(SUBSTITUTE(SUBSTITUTE(SUBSTITUTE(SUBSTITUTE(SUBSTITUTE(SUBSTITUTE(SUBSTITUTE(RELEVE_COTES!E137,\" \",\"\"),\"-\",\"\"),\".\",\",\"),\"\\\",\"\"),\",\",\",\"),\"+\",\"\"),\"&\",\"\"),\"*\",\"\"),\"\")","v":""},{"$f":"IF(RELEVE_COTES!F137<>\"\",SUBSTITUTE(SUBSTITUTE(SUBSTITUTE(SUBSTITUTE(SUBSTITUTE(SUBSTITUTE(SUBSTITUTE(SUBSTITUTE(RELEVE_COTES!F137,\" \",\"\"),\"-\",\"\"),\".\",\",\"),\"\\\",\"\"),\",\",\",\"),\"+\",\"\"),\"&\",\"\"),\"*\",\"\"),\"\")","v":""},{"$f":"IF(RELEVE_COTES!G137<>\"\",SUBSTITUTE(SUBSTITUTE(SUBSTITUTE(SUBSTITUTE(SUBSTITUTE(SUBSTITUTE(SUBSTITUTE(SUBSTITUTE(RELEVE_COTES!G137,\" \",\"\"),\"-\",\"\"),\".\",\",\"),\"\\\",\"\"),\",\",\",\"),\"+\",\"\"),\"&\",\"\"),\"*\",\"\"),\"\")","v":""},{"$f":"IF($D89=\"GP\",IF(RELEVE_COTES!$I137=\"\",0,IF(RELEVE_COTES!$I137=\"\",\"\",RELEVE_COTES!$I137)),IF(RELEVE_COTES!$H137=\"\",0,IF(RELEVE_COTES!$H137=\"\",\"\",RELEVE_COTES!$H137)))","v":0},{"$f":"IF($D89=\"GP\",IF(RELEVE_COTES!$H137=\"\",0,IF(RELEVE_COTES!$H137=\"\",\"\",RELEVE_COTES!$H137)),IF(RELEVE_COTES!$I137=\"\",0,IF(RELEVE_COTES!$I137=\"\",\"\",RELEVE_COTES!$I137)))","v":0},{"$f":"IF(RELEVE_COTES!$J137=\"\",0,IF(RELEVE_COTES!$J137=\"\",\"\",RELEVE_COTES!$J137))","v":0},{"$f":"VLOOKUP(RELEVE_COTES!$K137,TabExistantRef1[],2,FALSE)","v":{"$error":"#N/A"}},{"$f":"IF($Y$1=\"BOIS\",RELEVE_COTES!$O137,0)","v":{"$error":"#N/A"}},{"$f":"IF($Y$1=\"BOIS\",RELEVE_COTES!$P137,0)","v":{"$error":"#N/A"}},{"$f":"IF($Y$1=\"BOIS\",RELEVE_COTES!$Q137,0)","v":{"$error":"#N/A"}},{"$error":"#N/A"},{"$f":"IF($Y$1=\"BANCHE\",RELEVE_COTES!$L137,0)","v":{"$error":"#N/A"}},{"$error":"#N/A"},{"$error":"#N/A"},{"$f":"IF($Y$1<>\"BANCHE\",RELEVE_COTES!$L137,0)","v":{"$error":"#N/A"}},{"$f":"IF(AND($Y$1<>\"BANCHE\",RELEVE_COTES!$M137<>\"\"),RELEVE_COTES!$M137,20)","v":{"$error":"#N/A"}},{"$f":"IF($Y$1<>\"BANCHE\",IF(RELEVE_COTES!$N137<>\"\",RELEVE_COTES!$N137,10),0)","v":{"$error":"#N/A"}},{"$f":"IF(RELEVE_COTES!$I$20=\"Huisserie Banchée\",\"Banche\",IF(RELEVE_COTES!$I$20=\"Huisserie Bois\",\"Bois\",IF(RELEVE_COTES!$I$20=\"Bâti Scellé\",\"Bâti Métal.\")))","v":false},{"$f":"RELEVE_COTES!$C$11","v":0},{"$f":"RELEVE_COTES!$K$12","v":0},{"$f":"VLOOKUP(AA89,TabSeuilRef[],2,FALSE)","v":{"$error":"#N/A"}},{"$f":"\"Paumelles \"&RELEVE_COTES!$E$15","v":"Paumelles "},{"$f":"IF(RELEVE_COTES!$K$16<>\"Déporté\",RELEVE_COTES!$K$16,RELEVE_COTES!$K$16&\" / \"&VLOOKUP(RELEVE_COTES!$L$16,TabOptUsSerr[],2,FALSE))","v":"SANS"},{"$f":"RELEVE_COTES!$K$11","v":0},{"$f":"VLOOKUP(RELEVE_COTES!$G$12,TabNuancierVTL[],2,FALSE)&\"/\"&VLOOKUP(RELEVE_COTES!$G$13,TabNuancierVTL[],2,FALSE)","v":{"$error":"#N/A"}},{"$f":"IF(RELEVE_COTES!$E$14=\"Pr.Peint\",\"PP\",VLOOKUP(RELEVE_COTES!$G$14,TabNuancHM[],2,FALSE))","v":"PP"},{"$error":"#N/A"},{"$f":"IF(RELEVE_COTES!$C$11 =\"R32S-R02\",\"OUI\",\"NON\")","v":"NON"},"NON","",{"$f":"IF(AI89=\"OUI\",RELEVE_COTES!$N$16,\"\")","v":""},null,{"$f":"RELEVE_COTES!$E$12&\"/\"&RELEVE_COTES!$E$13","v":" SANS/ SANS"},{"$f":"IF(RELEVE_COTES!$K$15<>\"SANS\",RELEVE_COTES!$L$15&\" \"&RELEVE_COTES!$K$15,\"\")&IF(RELEVE_COTES!$N$15<>\"SANS\",\" / PMR: \"&RELEVE_COTES!$O$15&\" \"&RELEVE_COTES!$N$15,\"\")","v":""},{"$f":"IF(RELEVE_COTES!$K$14 <> \"SANS\",RELEVE_COTES!$O$14&\" \"&RELEVE_COTES!$K$14,\"\")","v":"U+F "},{"$f":"IF(RELEVE_COTES!$K$13 <> \"SANS\",RELEVE_COTES!$O$13&\" \"&RELEVE_COTES!$K$13,\"SANS\")","v":"U+F "},{"$f":"VLOOKUP(RELEVE_COTES!$O$11,TabOptUsSerr[],2,FALSE)","v":"Usinage, fourniture et pose"},{"$f":"INDEX(TabFinition[FINITION],MATCH(VLOOKUP(RELEVE_COTES!$G$12,TabNuancierVTL[],3,FALSE)&VLOOKUP(RELEVE_COTES!$G$13,TabNuancierVTL[],3,FALSE),TabFinition[TYPE EXT]&TabFinition[TYPE INT],0))","v":{"$error":"#N/A"}},"INT",{"$f":"RELEVE_COTES!$E$16","v":"platines + vérins"},"NON",{"$f":"IF(RELEVE_COTES!$I$20 = \"Huisserie Bois\",RELEVE_COTES!$R137,IF(RELEVE_COTES!$I$20 = \"Huisserie Banchée\",RELEVE_COTES!$M137,IF(RELEVE_COTES!$I$20 = \"Bâti Scellé\",RELEVE_COTES!$O137,\"\")))","v":""}]
[{"$error":"#VALUE!"},{"$error":"#VALUE!"},{"$f":"IF(RELEVE_COTES!$A138<>\"\",SUBSTITUTE(SUBSTITUTE(SUBSTITUTE(SUBSTITUTE(SUBSTITUTE(SUBSTITUTE(SUBSTITUTE(SUBSTITUTE(RELEVE_COTES!$A138,\" \",\"\"),\"-\",\"/\"),\".\",\"/\"),\"\\\",\"/\"),\",\",\"/\"),\"+\",\"_\"),\"&\",\"_\"),\"*\",\"/\"),\"\")","v":""},{"$f":"RELEVE_COTES!$B138","v":0},1,{"$f":"IF(RELEVE_COTES!C138<>\"\",SUBSTITUTE(SUBSTITUTE(SUBSTITUTE(SUBSTITUTE(SUBSTITUTE(SUBSTITUTE(SUBSTITUTE(SUBSTITUTE(RELEVE_COTES!C138,\" \",\"\"),\"-\",\"\"),\".\",\",\"),\"\\\",\"\"),\",\",\",\"),\"+\",\"\"),\"&\",\"\"),\"*\",\"\"),\"\")","v":""},{"$f":"IF(RELEVE_COTES!D138<>\"\",SUBSTITUTE(SUBSTITUTE(SUBSTITUTE(SUBSTITUTE(SUBSTITUTE(SUBSTITUTE(SUBSTITUTE(SUBSTITUTE(RELEVE_COTES!D138,\" \",\"\"),\"-\",\"\"),\".\",\",\"),\"\\\",\"\"),\",\",\",\"),\"+\",\"\"),\"&\",\"\"),\"*\",\"\"),\"\")","v":""},{"$f":"IF(RELEVE_COTES!E138<>\"\",SUBSTITUTE(SUBSTITUTE(SUBSTITUTE(SUBSTITUTE(SUBSTITUTE(SUBSTITUTE(SUBSTITUTE(SUBSTITUTE(RELEVE_COTES!E138,\" \",\"\"),\"-\",\"\"),\".\",\",\"),\"\\\",\"\"),\",\",\",\"),\"+\",\"\"),\"&\",\"\"),\"*\",\"\"),\"\")","v":""},{"$f":"IF(RELEVE_COTES!F138<>\"\",SUBSTITUTE(SUBSTITUTE(SUBSTITUTE(SUBSTITUTE(SUBSTITUTE(SUBSTITUTE(SUBSTITUTE(SUBSTITUTE(RELEVE_COTES!F138,\" \",\"\"),\"-\",\"\"),\".\",\",\"),\"\\\",\"\"),\",\",\",\"),\"+\",\"\"),\"&\",\"\"),\"*\",\"\"),\"\")","v":""},{"$f":"IF(RELEVE_COTES!G138<>\"\",SUBSTITUTE(SUBSTITUTE(SUBSTITUTE(SUBSTITUTE(SUBSTITUTE(SUBSTITUTE(SUBSTITUTE(SUBSTITUTE(RELEVE_COTES!G138,\" \",\"\"),\"-\",\"\"),\".\",\",\"),\"\\\",\"\"),\",\",\",\"),\"+\",\"\"),\"&\",\"\"),\"*\",\"\"),\"\")","v":""},{"$f":"IF($D90=\"GP\",IF(RELEVE_COTES!$I138=\"\",0,IF(RELEVE_COTES!$I138=\"\",\"\",RELEVE_COTES!$I138)),IF(RELEVE_COTES!$H138=\"\",0,IF(RELEVE_COTES!$H138=\"\",\"\",RELEVE_COTES!$H138)))","v":0},{"$f":"IF($D90=\"GP\",IF(RELEVE_COTES!$H138=\"\",0,IF(RELEVE_COTES!$H138=\"\",\"\",RELEVE_COTES!$H138)),IF(RELEVE_COTES!$I138=\"\",0,IF(RELEVE_COTES!$I138=\"\",\"\",RELEVE_COTES!$I138)))","v":0},{"$f":"IF(RELEVE_COTES!$J138=\"\",0,IF(RELEVE_COTES!$J138=\"\",\"\",RELEVE_COTES!$J138))","v":0},{"$f":"VLOOKUP(RELEVE_COTES!$K138,TabExistantRef1[],2,FALSE)","v":{"$error":"#N/A"}},{"$f":"IF($Y$1=\"BOIS\",RELEVE_COTES!$O138,0)","v":{"$error":"#N/A"}},{"$f":"IF($Y$1=\"BOIS\",RELEVE_COTES!$P138,0)","v":{"$error":"#N/A"}},{"$f":"IF($Y$1=\"BOIS\",RELEVE_COTES!$Q138,0)","v":{"$error":"#N/A"}},{"$error":"#N/A"},{"$f":"IF($Y$1=\"BANCHE\",RELEVE_COTES!$L138,0)","v":{"$error":"#N/A"}},{"$error":"#N/A"},{"$error":"#N/A"},{"$f":"IF($Y$1<>\"BANCHE\",RELEVE_COTES!$L138,0)","v":{"$error":"#N/A"}},{"$f":"IF(AND($Y$1<>\"BANCHE\",RELEVE_COTES!$M138<>\"\"),RELEVE_COTES!$M138,20)","v":{"$error":"#N/A"}},{"$f":"IF($Y$1<>\"BANCHE\",IF(RELEVE_COTES!$N138<>\"\",RELEVE_COTES!$N138,10),0)","v":{"$error":"#N/A"}},{"$f":"IF(RELEVE_COTES!$I$20=\"Huisserie Banchée\",\"Banche\",IF(RELEVE_COTES!$I$20=\"Huisserie Bois\",\"Bois\",IF(RELEVE_COTES!$I$20=\"Bâti Scellé\",\"Bâti Métal.\")))","v":false},{"$f":"RELEVE_COTES!$C$11","v":0},{"$f":"RELEVE_COTES!$K$12","v":0},{"$f":"VLOOKUP(AA90,TabSeuilRef[],2,FALSE)","v":{"$error":"#N/A"}},{"$f":"\"Paumelles \"&RELEVE_COTES!$E$15","v":"Paumelles "},{"$f":"IF(RELEVE_COTES!$K$16<>\"Déporté\",RELEVE_COTES!$K$16,RELEVE_COTES!$K$16&\" / \"&VLOOKUP(RELEVE_COTES!$L$16,TabOptUsSerr[],2,FALSE))","v":"SANS"},{"$f":"RELEVE_COTES!$K$11","v":0},{"$f":"VLOOKUP(RELEVE_COTES!$G$12,TabNuancierVTL[],2,FALSE)&\"/\"&VLOOKUP(RELEVE_COTES!$G$13,TabNuancierVTL[],2,FALSE)","v":{"$error":"#N/A"}},{"$f":"IF(RELEVE_COTES!$E$14=\"Pr.Peint\",\"PP\",VLOOKUP(RELEVE_COTES!$G$14,TabNuancHM[],2,FALSE))","v":"PP"},{"$error":"#N/A"},{"$f":"IF(RELEVE_COTES!$C$11 =\"R32S-R02\",\"OUI\",\"NON\")","v":"NON"},"NON","",{"$f":"IF(AI90=\"OUI\",RELEVE_COTES!$N$16,\"\")","v":""},null,{"$f":"RELEVE_COTES!$E$12&\"/\"&RELEVE_COTES!$E$13","v":" SANS/ SANS"},{"$f":"IF(RELEVE_COTES!$K$15<>\"SANS\",RELEVE_COTES!$L$15&\" \"&RELEVE_COTES!$K$15,\"\")&IF(RELEVE_COTES!$N$15<>\"SANS\",\" / PMR: \"&RELEVE_COTES!$O$15&\" \"&RELEVE_COTES!$N$15,\"\")","v":""},{"$f":"IF(RELEVE_COTES!$K$14 <> \"SANS\",RELEVE_COTES!$O$14&\" \"&RELEVE_COTES!$K$14,\"\")","v":"U+F "},{"$f":"IF(RELEVE_COTES!$K$13 <> \"SANS\",RELEVE_COTES!$O$13&\" \"&RELEVE_COTES!$K$13,\"SANS\")","v":"U+F "},{"$f":"VLOOKUP(RELEVE_COTES!$O$11,TabOptUsSerr[],2,FALSE)","v":"Usinage, fourniture et pose"},{"$f":"INDEX(TabFinition[FINITION],MATCH(VLOOKUP(RELEVE_COTES!$G$12,TabNuancierVTL[],3,FALSE)&VLOOKUP(RELEVE_COTES!$G$13,TabNuancierVTL[],3,FALSE),TabFinition[TYPE EXT]&TabFinition[TYPE INT],0))","v":{"$error":"#N/A"}},"INT",{"$f":"RELEVE_COTES!$E$16","v":"platines + vérins"},"NON",{"$f":"IF(RELEVE_COTES!$I$20 = \"Huisserie Bois\",RELEVE_COTES!$R138,IF(RELEVE_COTES!$I$20 = \"Huisserie Banchée\",RELEVE_COTES!$M138,IF(RELEVE_COTES!$I$20 = \"Bâti Scellé\",RELEVE_COTES!$O138,\"\")))","v":""}]
[{"$error":"#VALUE!"},{"$error":"#VALUE!"},{"$f":"IF(RELEVE_COTES!$A139<>\"\",SUBSTITUTE(SUBSTITUTE(SUBSTITUTE(SUBSTITUTE(SUBSTITUTE(SUBSTITUTE(SUBSTITUTE(SUBSTITUTE(RELEVE_COTES!$A139,\" \",\"\"),\"-\",\"/\"),\".\",\"/\"),\"\\\",\"/\"),\",\",\"/\"),\"+\",\"_\"),\"&\",\"_\"),\"*\",\"/\"),\"\")","v":""},{"$f":"RELEVE_COTES!$B139","v":0},1,{"$f":"IF(RELEVE_COTES!C139<>\"\",SUBSTITUTE(SUBSTITUTE(SUBSTITUTE(SUBSTITUTE(SUBSTITUTE(SUBSTITUTE(SUBSTITUTE(SUBSTITUTE(RELEVE_COTES!C139,\" \",\"\"),\"-\",\"\"),\".\",\",\"),\"\\\",\"\"),\",\",\",\"),\"+\",\"\"),\"&\",\"\"),\"*\",\"\"),\"\")","v":""},{"$f":"IF(RELEVE_COTES!D139<>\"\",SUBSTITUTE(SUBSTITUTE(SUBSTITUTE(SUBSTITUTE(SUBSTITUTE(SUBSTITUTE(SUBSTITUTE(SUBSTITUTE(RELEVE_COTES!D139,\" \",\"\"),\"-\",\"\"),\".\",\",\"),\"\\\",\"\"),\",\",\",\"),\"+\",\"\"),\"&\",\"\"),\"*\",\"\"),\"\")","v":""},{"$f":"IF(RELEVE_COTES!E139<>\"\",SUBSTITUTE(SUBSTITUTE(SUBSTITUTE(SUBSTITUTE(SUBSTITUTE(SUBSTITUTE(SUBSTITUTE(SUBSTITUTE(RELEVE_COTES!E139,\" \",\"\"),\"-\",\"\"),\".\",\",\"),\"\\\",\"\"),\",\",\",\"),\"+\",\"\"),\"&\",\"\"),\"*\",\"\"),\"\")","v":""},{"$f":"IF(RELEVE_COTES!F139<>\"\",SUBSTITUTE(SUBSTITUTE(SUBSTITUTE(SUBSTITUTE(SUBSTITUTE(SUBSTITUTE(SUBSTITUTE(SUBSTITUTE(RELEVE_COTES!F139,\" \",\"\"),\"-\",\"\"),\".\",\",\"),\"\\\",\"\"),\",\",\",\"),\"+\",\"\"),\"&\",\"\"),\"*\",\"\"),\"\")","v":""},{"$f":"IF(RELEVE_COTES!G139<>\"\",SUBSTITUTE(SUBSTITUTE(SUBSTITUTE(SUBSTITUTE(SUBSTITUTE(SUBSTITUTE(SUBSTITUTE(SUBSTITUTE(RELEVE_COTES!G139,\" \",\"\"),\"-\",\"\"),\".\",\",\"),\"\\\",\"\"),\",\",\",\"),\"+\",\"\"),\"&\",\"\"),\"*\",\"\"),\"\")","v":""},{"$f":"IF($D91=\"GP\",IF(RELEVE_COTES!$I139=\"\",0,IF(RELEVE_COTES!$I139=\"\",\"\",RELEVE_COTES!$I139)),IF(RELEVE_COTES!$H139=\"\",0,IF(RELEVE_COTES!$H139=\"\",\"\",RELEVE_COTES!$H139)))","v":0},{"$f":"IF($D91=\"GP\",IF(RELEVE_COTES!$H139=\"\",0,IF(RELEVE_COTES!$H139=\"\",\"\",RELEVE_COTES!$H139)),IF(RELEVE_COTES!$I139=\"\",0,IF(RELEVE_COTES!$I139=\"\",\"\",RELEVE_COTES!$I139)))","v":0},{"$f":"IF(RELEVE_COTES!$J139=\"\",0,IF(RELEVE_COTES!$J139=\"\",\"\",RELEVE_COTES!$J139))","v":0},{"$f":"VLOOKUP(RELEVE_COTES!$K139,TabExistantRef1[],2,FALSE)","v":{"$error":"#N/A"}},{"$f":"IF($Y$1=\"BOIS\",RELEVE_COTES!$O139,0)","v":{"$error":"#N/A"}},{"$f":"IF($Y$1=\"BOIS\",RELEVE_COTES!$P139,0)","v":{"$error":"#N/A"}},{"$f":"IF($Y$1=\"BOIS\",RELEVE_COTES!$Q139,0)","v":{"$error":"#N/A"}},{"$error":"#N/A"},{"$f":"IF($Y$1=\"BANCHE\",RELEVE_COTES!$L139,0)","v":{"$error":"#N/A"}},{"$error":"#N/A"},{"$error":"#N/A"},{"$f":"IF($Y$1<>\"BANCHE\",RELEVE_COTES!$L139,0)","v":{"$error":"#N/A"}},{"$f":"IF(AND($Y$1<>\"BANCHE\",RELEVE_COTES!$M139<>\"\"),RELEVE_COTES!$M139,20)","v":{"$error":"#N/A"}},{"$f":"IF($Y$1<>\"BANCHE\",IF(RELEVE_COTES!$N139<>\"\",RELEVE_COTES!$N139,10),0)","v":{"$error":"#N/A"}},{"$f":"IF(RELEVE_COTES!$I$20=\"Huisserie Banchée\",\"Banche\",IF(RELEVE_COTES!$I$20=\"Huisserie Bois\",\"Bois\",IF(RELEVE_COTES!$I$20=\"Bâti Scellé\",\"Bâti Métal.\")))","v":false},{"$f":"RELEVE_COTES!$C$11","v":0},{"$f":"RELEVE_COTES!$K$12","v":0},{"$f":"VLOOKUP(AA91,TabSeuilRef[],2,FALSE)","v":{"$error":"#N/A"}},{"$f":"\"Paumelles \"&RELEVE_COTES!$E$15","v":"Paumelles "},{"$f":"IF(RELEVE_COTES!$K$16<>\"Déporté\",RELEVE_COTES!$K$16,RELEVE_COTES!$K$16&\" / \"&VLOOKUP(RELEVE_COTES!$L$16,TabOptUsSerr[],2,FALSE))","v":"SANS"},{"$f":"RELEVE_COTES!$K$11","v":0},{"$f":"VLOOKUP(RELEVE_COTES!$G$12,TabNuancierVTL[],2,FALSE)&\"/\"&VLOOKUP(RELEVE_COTES!$G$13,TabNuancierVTL[],2,FALSE)","v":{"$error":"#N/A"}},{"$f":"IF(RELEVE_COTES!$E$14=\"Pr.Peint\",\"PP\",VLOOKUP(RELEVE_COTES!$G$14,TabNuancHM[],2,FALSE))","v":"PP"},{"$error":"#N/A"},{"$f":"IF(RELEVE_COTES!$C$11 =\"R32S-R02\",\"OUI\",\"NON\")","v":"NON"},"NON","",{"$f":"IF(AI91=\"OUI\",RELEVE_COTES!$N$16,\"\")","v":""},null,{"$f":"RELEVE_COTES!$E$12&\"/\"&RELEVE_COTES!$E$13","v":" SANS/ SANS"},{"$f":"IF(RELEVE_COTES!$K$15<>\"SANS\",RELEVE_COTES!$L$15&\" \"&RELEVE_COTES!$K$15,\"\")&IF(RELEVE_COTES!$N$15<>\"SANS\",\" / PMR: \"&RELEVE_COTES!$O$15&\" \"&RELEVE_COTES!$N$15,\"\")","v":""},{"$f":"IF(RELEVE_COTES!$K$14 <> \"SANS\",RELEVE_COTES!$O$14&\" \"&RELEVE_COTES!$K$14,\"\")","v":"U+F "},{"$f":"IF(RELEVE_COTES!$K$13 <> \"SANS\",RELEVE_COTES!$O$13&\" \"&RELEVE_COTES!$K$13,\"SANS\")","v":"U+F "},{"$f":"VLOOKUP(RELEVE_COTES!$O$11,TabOptUsSerr[],2,FALSE)","v":"Usinage, fourniture et pose"},{"$f":"INDEX(TabFinition[FINITION],MATCH(VLOOKUP(RELEVE_COTES!$G$12,TabNuancierVTL[],3,FALSE)&VLOOKUP(RELEVE_COTES!$G$13,TabNuancierVTL[],3,FALSE),TabFinition[TYPE EXT]&TabFinition[TYPE INT],0))","v":{"$error":"#N/A"}},"INT",{"$f":"RELEVE_COTES!$E$16","v":"platines + vérins"},"NON",{"$f":"IF(RELEVE_COTES!$I$20 = \"Huisserie Bois\",RELEVE_COTES!$R139,IF(RELEVE_COTES!$I$20 = \"Huisserie Banchée\",RELEVE_COTES!$M139,IF(RELEVE_COTES!$I$20 = \"Bâti Scellé\",RELEVE_COTES!$O139,\"\")))","v":""}]
[{"$error":"#VALUE!"},{"$error":"#VALUE!"},{"$f":"IF(RELEVE_COTES!$A140<>\"\",SUBSTITUTE(SUBSTITUTE(SUBSTITUTE(SUBSTITUTE(SUBSTITUTE(SUBSTITUTE(SUBSTITUTE(SUBSTITUTE(RELEVE_COTES!$A140,\" \",\"\"),\"-\",\"/\"),\".\",\"/\"),\"\\\",\"/\"),\",\",\"/\"),\"+\",\"_\"),\"&\",\"_\"),\"*\",\"/\"),\"\")","v":""},{"$f":"RELEVE_COTES!$B140","v":0},1,{"$f":"IF(RELEVE_COTES!C140<>\"\",SUBSTITUTE(SUBSTITUTE(SUBSTITUTE(SUBSTITUTE(SUBSTITUTE(SUBSTITUTE(SUBSTITUTE(SUBSTITUTE(RELEVE_COTES!C140,\" \",\"\"),\"-\",\"\"),\".\",\",\"),\"\\\",\"\"),\",\",\",\"),\"+\",\"\"),\"&\",\"\"),\"*\",\"\"),\"\")","v":""},{"$f":"IF(RELEVE_COTES!D140<>\"\",SUBSTITUTE(SUBSTITUTE(SUBSTITUTE(SUBSTITUTE(SUBSTITUTE(SUBSTITUTE(SUBSTITUTE(SUBSTITUTE(RELEVE_COTES!D140,\" \",\"\"),\"-\",\"\"),\".\",\",\"),\"\\\",\"\"),\",\",\",\"),\"+\",\"\"),\"&\",\"\"),\"*\",\"\"),\"\")","v":""},{"$f":"IF(RELEVE_COTES!E140<>\"\",SUBSTITUTE(SUBSTITUTE(SUBSTITUTE(SUBSTITUTE(SUBSTITUTE(SUBSTITUTE(SUBSTITUTE(SUBSTITUTE(RELEVE_COTES!E140,\" \",\"\"),\"-\",\"\"),\".\",\",\"),\"\\\",\"\"),\",\",\",\"),\"+\",\"\"),\"&\",\"\"),\"*\",\"\"),\"\")","v":""},{"$f":"IF(RELEVE_COTES!F140<>\"\",SUBSTITUTE(SUBSTITUTE(SUBSTITUTE(SUBSTITUTE(SUBSTITUTE(SUBSTITUTE(SUBSTITUTE(SUBSTITUTE(RELEVE_COTES!F140,\" \",\"\"),\"-\",\"\"),\".\",\",\"),\"\\\",\"\"),\",\",\",\"),\"+\",\"\"),\"&\",\"\"),\"*\",\"\"),\"\")","v":""},{"$f":"IF(RELEVE_COTES!G140<>\"\",SUBSTITUTE(SUBSTITUTE(SUBSTITUTE(SUBSTITUTE(SUBSTITUTE(SUBSTITUTE(SUBSTITUTE(SUBSTITUTE(RELEVE_COTES!G140,\" \",\"\"),\"-\",\"\"),\".\",\",\"),\"\\\",\"\"),\",\",\",\"),\"+\",\"\"),\"&\",\"\"),\"*\",\"\"),\"\")","v":""},{"$f":"IF($D92=\"GP\",IF(RELEVE_COTES!$I140=\"\",0,IF(RELEVE_COTES!$I140=\"\",\"\",RELEVE_COTES!$I140)),IF(RELEVE_COTES!$H140=\"\",0,IF(RELEVE_COTES!$H140=\"\",\"\",RELEVE_COTES!$H140)))","v":0},{"$f":"IF($D92=\"GP\",IF(RELEVE_COTES!$H140=\"\",0,IF(RELEVE_COTES!$H140=\"\",\"\",RELEVE_COTES!$H140)),IF(RELEVE_COTES!$I140=\"\",0,IF(RELEVE_COTES!$I140=\"\",\"\",RELEVE_COTES!$I140)))","v":0},{"$f":"IF(RELEVE_COTES!$J140=\"\",0,IF(RELEVE_COTES!$J140=\"\",\"\",RELEVE_COTES!$J140))","v":0},{"$f":"VLOOKUP(RELEVE_COTES!$K140,TabExistantRef1[],2,FALSE)","v":{"$error":"#N/A"}},{"$f":"IF($Y$1=\"BOIS\",RELEVE_COTES!$O140,0)","v":{"$error":"#N/A"}},{"$f":"IF($Y$1=\"BOIS\",RELEVE_COTES!$P140,0)","v":{"$error":"#N/A"}},{"$f":"IF($Y$1=\"BOIS\",RELEVE_COTES!$Q140,0)","v":{"$error":"#N/A"}},{"$error":"#N/A"},{"$f":"IF($Y$1=\"BANCHE\",RELEVE_COTES!$L140,0)","v":{"$error":"#N/A"}},{"$error":"#N/A"},{"$error":"#N/A"},{"$f":"IF($Y$1<>\"BANCHE\",RELEVE_COTES!$L140,0)","v":{"$error":"#N/A"}},{"$f":"IF(AND($Y$1<>\"BANCHE\",RELEVE_COTES!$M140<>\"\"),RELEVE_COTES!$M140,20)","v":{"$error":"#N/A"}},{"$f":"IF($Y$1<>\"BANCHE\",IF(RELEVE_COTES!$N140<>\"\",RELEVE_COTES!$N140,10),0)","v":{"$error":"#N/A"}},{"$f":"IF(RELEVE_COTES!$I$20=\"Huisserie Banchée\",\"Banche\",IF(RELEVE_COTES!$I$20=\"Huisserie Bois\",\"Bois\",IF(RELEVE_COTES!$I$20=\"Bâti Scellé\",\"Bâti Métal.\")))","v":false},{"$f":"RELEVE_COTES!$C$11","v":0},{"$f":"RELEVE_COTES!$K$12","v":0},{"$f":"VLOOKUP(AA92,TabSeuilRef[],2,FALSE)","v":{"$error":"#N/A"}},{"$f":"\"Paumelles \"&RELEVE_COTES!$E$15","v":"Paumelles "},{"$f":"IF(RELEVE_COTES!$K$16<>\"Déporté\",RELEVE_COTES!$K$16,RELEVE_COTES!$K$16&\" / \"&VLOOKUP(RELEVE_COTES!$L$16,TabOptUsSerr[],2,FALSE))","v":"SANS"},{"$f":"RELEVE_COTES!$K$11","v":0},{"$f":"VLOOKUP(RELEVE_COTES!$G$12,TabNuancierVTL[],2,FALSE)&\"/\"&VLOOKUP(RELEVE_COTES!$G$13,TabNuancierVTL[],2,FALSE)","v":{"$error":"#N/A"}},{"$f":"IF(RELEVE_COTES!$E$14=\"Pr.Peint\",\"PP\",VLOOKUP(RELEVE_COTES!$G$14,TabNuancHM[],2,FALSE))","v":"PP"},{"$error":"#N/A"},{"$f":"IF(RELEVE_COTES!$C$11 =\"R32S-R02\",\"OUI\",\"NON\")","v":"NON"},"NON","",{"$f":"IF(AI92=\"OUI\",RELEVE_COTES!$N$16,\"\")","v":""},null,{"$f":"RELEVE_COTES!$E$12&\"/\"&RELEVE_COTES!$E$13","v":" SANS/ SANS"},{"$f":"IF(RELEVE_COTES!$K$15<>\"SANS\",RELEVE_COTES!$L$15&\" \"&RELEVE_COTES!$K$15,\"\")&IF(RELEVE_COTES!$N$15<>\"SANS\",\" / PMR: \"&RELEVE_COTES!$O$15&\" \"&RELEVE_COTES!$N$15,\"\")","v":""},{"$f":"IF(RELEVE_COTES!$K$14 <> \"SANS\",RELEVE_COTES!$O$14&\" \"&RELEVE_COTES!$K$14,\"\")","v":"U+F "},{"$f":"IF(RELEVE_COTES!$K$13 <> \"SANS\",RELEVE_COTES!$O$13&\" \"&RELEVE_COTES!$K$13,\"SANS\")","v":"U+F "},{"$f":"VLOOKUP(RELEVE_COTES!$O$11,TabOptUsSerr[],2,FALSE)","v":"Usinage, fourniture et pose"},{"$f":"INDEX(TabFinition[FINITION],MATCH(VLOOKUP(RELEVE_COTES!$G$12,TabNuancierVTL[],3,FALSE)&VLOOKUP(RELEVE_COTES!$G$13,TabNuancierVTL[],3,FALSE),TabFinition[TYPE EXT]&TabFinition[TYPE INT],0))","v":{"$error":"#N/A"}},"INT",{"$f":"RELEVE_COTES!$E$16","v":"platines + vérins"},"NON",{"$f":"IF(RELEVE_COTES!$I$20 = \"Huisserie Bois\",RELEVE_COTES!$R140,IF(RELEVE_COTES!$I$20 = \"Huisserie Banchée\",RELEVE_COTES!$M140,IF(RELEVE_COTES!$I$20 = \"Bâti Scellé\",RELEVE_COTES!$O140,\"\")))","v":""}]
[{"$error":"#VALUE!"},{"$error":"#VALUE!"},{"$f":"IF(RELEVE_COTES!$A141<>\"\",SUBSTITUTE(SUBSTITUTE(SUBSTITUTE(SUBSTITUTE(SUBSTITUTE(SUBSTITUTE(SUBSTITUTE(SUBSTITUTE(RELEVE_COTES!$A141,\" \",\"\"),\"-\",\"/\"),\".\",\"/\"),\"\\\",\"/\"),\",\",\"/\"),\"+\",\"_\"),\"&\",\"_\"),\"*\",\"/\"),\"\")","v":""},{"$f":"RELEVE_COTES!$B141","v":0},1,{"$f":"IF(RELEVE_COTES!C141<>\"\",SUBSTITUTE(SUBSTITUTE(SUBSTITUTE(SUBSTITUTE(SUBSTITUTE(SUBSTITUTE(SUBSTITUTE(SUBSTITUTE(RELEVE_COTES!C141,\" \",\"\"),\"-\",\"\"),\".\",\",\"),\"\\\",\"\"),\",\",\",\"),\"+\",\"\"),\"&\",\"\"),\"*\",\"\"),\"\")","v":""},{"$f":"IF(RELEVE_COTES!D141<>\"\",SUBSTITUTE(SUBSTITUTE(SUBSTITUTE(SUBSTITUTE(SUBSTITUTE(SUBSTITUTE(SUBSTITUTE(SUBSTITUTE(RELEVE_COTES!D141,\" \",\"\"),\"-\",\"\"),\".\",\",\"),\"\\\",\"\"),\",\",\",\"),\"+\",\"\"),\"&\",\"\"),\"*\",\"\"),\"\")","v":""},{"$f":"IF(RELEVE_COTES!E141<>\"\",SUBSTITUTE(SUBSTITUTE(SUBSTITUTE(SUBSTITUTE(SUBSTITUTE(SUBSTITUTE(SUBSTITUTE(SUBSTITUTE(RELEVE_COTES!E141,\" \",\"\"),\"-\",\"\"),\".\",\",\"),\"\\\",\"\"),\",\",\",\"),\"+\",\"\"),\"&\",\"\"),\"*\",\"\"),\"\")","v":""},{"$f":"IF(RELEVE_COTES!F141<>\"\",SUBSTITUTE(SUBSTITUTE(SUBSTITUTE(SUBSTITUTE(SUBSTITUTE(SUBSTITUTE(SUBSTITUTE(SUBSTITUTE(RELEVE_COTES!F141,\" \",\"\"),\"-\",\"\"),\".\",\",\"),\"\\\",\"\"),\",\",\",\"),\"+\",\"\"),\"&\",\"\"),\"*\",\"\"),\"\")","v":""},{"$f":"IF(RELEVE_COTES!G141<>\"\",SUBSTITUTE(SUBSTITUTE(SUBSTITUTE(SUBSTITUTE(SUBSTITUTE(SUBSTITUTE(SUBSTITUTE(SUBSTITUTE(RELEVE_COTES!G141,\" \",\"\"),\"-\",\"\"),\".\",\",\"),\"\\\",\"\"),\",\",\",\"),\"+\",\"\"),\"&\",\"\"),\"*\",\"\"),\"\")","v":""},{"$f":"IF($D93=\"GP\",IF(RELEVE_COTES!$I141=\"\",0,IF(RELEVE_COTES!$I141=\"\",\"\",RELEVE_COTES!$I141)),IF(RELEVE_COTES!$H141=\"\",0,IF(RELEVE_COTES!$H141=\"\",\"\",RELEVE_COTES!$H141)))","v":0},{"$f":"IF($D93=\"GP\",IF(RELEVE_COTES!$H141=\"\",0,IF(RELEVE_COTES!$H141=\"\",\"\",RELEVE_COTES!$H141)),IF(RELEVE_COTES!$I141=\"\",0,IF(RELEVE_COTES!$I141=\"\",\"\",RELEVE_COTES!$I141)))","v":0},{"$f":"IF(RELEVE_COTES!$J141=\"\",0,IF(RELEVE_COTES!$J141=\"\",\"\",RELEVE_COTES!$J141))","v":0},{"$f":"VLOOKUP(RELEVE_COTES!$K141,TabExistantRef1[],2,FALSE)","v":{"$error":"#N/A"}},{"$f":"IF($Y$1=\"BOIS\",RELEVE_COTES!$O141,0)","v":{"$error":"#N/A"}},{"$f":"IF($Y$1=\"BOIS\",RELEVE_COTES!$P141,0)","v":{"$error":"#N/A"}},{"$f":"IF($Y$1=\"BOIS\",RELEVE_COTES!$Q141,0)","v":{"$error":"#N/A"}},{"$error":"#N/A"},{"$f":"IF($Y$1=\"BANCHE\",RELEVE_COTES!$L141,0)","v":{"$error":"#N/A"}},{"$error":"#N/A"},{"$error":"#N/A"},{"$f":"IF($Y$1<>\"BANCHE\",RELEVE_COTES!$L141,0)","v":{"$error":"#N/A"}},{"$f":"IF(AND($Y$1<>\"BANCHE\",RELEVE_COTES!$M141<>\"\"),RELEVE_COTES!$M141,20)","v":{"$error":"#N/A"}},{"$f":"IF($Y$1<>\"BANCHE\",IF(RELEVE_COTES!$N141<>\"\",RELEVE_COTES!$N141,10),0)","v":{"$error":"#N/A"}},{"$f":"IF(RELEVE_COTES!$I$20=\"Huisserie Banchée\",\"Banche\",IF(RELEVE_COTES!$I$20=\"Huisserie Bois\",\"Bois\",IF(RELEVE_COTES!$I$20=\"Bâti Scellé\",\"Bâti Métal.\")))","v":false},{"$f":"RELEVE_COTES!$C$11","v":0},{"$f":"RELEVE_COTES!$K$12","v":0},{"$f":"VLOOKUP(AA93,TabSeuilRef[],2,FALSE)","v":{"$error":"#N/A"}},{"$f":"\"Paumelles \"&RELEVE_COTES!$E$15","v":"Paumelles "},{"$f":"IF(RELEVE_COTES!$K$16<>\"Déporté\",RELEVE_COTES!$K$16,RELEVE_COTES!$K$16&\" / \"&VLOOKUP(RELEVE_COTES!$L$16,TabOptUsSerr[],2,FALSE))","v":"SANS"},{"$f":"RELEVE_COTES!$K$11","v":0},{"$f":"VLOOKUP(RELEVE_COTES!$G$12,TabNuancierVTL[],2,FALSE)&\"/\"&VLOOKUP(RELEVE_COTES!$G$13,TabNuancierVTL[],2,FALSE)","v":{"$error":"#N/A"}},{"$f":"IF(RELEVE_COTES!$E$14=\"Pr.Peint\",\"PP\",VLOOKUP(RELEVE_COTES!$G$14,TabNuancHM[],2,FALSE))","v":"PP"},{"$error":"#N/A"},{"$f":"IF(RELEVE_COTES!$C$11 =\"R32S-R02\",\"OUI\",\"NON\")","v":"NON"},"NON","",{"$f":"IF(AI93=\"OUI\",RELEVE_COTES!$N$16,\"\")","v":""},null,{"$f":"RELEVE_COTES!$E$12&\"/\"&RELEVE_COTES!$E$13","v":" SANS/ SANS"},{"$f":"IF(RELEVE_COTES!$K$15<>\"SANS\",RELEVE_COTES!$L$15&\" \"&RELEVE_COTES!$K$15,\"\")&IF(RELEVE_COTES!$N$15<>\"SANS\",\" / PMR: \"&RELEVE_COTES!$O$15&\" \"&RELEVE_COTES!$N$15,\"\")","v":""},{"$f":"IF(RELEVE_COTES!$K$14 <> \"SANS\",RELEVE_COTES!$O$14&\" \"&RELEVE_COTES!$K$14,\"\")","v":"U+F "},{"$f":"IF(RELEVE_COTES!$K$13 <> \"SANS\",RELEVE_COTES!$O$13&\" \"&RELEVE_COTES!$K$13,\"SANS\")","v":"U+F "},{"$f":"VLOOKUP(RELEVE_COTES!$O$11,TabOptUsSerr[],2,FALSE)","v":"Usinage, fourniture et pose"},{"$f":"INDEX(TabFinition[FINITION],MATCH(VLOOKUP(RELEVE_COTES!$G$12,TabNuancierVTL[],3,FALSE)&VLOOKUP(RELEVE_COTES!$G$13,TabNuancierVTL[],3,FALSE),TabFinition[TYPE EXT]&TabFinition[TYPE INT],0))","v":{"$error":"#N/A"}},"INT",{"$f":"RELEVE_COTES!$E$16","v":"platines + vérins"},"NON",{"$f":"IF(RELEVE_COTES!$I$20 = \"Huisserie Bois\",RELEVE_COTES!$R141,IF(RELEVE_COTES!$I$20 = \"Huisserie Banchée\",RELEVE_COTES!$M141,IF(RELEVE_COTES!$I$20 = \"Bâti Scellé\",RELEVE_COTES!$O141,\"\")))","v":""}]
[{"$error":"#VALUE!"},{"$error":"#VALUE!"},{"$f":"IF(RELEVE_COTES!$A142<>\"\",SUBSTITUTE(SUBSTITUTE(SUBSTITUTE(SUBSTITUTE(SUBSTITUTE(SUBSTITUTE(SUBSTITUTE(SUBSTITUTE(RELEVE_COTES!$A142,\" \",\"\"),\"-\",\"/\"),\".\",\"/\"),\"\\\",\"/\"),\",\",\"/\"),\"+\",\"_\"),\"&\",\"_\"),\"*\",\"/\"),\"\")","v":""},{"$f":"RELEVE_COTES!$B142","v":0},1,{"$f":"IF(RELEVE_COTES!C142<>\"\",SUBSTITUTE(SUBSTITUTE(SUBSTITUTE(SUBSTITUTE(SUBSTITUTE(SUBSTITUTE(SUBSTITUTE(SUBSTITUTE(RELEVE_COTES!C142,\" \",\"\"),\"-\",\"\"),\".\",\",\"),\"\\\",\"\"),\",\",\",\"),\"+\",\"\"),\"&\",\"\"),\"*\",\"\"),\"\")","v":""},{"$f":"IF(RELEVE_COTES!D142<>\"\",SUBSTITUTE(SUBSTITUTE(SUBSTITUTE(SUBSTITUTE(SUBSTITUTE(SUBSTITUTE(SUBSTITUTE(SUBSTITUTE(RELEVE_COTES!D142,\" \",\"\"),\"-\",\"\"),\".\",\",\"),\"\\\",\"\"),\",\",\",\"),\"+\",\"\"),\"&\",\"\"),\"*\",\"\"),\"\")","v":""},{"$f":"IF(RELEVE_COTES!E142<>\"\",SUBSTITUTE(SUBSTITUTE(SUBSTITUTE(SUBSTITUTE(SUBSTITUTE(SUBSTITUTE(SUBSTITUTE(SUBSTITUTE(RELEVE_COTES!E142,\" \",\"\"),\"-\",\"\"),\".\",\",\"),\"\\\",\"\"),\",\",\",\"),\"+\",\"\"),\"&\",\"\"),\"*\",\"\"),\"\")","v":""},{"$f":"IF(RELEVE_COTES!F142<>\"\",SUBSTITUTE(SUBSTITUTE(SUBSTITUTE(SUBSTITUTE(SUBSTITUTE(SUBSTITUTE(SUBSTITUTE(SUBSTITUTE(RELEVE_COTES!F142,\" \",\"\"),\"-\",\"\"),\".\",\",\"),\"\\\",\"\"),\",\",\",\"),\"+\",\"\"),\"&\",\"\"),\"*\",\"\"),\"\")","v":""},{"$f":"IF(RELEVE_COTES!G142<>\"\",SUBSTITUTE(SUBSTITUTE(SUBSTITUTE(SUBSTITUTE(SUBSTITUTE(SUBSTITUTE(SUBSTITUTE(SUBSTITUTE(RELEVE_COTES!G142,\" \",\"\"),\"-\",\"\"),\".\",\",\"),\"\\\",\"\"),\",\",\",\"),\"+\",\"\"),\"&\",\"\"),\"*\",\"\"),\"\")","v":""},{"$f":"IF($D94=\"GP\",IF(RELEVE_COTES!$I142=\"\",0,IF(RELEVE_COTES!$I142=\"\",\"\",RELEVE_COTES!$I142)),IF(RELEVE_COTES!$H142=\"\",0,IF(RELEVE_COTES!$H142=\"\",\"\",RELEVE_COTES!$H142)))","v":0},{"$f":"IF($D94=\"GP\",IF(RELEVE_COTES!$H142=\"\",0,IF(RELEVE_COTES!$H142=\"\",\"\",RELEVE_COTES!$H142)),IF(RELEVE_COTES!$I142=\"\",0,IF(RELEVE_COTES!$I142=\"\",\"\",RELEVE_COTES!$I142)))","v":0},{"$f":"IF(RELEVE_COTES!$J142=\"\",0,IF(RELEVE_COTES!$J142=\"\",\"\",RELEVE_COTES!$J142))","v":0},{"$f":"VLOOKUP(RELEVE_COTES!$K142,TabExistantRef1[],2,FALSE)","v":{"$error":"#N/A"}},{"$f":"IF($Y$1=\"BOIS\",RELEVE_COTES!$O142,0)","v":{"$error":"#N/A"}},{"$f":"IF($Y$1=\"BOIS\",RELEVE_COTES!$P142,0)","v":{"$error":"#N/A"}},{"$f":"IF($Y$1=\"BOIS\",RELEVE_COTES!$Q142,0)","v":{"$error":"#N/A"}},{"$error":"#N/A"},{"$f":"IF($Y$1=\"BANCHE\",RELEVE_COTES!$L142,0)","v":{"$error":"#N/A"}},{"$error":"#N/A"},{"$error":"#N/A"},{"$f":"IF($Y$1<>\"BANCHE\",RELEVE_COTES!$L142,0)","v":{"$error":"#N/A"}},{"$f":"IF(AND($Y$1<>\"BANCHE\",RELEVE_COTES!$M142<>\"\"),RELEVE_COTES!$M142,20)","v":{"$error":"#N/A"}},{"$f":"IF($Y$1<>\"BANCHE\",IF(RELEVE_COTES!$N142<>\"\",RELEVE_COTES!$N142,10),0)","v":{"$error":"#N/A"}},{"$f":"IF(RELEVE_COTES!$I$20=\"Huisserie Banchée\",\"Banche\",IF(RELEVE_COTES!$I$20=\"Huisserie Bois\",\"Bois\",IF(RELEVE_COTES!$I$20=\"Bâti Scellé\",\"Bâti Métal.\")))","v":false},{"$f":"RELEVE_COTES!$C$11","v":0},{"$f":"RELEVE_COTES!$K$12","v":0},{"$f":"VLOOKUP(AA94,TabSeuilRef[],2,FALSE)","v":{"$error":"#N/A"}},{"$f":"\"Paumelles \"&RELEVE_COTES!$E$15","v":"Paumelles "},{"$f":"IF(RELEVE_COTES!$K$16<>\"Déporté\",RELEVE_COTES!$K$16,RELEVE_COTES!$K$16&\" / \"&VLOOKUP(RELEVE_COTES!$L$16,TabOptUsSerr[],2,FALSE))","v":"SANS"},{"$f":"RELEVE_COTES!$K$11","v":0},{"$f":"VLOOKUP(RELEVE_COTES!$G$12,TabNuancierVTL[],2,FALSE)&\"/\"&VLOOKUP(RELEVE_COTES!$G$13,TabNuancierVTL[],2,FALSE)","v":{"$error":"#N/A"}},{"$f":"IF(RELEVE_COTES!$E$14=\"Pr.Peint\",\"PP\",VLOOKUP(RELEVE_COTES!$G$14,TabNuancHM[],2,FALSE))","v":"PP"},{"$error":"#N/A"},{"$f":"IF(RELEVE_COTES!$C$11 =\"R32S-R02\",\"OUI\",\"NON\")","v":"NON"},"NON","",{"$f":"IF(AI94=\"OUI\",RELEVE_COTES!$N$16,\"\")","v":""},null,{"$f":"RELEVE_COTES!$E$12&\"/\"&RELEVE_COTES!$E$13","v":" SANS/ SANS"},{"$f":"IF(RELEVE_COTES!$K$15<>\"SANS\",RELEVE_COTES!$L$15&\" \"&RELEVE_COTES!$K$15,\"\")&IF(RELEVE_COTES!$N$15<>\"SANS\",\" / PMR: \"&RELEVE_COTES!$O$15&\" \"&RELEVE_COTES!$N$15,\"\")","v":""},{"$f":"IF(RELEVE_COTES!$K$14 <> \"SANS\",RELEVE_COTES!$O$14&\" \"&RELEVE_COTES!$K$14,\"\")","v":"U+F "},{"$f":"IF(RELEVE_COTES!$K$13 <> \"SANS\",RELEVE_COTES!$O$13&\" \"&RELEVE_COTES!$K$13,\"SANS\")","v":"U+F "},{"$f":"VLOOKUP(RELEVE_COTES!$O$11,TabOptUsSerr[],2,FALSE)","v":"Usinage, fourniture et pose"},{"$f":"INDEX(TabFinition[FINITION],MATCH(VLOOKUP(RELEVE_COTES!$G$12,TabNuancierVTL[],3,FALSE)&VLOOKUP(RELEVE_COTES!$G$13,TabNuancierVTL[],3,FALSE),TabFinition[TYPE EXT]&TabFinition[TYPE INT],0))","v":{"$error":"#N/A"}},"INT",{"$f":"RELEVE_COTES!$E$16","v":"platines + vérins"},"NON",{"$f":"IF(RELEVE_COTES!$I$20 = \"Huisserie Bois\",RELEVE_COTES!$R142,IF(RELEVE_COTES!$I$20 = \"Huisserie Banchée\",RELEVE_COTES!$M142,IF(RELEVE_COTES!$I$20 = \"Bâti Scellé\",RELEVE_COTES!$O142,\"\")))","v":""}]
[{"$error":"#VALUE!"},{"$error":"#VALUE!"},{"$f":"IF(RELEVE_COTES!$A143<>\"\",SUBSTITUTE(SUBSTITUTE(SUBSTITUTE(SUBSTITUTE(SUBSTITUTE(SUBSTITUTE(SUBSTITUTE(SUBSTITUTE(RELEVE_COTES!$A143,\" \",\"\"),\"-\",\"/\"),\".\",\"/\"),\"\\\",\"/\"),\",\",\"/\"),\"+\",\"_\"),\"&\",\"_\"),\"*\",\"/\"),\"\")","v":""},{"$f":"RELEVE_COTES!$B143","v":0},1,{"$f":"IF(RELEVE_COTES!C143<>\"\",SUBSTITUTE(SUBSTITUTE(SUBSTITUTE(SUBSTITUTE(SUBSTITUTE(SUBSTITUTE(SUBSTITUTE(SUBSTITUTE(RELEVE_COTES!C143,\" \",\"\"),\"-\",\"\"),\".\",\",\"),\"\\\",\"\"),\",\",\",\"),\"+\",\"\"),\"&\",\"\"),\"*\",\"\"),\"\")","v":""},{"$f":"IF(RELEVE_COTES!D143<>\"\",SUBSTITUTE(SUBSTITUTE(SUBSTITUTE(SUBSTITUTE(SUBSTITUTE(SUBSTITUTE(SUBSTITUTE(SUBSTITUTE(RELEVE_COTES!D143,\" \",\"\"),\"-\",\"\"),\".\",\",\"),\"\\\",\"\"),\",\",\",\"),\"+\",\"\"),\"&\",\"\"),\"*\",\"\"),\"\")","v":""},{"$f":"IF(RELEVE_COTES!E143<>\"\",SUBSTITUTE(SUBSTITUTE(SUBSTITUTE(SUBSTITUTE(SUBSTITUTE(SUBSTITUTE(SUBSTITUTE(SUBSTITUTE(RELEVE_COTES!E143,\" \",\"\"),\"-\",\"\"),\".\",\",\"),\"\\\",\"\"),\",\",\",\"),\"+\",\"\"),\"&\",\"\"),\"*\",\"\"),\"\")","v":""},{"$f":"IF(RELEVE_COTES!F143<>\"\",SUBSTITUTE(SUBSTITUTE(SUBSTITUTE(SUBSTITUTE(SUBSTITUTE(SUBSTITUTE(SUBSTITUTE(SUBSTITUTE(RELEVE_COTES!F143,\" \",\"\"),\"-\",\"\"),\".\",\",\"),\"\\\",\"\"),\",\",\",\"),\"+\",\"\"),\"&\",\"\"),\"*\",\"\"),\"\")","v":""},{"$f":"IF(RELEVE_COTES!G143<>\"\",SUBSTITUTE(SUBSTITUTE(SUBSTITUTE(SUBSTITUTE(SUBSTITUTE(SUBSTITUTE(SUBSTITUTE(SUBSTITUTE(RELEVE_COTES!G143,\" \",\"\"),\"-\",\"\"),\".\",\",\"),\"\\\",\"\"),\",\",\",\"),\"+\",\"\"),\"&\",\"\"),\"*\",\"\"),\"\")","v":""},{"$f":"IF($D95=\"GP\",IF(RELEVE_COTES!$I143=\"\",0,IF(RELEVE_COTES!$I143=\"\",\"\",RELEVE_COTES!$I143)),IF(RELEVE_COTES!$H143=\"\",0,IF(RELEVE_COTES!$H143=\"\",\"\",RELEVE_COTES!$H143)))","v":0},{"$f":"IF($D95=\"GP\",IF(RELEVE_COTES!$H143=\"\",0,IF(RELEVE_COTES!$H143=\"\",\"\",RELEVE_COTES!$H143)),IF(RELEVE_COTES!$I143=\"\",0,IF(RELEVE_COTES!$I143=\"\",\"\",RELEVE_COTES!$I143)))","v":0},{"$f":"IF(RELEVE_COTES!$J143=\"\",0,IF(RELEVE_COTES!$J143=\"\",\"\",RELEVE_COTES!$J143))","v":0},{"$f":"VLOOKUP(RELEVE_COTES!$K143,TabExistantRef1[],2,FALSE)","v":{"$error":"#N/A"}},{"$f":"IF($Y$1=\"BOIS\",RELEVE_COTES!$O143,0)","v":{"$error":"#N/A"}},{"$f":"IF($Y$1=\"BOIS\",RELEVE_COTES!$P143,0)","v":{"$error":"#N/A"}},{"$f":"IF($Y$1=\"BOIS\",RELEVE_COTES!$Q143,0)","v":{"$error":"#N/A"}},{"$error":"#N/A"},{"$f":"IF($Y$1=\"BANCHE\",RELEVE_COTES!$L143,0)","v":{"$error":"#N/A"}},{"$error":"#N/A"},{"$error":"#N/A"},{"$f":"IF($Y$1<>\"BANCHE\",RELEVE_COTES!$L143,0)","v":{"$error":"#N/A"}},{"$f":"IF(AND($Y$1<>\"BANCHE\",RELEVE_COTES!$M143<>\"\"),RELEVE_COTES!$M143,20)","v":{"$error":"#N/A"}},{"$f":"IF($Y$1<>\"BANCHE\",IF(RELEVE_COTES!$N143<>\"\",RELEVE_COTES!$N143,10),0)","v":{"$error":"#N/A"}},{"$f":"IF(RELEVE_COTES!$I$20=\"Huisserie Banchée\",\"Banche\",IF(RELEVE_COTES!$I$20=\"Huisserie Bois\",\"Bois\",IF(RELEVE_COTES!$I$20=\"Bâti Scellé\",\"Bâti Métal.\")))","v":false},{"$f":"RELEVE_COTES!$C$11","v":0},{"$f":"RELEVE_COTES!$K$12","v":0},{"$f":"VLOOKUP(AA95,TabSeuilRef[],2,FALSE)","v":{"$error":"#N/A"}},{"$f":"\"Paumelles \"&RELEVE_COTES!$E$15","v":"Paumelles "},{"$f":"IF(RELEVE_COTES!$K$16<>\"Déporté\",RELEVE_COTES!$K$16,RELEVE_COTES!$K$16&\" / \"&VLOOKUP(RELEVE_COTES!$L$16,TabOptUsSerr[],2,FALSE))","v":"SANS"},{"$f":"RELEVE_COTES!$K$11","v":0},{"$f":"VLOOKUP(RELEVE_COTES!$G$12,TabNuancierVTL[],2,FALSE)&\"/\"&VLOOKUP(RELEVE_COTES!$G$13,TabNuancierVTL[],2,FALSE)","v":{"$error":"#N/A"}},{"$f":"IF(RELEVE_COTES!$E$14=\"Pr.Peint\",\"PP\",VLOOKUP(RELEVE_COTES!$G$14,TabNuancHM[],2,FALSE))","v":"PP"},{"$error":"#N/A"},{"$f":"IF(RELEVE_COTES!$C$11 =\"R32S-R02\",\"OUI\",\"NON\")","v":"NON"},"NON","",{"$f":"IF(AI95=\"OUI\",RELEVE_COTES!$N$16,\"\")","v":""},null,{"$f":"RELEVE_COTES!$E$12&\"/\"&RELEVE_COTES!$E$13","v":" SANS/ SANS"},{"$f":"IF(RELEVE_COTES!$K$15<>\"SANS\",RELEVE_COTES!$L$15&\" \"&RELEVE_COTES!$K$15,\"\")&IF(RELEVE_COTES!$N$15<>\"SANS\",\" / PMR: \"&RELEVE_COTES!$O$15&\" \"&RELEVE_COTES!$N$15,\"\")","v":""},{"$f":"IF(RELEVE_COTES!$K$14 <> \"SANS\",RELEVE_COTES!$O$14&\" \"&RELEVE_COTES!$K$14,\"\")","v":"U+F "},{"$f":"IF(RELEVE_COTES!$K$13 <> \"SANS\",RELEVE_COTES!$O$13&\" \"&RELEVE_COTES!$K$13,\"SANS\")","v":"U+F "},{"$f":"VLOOKUP(RELEVE_COTES!$O$11,TabOptUsSerr[],2,FALSE)","v":"Usinage, fourniture et pose"},{"$f":"INDEX(TabFinition[FINITION],MATCH(VLOOKUP(RELEVE_COTES!$G$12,TabNuancierVTL[],3,FALSE)&VLOOKUP(RELEVE_COTES!$G$13,TabNuancierVTL[],3,FALSE),TabFinition[TYPE EXT]&TabFinition[TYPE INT],0))","v":{"$error":"#N/A"}},"INT",{"$f":"RELEVE_COTES!$E$16","v":"platines + vérins"},"NON",{"$f":"IF(RELEVE_COTES!$I$20 = \"Huisserie Bois\",RELEVE_COTES!$R143,IF(RELEVE_COTES!$I$20 = \"Huisserie Banchée\",RELEVE_COTES!$M143,IF(RELEVE_COTES!$I$20 = \"Bâti Scellé\",RELEVE_COTES!$O143,\"\")))","v":""}]
[{"$error":"#VALUE!"},{"$error":"#VALUE!"},{"$f":"IF(RELEVE_COTES!$A144<>\"\",SUBSTITUTE(SUBSTITUTE(SUBSTITUTE(SUBSTITUTE(SUBSTITUTE(SUBSTITUTE(SUBSTITUTE(SUBSTITUTE(RELEVE_COTES!$A144,\" \",\"\"),\"-\",\"/\"),\".\",\"/\"),\"\\\",\"/\"),\",\",\"/\"),\"+\",\"_\"),\"&\",\"_\"),\"*\",\"/\"),\"\")","v":""},{"$f":"RELEVE_COTES!$B144","v":0},1,{"$f":"IF(RELEVE_COTES!C144<>\"\",SUBSTITUTE(SUBSTITUTE(SUBSTITUTE(SUBSTITUTE(SUBSTITUTE(SUBSTITUTE(SUBSTITUTE(SUBSTITUTE(RELEVE_COTES!C144,\" \",\"\"),\"-\",\"\"),\".\",\",\"),\"\\\",\"\"),\",\",\",\"),\"+\",\"\"),\"&\",\"\"),\"*\",\"\"),\"\")","v":""},{"$f":"IF(RELEVE_COTES!D144<>\"\",SUBSTITUTE(SUBSTITUTE(SUBSTITUTE(SUBSTITUTE(SUBSTITUTE(SUBSTITUTE(SUBSTITUTE(SUBSTITUTE(RELEVE_COTES!D144,\" \",\"\"),\"-\",\"\"),\".\",\",\"),\"\\\",\"\"),\",\",\",\"),\"+\",\"\"),\"&\",\"\"),\"*\",\"\"),\"\")","v":""},{"$f":"IF(RELEVE_COTES!E144<>\"\",SUBSTITUTE(SUBSTITUTE(SUBSTITUTE(SUBSTITUTE(SUBSTITUTE(SUBSTITUTE(SUBSTITUTE(SUBSTITUTE(RELEVE_COTES!E144,\" \",\"\"),\"-\",\"\"),\".\",\",\"),\"\\\",\"\"),\",\",\",\"),\"+\",\"\"),\"&\",\"\"),\"*\",\"\"),\"\")","v":""},{"$f":"IF(RELEVE_COTES!F144<>\"\",SUBSTITUTE(SUBSTITUTE(SUBSTITUTE(SUBSTITUTE(SUBSTITUTE(SUBSTITUTE(SUBSTITUTE(SUBSTITUTE(RELEVE_COTES!F144,\" \",\"\"),\"-\",\"\"),\".\",\",\"),\"\\\",\"\"),\",\",\",\"),\"+\",\"\"),\"&\",\"\"),\"*\",\"\"),\"\")","v":""},{"$f":"IF(RELEVE_COTES!G144<>\"\",SUBSTITUTE(SUBSTITUTE(SUBSTITUTE(SUBSTITUTE(SUBSTITUTE(SUBSTITUTE(SUBSTITUTE(SUBSTITUTE(RELEVE_COTES!G144,\" \",\"\"),\"-\",\"\"),\".\",\",\"),\"\\\",\"\"),\",\",\",\"),\"+\",\"\"),\"&\",\"\"),\"*\",\"\"),\"\")","v":""},{"$f":"IF($D96=\"GP\",IF(RELEVE_COTES!$I144=\"\",0,IF(RELEVE_COTES!$I144=\"\",\"\",RELEVE_COTES!$I144)),IF(RELEVE_COTES!$H144=\"\",0,IF(RELEVE_COTES!$H144=\"\",\"\",RELEVE_COTES!$H144)))","v":0},{"$f":"IF($D96=\"GP\",IF(RELEVE_COTES!$H144=\"\",0,IF(RELEVE_COTES!$H144=\"\",\"\",RELEVE_COTES!$H144)),IF(RELEVE_COTES!$I144=\"\",0,IF(RELEVE_COTES!$I144=\"\",\"\",RELEVE_COTES!$I144)))","v":0},{"$f":"IF(RELEVE_COTES!$J144=\"\",0,IF(RELEVE_COTES!$J144=\"\",\"\",RELEVE_COTES!$J144))","v":0},{"$f":"VLOOKUP(RELEVE_COTES!$K144,TabExistantRef1[],2,FALSE)","v":{"$error":"#N/A"}},{"$f":"IF($Y$1=\"BOIS\",RELEVE_COTES!$O144,0)","v":{"$error":"#N/A"}},{"$f":"IF($Y$1=\"BOIS\",RELEVE_COTES!$P144,0)","v":{"$error":"#N/A"}},{"$f":"IF($Y$1=\"BOIS\",RELEVE_COTES!$Q144,0)","v":{"$error":"#N/A"}},{"$error":"#N/A"},{"$f":"IF($Y$1=\"BANCHE\",RELEVE_COTES!$L144,0)","v":{"$error":"#N/A"}},{"$error":"#N/A"},{"$error":"#N/A"},{"$f":"IF($Y$1<>\"BANCHE\",RELEVE_COTES!$L144,0)","v":{"$error":"#N/A"}},{"$f":"IF(AND($Y$1<>\"BANCHE\",RELEVE_COTES!$M144<>\"\"),RELEVE_COTES!$M144,20)","v":{"$error":"#N/A"}},{"$f":"IF($Y$1<>\"BANCHE\",IF(RELEVE_COTES!$N144<>\"\",RELEVE_COTES!$N144,10),0)","v":{"$error":"#N/A"}},{"$f":"IF(RELEVE_COTES!$I$20=\"Huisserie Banchée\",\"Banche\",IF(RELEVE_COTES!$I$20=\"Huisserie Bois\",\"Bois\",IF(RELEVE_COTES!$I$20=\"Bâti Scellé\",\"Bâti Métal.\")))","v":false},{"$f":"RELEVE_COTES!$C$11","v":0},{"$f":"RELEVE_COTES!$K$12","v":0},{"$f":"VLOOKUP(AA96,TabSeuilRef[],2,FALSE)","v":{"$error":"#N/A"}},{"$f":"\"Paumelles \"&RELEVE_COTES!$E$15","v":"Paumelles "},{"$f":"IF(RELEVE_COTES!$K$16<>\"Déporté\",RELEVE_COTES!$K$16,RELEVE_COTES!$K$16&\" / \"&VLOOKUP(RELEVE_COTES!$L$16,TabOptUsSerr[],2,FALSE))","v":"SANS"},{"$f":"RELEVE_COTES!$K$11","v":0},{"$f":"VLOOKUP(RELEVE_COTES!$G$12,TabNuancierVTL[],2,FALSE)&\"/\"&VLOOKUP(RELEVE_COTES!$G$13,TabNuancierVTL[],2,FALSE)","v":{"$error":"#N/A"}},{"$f":"IF(RELEVE_COTES!$E$14=\"Pr.Peint\",\"PP\",VLOOKUP(RELEVE_COTES!$G$14,TabNuancHM[],2,FALSE))","v":"PP"},{"$error":"#N/A"},{"$f":"IF(RELEVE_COTES!$C$11 =\"R32S-R02\",\"OUI\",\"NON\")","v":"NON"},"NON","",{"$f":"IF(AI96=\"OUI\",RELEVE_COTES!$N$16,\"\")","v":""},null,{"$f":"RELEVE_COTES!$E$12&\"/\"&RELEVE_COTES!$E$13","v":" SANS/ SANS"},{"$f":"IF(RELEVE_COTES!$K$15<>\"SANS\",RELEVE_COTES!$L$15&\" \"&RELEVE_COTES!$K$15,\"\")&IF(RELEVE_COTES!$N$15<>\"SANS\",\" / PMR: \"&RELEVE_COTES!$O$15&\" \"&RELEVE_COTES!$N$15,\"\")","v":""},{"$f":"IF(RELEVE_COTES!$K$14 <> \"SANS\",RELEVE_COTES!$O$14&\" \"&RELEVE_COTES!$K$14,\"\")","v":"U+F "},{"$f":"IF(RELEVE_COTES!$K$13 <> \"SANS\",RELEVE_COTES!$O$13&\" \"&RELEVE_COTES!$K$13,\"SANS\")","v":"U+F "},{"$f":"VLOOKUP(RELEVE_COTES!$O$11,TabOptUsSerr[],2,FALSE)","v":"Usinage, fourniture et pose"},{"$f":"INDEX(TabFinition[FINITION],MATCH(VLOOKUP(RELEVE_COTES!$G$12,TabNuancierVTL[],3,FALSE)&VLOOKUP(RELEVE_COTES!$G$13,TabNuancierVTL[],3,FALSE),TabFinition[TYPE EXT]&TabFinition[TYPE INT],0))","v":{"$error":"#N/A"}},"INT",{"$f":"RELEVE_COTES!$E$16","v":"platines + vérins"},"NON",{"$f":"IF(RELEVE_COTES!$I$20 = \"Huisserie Bois\",RELEVE_COTES!$R144,IF(RELEVE_COTES!$I$20 = \"Huisserie Banchée\",RELEVE_COTES!$M144,IF(RELEVE_COTES!$I$20 = \"Bâti Scellé\",RELEVE_COTES!$O144,\"\")))","v":""}]
[{"$error":"#VALUE!"},{"$error":"#VALUE!"},{"$f":"IF(RELEVE_COTES!$A145<>\"\",SUBSTITUTE(SUBSTITUTE(SUBSTITUTE(SUBSTITUTE(SUBSTITUTE(SUBSTITUTE(SUBSTITUTE(SUBSTITUTE(RELEVE_COTES!$A145,\" \",\"\"),\"-\",\"/\"),\".\",\"/\"),\"\\\",\"/\"),\",\",\"/\"),\"+\",\"_\"),\"&\",\"_\"),\"*\",\"/\"),\"\")","v":""},{"$f":"RELEVE_COTES!$B145","v":0},1,{"$f":"IF(RELEVE_COTES!C145<>\"\",SUBSTITUTE(SUBSTITUTE(SUBSTITUTE(SUBSTITUTE(SUBSTITUTE(SUBSTITUTE(SUBSTITUTE(SUBSTITUTE(RELEVE_COTES!C145,\" \",\"\"),\"-\",\"\"),\".\",\",\"),\"\\\",\"\"),\",\",\",\"),\"+\",\"\"),\"&\",\"\"),\"*\",\"\"),\"\")","v":""},{"$f":"IF(RELEVE_COTES!D145<>\"\",SUBSTITUTE(SUBSTITUTE(SUBSTITUTE(SUBSTITUTE(SUBSTITUTE(SUBSTITUTE(SUBSTITUTE(SUBSTITUTE(RELEVE_COTES!D145,\" \",\"\"),\"-\",\"\"),\".\",\",\"),\"\\\",\"\"),\",\",\",\"),\"+\",\"\"),\"&\",\"\"),\"*\",\"\"),\"\")","v":""},{"$f":"IF(RELEVE_COTES!E145<>\"\",SUBSTITUTE(SUBSTITUTE(SUBSTITUTE(SUBSTITUTE(SUBSTITUTE(SUBSTITUTE(SUBSTITUTE(SUBSTITUTE(RELEVE_COTES!E145,\" \",\"\"),\"-\",\"\"),\".\",\",\"),\"\\\",\"\"),\",\",\",\"),\"+\",\"\"),\"&\",\"\"),\"*\",\"\"),\"\")","v":""},{"$f":"IF(RELEVE_COTES!F145<>\"\",SUBSTITUTE(SUBSTITUTE(SUBSTITUTE(SUBSTITUTE(SUBSTITUTE(SUBSTITUTE(SUBSTITUTE(SUBSTITUTE(RELEVE_COTES!F145,\" \",\"\"),\"-\",\"\"),\".\",\",\"),\"\\\",\"\"),\",\",\",\"),\"+\",\"\"),\"&\",\"\"),\"*\",\"\"),\"\")","v":""},{"$f":"IF(RELEVE_COTES!G145<>\"\",SUBSTITUTE(SUBSTITUTE(SUBSTITUTE(SUBSTITUTE(SUBSTITUTE(SUBSTITUTE(SUBSTITUTE(SUBSTITUTE(RELEVE_COTES!G145,\" \",\"\"),\"-\",\"\"),\".\",\",\"),\"\\\",\"\"),\",\",\",\"),\"+\",\"\"),\"&\",\"\"),\"*\",\"\"),\"\")","v":""},{"$f":"IF($D97=\"GP\",IF(RELEVE_COTES!$I145=\"\",0,IF(RELEVE_COTES!$I145=\"\",\"\",RELEVE_COTES!$I145)),IF(RELEVE_COTES!$H145=\"\",0,IF(RELEVE_COTES!$H145=\"\",\"\",RELEVE_COTES!$H145)))","v":0},{"$f":"IF($D97=\"GP\",IF(RELEVE_COTES!$H145=\"\",0,IF(RELEVE_COTES!$H145=\"\",\"\",RELEVE_COTES!$H145)),IF(RELEVE_COTES!$I145=\"\",0,IF(RELEVE_COTES!$I145=\"\",\"\",RELEVE_COTES!$I145)))","v":0},{"$f":"IF(RELEVE_COTES!$J145=\"\",0,IF(RELEVE_COTES!$J145=\"\",\"\",RELEVE_COTES!$J145))","v":0},{"$f":"VLOOKUP(RELEVE_COTES!$K145,TabExistantRef1[],2,FALSE)","v":{"$error":"#N/A"}},{"$f":"IF($Y$1=\"BOIS\",RELEVE_COTES!$O145,0)","v":{"$error":"#N/A"}},{"$f":"IF($Y$1=\"BOIS\",RELEVE_COTES!$P145,0)","v":{"$error":"#N/A"}},{"$f":"IF($Y$1=\"BOIS\",RELEVE_COTES!$Q145,0)","v":{"$error":"#N/A"}},{"$error":"#N/A"},{"$f":"IF($Y$1=\"BANCHE\",RELEVE_COTES!$L145,0)","v":{"$error":"#N/A"}},{"$error":"#N/A"},{"$error":"#N/A"},{"$f":"IF($Y$1<>\"BANCHE\",RELEVE_COTES!$L145,0)","v":{"$error":"#N/A"}},{"$f":"IF(AND($Y$1<>\"BANCHE\",RELEVE_COTES!$M145<>\"\"),RELEVE_COTES!$M145,20)","v":{"$error":"#N/A"}},{"$f":"IF($Y$1<>\"BANCHE\",IF(RELEVE_COTES!$N145<>\"\",RELEVE_COTES!$N145,10),0)","v":{"$error":"#N/A"}},{"$f":"IF(RELEVE_COTES!$I$20=\"Huisserie Banchée\",\"Banche\",IF(RELEVE_COTES!$I$20=\"Huisserie Bois\",\"Bois\",IF(RELEVE_COTES!$I$20=\"Bâti Scellé\",\"Bâti Métal.\")))","v":false},{"$f":"RELEVE_COTES!$C$11","v":0},{"$f":"RELEVE_COTES!$K$12","v":0},{"$f":"VLOOKUP(AA97,TabSeuilRef[],2,FALSE)","v":{"$error":"#N/A"}},{"$f":"\"Paumelles \"&RELEVE_COTES!$E$15","v":"Paumelles "},{"$f":"IF(RELEVE_COTES!$K$16<>\"Déporté\",RELEVE_COTES!$K$16,RELEVE_COTES!$K$16&\" / \"&VLOOKUP(RELEVE_COTES!$L$16,TabOptUsSerr[],2,FALSE))","v":"SANS"},{"$f":"RELEVE_COTES!$K$11","v":0},{"$f":"VLOOKUP(RELEVE_COTES!$G$12,TabNuancierVTL[],2,FALSE)&\"/\"&VLOOKUP(RELEVE_COTES!$G$13,TabNuancierVTL[],2,FALSE)","v":{"$error":"#N/A"}},{"$f":"IF(RELEVE_COTES!$E$14=\"Pr.Peint\",\"PP\",VLOOKUP(RELEVE_COTES!$G$14,TabNuancHM[],2,FALSE))","v":"PP"},{"$error":"#N/A"},{"$f":"IF(RELEVE_COTES!$C$11 =\"R32S-R02\",\"OUI\",\"NON\")","v":"NON"},"NON","",{"$f":"IF(AI97=\"OUI\",RELEVE_COTES!$N$16,\"\")","v":""},null,{"$f":"RELEVE_COTES!$E$12&\"/\"&RELEVE_COTES!$E$13","v":" SANS/ SANS"},{"$f":"IF(RELEVE_COTES!$K$15<>\"SANS\",RELEVE_COTES!$L$15&\" \"&RELEVE_COTES!$K$15,\"\")&IF(RELEVE_COTES!$N$15<>\"SANS\",\" / PMR: \"&RELEVE_COTES!$O$15&\" \"&RELEVE_COTES!$N$15,\"\")","v":""},{"$f":"IF(RELEVE_COTES!$K$14 <> \"SANS\",RELEVE_COTES!$O$14&\" \"&RELEVE_COTES!$K$14,\"\")","v":"U+F "},{"$f":"IF(RELEVE_COTES!$K$13 <> \"SANS\",RELEVE_COTES!$O$13&\" \"&RELEVE_COTES!$K$13,\"SANS\")","v":"U+F "},{"$f":"VLOOKUP(RELEVE_COTES!$O$11,TabOptUsSerr[],2,FALSE)","v":"Usinage, fourniture et pose"},{"$f":"INDEX(TabFinition[FINITION],MATCH(VLOOKUP(RELEVE_COTES!$G$12,TabNuancierVTL[],3,FALSE)&VLOOKUP(RELEVE_COTES!$G$13,TabNuancierVTL[],3,FALSE),TabFinition[TYPE EXT]&TabFinition[TYPE INT],0))","v":{"$error":"#N/A"}},"INT",{"$f":"RELEVE_COTES!$E$16","v":"platines + vérins"},"NON",{"$f":"IF(RELEVE_COTES!$I$20 = \"Huisserie Bois\",RELEVE_COTES!$R145,IF(RELEVE_COTES!$I$20 = \"Huisserie Banchée\",RELEVE_COTES!$M145,IF(RELEVE_COTES!$I$20 = \"Bâti Scellé\",RELEVE_COTES!$O145,\"\")))","v":""}]
[{"$error":"#VALUE!"},{"$error":"#VALUE!"},{"$f":"IF(RELEVE_COTES!$A146<>\"\",SUBSTITUTE(SUBSTITUTE(SUBSTITUTE(SUBSTITUTE(SUBSTITUTE(SUBSTITUTE(SUBSTITUTE(SUBSTITUTE(RELEVE_COTES!$A146,\" \",\"\"),\"-\",\"/\"),\".\",\"/\"),\"\\\",\"/\"),\",\",\"/\"),\"+\",\"_\"),\"&\",\"_\"),\"*\",\"/\"),\"\")","v":""},{"$f":"RELEVE_COTES!$B146","v":0},1,{"$f":"IF(RELEVE_COTES!C146<>\"\",SUBSTITUTE(SUBSTITUTE(SUBSTITUTE(SUBSTITUTE(SUBSTITUTE(SUBSTITUTE(SUBSTITUTE(SUBSTITUTE(RELEVE_COTES!C146,\" \",\"\"),\"-\",\"\"),\".\",\",\"),\"\\\",\"\"),\",\",\",\"),\"+\",\"\"),\"&\",\"\"),\"*\",\"\"),\"\")","v":""},{"$f":"IF(RELEVE_COTES!D146<>\"\",SUBSTITUTE(SUBSTITUTE(SUBSTITUTE(SUBSTITUTE(SUBSTITUTE(SUBSTITUTE(SUBSTITUTE(SUBSTITUTE(RELEVE_COTES!D146,\" \",\"\"),\"-\",\"\"),\".\",\",\"),\"\\\",\"\"),\",\",\",\"),\"+\",\"\"),\"&\",\"\"),\"*\",\"\"),\"\")","v":""},{"$f":"IF(RELEVE_COTES!E146<>\"\",SUBSTITUTE(SUBSTITUTE(SUBSTITUTE(SUBSTITUTE(SUBSTITUTE(SUBSTITUTE(SUBSTITUTE(SUBSTITUTE(RELEVE_COTES!E146,\" \",\"\"),\"-\",\"\"),\".\",\",\"),\"\\\",\"\"),\",\",\",\"),\"+\",\"\"),\"&\",\"\"),\"*\",\"\"),\"\")","v":""},{"$f":"IF(RELEVE_COTES!F146<>\"\",SUBSTITUTE(SUBSTITUTE(SUBSTITUTE(SUBSTITUTE(SUBSTITUTE(SUBSTITUTE(SUBSTITUTE(SUBSTITUTE(RELEVE_COTES!F146,\" \",\"\"),\"-\",\"\"),\".\",\",\"),\"\\\",\"\"),\",\",\",\"),\"+\",\"\"),\"&\",\"\"),\"*\",\"\"),\"\")","v":""},{"$f":"IF(RELEVE_COTES!G146<>\"\",SUBSTITUTE(SUBSTITUTE(SUBSTITUTE(SUBSTITUTE(SUBSTITUTE(SUBSTITUTE(SUBSTITUTE(SUBSTITUTE(RELEVE_COTES!G146,\" \",\"\"),\"-\",\"\"),\".\",\",\"),\"\\\",\"\"),\",\",\",\"),\"+\",\"\"),\"&\",\"\"),\"*\",\"\"),\"\")","v":""},{"$f":"IF($D98=\"GP\",IF(RELEVE_COTES!$I146=\"\",0,IF(RELEVE_COTES!$I146=\"\",\"\",RELEVE_COTES!$I146)),IF(RELEVE_COTES!$H146=\"\",0,IF(RELEVE_COTES!$H146=\"\",\"\",RELEVE_COTES!$H146)))","v":0},{"$f":"IF($D98=\"GP\",IF(RELEVE_COTES!$H146=\"\",0,IF(RELEVE_COTES!$H146=\"\",\"\",RELEVE_COTES!$H146)),IF(RELEVE_COTES!$I146=\"\",0,IF(RELEVE_COTES!$I146=\"\",\"\",RELEVE_COTES!$I146)))","v":0},{"$f":"IF(RELEVE_COTES!$J146=\"\",0,IF(RELEVE_COTES!$J146=\"\",\"\",RELEVE_COTES!$J146))","v":0},{"$f":"VLOOKUP(RELEVE_COTES!$K146,TabExistantRef1[],2,FALSE)","v":{"$error":"#N/A"}},{"$f":"IF($Y$1=\"BOIS\",RELEVE_COTES!$O146,0)","v":{"$error":"#N/A"}},{"$f":"IF($Y$1=\"BOIS\",RELEVE_COTES!$P146,0)","v":{"$error":"#N/A"}},{"$f":"IF($Y$1=\"BOIS\",RELEVE_COTES!$Q146,0)","v":{"$error":"#N/A"}},{"$error":"#N/A"},{"$f":"IF($Y$1=\"BANCHE\",RELEVE_COTES!$L146,0)","v":{"$error":"#N/A"}},{"$error":"#N/A"},{"$error":"#N/A"},{"$f":"IF($Y$1<>\"BANCHE\",RELEVE_COTES!$L146,0)","v":{"$error":"#N/A"}},{"$f":"IF(AND($Y$1<>\"BANCHE\",RELEVE_COTES!$M146<>\"\"),RELEVE_COTES!$M146,20)","v":{"$error":"#N/A"}},{"$f":"IF($Y$1<>\"BANCHE\",IF(RELEVE_COTES!$N146<>\"\",RELEVE_COTES!$N146,10),0)","v":{"$error":"#N/A"}},{"$f":"IF(RELEVE_COTES!$I$20=\"Huisserie Banchée\",\"Banche\",IF(RELEVE_COTES!$I$20=\"Huisserie Bois\",\"Bois\",IF(RELEVE_COTES!$I$20=\"Bâti Scellé\",\"Bâti Métal.\")))","v":false},{"$f":"RELEVE_COTES!$C$11","v":0},{"$f":"RELEVE_COTES!$K$12","v":0},{"$f":"VLOOKUP(AA98,TabSeuilRef[],2,FALSE)","v":{"$error":"#N/A"}},{"$f":"\"Paumelles \"&RELEVE_COTES!$E$15","v":"Paumelles "},{"$f":"IF(RELEVE_COTES!$K$16<>\"Déporté\",RELEVE_COTES!$K$16,RELEVE_COTES!$K$16&\" / \"&VLOOKUP(RELEVE_COTES!$L$16,TabOptUsSerr[],2,FALSE))","v":"SANS"},{"$f":"RELEVE_COTES!$K$11","v":0},{"$f":"VLOOKUP(RELEVE_COTES!$G$12,TabNuancierVTL[],2,FALSE)&\"/\"&VLOOKUP(RELEVE_COTES!$G$13,TabNuancierVTL[],2,FALSE)","v":{"$error":"#N/A"}},{"$f":"IF(RELEVE_COTES!$E$14=\"Pr.Peint\",\"PP\",VLOOKUP(RELEVE_COTES!$G$14,TabNuancHM[],2,FALSE))","v":"PP"},{"$error":"#N/A"},{"$f":"IF(RELEVE_COTES!$C$11 =\"R32S-R02\",\"OUI\",\"NON\")","v":"NON"},"NON","",{"$f":"IF(AI98=\"OUI\",RELEVE_COTES!$N$16,\"\")","v":""},null,{"$f":"RELEVE_COTES!$E$12&\"/\"&RELEVE_COTES!$E$13","v":" SANS/ SANS"},{"$f":"IF(RELEVE_COTES!$K$15<>\"SANS\",RELEVE_COTES!$L$15&\" \"&RELEVE_COTES!$K$15,\"\")&IF(RELEVE_COTES!$N$15<>\"SANS\",\" / PMR: \"&RELEVE_COTES!$O$15&\" \"&RELEVE_COTES!$N$15,\"\")","v":""},{"$f":"IF(RELEVE_COTES!$K$14 <> \"SANS\",RELEVE_COTES!$O$14&\" \"&RELEVE_COTES!$K$14,\"\")","v":"U+F "},{"$f":"IF(RELEVE_COTES!$K$13 <> \"SANS\",RELEVE_COTES!$O$13&\" \"&RELEVE_COTES!$K$13,\"SANS\")","v":"U+F "},{"$f":"VLOOKUP(RELEVE_COTES!$O$11,TabOptUsSerr[],2,FALSE)","v":"Usinage, fourniture et pose"},{"$f":"INDEX(TabFinition[FINITION],MATCH(VLOOKUP(RELEVE_COTES!$G$12,TabNuancierVTL[],3,FALSE)&VLOOKUP(RELEVE_COTES!$G$13,TabNuancierVTL[],3,FALSE),TabFinition[TYPE EXT]&TabFinition[TYPE INT],0))","v":{"$error":"#N/A"}},"INT",{"$f":"RELEVE_COTES!$E$16","v":"platines + vérins"},"NON",{"$f":"IF(RELEVE_COTES!$I$20 = \"Huisserie Bois\",RELEVE_COTES!$R146,IF(RELEVE_COTES!$I$20 = \"Huisserie Banchée\",RELEVE_COTES!$M146,IF(RELEVE_COTES!$I$20 = \"Bâti Scellé\",RELEVE_COTES!$O146,\"\")))","v":""}]
[{"$error":"#VALUE!"},{"$error":"#VALUE!"},{"$f":"IF(RELEVE_COTES!$A147<>\"\",SUBSTITUTE(SUBSTITUTE(SUBSTITUTE(SUBSTITUTE(SUBSTITUTE(SUBSTITUTE(SUBSTITUTE(SUBSTITUTE(RELEVE_COTES!$A147,\" \",\"\"),\"-\",\"/\"),\".\",\"/\"),\"\\\",\"/\"),\",\",\"/\"),\"+\",\"_\"),\"&\",\"_\"),\"*\",\"/\"),\"\")","v":""},{"$f":"RELEVE_COTES!$B147","v":0},1,{"$f":"IF(RELEVE_COTES!C147<>\"\",SUBSTITUTE(SUBSTITUTE(SUBSTITUTE(SUBSTITUTE(SUBSTITUTE(SUBSTITUTE(SUBSTITUTE(SUBSTITUTE(RELEVE_COTES!C147,\" \",\"\"),\"-\",\"\"),\".\",\",\"),\"\\\",\"\"),\",\",\",\"),\"+\",\"\"),\"&\",\"\"),\"*\",\"\"),\"\")","v":""},{"$f":"IF(RELEVE_COTES!D147<>\"\",SUBSTITUTE(SUBSTITUTE(SUBSTITUTE(SUBSTITUTE(SUBSTITUTE(SUBSTITUTE(SUBSTITUTE(SUBSTITUTE(RELEVE_COTES!D147,\" \",\"\"),\"-\",\"\"),\".\",\",\"),\"\\\",\"\"),\",\",\",\"),\"+\",\"\"),\"&\",\"\"),\"*\",\"\"),\"\")","v":""},{"$f":"IF(RELEVE_COTES!E147<>\"\",SUBSTITUTE(SUBSTITUTE(SUBSTITUTE(SUBSTITUTE(SUBSTITUTE(SUBSTITUTE(SUBSTITUTE(SUBSTITUTE(RELEVE_COTES!E147,\" \",\"\"),\"-\",\"\"),\".\",\",\"),\"\\\",\"\"),\",\",\",\"),\"+\",\"\"),\"&\",\"\"),\"*\",\"\"),\"\")","v":""},{"$f":"IF(RELEVE_COTES!F147<>\"\",SUBSTITUTE(SUBSTITUTE(SUBSTITUTE(SUBSTITUTE(SUBSTITUTE(SUBSTITUTE(SUBSTITUTE(SUBSTITUTE(RELEVE_COTES!F147,\" \",\"\"),\"-\",\"\"),\".\",\",\"),\"\\\",\"\"),\",\",\",\"),\"+\",\"\"),\"&\",\"\"),\"*\",\"\"),\"\")","v":""},{"$f":"IF(RELEVE_COTES!G147<>\"\",SUBSTITUTE(SUBSTITUTE(SUBSTITUTE(SUBSTITUTE(SUBSTITUTE(SUBSTITUTE(SUBSTITUTE(SUBSTITUTE(RELEVE_COTES!G147,\" \",\"\"),\"-\",\"\"),\".\",\",\"),\"\\\",\"\"),\",\",\",\"),\"+\",\"\"),\"&\",\"\"),\"*\",\"\"),\"\")","v":""},{"$f":"IF($D99=\"GP\",IF(RELEVE_COTES!$I147=\"\",0,IF(RELEVE_COTES!$I147=\"\",\"\",RELEVE_COTES!$I147)),IF(RELEVE_COTES!$H147=\"\",0,IF(RELEVE_COTES!$H147=\"\",\"\",RELEVE_COTES!$H147)))","v":0},{"$f":"IF($D99=\"GP\",IF(RELEVE_COTES!$H147=\"\",0,IF(RELEVE_COTES!$H147=\"\",\"\",RELEVE_COTES!$H147)),IF(RELEVE_COTES!$I147=\"\",0,IF(RELEVE_COTES!$I147=\"\",\"\",RELEVE_COTES!$I147)))","v":0},{"$f":"IF(RELEVE_COTES!$J147=\"\",0,IF(RELEVE_COTES!$J147=\"\",\"\",RELEVE_COTES!$J147))","v":0},{"$f":"VLOOKUP(RELEVE_COTES!$K147,TabExistantRef1[],2,FALSE)","v":{"$error":"#N/A"}},{"$f":"IF($Y$1=\"BOIS\",RELEVE_COTES!$O147,0)","v":{"$error":"#N/A"}},{"$f":"IF($Y$1=\"BOIS\",RELEVE_COTES!$P147,0)","v":{"$error":"#N/A"}},{"$f":"IF($Y$1=\"BOIS\",RELEVE_COTES!$Q147,0)","v":{"$error":"#N/A"}},{"$error":"#N/A"},{"$f":"IF($Y$1=\"BANCHE\",RELEVE_COTES!$L147,0)","v":{"$error":"#N/A"}},{"$error":"#N/A"},{"$error":"#N/A"},{"$f":"IF($Y$1<>\"BANCHE\",RELEVE_COTES!$L147,0)","v":{"$error":"#N/A"}},{"$f":"IF(AND($Y$1<>\"BANCHE\",RELEVE_COTES!$M147<>\"\"),RELEVE_COTES!$M147,20)","v":{"$error":"#N/A"}},{"$f":"IF($Y$1<>\"BANCHE\",IF(RELEVE_COTES!$N147<>\"\",RELEVE_COTES!$N147,10),0)","v":{"$error":"#N/A"}},{"$f":"IF(RELEVE_COTES!$I$20=\"Huisserie Banchée\",\"Banche\",IF(RELEVE_COTES!$I$20=\"Huisserie Bois\",\"Bois\",IF(RELEVE_COTES!$I$20=\"Bâti Scellé\",\"Bâti Métal.\")))","v":false},{"$f":"RELEVE_COTES!$C$11","v":0},{"$f":"RELEVE_COTES!$K$12","v":0},{"$f":"VLOOKUP(AA99,TabSeuilRef[],2,FALSE)","v":{"$error":"#N/A"}},{"$f":"\"Paumelles \"&RELEVE_COTES!$E$15","v":"Paumelles "},{"$f":"IF(RELEVE_COTES!$K$16<>\"Déporté\",RELEVE_COTES!$K$16,RELEVE_COTES!$K$16&\" / \"&VLOOKUP(RELEVE_COTES!$L$16,TabOptUsSerr[],2,FALSE))","v":"SANS"},{"$f":"RELEVE_COTES!$K$11","v":0},{"$f":"VLOOKUP(RELEVE_COTES!$G$12,TabNuancierVTL[],2,FALSE)&\"/\"&VLOOKUP(RELEVE_COTES!$G$13,TabNuancierVTL[],2,FALSE)","v":{"$error":"#N/A"}},{"$f":"IF(RELEVE_COTES!$E$14=\"Pr.Peint\",\"PP\",VLOOKUP(RELEVE_COTES!$G$14,TabNuancHM[],2,FALSE))","v":"PP"},{"$error":"#N/A"},{"$f":"IF(RELEVE_COTES!$C$11 =\"R32S-R02\",\"OUI\",\"NON\")","v":"NON"},"NON","",{"$f":"IF(AI99=\"OUI\",RELEVE_COTES!$N$16,\"\")","v":""},null,{"$f":"RELEVE_COTES!$E$12&\"/\"&RELEVE_COTES!$E$13","v":" SANS/ SANS"},{"$f":"IF(RELEVE_COTES!$K$15<>\"SANS\",RELEVE_COTES!$L$15&\" \"&RELEVE_COTES!$K$15,\"\")&IF(RELEVE_COTES!$N$15<>\"SANS\",\" / PMR: \"&RELEVE_COTES!$O$15&\" \"&RELEVE_COTES!$N$15,\"\")","v":""},{"$f":"IF(RELEVE_COTES!$K$14 <> \"SANS\",RELEVE_COTES!$O$14&\" \"&RELEVE_COTES!$K$14,\"\")","v":"U+F "},{"$f":"IF(RELEVE_COTES!$K$13 <> \"SANS\",RELEVE_COTES!$O$13&\" \"&RELEVE_COTES!$K$13,\"SANS\")","v":"U+F "},{"$f":"VLOOKUP(RELEVE_COTES!$O$11,TabOptUsSerr[],2,FALSE)","v":"Usinage, fourniture et pose"},{"$f":"INDEX(TabFinition[FINITION],MATCH(VLOOKUP(RELEVE_COTES!$G$12,TabNuancierVTL[],3,FALSE)&VLOOKUP(RELEVE_COTES!$G$13,TabNuancierVTL[],3,FALSE),TabFinition[TYPE EXT]&TabFinition[TYPE INT],0))","v":{"$error":"#N/A"}},"INT",{"$f":"RELEVE_COTES!$E$16","v":"platines + vérins"},"NON",{"$f":"IF(RELEVE_COTES!$I$20 = \"Huisserie Bois\",RELEVE_COTES!$R147,IF(RELEVE_COTES!$I$20 = \"Huisserie Banchée\",RELEVE_COTES!$M147,IF(RELEVE_COTES!$I$20 = \"Bâti Scellé\",RELEVE_COTES!$O147,\"\")))","v":""}]
[{"$error":"#VALUE!"},{"$error":"#VALUE!"},{"$f":"IF(RELEVE_COTES!$A148<>\"\",SUBSTITUTE(SUBSTITUTE(SUBSTITUTE(SUBSTITUTE(SUBSTITUTE(SUBSTITUTE(SUBSTITUTE(SUBSTITUTE(RELEVE_COTES!$A148,\" \",\"\"),\"-\",\"/\"),\".\",\"/\"),\"\\\",\"/\"),\",\",\"/\"),\"+\",\"_\"),\"&\",\"_\"),\"*\",\"/\"),\"\")","v":""},{"$f":"RELEVE_COTES!$B148","v":0},1,{"$f":"IF(RELEVE_COTES!C148<>\"\",SUBSTITUTE(SUBSTITUTE(SUBSTITUTE(SUBSTITUTE(SUBSTITUTE(SUBSTITUTE(SUBSTITUTE(SUBSTITUTE(RELEVE_COTES!C148,\" \",\"\"),\"-\",\"\"),\".\",\",\"),\"\\\",\"\"),\",\",\",\"),\"+\",\"\"),\"&\",\"\"),\"*\",\"\"),\"\")","v":""},{"$f":"IF(RELEVE_COTES!D148<>\"\",SUBSTITUTE(SUBSTITUTE(SUBSTITUTE(SUBSTITUTE(SUBSTITUTE(SUBSTITUTE(SUBSTITUTE(SUBSTITUTE(RELEVE_COTES!D148,\" \",\"\"),\"-\",\"\"),\".\",\",\"),\"\\\",\"\"),\",\",\",\"),\"+\",\"\"),\"&\",\"\"),\"*\",\"\"),\"\")","v":""},{"$f":"IF(RELEVE_COTES!E148<>\"\",SUBSTITUTE(SUBSTITUTE(SUBSTITUTE(SUBSTITUTE(SUBSTITUTE(SUBSTITUTE(SUBSTITUTE(SUBSTITUTE(RELEVE_COTES!E148,\" \",\"\"),\"-\",\"\"),\".\",\",\"),\"\\\",\"\"),\",\",\",\"),\"+\",\"\"),\"&\",\"\"),\"*\",\"\"),\"\")","v":""},{"$f":"IF(RELEVE_COTES!F148<>\"\",SUBSTITUTE(SUBSTITUTE(SUBSTITUTE(SUBSTITUTE(SUBSTITUTE(SUBSTITUTE(SUBSTITUTE(SUBSTITUTE(RELEVE_COTES!F148,\" \",\"\"),\"-\",\"\"),\".\",\",\"),\"\\\",\"\"),\",\",\",\"),\"+\",\"\"),\"&\",\"\"),\"*\",\"\"),\"\")","v":""},{"$f":"IF(RELEVE_COTES!G148<>\"\",SUBSTITUTE(SUBSTITUTE(SUBSTITUTE(SUBSTITUTE(SUBSTITUTE(SUBSTITUTE(SUBSTITUTE(SUBSTITUTE(RELEVE_COTES!G148,\" \",\"\"),\"-\",\"\"),\".\",\",\"),\"\\\",\"\"),\",\",\",\"),\"+\",\"\"),\"&\",\"\"),\"*\",\"\"),\"\")","v":""},{"$f":"IF($D100=\"GP\",IF(RELEVE_COTES!$I148=\"\",0,IF(RELEVE_COTES!$I148=\"\",\"\",RELEVE_COTES!$I148)),IF(RELEVE_COTES!$H148=\"\",0,IF(RELEVE_COTES!$H148=\"\",\"\",RELEVE_COTES!$H148)))","v":0},{"$f":"IF($D100=\"GP\",IF(RELEVE_COTES!$H148=\"\",0,IF(RELEVE_COTES!$H148=\"\",\"\",RELEVE_COTES!$H148)),IF(RELEVE_COTES!$I148=\"\",0,IF(RELEVE_COTES!$I148=\"\",\"\",RELEVE_COTES!$I148)))","v":0},{"$f":"IF(RELEVE_COTES!$J148=\"\",0,IF(RELEVE_COTES!$J148=\"\",\"\",RELEVE_COTES!$J148))","v":0},{"$f":"VLOOKUP(RELEVE_COTES!$K148,TabExistantRef1[],2,FALSE)","v":{"$error":"#N/A"}},{"$f":"IF($Y$1=\"BOIS\",RELEVE_COTES!$O148,0)","v":{"$error":"#N/A"}},{"$f":"IF($Y$1=\"BOIS\",RELEVE_COTES!$P148,0)","v":{"$error":"#N/A"}},{"$f":"IF($Y$1=\"BOIS\",RELEVE_COTES!$Q148,0)","v":{"$error":"#N/A"}},{"$error":"#N/A"},{"$f":"IF($Y$1=\"BANCHE\",RELEVE_COTES!$L148,0)","v":{"$error":"#N/A"}},{"$error":"#N/A"},{"$error":"#N/A"},{"$f":"IF($Y$1<>\"BANCHE\",RELEVE_COTES!$L148,0)","v":{"$error":"#N/A"}},{"$f":"IF(AND($Y$1<>\"BANCHE\",RELEVE_COTES!$M148<>\"\"),RELEVE_COTES!$M148,20)","v":{"$error":"#N/A"}},{"$f":"IF($Y$1<>\"BANCHE\",IF(RELEVE_COTES!$N148<>\"\",RELEVE_COTES!$N148,10),0)","v":{"$error":"#N/A"}},{"$f":"IF(RELEVE_COTES!$I$20=\"Huisserie Banchée\",\"Banche\",IF(RELEVE_COTES!$I$20=\"Huisserie Bois\",\"Bois\",IF(RELEVE_COTES!$I$20=\"Bâti Scellé\",\"Bâti Métal.\")))","v":false},{"$f":"RELEVE_COTES!$C$11","v":0},{"$f":"RELEVE_COTES!$K$12","v":0},{"$f":"VLOOKUP(AA100,TabSeuilRef[],2,FALSE)","v":{"$error":"#N/A"}},{"$f":"\"Paumelles \"&RELEVE_COTES!$E$15","v":"Paumelles "},{"$f":"IF(RELEVE_COTES!$K$16<>\"Déporté\",RELEVE_COTES!$K$16,RELEVE_COTES!$K$16&\" / \"&VLOOKUP(RELEVE_COTES!$L$16,TabOptUsSerr[],2,FALSE))","v":"SANS"},{"$f":"RELEVE_COTES!$K$11","v":0},{"$f":"VLOOKUP(RELEVE_COTES!$G$12,TabNuancierVTL[],2,FALSE)&\"/\"&VLOOKUP(RELEVE_COTES!$G$13,TabNuancierVTL[],2,FALSE)","v":{"$error":"#N/A"}},{"$f":"IF(RELEVE_COTES!$E$14=\"Pr.Peint\",\"PP\",VLOOKUP(RELEVE_COTES!$G$14,TabNuancHM[],2,FALSE))","v":"PP"},{"$error":"#N/A"},{"$f":"IF(RELEVE_COTES!$C$11 =\"R32S-R02\",\"OUI\",\"NON\")","v":"NON"},"NON","",{"$f":"IF(AI100=\"OUI\",RELEVE_COTES!$N$16,\"\")","v":""},null,{"$f":"RELEVE_COTES!$E$12&\"/\"&RELEVE_COTES!$E$13","v":" SANS/ SANS"},{"$f":"IF(RELEVE_COTES!$K$15<>\"SANS\",RELEVE_COTES!$L$15&\" \"&RELEVE_COTES!$K$15,\"\")&IF(RELEVE_COTES!$N$15<>\"SANS\",\" / PMR: \"&RELEVE_COTES!$O$15&\" \"&RELEVE_COTES!$N$15,\"\")","v":""},{"$f":"IF(RELEVE_COTES!$K$14 <> \"SANS\",RELEVE_COTES!$O$14&\" \"&RELEVE_COTES!$K$14,\"\")","v":"U+F "},{"$f":"IF(RELEVE_COTES!$K$13 <> \"SANS\",RELEVE_COTES!$O$13&\" \"&RELEVE_COTES!$K$13,\"SANS\")","v":"U+F "},{"$f":"VLOOKUP(RELEVE_COTES!$O$11,TabOptUsSerr[],2,FALSE)","v":"Usinage, fourniture et pose"},{"$f":"INDEX(TabFinition[FINITION],MATCH(VLOOKUP(RELEVE_COTES!$G$12,TabNuancierVTL[],3,FALSE)&VLOOKUP(RELEVE_COTES!$G$13,TabNuancierVTL[],3,FALSE),TabFinition[TYPE EXT]&TabFinition[TYPE INT],0))","v":{"$error":"#N/A"}},"INT",{"$f":"RELEVE_COTES!$E$16","v":"platines + vérins"},"NON",{"$f":"IF(RELEVE_COTES!$I$20 = \"Huisserie Bois\",RELEVE_COTES!$R148,IF(RELEVE_COTES!$I$20 = \"Huisserie Banchée\",RELEVE_COTES!$M148,IF(RELEVE_COTES!$I$20 = \"Bâti Scellé\",RELEVE_COTES!$O148,\"\")))","v":""}]
[{"$error":"#VALUE!"},{"$error":"#VALUE!"},{"$f":"IF(RELEVE_COTES!$A149<>\"\",SUBSTITUTE(SUBSTITUTE(SUBSTITUTE(SUBSTITUTE(SUBSTITUTE(SUBSTITUTE(SUBSTITUTE(SUBSTITUTE(RELEVE_COTES!$A149,\" \",\"\"),\"-\",\"/\"),\".\",\"/\"),\"\\\",\"/\"),\",\",\"/\"),\"+\",\"_\"),\"&\",\"_\"),\"*\",\"/\"),\"\")","v":""},{"$f":"RELEVE_COTES!$B149","v":0},1,{"$f":"IF(RELEVE_COTES!C149<>\"\",SUBSTITUTE(SUBSTITUTE(SUBSTITUTE(SUBSTITUTE(SUBSTITUTE(SUBSTITUTE(SUBSTITUTE(SUBSTITUTE(RELEVE_COTES!C149,\" \",\"\"),\"-\",\"\"),\".\",\",\"),\"\\\",\"\"),\",\",\",\"),\"+\",\"\"),\"&\",\"\"),\"*\",\"\"),\"\")","v":""},{"$f":"IF(RELEVE_COTES!D149<>\"\",SUBSTITUTE(SUBSTITUTE(SUBSTITUTE(SUBSTITUTE(SUBSTITUTE(SUBSTITUTE(SUBSTITUTE(SUBSTITUTE(RELEVE_COTES!D149,\" \",\"\"),\"-\",\"\"),\".\",\",\"),\"\\\",\"\"),\",\",\",\"),\"+\",\"\"),\"&\",\"\"),\"*\",\"\"),\"\")","v":""},{"$f":"IF(RELEVE_COTES!E149<>\"\",SUBSTITUTE(SUBSTITUTE(SUBSTITUTE(SUBSTITUTE(SUBSTITUTE(SUBSTITUTE(SUBSTITUTE(SUBSTITUTE(RELEVE_COTES!E149,\" \",\"\"),\"-\",\"\"),\".\",\",\"),\"\\\",\"\"),\",\",\",\"),\"+\",\"\"),\"&\",\"\"),\"*\",\"\"),\"\")","v":""},{"$f":"IF(RELEVE_COTES!F149<>\"\",SUBSTITUTE(SUBSTITUTE(SUBSTITUTE(SUBSTITUTE(SUBSTITUTE(SUBSTITUTE(SUBSTITUTE(SUBSTITUTE(RELEVE_COTES!F149,\" \",\"\"),\"-\",\"\"),\".\",\",\"),\"\\\",\"\"),\",\",\",\"),\"+\",\"\"),\"&\",\"\"),\"*\",\"\"),\"\")","v":""},{"$f":"IF(RELEVE_COTES!G149<>\"\",SUBSTITUTE(SUBSTITUTE(SUBSTITUTE(SUBSTITUTE(SUBSTITUTE(SUBSTITUTE(SUBSTITUTE(SUBSTITUTE(RELEVE_COTES!G149,\" \",\"\"),\"-\",\"\"),\".\",\",\"),\"\\\",\"\"),\",\",\",\"),\"+\",\"\"),\"&\",\"\"),\"*\",\"\"),\"\")","v":""},{"$f":"IF($D101=\"GP\",IF(RELEVE_COTES!$I149=\"\",0,IF(RELEVE_COTES!$I149=\"\",\"\",RELEVE_COTES!$I149)),IF(RELEVE_COTES!$H149=\"\",0,IF(RELEVE_COTES!$H149=\"\",\"\",RELEVE_COTES!$H149)))","v":0},{"$f":"IF($D101=\"GP\",IF(RELEVE_COTES!$H149=\"\",0,IF(RELEVE_COTES!$H149=\"\",\"\",RELEVE_COTES!$H149)),IF(RELEVE_COTES!$I149=\"\",0,IF(RELEVE_COTES!$I149=\"\",\"\",RELEVE_COTES!$I149)))","v":0},{"$f":"IF(RELEVE_COTES!$J149=\"\",0,IF(RELEVE_COTES!$J149=\"\",\"\",RELEVE_COTES!$J149))","v":0},{"$f":"VLOOKUP(RELEVE_COTES!$K149,TabExistantRef1[],2,FALSE)","v":{"$error":"#N/A"}},{"$f":"IF($Y$1=\"BOIS\",RELEVE_COTES!$O149,0)","v":{"$error":"#N/A"}},{"$f":"IF($Y$1=\"BOIS\",RELEVE_COTES!$P149,0)","v":{"$error":"#N/A"}},{"$f":"IF($Y$1=\"BOIS\",RELEVE_COTES!$Q149,0)","v":{"$error":"#N/A"}},{"$error":"#N/A"},{"$f":"IF($Y$1=\"BANCHE\",RELEVE_COTES!$L149,0)","v":{"$error":"#N/A"}},{"$error":"#N/A"},{"$error":"#N/A"},{"$f":"IF($Y$1<>\"BANCHE\",RELEVE_COTES!$L149,0)","v":{"$error":"#N/A"}},{"$f":"IF(AND($Y$1<>\"BANCHE\",RELEVE_COTES!$M149<>\"\"),RELEVE_COTES!$M149,20)","v":{"$error":"#N/A"}},{"$f":"IF($Y$1<>\"BANCHE\",IF(RELEVE_COTES!$N149<>\"\",RELEVE_COTES!$N149,10),0)","v":{"$error":"#N/A"}},{"$f":"IF(RELEVE_COTES!$I$20=\"Huisserie Banchée\",\"Banche\",IF(RELEVE_COTES!$I$20=\"Huisserie Bois\",\"Bois\",IF(RELEVE_COTES!$I$20=\"Bâti Scellé\",\"Bâti Métal.\")))","v":false},{"$f":"RELEVE_COTES!$C$11","v":0},{"$f":"RELEVE_COTES!$K$12","v":0},{"$f":"VLOOKUP(AA101,TabSeuilRef[],2,FALSE)","v":{"$error":"#N/A"}},{"$f":"\"Paumelles \"&RELEVE_COTES!$E$15","v":"Paumelles "},{"$f":"IF(RELEVE_COTES!$K$16<>\"Déporté\",RELEVE_COTES!$K$16,RELEVE_COTES!$K$16&\" / \"&VLOOKUP(RELEVE_COTES!$L$16,TabOptUsSerr[],2,FALSE))","v":"SANS"},{"$f":"RELEVE_COTES!$K$11","v":0},{"$f":"VLOOKUP(RELEVE_COTES!$G$12,TabNuancierVTL[],2,FALSE)&\"/\"&VLOOKUP(RELEVE_COTES!$G$13,TabNuancierVTL[],2,FALSE)","v":{"$error":"#N/A"}},{"$f":"IF(RELEVE_COTES!$E$14=\"Pr.Peint\",\"PP\",VLOOKUP(RELEVE_COTES!$G$14,TabNuancHM[],2,FALSE))","v":"PP"},{"$f":"N101","v":{"$error":"#N/A"}},{"$f":"IF(RELEVE_COTES!$C$11 =\"R32S-R02\",\"OUI\",\"NON\")","v":"NON"},"NON",{"$f":"IF(AI101=\"OUI\",\"SEMI FIXE\",\"\")","v":""},{"$f":"IF(AI101=\"OUI\",RELEVE_COTES!$N$16,\"\")","v":""},null,{"$f":"RELEVE_COTES!$E$12&\"/\"&RELEVE_COTES!$E$13","v":" SANS/ SANS"},{"$f":"IF(RELEVE_COTES!$K$15<>\"SANS\",RELEVE_COTES!$L$15&\" \"&RELEVE_COTES!$K$15,\"\")&IF(RELEVE_COTES!$N$15<>\"SANS\",\" / PMR: \"&RELEVE_COTES!$O$15&\" \"&RELEVE_COTES!$N$15,\"\")","v":""},{"$f":"IF(RELEVE_COTES!$K$14 <> \"SANS\",RELEVE_COTES!$O$14&\" \"&RELEVE_COTES!$K$14,\"\")","v":"U+F "},{"$f":"IF(RELEVE_COTES!$K$13 <> \"SANS\",RELEVE_COTES!$O$13&\" \"&RELEVE_COTES!$K$13,\"SANS\")","v":"U+F "},{"$f":"VLOOKUP(RELEVE_COTES!$O$11,TabOptUsSerr[],2,FALSE)","v":"Usinage, fourniture et pose"},{"$f":"INDEX(TabFinition[FINITION],MATCH(VLOOKUP(RELEVE_COTES!$G$12,TabNuancierVTL[],3,FALSE)&VLOOKUP(RELEVE_COTES!$G$13,TabNuancierVTL[],3,FALSE),TabFinition[TYPE EXT]&TabFinition[TYPE INT],0))","v":{"$error":"#N/A"}},"INT",{"$f":"RELEVE_COTES!$E$16","v":"platines + vérins"},"NON",{"$f":"IF(RELEVE_COTES!$I$20 = \"Huisserie Bois\",RELEVE_COTES!$R149,IF(RELEVE_COTES!$I$20 = \"Huisserie Banchée\",RELEVE_COTES!$M149,IF(RELEVE_COTES!$I$20 = \"Bâti Scellé\",RELEVE_COTES!$O149,\"\")))","v":""}]
[{"$error":"#VALUE!"},{"$error":"#VALUE!"},{"$f":"IF(RELEVE_COTES!$A150<>\"\",SUBSTITUTE(SUBSTITUTE(SUBSTITUTE(SUBSTITUTE(SUBSTITUTE(SUBSTITUTE(SUBSTITUTE(SUBSTITUTE(RELEVE_COTES!$A150,\" \",\"\"),\"-\",\"/\"),\".\",\"/\"),\"\\\",\"/\"),\",\",\"/\"),\"+\",\"_\"),\"&\",\"_\"),\"*\",\"/\"),\"\")","v":""},{"$f":"RELEVE_COTES!$B150","v":0},1,{"$f":"IF(RELEVE_COTES!C150<>\"\",SUBSTITUTE(SUBSTITUTE(SUBSTITUTE(SUBSTITUTE(SUBSTITUTE(SUBSTITUTE(SUBSTITUTE(SUBSTITUTE(RELEVE_COTES!C150,\" \",\"\"),\"-\",\"\"),\".\",\",\"),\"\\\",\"\"),\",\",\",\"),\"+\",\"\"),\"&\",\"\"),\"*\",\"\"),\"\")","v":""},{"$f":"IF(RELEVE_COTES!D150<>\"\",SUBSTITUTE(SUBSTITUTE(SUBSTITUTE(SUBSTITUTE(SUBSTITUTE(SUBSTITUTE(SUBSTITUTE(SUBSTITUTE(RELEVE_COTES!D150,\" \",\"\"),\"-\",\"\"),\".\",\",\"),\"\\\",\"\"),\",\",\",\"),\"+\",\"\"),\"&\",\"\"),\"*\",\"\"),\"\")","v":""},{"$f":"IF(RELEVE_COTES!E150<>\"\",SUBSTITUTE(SUBSTITUTE(SUBSTITUTE(SUBSTITUTE(SUBSTITUTE(SUBSTITUTE(SUBSTITUTE(SUBSTITUTE(RELEVE_COTES!E150,\" \",\"\"),\"-\",\"\"),\".\",\",\"),\"\\\",\"\"),\",\",\",\"),\"+\",\"\"),\"&\",\"\"),\"*\",\"\"),\"\")","v":""},{"$f":"IF(RELEVE_COTES!F150<>\"\",SUBSTITUTE(SUBSTITUTE(SUBSTITUTE(SUBSTITUTE(SUBSTITUTE(SUBSTITUTE(SUBSTITUTE(SUBSTITUTE(RELEVE_COTES!F150,\" \",\"\"),\"-\",\"\"),\".\",\",\"),\"\\\",\"\"),\",\",\",\"),\"+\",\"\"),\"&\",\"\"),\"*\",\"\"),\"\")","v":""},{"$f":"IF(RELEVE_COTES!G150<>\"\",SUBSTITUTE(SUBSTITUTE(SUBSTITUTE(SUBSTITUTE(SUBSTITUTE(SUBSTITUTE(SUBSTITUTE(SUBSTITUTE(RELEVE_COTES!G150,\" \",\"\"),\"-\",\"\"),\".\",\",\"),\"\\\",\"\"),\",\",\",\"),\"+\",\"\"),\"&\",\"\"),\"*\",\"\"),\"\")","v":""},{"$f":"IF($D102=\"GP\",IF(RELEVE_COTES!$I150=\"\",0,IF(RELEVE_COTES!$I150=\"\",\"\",RELEVE_COTES!$I150)),IF(RELEVE_COTES!$H150=\"\",0,IF(RELEVE_COTES!$H150=\"\",\"\",RELEVE_COTES!$H150)))","v":0},{"$f":"IF($D102=\"GP\",IF(RELEVE_COTES!$H150=\"\",0,IF(RELEVE_COTES!$H150=\"\",\"\",RELEVE_COTES!$H150)),IF(RELEVE_COTES!$I150=\"\",0,IF(RELEVE_COTES!$I150=\"\",\"\",RELEVE_COTES!$I150)))","v":0},{"$f":"IF(RELEVE_COTES!$J150=\"\",0,IF(RELEVE_COTES!$J150=\"\",\"\",RELEVE_COTES!$J150))","v":0},{"$f":"VLOOKUP(RELEVE_COTES!$K150,TabExistantRef1[],2,FALSE)","v":{"$error":"#N/A"}},{"$f":"IF($Y$1=\"BOIS\",RELEVE_COTES!$O150,0)","v":{"$error":"#N/A"}},{"$f":"IF($Y$1=\"BOIS\",RELEVE_COTES!$P150,0)","v":{"$error":"#N/A"}},{"$f":"IF($Y$1=\"BOIS\",RELEVE_COTES!$Q150,0)","v":{"$error":"#N/A"}},{"$error":"#N/A"},{"$f":"IF($Y$1=\"BANCHE\",RELEVE_COTES!$L150,0)","v":{"$error":"#N/A"}},{"$error":"#N/A"},{"$error":"#N/A"},{"$f":"IF($Y$1<>\"BANCHE\",RELEVE_COTES!$L150,0)","v":{"$error":"#N/A"}},{"$f":"IF(AND($Y$1<>\"BANCHE\",RELEVE_COTES!$M150<>\"\"),RELEVE_COTES!$M150,20)","v":{"$error":"#N/A"}},{"$f":"IF($Y$1<>\"BANCHE\",IF(RELEVE_COTES!$N150<>\"\",RELEVE_COTES!$N150,10),0)","v":{"$error":"#N/A"}},{"$f":"IF(RELEVE_COTES!$I$20=\"Huisserie Banchée\",\"Banche\",IF(RELEVE_COTES!$I$20=\"Huisserie Bois\",\"Bois\",IF(RELEVE_COTES!$I$20=\"Bâti Scellé\",\"Bâti Métal.\")))","v":false},{"$f":"RELEVE_COTES!$C$11","v":0},{"$f":"RELEVE_COTES!$K$12","v":0},{"$f":"VLOOKUP(AA102,TabSeuilRef[],2,FALSE)","v":{"$error":"#N/A"}},{"$f":"\"Paumelles \"&RELEVE_COTES!$E$15","v":"Paumelles "},{"$f":"IF(RELEVE_COTES!$K$16<>\"Déporté\",RELEVE_COTES!$K$16,RELEVE_COTES!$K$16&\" / \"&VLOOKUP(RELEVE_COTES!$L$16,TabOptUsSerr[],2,FALSE))","v":"SANS"},{"$f":"RELEVE_COTES!$K$11","v":0},{"$f":"VLOOKUP(RELEVE_COTES!$G$12,TabNuancierVTL[],2,FALSE)&\"/\"&VLOOKUP(RELEVE_COTES!$G$13,TabNuancierVTL[],2,FALSE)","v":{"$error":"#N/A"}},{"$f":"IF(RELEVE_COTES!$E$14=\"Pr.Peint\",\"PP\",VLOOKUP(RELEVE_COTES!$G$14,TabNuancHM[],2,FALSE))","v":"PP"},{"$error":"#N/A"},{"$f":"IF(RELEVE_COTES!$C$11 =\"R32S-R02\",\"OUI\",\"NON\")","v":"NON"},"NON","",{"$f":"IF(AI102=\"OUI\",RELEVE_COTES!$N$16,\"\")","v":""},null,{"$f":"RELEVE_COTES!$E$12&\"/\"&RELEVE_COTES!$E$13","v":" SANS/ SANS"},{"$f":"IF(RELEVE_COTES!$K$15<>\"SANS\",RELEVE_COTES!$L$15&\" \"&RELEVE_COTES!$K$15,\"\")&IF(RELEVE_COTES!$N$15<>\"SANS\",\" / PMR: \"&RELEVE_COTES!$O$15&\" \"&RELEVE_COTES!$N$15,\"\")","v":""},{"$f":"IF(RELEVE_COTES!$K$14 <> \"SANS\",RELEVE_COTES!$O$14&\" \"&RELEVE_COTES!$K$14,\"\")","v":"U+F "},{"$f":"IF(RELEVE_COTES!$K$13 <> \"SANS\",RELEVE_COTES!$O$13&\" \"&RELEVE_COTES!$K$13,\"SANS\")","v":"U+F "},{"$f":"VLOOKUP(RELEVE_COTES!$O$11,TabOptUsSerr[],2,FALSE)","v":"Usinage, fourniture et pose"},{"$f":"INDEX(TabFinition[FINITION],MATCH(VLOOKUP(RELEVE_COTES!$G$12,TabNuancierVTL[],3,FALSE)&VLOOKUP(RELEVE_COTES!$G$13,TabNuancierVTL[],3,FALSE),TabFinition[TYPE EXT]&TabFinition[TYPE INT],0))","v":{"$error":"#N/A"}},"INT",{"$f":"RELEVE_COTES!$E$16","v":"platines + vérins"},"NON",{"$f":"IF(RELEVE_COTES!$I$20 = \"Huisserie Bois\",RELEVE_COTES!$R150,IF(RELEVE_COTES!$I$20 = \"Huisserie Banchée\",RELEVE_COTES!$M150,IF(RELEVE_COTES!$I$20 = \"Bâti Scellé\",RELEVE_COTES!$O150,\"\")))","v":""}]
[{"$error":"#VALUE!"},{"$error":"#VALUE!"},{"$f":"IF(RELEVE_COTES!$A151<>\"\",SUBSTITUTE(SUBSTITUTE(SUBSTITUTE(SUBSTITUTE(SUBSTITUTE(SUBSTITUTE(SUBSTITUTE(SUBSTITUTE(RELEVE_COTES!$A151,\" \",\"\"),\"-\",\"/\"),\".\",\"/\"),\"\\\",\"/\"),\",\",\"/\"),\"+\",\"_\"),\"&\",\"_\"),\"*\",\"/\"),\"\")","v":""},{"$f":"RELEVE_COTES!$B151","v":0},1,{"$f":"IF(RELEVE_COTES!C151<>\"\",SUBSTITUTE(SUBSTITUTE(SUBSTITUTE(SUBSTITUTE(SUBSTITUTE(SUBSTITUTE(SUBSTITUTE(SUBSTITUTE(RELEVE_COTES!C151,\" \",\"\"),\"-\",\"\"),\".\",\",\"),\"\\\",\"\"),\",\",\",\"),\"+\",\"\"),\"&\",\"\"),\"*\",\"\"),\"\")","v":""},{"$f":"IF(RELEVE_COTES!D151<>\"\",SUBSTITUTE(SUBSTITUTE(SUBSTITUTE(SUBSTITUTE(SUBSTITUTE(SUBSTITUTE(SUBSTITUTE(SUBSTITUTE(RELEVE_COTES!D151,\" \",\"\"),\"-\",\"\"),\".\",\",\"),\"\\\",\"\"),\",\",\",\"),\"+\",\"\"),\"&\",\"\"),\"*\",\"\"),\"\")","v":""},{"$f":"IF(RELEVE_COTES!E151<>\"\",SUBSTITUTE(SUBSTITUTE(SUBSTITUTE(SUBSTITUTE(SUBSTITUTE(SUBSTITUTE(SUBSTITUTE(SUBSTITUTE(RELEVE_COTES!E151,\" \",\"\"),\"-\",\"\"),\".\",\",\"),\"\\\",\"\"),\",\",\",\"),\"+\",\"\"),\"&\",\"\"),\"*\",\"\"),\"\")","v":""},{"$f":"IF(RELEVE_COTES!F151<>\"\",SUBSTITUTE(SUBSTITUTE(SUBSTITUTE(SUBSTITUTE(SUBSTITUTE(SUBSTITUTE(SUBSTITUTE(SUBSTITUTE(RELEVE_COTES!F151,\" \",\"\"),\"-\",\"\"),\".\",\",\"),\"\\\",\"\"),\",\",\",\"),\"+\",\"\"),\"&\",\"\"),\"*\",\"\"),\"\")","v":""},{"$f":"IF(RELEVE_COTES!G151<>\"\",SUBSTITUTE(SUBSTITUTE(SUBSTITUTE(SUBSTITUTE(SUBSTITUTE(SUBSTITUTE(SUBSTITUTE(SUBSTITUTE(RELEVE_COTES!G151,\" \",\"\"),\"-\",\"\"),\".\",\",\"),\"\\\",\"\"),\",\",\",\"),\"+\",\"\"),\"&\",\"\"),\"*\",\"\"),\"\")","v":""},{"$f":"IF($D103=\"GP\",IF(RELEVE_COTES!$I151=\"\",0,IF(RELEVE_COTES!$I151=\"\",\"\",RELEVE_COTES!$I151)),IF(RELEVE_COTES!$H151=\"\",0,IF(RELEVE_COTES!$H151=\"\",\"\",RELEVE_COTES!$H151)))","v":0},{"$f":"IF($D103=\"GP\",IF(RELEVE_COTES!$H151=\"\",0,IF(RELEVE_COTES!$H151=\"\",\"\",RELEVE_COTES!$H151)),IF(RELEVE_COTES!$I151=\"\",0,IF(RELEVE_COTES!$I151=\"\",\"\",RELEVE_COTES!$I151)))","v":0},{"$f":"IF(RELEVE_COTES!$J151=\"\",0,IF(RELEVE_COTES!$J151=\"\",\"\",RELEVE_COTES!$J151))","v":0},{"$f":"VLOOKUP(RELEVE_COTES!$K151,TabExistantRef1[],2,FALSE)","v":{"$error":"#N/A"}},{"$f":"IF($Y$1=\"BOIS\",RELEVE_COTES!$O151,0)","v":{"$error":"#N/A"}},{"$f":"IF($Y$1=\"BOIS\",RELEVE_COTES!$P151,0)","v":{"$error":"#N/A"}},{"$f":"IF($Y$1=\"BOIS\",RELEVE_COTES!$Q151,0)","v":{"$error":"#N/A"}},{"$error":"#N/A"},{"$f":"IF($Y$1=\"BANCHE\",RELEVE_COTES!$L151,0)","v":{"$error":"#N/A"}},{"$error":"#N/A"},{"$error":"#N/A"},{"$f":"IF($Y$1<>\"BANCHE\",RELEVE_COTES!$L151,0)","v":{"$error":"#N/A"}},{"$f":"IF(AND($Y$1<>\"BANCHE\",RELEVE_COTES!$M151<>\"\"),RELEVE_COTES!$M151,20)","v":{"$error":"#N/A"}},{"$f":"IF($Y$1<>\"BANCHE\",IF(RELEVE_COTES!$N151<>\"\",RELEVE_COTES!$N151,10),0)","v":{"$error":"#N/A"}},{"$f":"IF(RELEVE_COTES!$I$20=\"Huisserie Banchée\",\"Banche\",IF(RELEVE_COTES!$I$20=\"Huisserie Bois\",\"Bois\",IF(RELEVE_COTES!$I$20=\"Bâti Scellé\",\"Bâti Métal.\")))","v":false},{"$f":"RELEVE_COTES!$C$11","v":0},{"$f":"RELEVE_COTES!$K$12","v":0},{"$f":"VLOOKUP(AA103,TabSeuilRef[],2,FALSE)","v":{"$error":"#N/A"}},{"$f":"\"Paumelles \"&RELEVE_COTES!$E$15","v":"Paumelles "},{"$f":"IF(RELEVE_COTES!$K$16<>\"Déporté\",RELEVE_COTES!$K$16,RELEVE_COTES!$K$16&\" / \"&VLOOKUP(RELEVE_COTES!$L$16,TabOptUsSerr[],2,FALSE))","v":"SANS"},{"$f":"RELEVE_COTES!$K$11","v":0},{"$f":"VLOOKUP(RELEVE_COTES!$G$12,TabNuancierVTL[],2,FALSE)&\"/\"&VLOOKUP(RELEVE_COTES!$G$13,TabNuancierVTL[],2,FALSE)","v":{"$error":"#N/A"}},{"$f":"IF(RELEVE_COTES!$E$14=\"Pr.Peint\",\"PP\",VLOOKUP(RELEVE_COTES!$G$14,TabNuancHM[],2,FALSE))","v":"PP"},{"$error":"#N/A"},{"$f":"IF(RELEVE_COTES!$C$11 =\"R32S-R02\",\"OUI\",\"NON\")","v":"NON"},"NON","",{"$f":"IF(AI103=\"OUI\",RELEVE_COTES!$N$16,\"\")","v":""},null,{"$f":"RELEVE_COTES!$E$12&\"/\"&RELEVE_COTES!$E$13","v":" SANS/ SANS"},{"$f":"IF(RELEVE_COTES!$K$15<>\"SANS\",RELEVE_COTES!$L$15&\" \"&RELEVE_COTES!$K$15,\"\")&IF(RELEVE_COTES!$N$15<>\"SANS\",\" / PMR: \"&RELEVE_COTES!$O$15&\" \"&RELEVE_COTES!$N$15,\"\")","v":""},{"$f":"IF(RELEVE_COTES!$K$14 <> \"SANS\",RELEVE_COTES!$O$14&\" \"&RELEVE_COTES!$K$14,\"\")","v":"U+F "},{"$f":"IF(RELEVE_COTES!$K$13 <> \"SANS\",RELEVE_COTES!$O$13&\" \"&RELEVE_COTES!$K$13,\"SANS\")","v":"U+F "},{"$f":"VLOOKUP(RELEVE_COTES!$O$11,TabOptUsSerr[],2,FALSE)","v":"Usinage, fourniture et pose"},{"$f":"INDEX(TabFinition[FINITION],MATCH(VLOOKUP(RELEVE_COTES!$G$12,TabNuancierVTL[],3,FALSE)&VLOOKUP(RELEVE_COTES!$G$13,TabNuancierVTL[],3,FALSE),TabFinition[TYPE EXT]&TabFinition[TYPE INT],0))","v":{"$error":"#N/A"}},"INT",{"$f":"RELEVE_COTES!$E$16","v":"platines + vérins"},"NON",{"$f":"IF(RELEVE_COTES!$I$20 = \"Huisserie Bois\",RELEVE_COTES!$R151,IF(RELEVE_COTES!$I$20 = \"Huisserie Banchée\",RELEVE_COTES!$M151,IF(RELEVE_COTES!$I$20 = \"Bâti Scellé\",RELEVE_COTES!$O151,\"\")))","v":""}]
[{"$error":"#VALUE!"},{"$error":"#VALUE!"},{"$f":"IF(RELEVE_COTES!$A152<>\"\",SUBSTITUTE(SUBSTITUTE(SUBSTITUTE(SUBSTITUTE(SUBSTITUTE(SUBSTITUTE(SUBSTITUTE(SUBSTITUTE(RELEVE_COTES!$A152,\" \",\"\"),\"-\",\"/\"),\".\",\"/\"),\"\\\",\"/\"),\",\",\"/\"),\"+\",\"_\"),\"&\",\"_\"),\"*\",\"/\"),\"\")","v":""},{"$f":"RELEVE_COTES!$B152","v":0},1,{"$f":"IF(RELEVE_COTES!C152<>\"\",SUBSTITUTE(SUBSTITUTE(SUBSTITUTE(SUBSTITUTE(SUBSTITUTE(SUBSTITUTE(SUBSTITUTE(SUBSTITUTE(RELEVE_COTES!C152,\" \",\"\"),\"-\",\"\"),\".\",\",\"),\"\\\",\"\"),\",\",\",\"),\"+\",\"\"),\"&\",\"\"),\"*\",\"\"),\"\")","v":""},{"$f":"IF(RELEVE_COTES!D152<>\"\",SUBSTITUTE(SUBSTITUTE(SUBSTITUTE(SUBSTITUTE(SUBSTITUTE(SUBSTITUTE(SUBSTITUTE(SUBSTITUTE(RELEVE_COTES!D152,\" \",\"\"),\"-\",\"\"),\".\",\",\"),\"\\\",\"\"),\",\",\",\"),\"+\",\"\"),\"&\",\"\"),\"*\",\"\"),\"\")","v":""},{"$f":"IF(RELEVE_COTES!E152<>\"\",SUBSTITUTE(SUBSTITUTE(SUBSTITUTE(SUBSTITUTE(SUBSTITUTE(SUBSTITUTE(SUBSTITUTE(SUBSTITUTE(RELEVE_COTES!E152,\" \",\"\"),\"-\",\"\"),\".\",\",\"),\"\\\",\"\"),\",\",\",\"),\"+\",\"\"),\"&\",\"\"),\"*\",\"\"),\"\")","v":""},{"$f":"IF(RELEVE_COTES!F152<>\"\",SUBSTITUTE(SUBSTITUTE(SUBSTITUTE(SUBSTITUTE(SUBSTITUTE(SUBSTITUTE(SUBSTITUTE(SUBSTITUTE(RELEVE_COTES!F152,\" \",\"\"),\"-\",\"\"),\".\",\",\"),\"\\\",\"\"),\",\",\",\"),\"+\",\"\"),\"&\",\"\"),\"*\",\"\"),\"\")","v":""},{"$f":"IF(RELEVE_COTES!G152<>\"\",SUBSTITUTE(SUBSTITUTE(SUBSTITUTE(SUBSTITUTE(SUBSTITUTE(SUBSTITUTE(SUBSTITUTE(SUBSTITUTE(RELEVE_COTES!G152,\" \",\"\"),\"-\",\"\"),\".\",\",\"),\"\\\",\"\"),\",\",\",\"),\"+\",\"\"),\"&\",\"\"),\"*\",\"\"),\"\")","v":""},{"$f":"IF($D104=\"GP\",IF(RELEVE_COTES!$I152=\"\",0,IF(RELEVE_COTES!$I152=\"\",\"\",RELEVE_COTES!$I152)),IF(RELEVE_COTES!$H152=\"\",0,IF(RELEVE_COTES!$H152=\"\",\"\",RELEVE_COTES!$H152)))","v":0},{"$f":"IF($D104=\"GP\",IF(RELEVE_COTES!$H152=\"\",0,IF(RELEVE_COTES!$H152=\"\",\"\",RELEVE_COTES!$H152)),IF(RELEVE_COTES!$I152=\"\",0,IF(RELEVE_COTES!$I152=\"\",\"\",RELEVE_COTES!$I152)))","v":0},{"$f":"IF(RELEVE_COTES!$J152=\"\",0,IF(RELEVE_COTES!$J152=\"\",\"\",RELEVE_COTES!$J152))","v":0},{"$f":"VLOOKUP(RELEVE_COTES!$K152,TabExistantRef1[],2,FALSE)","v":{"$error":"#N/A"}},{"$f":"IF($Y$1=\"BOIS\",RELEVE_COTES!$O152,0)","v":{"$error":"#N/A"}},{"$f":"IF($Y$1=\"BOIS\",RELEVE_COTES!$P152,0)","v":{"$error":"#N/A"}},{"$f":"IF($Y$1=\"BOIS\",RELEVE_COTES!$Q152,0)","v":{"$error":"#N/A"}},{"$error":"#N/A"},{"$f":"IF($Y$1=\"BANCHE\",RELEVE_COTES!$L152,0)","v":{"$error":"#N/A"}},{"$error":"#N/A"},{"$error":"#N/A"},{"$f":"IF($Y$1<>\"BANCHE\",RELEVE_COTES!$L152,0)","v":{"$error":"#N/A"}},{"$f":"IF(AND($Y$1<>\"BANCHE\",RELEVE_COTES!$M152<>\"\"),RELEVE_COTES!$M152,20)","v":{"$error":"#N/A"}},{"$f":"IF($Y$1<>\"BANCHE\",IF(RELEVE_COTES!$N152<>\"\",RELEVE_COTES!$N152,10),0)","v":{"$error":"#N/A"}},{"$f":"IF(RELEVE_COTES!$I$20=\"Huisserie Banchée\",\"Banche\",IF(RELEVE_COTES!$I$20=\"Huisserie Bois\",\"Bois\",IF(RELEVE_COTES!$I$20=\"Bâti Scellé\",\"Bâti Métal.\")))","v":false},{"$f":"RELEVE_COTES!$C$11","v":0},{"$f":"RELEVE_COTES!$K$12","v":0},{"$f":"VLOOKUP(AA104,TabSeuilRef[],2,FALSE)","v":{"$error":"#N/A"}},{"$f":"\"Paumelles \"&RELEVE_COTES!$E$15","v":"Paumelles "},{"$f":"IF(RELEVE_COTES!$K$16<>\"Déporté\",RELEVE_COTES!$K$16,RELEVE_COTES!$K$16&\" / \"&VLOOKUP(RELEVE_COTES!$L$16,TabOptUsSerr[],2,FALSE))","v":"SANS"},{"$f":"RELEVE_COTES!$K$11","v":0},{"$f":"VLOOKUP(RELEVE_COTES!$G$12,TabNuancierVTL[],2,FALSE)&\"/\"&VLOOKUP(RELEVE_COTES!$G$13,TabNuancierVTL[],2,FALSE)","v":{"$error":"#N/A"}},{"$f":"IF(RELEVE_COTES!$E$14=\"Pr.Peint\",\"PP\",VLOOKUP(RELEVE_COTES!$G$14,TabNuancHM[],2,FALSE))","v":"PP"},{"$error":"#N/A"},{"$f":"IF(RELEVE_COTES!$C$11 =\"R32S-R02\",\"OUI\",\"NON\")","v":"NON"},"NON","",{"$f":"IF(AI104=\"OUI\",RELEVE_COTES!$N$16,\"\")","v":""},null,{"$f":"RELEVE_COTES!$E$12&\"/\"&RELEVE_COTES!$E$13","v":" SANS/ SANS"},{"$f":"IF(RELEVE_COTES!$K$15<>\"SANS\",RELEVE_COTES!$L$15&\" \"&RELEVE_COTES!$K$15,\"\")&IF(RELEVE_COTES!$N$15<>\"SANS\",\" / PMR: \"&RELEVE_COTES!$O$15&\" \"&RELEVE_COTES!$N$15,\"\")","v":""},{"$f":"IF(RELEVE_COTES!$K$14 <> \"SANS\",RELEVE_COTES!$O$14&\" \"&RELEVE_COTES!$K$14,\"\")","v":"U+F "},{"$f":"IF(RELEVE_COTES!$K$13 <> \"SANS\",RELEVE_COTES!$O$13&\" \"&RELEVE_COTES!$K$13,\"SANS\")","v":"U+F "},{"$f":"VLOOKUP(RELEVE_COTES!$O$11,TabOptUsSerr[],2,FALSE)","v":"Usinage, fourniture et pose"},{"$f":"INDEX(TabFinition[FINITION],MATCH(VLOOKUP(RELEVE_COTES!$G$12,TabNuancierVTL[],3,FALSE)&VLOOKUP(RELEVE_COTES!$G$13,TabNuancierVTL[],3,FALSE),TabFinition[TYPE EXT]&TabFinition[TYPE INT],0))","v":{"$error":"#N/A"}},"INT",{"$f":"RELEVE_COTES!$E$16","v":"platines + vérins"},"NON",{"$f":"IF(RELEVE_COTES!$I$20 = \"Huisserie Bois\",RELEVE_COTES!$R152,IF(RELEVE_COTES!$I$20 = \"Huisserie Banchée\",RELEVE_COTES!$M152,IF(RELEVE_COTES!$I$20 = \"Bâti Scellé\",RELEVE_COTES!$O152,\"\")))","v":""}]
[{"$error":"#VALUE!"},{"$error":"#VALUE!"},{"$f":"IF(RELEVE_COTES!$A153<>\"\",SUBSTITUTE(SUBSTITUTE(SUBSTITUTE(SUBSTITUTE(SUBSTITUTE(SUBSTITUTE(SUBSTITUTE(SUBSTITUTE(RELEVE_COTES!$A153,\" \",\"\"),\"-\",\"/\"),\".\",\"/\"),\"\\\",\"/\"),\",\",\"/\"),\"+\",\"_\"),\"&\",\"_\"),\"*\",\"/\"),\"\")","v":""},{"$f":"RELEVE_COTES!$B153","v":0},1,{"$f":"IF(RELEVE_COTES!C153<>\"\",SUBSTITUTE(SUBSTITUTE(SUBSTITUTE(SUBSTITUTE(SUBSTITUTE(SUBSTITUTE(SUBSTITUTE(SUBSTITUTE(RELEVE_COTES!C153,\" \",\"\"),\"-\",\"\"),\".\",\",\"),\"\\\",\"\"),\",\",\",\"),\"+\",\"\"),\"&\",\"\"),\"*\",\"\"),\"\")","v":""},{"$f":"IF(RELEVE_COTES!D153<>\"\",SUBSTITUTE(SUBSTITUTE(SUBSTITUTE(SUBSTITUTE(SUBSTITUTE(SUBSTITUTE(SUBSTITUTE(SUBSTITUTE(RELEVE_COTES!D153,\" \",\"\"),\"-\",\"\"),\".\",\",\"),\"\\\",\"\"),\",\",\",\"),\"+\",\"\"),\"&\",\"\"),\"*\",\"\"),\"\")","v":""},{"$f":"IF(RELEVE_COTES!E153<>\"\",SUBSTITUTE(SUBSTITUTE(SUBSTITUTE(SUBSTITUTE(SUBSTITUTE(SUBSTITUTE(SUBSTITUTE(SUBSTITUTE(RELEVE_COTES!E153,\" \",\"\"),\"-\",\"\"),\".\",\",\"),\"\\\",\"\"),\",\",\",\"),\"+\",\"\"),\"&\",\"\"),\"*\",\"\"),\"\")","v":""},{"$f":"IF(RELEVE_COTES!F153<>\"\",SUBSTITUTE(SUBSTITUTE(SUBSTITUTE(SUBSTITUTE(SUBSTITUTE(SUBSTITUTE(SUBSTITUTE(SUBSTITUTE(RELEVE_COTES!F153,\" \",\"\"),\"-\",\"\"),\".\",\",\"),\"\\\",\"\"),\",\",\",\"),\"+\",\"\"),\"&\",\"\"),\"*\",\"\"),\"\")","v":""},{"$f":"IF(RELEVE_COTES!G153<>\"\",SUBSTITUTE(SUBSTITUTE(SUBSTITUTE(SUBSTITUTE(SUBSTITUTE(SUBSTITUTE(SUBSTITUTE(SUBSTITUTE(RELEVE_COTES!G153,\" \",\"\"),\"-\",\"\"),\".\",\",\"),\"\\\",\"\"),\",\",\",\"),\"+\",\"\"),\"&\",\"\"),\"*\",\"\"),\"\")","v":""},{"$f":"IF($D105=\"GP\",IF(RELEVE_COTES!$I153=\"\",0,IF(RELEVE_COTES!$I153=\"\",\"\",RELEVE_COTES!$I153)),IF(RELEVE_COTES!$H153=\"\",0,IF(RELEVE_COTES!$H153=\"\",\"\",RELEVE_COTES!$H153)))","v":0},{"$f":"IF($D105=\"GP\",IF(RELEVE_COTES!$H153=\"\",0,IF(RELEVE_COTES!$H153=\"\",\"\",RELEVE_COTES!$H153)),IF(RELEVE_COTES!$I153=\"\",0,IF(RELEVE_COTES!$I153=\"\",\"\",RELEVE_COTES!$I153)))","v":0},{"$f":"IF(RELEVE_COTES!$J153=\"\",0,IF(RELEVE_COTES!$J153=\"\",\"\",RELEVE_COTES!$J153))","v":0},{"$f":"VLOOKUP(RELEVE_COTES!$K153,TabExistantRef1[],2,FALSE)","v":{"$error":"#N/A"}},{"$f":"IF($Y$1=\"BOIS\",RELEVE_COTES!$O153,0)","v":{"$error":"#N/A"}},{"$f":"IF($Y$1=\"BOIS\",RELEVE_COTES!$P153,0)","v":{"$error":"#N/A"}},{"$f":"IF($Y$1=\"BOIS\",RELEVE_COTES!$Q153,0)","v":{"$error":"#N/A"}},{"$error":"#N/A"},{"$f":"IF($Y$1=\"BANCHE\",RELEVE_COTES!$L153,0)","v":{"$error":"#N/A"}},{"$error":"#N/A"},{"$error":"#N/A"},{"$f":"IF($Y$1<>\"BANCHE\",RELEVE_COTES!$L153,0)","v":{"$error":"#N/A"}},{"$f":"IF(AND($Y$1<>\"BANCHE\",RELEVE_COTES!$M153<>\"\"),RELEVE_COTES!$M153,20)","v":{"$error":"#N/A"}},{"$f":"IF($Y$1<>\"BANCHE\",IF(RELEVE_COTES!$N153<>\"\",RELEVE_COTES!$N153,10),0)","v":{"$error":"#N/A"}},{"$f":"IF(RELEVE_COTES!$I$20=\"Huisserie Banchée\",\"Banche\",IF(RELEVE_COTES!$I$20=\"Huisserie Bois\",\"Bois\",IF(RELEVE_COTES!$I$20=\"Bâti Scellé\",\"Bâti Métal.\")))","v":false},{"$f":"RELEVE_COTES!$C$11","v":0},{"$f":"RELEVE_COTES!$K$12","v":0},{"$f":"VLOOKUP(AA105,TabSeuilRef[],2,FALSE)","v":{"$error":"#N/A"}},{"$f":"\"Paumelles \"&RELEVE_COTES!$E$15","v":"Paumelles "},{"$f":"IF(RELEVE_COTES!$K$16<>\"Déporté\",RELEVE_COTES!$K$16,RELEVE_COTES!$K$16&\" / \"&VLOOKUP(RELEVE_COTES!$L$16,TabOptUsSerr[],2,FALSE))","v":"SANS"},{"$f":"RELEVE_COTES!$K$11","v":0},{"$f":"VLOOKUP(RELEVE_COTES!$G$12,TabNuancierVTL[],2,FALSE)&\"/\"&VLOOKUP(RELEVE_COTES!$G$13,TabNuancierVTL[],2,FALSE)","v":{"$error":"#N/A"}},{"$f":"IF(RELEVE_COTES!$E$14=\"Pr.Peint\",\"PP\",VLOOKUP(RELEVE_COTES!$G$14,TabNuancHM[],2,FALSE))","v":"PP"},{"$error":"#N/A"},{"$f":"IF(RELEVE_COTES!$C$11 =\"R32S-R02\",\"OUI\",\"NON\")","v":"NON"},"NON","",{"$f":"IF(AI105=\"OUI\",RELEVE_COTES!$N$16,\"\")","v":""},null,{"$f":"RELEVE_COTES!$E$12&\"/\"&RELEVE_COTES!$E$13","v":" SANS/ SANS"},{"$f":"IF(RELEVE_COTES!$K$15<>\"SANS\",RELEVE_COTES!$L$15&\" \"&RELEVE_COTES!$K$15,\"\")&IF(RELEVE_COTES!$N$15<>\"SANS\",\" / PMR: \"&RELEVE_COTES!$O$15&\" \"&RELEVE_COTES!$N$15,\"\")","v":""},{"$f":"IF(RELEVE_COTES!$K$14 <> \"SANS\",RELEVE_COTES!$O$14&\" \"&RELEVE_COTES!$K$14,\"\")","v":"U+F "},{"$f":"IF(RELEVE_COTES!$K$13 <> \"SANS\",RELEVE_COTES!$O$13&\" \"&RELEVE_COTES!$K$13,\"SANS\")","v":"U+F "},{"$f":"VLOOKUP(RELEVE_COTES!$O$11,TabOptUsSerr[],2,FALSE)","v":"Usinage, fourniture et pose"},{"$f":"INDEX(TabFinition[FINITION],MATCH(VLOOKUP(RELEVE_COTES!$G$12,TabNuancierVTL[],3,FALSE)&VLOOKUP(RELEVE_COTES!$G$13,TabNuancierVTL[],3,FALSE),TabFinition[TYPE EXT]&TabFinition[TYPE INT],0))","v":{"$error":"#N/A"}},"INT",{"$f":"RELEVE_COTES!$E$16","v":"platines + vérins"},"NON",{"$f":"IF(RELEVE_COTES!$I$20 = \"Huisserie Bois\",RELEVE_COTES!$R153,IF(RELEVE_COTES!$I$20 = \"Huisserie Banchée\",RELEVE_COTES!$M153,IF(RELEVE_COTES!$I$20 = \"Bâti Scellé\",RELEVE_COTES!$O153,\"\")))","v":""}]
[{"$error":"#VALUE!"},{"$error":"#VALUE!"},{"$f":"IF(RELEVE_COTES!$A154<>\"\",SUBSTITUTE(SUBSTITUTE(SUBSTITUTE(SUBSTITUTE(SUBSTITUTE(SUBSTITUTE(SUBSTITUTE(SUBSTITUTE(RELEVE_COTES!$A154,\" \",\"\"),\"-\",\"/\"),\".\",\"/\"),\"\\\",\"/\"),\",\",\"/\"),\"+\",\"_\"),\"&\",\"_\"),\"*\",\"/\"),\"\")","v":""},{"$f":"RELEVE_COTES!$B154","v":0},1,{"$f":"IF(RELEVE_COTES!C154<>\"\",SUBSTITUTE(SUBSTITUTE(SUBSTITUTE(SUBSTITUTE(SUBSTITUTE(SUBSTITUTE(SUBSTITUTE(SUBSTITUTE(RELEVE_COTES!C154,\" \",\"\"),\"-\",\"\"),\".\",\",\"),\"\\\",\"\"),\",\",\",\"),\"+\",\"\"),\"&\",\"\"),\"*\",\"\"),\"\")","v":""},{"$f":"IF(RELEVE_COTES!D154<>\"\",SUBSTITUTE(SUBSTITUTE(SUBSTITUTE(SUBSTITUTE(SUBSTITUTE(SUBSTITUTE(SUBSTITUTE(SUBSTITUTE(RELEVE_COTES!D154,\" \",\"\"),\"-\",\"\"),\".\",\",\"),\"\\\",\"\"),\",\",\",\"),\"+\",\"\"),\"&\",\"\"),\"*\",\"\"),\"\")","v":""},{"$f":"IF(RELEVE_COTES!E154<>\"\",SUBSTITUTE(SUBSTITUTE(SUBSTITUTE(SUBSTITUTE(SUBSTITUTE(SUBSTITUTE(SUBSTITUTE(SUBSTITUTE(RELEVE_COTES!E154,\" \",\"\"),\"-\",\"\"),\".\",\",\"),\"\\\",\"\"),\",\",\",\"),\"+\",\"\"),\"&\",\"\"),\"*\",\"\"),\"\")","v":""},{"$f":"IF(RELEVE_COTES!F154<>\"\",SUBSTITUTE(SUBSTITUTE(SUBSTITUTE(SUBSTITUTE(SUBSTITUTE(SUBSTITUTE(SUBSTITUTE(SUBSTITUTE(RELEVE_COTES!F154,\" \",\"\"),\"-\",\"\"),\".\",\",\"),\"\\\",\"\"),\",\",\",\"),\"+\",\"\"),\"&\",\"\"),\"*\",\"\"),\"\")","v":""},{"$f":"IF(RELEVE_COTES!G154<>\"\",SUBSTITUTE(SUBSTITUTE(SUBSTITUTE(SUBSTITUTE(SUBSTITUTE(SUBSTITUTE(SUBSTITUTE(SUBSTITUTE(RELEVE_COTES!G154,\" \",\"\"),\"-\",\"\"),\".\",\",\"),\"\\\",\"\"),\",\",\",\"),\"+\",\"\"),\"&\",\"\"),\"*\",\"\"),\"\")","v":""},{"$f":"IF($D106=\"GP\",IF(RELEVE_COTES!$I154=\"\",0,IF(RELEVE_COTES!$I154=\"\",\"\",RELEVE_COTES!$I154)),IF(RELEVE_COTES!$H154=\"\",0,IF(RELEVE_COTES!$H154=\"\",\"\",RELEVE_COTES!$H154)))","v":0},{"$f":"IF($D106=\"GP\",IF(RELEVE_COTES!$H154=\"\",0,IF(RELEVE_COTES!$H154=\"\",\"\",RELEVE_COTES!$H154)),IF(RELEVE_COTES!$I154=\"\",0,IF(RELEVE_COTES!$I154=\"\",\"\",RELEVE_COTES!$I154)))","v":0},{"$f":"IF(RELEVE_COTES!$J154=\"\",0,IF(RELEVE_COTES!$J154=\"\",\"\",RELEVE_COTES!$J154))","v":0},{"$f":"VLOOKUP(RELEVE_COTES!$K154,TabExistantRef1[],2,FALSE)","v":{"$error":"#N/A"}},{"$f":"IF($Y$1=\"BOIS\",RELEVE_COTES!$O154,0)","v":{"$error":"#N/A"}},{"$f":"IF($Y$1=\"BOIS\",RELEVE_COTES!$P154,0)","v":{"$error":"#N/A"}},{"$f":"IF($Y$1=\"BOIS\",RELEVE_COTES!$Q154,0)","v":{"$error":"#N/A"}},{"$error":"#N/A"},{"$f":"IF($Y$1=\"BANCHE\",RELEVE_COTES!$L154,0)","v":{"$error":"#N/A"}},{"$error":"#N/A"},{"$error":"#N/A"},{"$f":"IF($Y$1<>\"BANCHE\",RELEVE_COTES!$L154,0)","v":{"$error":"#N/A"}},{"$f":"IF(AND($Y$1<>\"BANCHE\",RELEVE_COTES!$M154<>\"\"),RELEVE_COTES!$M154,20)","v":{"$error":"#N/A"}},{"$f":"IF($Y$1<>\"BANCHE\",IF(RELEVE_COTES!$N154<>\"\",RELEVE_COTES!$N154,10),0)","v":{"$error":"#N/A"}},{"$f":"IF(RELEVE_COTES!$I$20=\"Huisserie Banchée\",\"Banche\",IF(RELEVE_COTES!$I$20=\"Huisserie Bois\",\"Bois\",IF(RELEVE_COTES!$I$20=\"Bâti Scellé\",\"Bâti Métal.\")))","v":false},{"$f":"RELEVE_COTES!$C$11","v":0},{"$f":"RELEVE_COTES!$K$12","v":0},{"$f":"VLOOKUP(AA106,TabSeuilRef[],2,FALSE)","v":{"$error":"#N/A"}},{"$f":"\"Paumelles \"&RELEVE_COTES!$E$15","v":"Paumelles "},{"$f":"IF(RELEVE_COTES!$K$16<>\"Déporté\",RELEVE_COTES!$K$16,RELEVE_COTES!$K$16&\" / \"&VLOOKUP(RELEVE_COTES!$L$16,TabOptUsSerr[],2,FALSE))","v":"SANS"},{"$f":"RELEVE_COTES!$K$11","v":0},{"$f":"VLOOKUP(RELEVE_COTES!$G$12,TabNuancierVTL[],2,FALSE)&\"/\"&VLOOKUP(RELEVE_COTES!$G$13,TabNuancierVTL[],2,FALSE)","v":{"$error":"#N/A"}},{"$f":"IF(RELEVE_COTES!$E$14=\"Pr.Peint\",\"PP\",VLOOKUP(RELEVE_COTES!$G$14,TabNuancHM[],2,FALSE))","v":"PP"},{"$error":"#N/A"},{"$f":"IF(RELEVE_COTES!$C$11 =\"R32S-R02\",\"OUI\",\"NON\")","v":"NON"},"NON","",{"$f":"IF(AI106=\"OUI\",RELEVE_COTES!$N$16,\"\")","v":""},null,{"$f":"RELEVE_COTES!$E$12&\"/\"&RELEVE_COTES!$E$13","v":" SANS/ SANS"},{"$f":"IF(RELEVE_COTES!$K$15<>\"SANS\",RELEVE_COTES!$L$15&\" \"&RELEVE_COTES!$K$15,\"\")&IF(RELEVE_COTES!$N$15<>\"SANS\",\" / PMR: \"&RELEVE_COTES!$O$15&\" \"&RELEVE_COTES!$N$15,\"\")","v":""},{"$f":"IF(RELEVE_COTES!$K$14 <> \"SANS\",RELEVE_COTES!$O$14&\" \"&RELEVE_COTES!$K$14,\"\")","v":"U+F "},{"$f":"IF(RELEVE_COTES!$K$13 <> \"SANS\",RELEVE_COTES!$O$13&\" \"&RELEVE_COTES!$K$13,\"SANS\")","v":"U+F "},{"$f":"VLOOKUP(RELEVE_COTES!$O$11,TabOptUsSerr[],2,FALSE)","v":"Usinage, fourniture et pose"},{"$f":"INDEX(TabFinition[FINITION],MATCH(VLOOKUP(RELEVE_COTES!$G$12,TabNuancierVTL[],3,FALSE)&VLOOKUP(RELEVE_COTES!$G$13,TabNuancierVTL[],3,FALSE),TabFinition[TYPE EXT]&TabFinition[TYPE INT],0))","v":{"$error":"#N/A"}},"INT",{"$f":"RELEVE_COTES!$E$16","v":"platines + vérins"},"NON",{"$f":"IF(RELEVE_COTES!$I$20 = \"Huisserie Bois\",RELEVE_COTES!$R154,IF(RELEVE_COTES!$I$20 = \"Huisserie Banchée\",RELEVE_COTES!$M154,IF(RELEVE_COTES!$I$20 = \"Bâti Scellé\",RELEVE_COTES!$O154,\"\")))","v":""}]
[{"$error":"#VALUE!"},{"$error":"#VALUE!"},{"$f":"IF(RELEVE_COTES!$A155<>\"\",SUBSTITUTE(SUBSTITUTE(SUBSTITUTE(SUBSTITUTE(SUBSTITUTE(SUBSTITUTE(SUBSTITUTE(SUBSTITUTE(RELEVE_COTES!$A155,\" \",\"\"),\"-\",\"/\"),\".\",\"/\"),\"\\\",\"/\"),\",\",\"/\"),\"+\",\"_\"),\"&\",\"_\"),\"*\",\"/\"),\"\")","v":""},{"$f":"RELEVE_COTES!$B155","v":0},1,{"$f":"IF(RELEVE_COTES!C155<>\"\",SUBSTITUTE(SUBSTITUTE(SUBSTITUTE(SUBSTITUTE(SUBSTITUTE(SUBSTITUTE(SUBSTITUTE(SUBSTITUTE(RELEVE_COTES!C155,\" \",\"\"),\"-\",\"\"),\".\",\",\"),\"\\\",\"\"),\",\",\",\"),\"+\",\"\"),\"&\",\"\"),\"*\",\"\"),\"\")","v":""},{"$f":"IF(RELEVE_COTES!D155<>\"\",SUBSTITUTE(SUBSTITUTE(SUBSTITUTE(SUBSTITUTE(SUBSTITUTE(SUBSTITUTE(SUBSTITUTE(SUBSTITUTE(RELEVE_COTES!D155,\" \",\"\"),\"-\",\"\"),\".\",\",\"),\"\\\",\"\"),\",\",\",\"),\"+\",\"\"),\"&\",\"\"),\"*\",\"\"),\"\")","v":""},{"$f":"IF(RELEVE_COTES!E155<>\"\",SUBSTITUTE(SUBSTITUTE(SUBSTITUTE(SUBSTITUTE(SUBSTITUTE(SUBSTITUTE(SUBSTITUTE(SUBSTITUTE(RELEVE_COTES!E155,\" \",\"\"),\"-\",\"\"),\".\",\",\"),\"\\\",\"\"),\",\",\",\"),\"+\",\"\"),\"&\",\"\"),\"*\",\"\"),\"\")","v":""},{"$f":"IF(RELEVE_COTES!F155<>\"\",SUBSTITUTE(SUBSTITUTE(SUBSTITUTE(SUBSTITUTE(SUBSTITUTE(SUBSTITUTE(SUBSTITUTE(SUBSTITUTE(RELEVE_COTES!F155,\" \",\"\"),\"-\",\"\"),\".\",\",\"),\"\\\",\"\"),\",\",\",\"),\"+\",\"\"),\"&\",\"\"),\"*\",\"\"),\"\")","v":""},{"$f":"IF(RELEVE_COTES!G155<>\"\",SUBSTITUTE(SUBSTITUTE(SUBSTITUTE(SUBSTITUTE(SUBSTITUTE(SUBSTITUTE(SUBSTITUTE(SUBSTITUTE(RELEVE_COTES!G155,\" \",\"\"),\"-\",\"\"),\".\",\",\"),\"\\\",\"\"),\",\",\",\"),\"+\",\"\"),\"&\",\"\"),\"*\",\"\"),\"\")","v":""},{"$f":"IF($D107=\"GP\",IF(RELEVE_COTES!$I155=\"\",0,IF(RELEVE_COTES!$I155=\"\",\"\",RELEVE_COTES!$I155)),IF(RELEVE_COTES!$H155=\"\",0,IF(RELEVE_COTES!$H155=\"\",\"\",RELEVE_COTES!$H155)))","v":0},{"$f":"IF($D107=\"GP\",IF(RELEVE_COTES!$H155=\"\",0,IF(RELEVE_COTES!$H155=\"\",\"\",RELEVE_COTES!$H155)),IF(RELEVE_COTES!$I155=\"\",0,IF(RELEVE_COTES!$I155=\"\",\"\",RELEVE_COTES!$I155)))","v":0},{"$f":"IF(RELEVE_COTES!$J155=\"\",0,IF(RELEVE_COTES!$J155=\"\",\"\",RELEVE_COTES!$J155))","v":0},{"$f":"VLOOKUP(RELEVE_COTES!$K155,TabExistantRef1[],2,FALSE)","v":{"$error":"#N/A"}},{"$f":"IF($Y$1=\"BOIS\",RELEVE_COTES!$O155,0)","v":{"$error":"#N/A"}},{"$f":"IF($Y$1=\"BOIS\",RELEVE_COTES!$P155,0)","v":{"$error":"#N/A"}},{"$f":"IF($Y$1=\"BOIS\",RELEVE_COTES!$Q155,0)","v":{"$error":"#N/A"}},{"$error":"#N/A"},{"$f":"IF($Y$1=\"BANCHE\",RELEVE_COTES!$L155,0)","v":{"$error":"#N/A"}},{"$error":"#N/A"},{"$error":"#N/A"},{"$f":"IF($Y$1<>\"BANCHE\",RELEVE_COTES!$L155,0)","v":{"$error":"#N/A"}},{"$f":"IF(AND($Y$1<>\"BANCHE\",RELEVE_COTES!$M155<>\"\"),RELEVE_COTES!$M155,20)","v":{"$error":"#N/A"}},{"$f":"IF($Y$1<>\"BANCHE\",IF(RELEVE_COTES!$N155<>\"\",RELEVE_COTES!$N155,10),0)","v":{"$error":"#N/A"}},{"$f":"IF(RELEVE_COTES!$I$20=\"Huisserie Banchée\",\"Banche\",IF(RELEVE_COTES!$I$20=\"Huisserie Bois\",\"Bois\",IF(RELEVE_COTES!$I$20=\"Bâti Scellé\",\"Bâti Métal.\")))","v":false},{"$f":"RELEVE_COTES!$C$11","v":0},{"$f":"RELEVE_COTES!$K$12","v":0},{"$f":"VLOOKUP(AA107,TabSeuilRef[],2,FALSE)","v":{"$error":"#N/A"}},{"$f":"\"Paumelles \"&RELEVE_COTES!$E$15","v":"Paumelles "},{"$f":"IF(RELEVE_COTES!$K$16<>\"Déporté\",RELEVE_COTES!$K$16,RELEVE_COTES!$K$16&\" / \"&VLOOKUP(RELEVE_COTES!$L$16,TabOptUsSerr[],2,FALSE))","v":"SANS"},{"$f":"RELEVE_COTES!$K$11","v":0},{"$f":"VLOOKUP(RELEVE_COTES!$G$12,TabNuancierVTL[],2,FALSE)&\"/\"&VLOOKUP(RELEVE_COTES!$G$13,TabNuancierVTL[],2,FALSE)","v":{"$error":"#N/A"}},{"$f":"IF(RELEVE_COTES!$E$14=\"Pr.Peint\",\"PP\",VLOOKUP(RELEVE_COTES!$G$14,TabNuancHM[],2,FALSE))","v":"PP"},{"$error":"#N/A"},{"$f":"IF(RELEVE_COTES!$C$11 =\"R32S-R02\",\"OUI\",\"NON\")","v":"NON"},"NON","",{"$f":"IF(AI107=\"OUI\",RELEVE_COTES!$N$16,\"\")","v":""},null,{"$f":"RELEVE_COTES!$E$12&\"/\"&RELEVE_COTES!$E$13","v":" SANS/ SANS"},{"$f":"IF(RELEVE_COTES!$K$15<>\"SANS\",RELEVE_COTES!$L$15&\" \"&RELEVE_COTES!$K$15,\"\")&IF(RELEVE_COTES!$N$15<>\"SANS\",\" / PMR: \"&RELEVE_COTES!$O$15&\" \"&RELEVE_COTES!$N$15,\"\")","v":""},{"$f":"IF(RELEVE_COTES!$K$14 <> \"SANS\",RELEVE_COTES!$O$14&\" \"&RELEVE_COTES!$K$14,\"\")","v":"U+F "},{"$f":"IF(RELEVE_COTES!$K$13 <> \"SANS\",RELEVE_COTES!$O$13&\" \"&RELEVE_COTES!$K$13,\"SANS\")","v":"U+F "},{"$f":"VLOOKUP(RELEVE_COTES!$O$11,TabOptUsSerr[],2,FALSE)","v":"Usinage, fourniture et pose"},{"$f":"INDEX(TabFinition[FINITION],MATCH(VLOOKUP(RELEVE_COTES!$G$12,TabNuancierVTL[],3,FALSE)&VLOOKUP(RELEVE_COTES!$G$13,TabNuancierVTL[],3,FALSE),TabFinition[TYPE EXT]&TabFinition[TYPE INT],0))","v":{"$error":"#N/A"}},"INT",{"$f":"RELEVE_COTES!$E$16","v":"platines + vérins"},"NON",{"$f":"IF(RELEVE_COTES!$I$20 = \"Huisserie Bois\",RELEVE_COTES!$R155,IF(RELEVE_COTES!$I$20 = \"Huisserie Banchée\",RELEVE_COTES!$M155,IF(RELEVE_COTES!$I$20 = \"Bâti Scellé\",RELEVE_COTES!$O155,\"\")))","v":""}]
[{"$error":"#VALUE!"},{"$error":"#VALUE!"},{"$f":"IF(RELEVE_COTES!$A156<>\"\",SUBSTITUTE(SUBSTITUTE(SUBSTITUTE(SUBSTITUTE(SUBSTITUTE(SUBSTITUTE(SUBSTITUTE(SUBSTITUTE(RELEVE_COTES!$A156,\" \",\"\"),\"-\",\"/\"),\".\",\"/\"),\"\\\",\"/\"),\",\",\"/\"),\"+\",\"_\"),\"&\",\"_\"),\"*\",\"/\"),\"\")","v":""},{"$f":"RELEVE_COTES!$B156","v":0},1,{"$f":"IF(RELEVE_COTES!C156<>\"\",SUBSTITUTE(SUBSTITUTE(SUBSTITUTE(SUBSTITUTE(SUBSTITUTE(SUBSTITUTE(SUBSTITUTE(SUBSTITUTE(RELEVE_COTES!C156,\" \",\"\"),\"-\",\"\"),\".\",\",\"),\"\\\",\"\"),\",\",\",\"),\"+\",\"\"),\"&\",\"\"),\"*\",\"\"),\"\")","v":""},{"$f":"IF(RELEVE_COTES!D156<>\"\",SUBSTITUTE(SUBSTITUTE(SUBSTITUTE(SUBSTITUTE(SUBSTITUTE(SUBSTITUTE(SUBSTITUTE(SUBSTITUTE(RELEVE_COTES!D156,\" \",\"\"),\"-\",\"\"),\".\",\",\"),\"\\\",\"\"),\",\",\",\"),\"+\",\"\"),\"&\",\"\"),\"*\",\"\"),\"\")","v":""},{"$f":"IF(RELEVE_COTES!E156<>\"\",SUBSTITUTE(SUBSTITUTE(SUBSTITUTE(SUBSTITUTE(SUBSTITUTE(SUBSTITUTE(SUBSTITUTE(SUBSTITUTE(RELEVE_COTES!E156,\" \",\"\"),\"-\",\"\"),\".\",\",\"),\"\\\",\"\"),\",\",\",\"),\"+\",\"\"),\"&\",\"\"),\"*\",\"\"),\"\")","v":""},{"$f":"IF(RELEVE_COTES!F156<>\"\",SUBSTITUTE(SUBSTITUTE(SUBSTITUTE(SUBSTITUTE(SUBSTITUTE(SUBSTITUTE(SUBSTITUTE(SUBSTITUTE(RELEVE_COTES!F156,\" \",\"\"),\"-\",\"\"),\".\",\",\"),\"\\\",\"\"),\",\",\",\"),\"+\",\"\"),\"&\",\"\"),\"*\",\"\"),\"\")","v":""},{"$f":"IF(RELEVE_COTES!G156<>\"\",SUBSTITUTE(SUBSTITUTE(SUBSTITUTE(SUBSTITUTE(SUBSTITUTE(SUBSTITUTE(SUBSTITUTE(SUBSTITUTE(RELEVE_COTES!G156,\" \",\"\"),\"-\",\"\"),\".\",\",\"),\"\\\",\"\"),\",\",\",\"),\"+\",\"\"),\"&\",\"\"),\"*\",\"\"),\"\")","v":""},{"$f":"IF($D108=\"GP\",IF(RELEVE_COTES!$I156=\"\",0,IF(RELEVE_COTES!$I156=\"\",\"\",RELEVE_COTES!$I156)),IF(RELEVE_COTES!$H156=\"\",0,IF(RELEVE_COTES!$H156=\"\",\"\",RELEVE_COTES!$H156)))","v":0},{"$f":"IF($D108=\"GP\",IF(RELEVE_COTES!$H156=\"\",0,IF(RELEVE_COTES!$H156=\"\",\"\",RELEVE_COTES!$H156)),IF(RELEVE_COTES!$I156=\"\",0,IF(RELEVE_COTES!$I156=\"\",\"\",RELEVE_COTES!$I156)))","v":0},{"$f":"IF(RELEVE_COTES!$J156=\"\",0,IF(RELEVE_COTES!$J156=\"\",\"\",RELEVE_COTES!$J156))","v":0},{"$f":"VLOOKUP(RELEVE_COTES!$K156,TabExistantRef1[],2,FALSE)","v":{"$error":"#N/A"}},{"$f":"IF($Y$1=\"BOIS\",RELEVE_COTES!$O156,0)","v":{"$error":"#N/A"}},{"$f":"IF($Y$1=\"BOIS\",RELEVE_COTES!$P156,0)","v":{"$error":"#N/A"}},{"$f":"IF($Y$1=\"BOIS\",RELEVE_COTES!$Q156,0)","v":{"$error":"#N/A"}},{"$error":"#N/A"},{"$f":"IF($Y$1=\"BANCHE\",RELEVE_COTES!$L156,0)","v":{"$error":"#N/A"}},{"$error":"#N/A"},{"$error":"#N/A"},{"$f":"IF($Y$1<>\"BANCHE\",RELEVE_COTES!$L156,0)","v":{"$error":"#N/A"}},{"$f":"IF(AND($Y$1<>\"BANCHE\",RELEVE_COTES!$M156<>\"\"),RELEVE_COTES!$M156,20)","v":{"$error":"#N/A"}},{"$f":"IF($Y$1<>\"BANCHE\",IF(RELEVE_COTES!$N156<>\"\",RELEVE_COTES!$N156,10),0)","v":{"$error":"#N/A"}},{"$f":"IF(RELEVE_COTES!$I$20=\"Huisserie Banchée\",\"Banche\",IF(RELEVE_COTES!$I$20=\"Huisserie Bois\",\"Bois\",IF(RELEVE_COTES!$I$20=\"Bâti Scellé\",\"Bâti Métal.\")))","v":false},{"$f":"RELEVE_COTES!$C$11","v":0},{"$f":"RELEVE_COTES!$K$12","v":0},{"$f":"VLOOKUP(AA108,TabSeuilRef[],2,FALSE)","v":{"$error":"#N/A"}},{"$f":"\"Paumelles \"&RELEVE_COTES!$E$15","v":"Paumelles "},{"$f":"IF(RELEVE_COTES!$K$16<>\"Déporté\",RELEVE_COTES!$K$16,RELEVE_COTES!$K$16&\" / \"&VLOOKUP(RELEVE_COTES!$L$16,TabOptUsSerr[],2,FALSE))","v":"SANS"},{"$f":"RELEVE_COTES!$K$11","v":0},{"$f":"VLOOKUP(RELEVE_COTES!$G$12,TabNuancierVTL[],2,FALSE)&\"/\"&VLOOKUP(RELEVE_COTES!$G$13,TabNuancierVTL[],2,FALSE)","v":{"$error":"#N/A"}},{"$f":"IF(RELEVE_COTES!$E$14=\"Pr.Peint\",\"PP\",VLOOKUP(RELEVE_COTES!$G$14,TabNuancHM[],2,FALSE))","v":"PP"},{"$error":"#N/A"},{"$f":"IF(RELEVE_COTES!$C$11 =\"R32S-R02\",\"OUI\",\"NON\")","v":"NON"},"NON","",{"$f":"IF(AI108=\"OUI\",RELEVE_COTES!$N$16,\"\")","v":""},null,{"$f":"RELEVE_COTES!$E$12&\"/\"&RELEVE_COTES!$E$13","v":" SANS/ SANS"},{"$f":"IF(RELEVE_COTES!$K$15<>\"SANS\",RELEVE_COTES!$L$15&\" \"&RELEVE_COTES!$K$15,\"\")&IF(RELEVE_COTES!$N$15<>\"SANS\",\" / PMR: \"&RELEVE_COTES!$O$15&\" \"&RELEVE_COTES!$N$15,\"\")","v":""},{"$f":"IF(RELEVE_COTES!$K$14 <> \"SANS\",RELEVE_COTES!$O$14&\" \"&RELEVE_COTES!$K$14,\"\")","v":"U+F "},{"$f":"IF(RELEVE_COTES!$K$13 <> \"SANS\",RELEVE_COTES!$O$13&\" \"&RELEVE_COTES!$K$13,\"SANS\")","v":"U+F "},{"$f":"VLOOKUP(RELEVE_COTES!$O$11,TabOptUsSerr[],2,FALSE)","v":"Usinage, fourniture et pose"},{"$f":"INDEX(TabFinition[FINITION],MATCH(VLOOKUP(RELEVE_COTES!$G$12,TabNuancierVTL[],3,FALSE)&VLOOKUP(RELEVE_COTES!$G$13,TabNuancierVTL[],3,FALSE),TabFinition[TYPE EXT]&TabFinition[TYPE INT],0))","v":{"$error":"#N/A"}},"INT",{"$f":"RELEVE_COTES!$E$16","v":"platines + vérins"},"NON",{"$f":"IF(RELEVE_COTES!$I$20 = \"Huisserie Bois\",RELEVE_COTES!$R156,IF(RELEVE_COTES!$I$20 = \"Huisserie Banchée\",RELEVE_COTES!$M156,IF(RELEVE_COTES!$I$20 = \"Bâti Scellé\",RELEVE_COTES!$O156,\"\")))","v":""}]
[{"$error":"#VALUE!"},{"$error":"#VALUE!"},{"$f":"IF(RELEVE_COTES!$A157<>\"\",SUBSTITUTE(SUBSTITUTE(SUBSTITUTE(SUBSTITUTE(SUBSTITUTE(SUBSTITUTE(SUBSTITUTE(SUBSTITUTE(RELEVE_COTES!$A157,\" \",\"\"),\"-\",\"/\"),\".\",\"/\"),\"\\\",\"/\"),\",\",\"/\"),\"+\",\"_\"),\"&\",\"_\"),\"*\",\"/\"),\"\")","v":""},{"$f":"RELEVE_COTES!$B157","v":0},1,{"$f":"IF(RELEVE_COTES!C157<>\"\",SUBSTITUTE(SUBSTITUTE(SUBSTITUTE(SUBSTITUTE(SUBSTITUTE(SUBSTITUTE(SUBSTITUTE(SUBSTITUTE(RELEVE_COTES!C157,\" \",\"\"),\"-\",\"\"),\".\",\",\"),\"\\\",\"\"),\",\",\",\"),\"+\",\"\"),\"&\",\"\"),\"*\",\"\"),\"\")","v":""},{"$f":"IF(RELEVE_COTES!D157<>\"\",SUBSTITUTE(SUBSTITUTE(SUBSTITUTE(SUBSTITUTE(SUBSTITUTE(SUBSTITUTE(SUBSTITUTE(SUBSTITUTE(RELEVE_COTES!D157,\" \",\"\"),\"-\",\"\"),\".\",\",\"),\"\\\",\"\"),\",\",\",\"),\"+\",\"\"),\"&\",\"\"),\"*\",\"\"),\"\")","v":""},{"$f":"IF(RELEVE_COTES!E157<>\"\",SUBSTITUTE(SUBSTITUTE(SUBSTITUTE(SUBSTITUTE(SUBSTITUTE(SUBSTITUTE(SUBSTITUTE(SUBSTITUTE(RELEVE_COTES!E157,\" \",\"\"),\"-\",\"\"),\".\",\",\"),\"\\\",\"\"),\",\",\",\"),\"+\",\"\"),\"&\",\"\"),\"*\",\"\"),\"\")","v":""},{"$f":"IF(RELEVE_COTES!F157<>\"\",SUBSTITUTE(SUBSTITUTE(SUBSTITUTE(SUBSTITUTE(SUBSTITUTE(SUBSTITUTE(SUBSTITUTE(SUBSTITUTE(RELEVE_COTES!F157,\" \",\"\"),\"-\",\"\"),\".\",\",\"),\"\\\",\"\"),\",\",\",\"),\"+\",\"\"),\"&\",\"\"),\"*\",\"\"),\"\")","v":""},{"$f":"IF(RELEVE_COTES!G157<>\"\",SUBSTITUTE(SUBSTITUTE(SUBSTITUTE(SUBSTITUTE(SUBSTITUTE(SUBSTITUTE(SUBSTITUTE(SUBSTITUTE(RELEVE_COTES!G157,\" \",\"\"),\"-\",\"\"),\".\",\",\"),\"\\\",\"\"),\",\",\",\"),\"+\",\"\"),\"&\",\"\"),\"*\",\"\"),\"\")","v":""},{"$f":"IF($D109=\"GP\",IF(RELEVE_COTES!$I157=\"\",0,IF(RELEVE_COTES!$I157=\"\",\"\",RELEVE_COTES!$I157)),IF(RELEVE_COTES!$H157=\"\",0,IF(RELEVE_COTES!$H157=\"\",\"\",RELEVE_COTES!$H157)))","v":0},{"$f":"IF($D109=\"GP\",IF(RELEVE_COTES!$H157=\"\",0,IF(RELEVE_COTES!$H157=\"\",\"\",RELEVE_COTES!$H157)),IF(RELEVE_COTES!$I157=\"\",0,IF(RELEVE_COTES!$I157=\"\",\"\",RELEVE_COTES!$I157)))","v":0},{"$f":"IF(RELEVE_COTES!$J157=\"\",0,IF(RELEVE_COTES!$J157=\"\",\"\",RELEVE_COTES!$J157))","v":0},{"$f":"VLOOKUP(RELEVE_COTES!$K157,TabExistantRef1[],2,FALSE)","v":{"$error":"#N/A"}},{"$f":"IF($Y$1=\"BOIS\",RELEVE_COTES!$O157,0)","v":{"$error":"#N/A"}},{"$f":"IF($Y$1=\"BOIS\",RELEVE_COTES!$P157,0)","v":{"$error":"#N/A"}},{"$f":"IF($Y$1=\"BOIS\",RELEVE_COTES!$Q157,0)","v":{"$error":"#N/A"}},{"$error":"#N/A"},{"$f":"IF($Y$1=\"BANCHE\",RELEVE_COTES!$L157,0)","v":{"$error":"#N/A"}},{"$error":"#N/A"},{"$error":"#N/A"},{"$f":"IF($Y$1<>\"BANCHE\",RELEVE_COTES!$L157,0)","v":{"$error":"#N/A"}},{"$f":"IF(AND($Y$1<>\"BANCHE\",RELEVE_COTES!$M157<>\"\"),RELEVE_COTES!$M157,20)","v":{"$error":"#N/A"}},{"$f":"IF($Y$1<>\"BANCHE\",IF(RELEVE_COTES!$N157<>\"\",RELEVE_COTES!$N157,10),0)","v":{"$error":"#N/A"}},{"$f":"IF(RELEVE_COTES!$I$20=\"Huisserie Banchée\",\"Banche\",IF(RELEVE_COTES!$I$20=\"Huisserie Bois\",\"Bois\",IF(RELEVE_COTES!$I$20=\"Bâti Scellé\",\"Bâti Métal.\")))","v":false},{"$f":"RELEVE_COTES!$C$11","v":0},{"$f":"RELEVE_COTES!$K$12","v":0},{"$f":"VLOOKUP(AA109,TabSeuilRef[],2,FALSE)","v":{"$error":"#N/A"}},{"$f":"\"Paumelles \"&RELEVE_COTES!$E$15","v":"Paumelles "},{"$f":"IF(RELEVE_COTES!$K$16<>\"Déporté\",RELEVE_COTES!$K$16,RELEVE_COTES!$K$16&\" / \"&VLOOKUP(RELEVE_COTES!$L$16,TabOptUsSerr[],2,FALSE))","v":"SANS"},{"$f":"RELEVE_COTES!$K$11","v":0},{"$f":"VLOOKUP(RELEVE_COTES!$G$12,TabNuancierVTL[],2,FALSE)&\"/\"&VLOOKUP(RELEVE_COTES!$G$13,TabNuancierVTL[],2,FALSE)","v":{"$error":"#N/A"}},{"$f":"IF(RELEVE_COTES!$E$14=\"Pr.Peint\",\"PP\",VLOOKUP(RELEVE_COTES!$G$14,TabNuancHM[],2,FALSE))","v":"PP"},{"$error":"#N/A"},{"$f":"IF(RELEVE_COTES!$C$11 =\"R32S-R02\",\"OUI\",\"NON\")","v":"NON"},"NON","",{"$f":"IF(AI109=\"OUI\",RELEVE_COTES!$N$16,\"\")","v":""},null,{"$f":"RELEVE_COTES!$E$12&\"/\"&RELEVE_COTES!$E$13","v":" SANS/ SANS"},{"$f":"IF(RELEVE_COTES!$K$15<>\"SANS\",RELEVE_COTES!$L$15&\" \"&RELEVE_COTES!$K$15,\"\")&IF(RELEVE_COTES!$N$15<>\"SANS\",\" / PMR: \"&RELEVE_COTES!$O$15&\" \"&RELEVE_COTES!$N$15,\"\")","v":""},{"$f":"IF(RELEVE_COTES!$K$14 <> \"SANS\",RELEVE_COTES!$O$14&\" \"&RELEVE_COTES!$K$14,\"\")","v":"U+F "},{"$f":"IF(RELEVE_COTES!$K$13 <> \"SANS\",RELEVE_COTES!$O$13&\" \"&RELEVE_COTES!$K$13,\"SANS\")","v":"U+F "},{"$f":"VLOOKUP(RELEVE_COTES!$O$11,TabOptUsSerr[],2,FALSE)","v":"Usinage, fourniture et pose"},{"$f":"INDEX(TabFinition[FINITION],MATCH(VLOOKUP(RELEVE_COTES!$G$12,TabNuancierVTL[],3,FALSE)&VLOOKUP(RELEVE_COTES!$G$13,TabNuancierVTL[],3,FALSE),TabFinition[TYPE EXT]&TabFinition[TYPE INT],0))","v":{"$error":"#N/A"}},"INT",{"$f":"RELEVE_COTES!$E$16","v":"platines + vérins"},"NON",{"$f":"IF(RELEVE_COTES!$I$20 = \"Huisserie Bois\",RELEVE_COTES!$R157,IF(RELEVE_COTES!$I$20 = \"Huisserie Banchée\",RELEVE_COTES!$M157,IF(RELEVE_COTES!$I$20 = \"Bâti Scellé\",RELEVE_COTES!$O157,\"\")))","v":""}]
[{"$error":"#VALUE!"},{"$error":"#VALUE!"},{"$f":"IF(RELEVE_COTES!$A158<>\"\",SUBSTITUTE(SUBSTITUTE(SUBSTITUTE(SUBSTITUTE(SUBSTITUTE(SUBSTITUTE(SUBSTITUTE(SUBSTITUTE(RELEVE_COTES!$A158,\" \",\"\"),\"-\",\"/\"),\".\",\"/\"),\"\\\",\"/\"),\",\",\"/\"),\"+\",\"_\"),\"&\",\"_\"),\"*\",\"/\"),\"\")","v":""},{"$f":"RELEVE_COTES!$B158","v":0},1,{"$f":"IF(RELEVE_COTES!C158<>\"\",SUBSTITUTE(SUBSTITUTE(SUBSTITUTE(SUBSTITUTE(SUBSTITUTE(SUBSTITUTE(SUBSTITUTE(SUBSTITUTE(RELEVE_COTES!C158,\" \",\"\"),\"-\",\"\"),\".\",\",\"),\"\\\",\"\"),\",\",\",\"),\"+\",\"\"),\"&\",\"\"),\"*\",\"\"),\"\")","v":""},{"$f":"IF(RELEVE_COTES!D158<>\"\",SUBSTITUTE(SUBSTITUTE(SUBSTITUTE(SUBSTITUTE(SUBSTITUTE(SUBSTITUTE(SUBSTITUTE(SUBSTITUTE(RELEVE_COTES!D158,\" \",\"\"),\"-\",\"\"),\".\",\",\"),\"\\\",\"\"),\",\",\",\"),\"+\",\"\"),\"&\",\"\"),\"*\",\"\"),\"\")","v":""},{"$f":"IF(RELEVE_COTES!E158<>\"\",SUBSTITUTE(SUBSTITUTE(SUBSTITUTE(SUBSTITUTE(SUBSTITUTE(SUBSTITUTE(SUBSTITUTE(SUBSTITUTE(RELEVE_COTES!E158,\" \",\"\"),\"-\",\"\"),\".\",\",\"),\"\\\",\"\"),\",\",\",\"),\"+\",\"\"),\"&\",\"\"),\"*\",\"\"),\"\")","v":""},{"$f":"IF(RELEVE_COTES!F158<>\"\",SUBSTITUTE(SUBSTITUTE(SUBSTITUTE(SUBSTITUTE(SUBSTITUTE(SUBSTITUTE(SUBSTITUTE(SUBSTITUTE(RELEVE_COTES!F158,\" \",\"\"),\"-\",\"\"),\".\",\",\"),\"\\\",\"\"),\",\",\",\"),\"+\",\"\"),\"&\",\"\"),\"*\",\"\"),\"\")","v":""},{"$f":"IF(RELEVE_COTES!G158<>\"\",SUBSTITUTE(SUBSTITUTE(SUBSTITUTE(SUBSTITUTE(SUBSTITUTE(SUBSTITUTE(SUBSTITUTE(SUBSTITUTE(RELEVE_COTES!G158,\" \",\"\"),\"-\",\"\"),\".\",\",\"),\"\\\",\"\"),\",\",\",\"),\"+\",\"\"),\"&\",\"\"),\"*\",\"\"),\"\")","v":""},{"$f":"IF($D110=\"GP\",IF(RELEVE_COTES!$I158=\"\",0,IF(RELEVE_COTES!$I158=\"\",\"\",RELEVE_COTES!$I158)),IF(RELEVE_COTES!$H158=\"\",0,IF(RELEVE_COTES!$H158=\"\",\"\",RELEVE_COTES!$H158)))","v":0},{"$f":"IF($D110=\"GP\",IF(RELEVE_COTES!$H158=\"\",0,IF(RELEVE_COTES!$H158=\"\",\"\",RELEVE_COTES!$H158)),IF(RELEVE_COTES!$I158=\"\",0,IF(RELEVE_COTES!$I158=\"\",\"\",RELEVE_COTES!$I158)))","v":0},{"$f":"IF(RELEVE_COTES!$J158=\"\",0,IF(RELEVE_COTES!$J158=\"\",\"\",RELEVE_COTES!$J158))","v":0},{"$f":"VLOOKUP(RELEVE_COTES!$K158,TabExistantRef1[],2,FALSE)","v":{"$error":"#N/A"}},{"$f":"IF($Y$1=\"BOIS\",RELEVE_COTES!$O158,0)","v":{"$error":"#N/A"}},{"$f":"IF($Y$1=\"BOIS\",RELEVE_COTES!$P158,0)","v":{"$error":"#N/A"}},{"$f":"IF($Y$1=\"BOIS\",RELEVE_COTES!$Q158,0)","v":{"$error":"#N/A"}},{"$error":"#N/A"},{"$f":"IF($Y$1=\"BANCHE\",RELEVE_COTES!$L158,0)","v":{"$error":"#N/A"}},{"$error":"#N/A"},{"$error":"#N/A"},{"$f":"IF($Y$1<>\"BANCHE\",RELEVE_COTES!$L158,0)","v":{"$error":"#N/A"}},{"$f":"IF(AND($Y$1<>\"BANCHE\",RELEVE_COTES!$M158<>\"\"),RELEVE_COTES!$M158,20)","v":{"$error":"#N/A"}},{"$f":"IF($Y$1<>\"BANCHE\",IF(RELEVE_COTES!$N158<>\"\",RELEVE_COTES!$N158,10),0)","v":{"$error":"#N/A"}},{"$f":"IF(RELEVE_COTES!$I$20=\"Huisserie Banchée\",\"Banche\",IF(RELEVE_COTES!$I$20=\"Huisserie Bois\",\"Bois\",IF(RELEVE_COTES!$I$20=\"Bâti Scellé\",\"Bâti Métal.\")))","v":false},{"$f":"RELEVE_COTES!$C$11","v":0},{"$f":"RELEVE_COTES!$K$12","v":0},{"$f":"VLOOKUP(AA110,TabSeuilRef[],2,FALSE)","v":{"$error":"#N/A"}},{"$f":"\"Paumelles \"&RELEVE_COTES!$E$15","v":"Paumelles "},{"$f":"IF(RELEVE_COTES!$K$16<>\"Déporté\",RELEVE_COTES!$K$16,RELEVE_COTES!$K$16&\" / \"&VLOOKUP(RELEVE_COTES!$L$16,TabOptUsSerr[],2,FALSE))","v":"SANS"},{"$f":"RELEVE_COTES!$K$11","v":0},{"$f":"VLOOKUP(RELEVE_COTES!$G$12,TabNuancierVTL[],2,FALSE)&\"/\"&VLOOKUP(RELEVE_COTES!$G$13,TabNuancierVTL[],2,FALSE)","v":{"$error":"#N/A"}},{"$f":"IF(RELEVE_COTES!$E$14=\"Pr.Peint\",\"PP\",VLOOKUP(RELEVE_COTES!$G$14,TabNuancHM[],2,FALSE))","v":"PP"},{"$error":"#N/A"},{"$f":"IF(RELEVE_COTES!$C$11 =\"R32S-R02\",\"OUI\",\"NON\")","v":"NON"},"NON","",{"$f":"IF(AI110=\"OUI\",RELEVE_COTES!$N$16,\"\")","v":""},null,{"$f":"RELEVE_COTES!$E$12&\"/\"&RELEVE_COTES!$E$13","v":" SANS/ SANS"},{"$f":"IF(RELEVE_COTES!$K$15<>\"SANS\",RELEVE_COTES!$L$15&\" \"&RELEVE_COTES!$K$15,\"\")&IF(RELEVE_COTES!$N$15<>\"SANS\",\" / PMR: \"&RELEVE_COTES!$O$15&\" \"&RELEVE_COTES!$N$15,\"\")","v":""},{"$f":"IF(RELEVE_COTES!$K$14 <> \"SANS\",RELEVE_COTES!$O$14&\" \"&RELEVE_COTES!$K$14,\"\")","v":"U+F "},{"$f":"IF(RELEVE_COTES!$K$13 <> \"SANS\",RELEVE_COTES!$O$13&\" \"&RELEVE_COTES!$K$13,\"SANS\")","v":"U+F "},{"$f":"VLOOKUP(RELEVE_COTES!$O$11,TabOptUsSerr[],2,FALSE)","v":"Usinage, fourniture et pose"},{"$f":"INDEX(TabFinition[FINITION],MATCH(VLOOKUP(RELEVE_COTES!$G$12,TabNuancierVTL[],3,FALSE)&VLOOKUP(RELEVE_COTES!$G$13,TabNuancierVTL[],3,FALSE),TabFinition[TYPE EXT]&TabFinition[TYPE INT],0))","v":{"$error":"#N/A"}},"INT",{"$f":"RELEVE_COTES!$E$16","v":"platines + vérins"},"NON",{"$f":"IF(RELEVE_COTES!$I$20 = \"Huisserie Bois\",RELEVE_COTES!$R158,IF(RELEVE_COTES!$I$20 = \"Huisserie Banchée\",RELEVE_COTES!$M158,IF(RELEVE_COTES!$I$20 = \"Bâti Scellé\",RELEVE_COTES!$O158,\"\")))","v":""}]

{"sheet":"Info","index":7,"n_rows":110,"n_cols":51,"rows_kept":110,"cut":false,"hidden":true,"merged":[[8,49,9,49],[8,50,9,50],[8,2,8,9],[8,25,8,33],[8,34,8,36],[8,48,9,48],[8,23,9,23],[8,40,9,40],[8,20,8,21],[8,37,9,37],[8,39,9,39],[8,24,9,24],[8,42,9,42],[8,47,9,47],[8,41,9,41],[8,38,9,38],[8,46,9,46],[8,44,9,44],[8,43,9,43],[8,45,9,45],[8,22,9,22],[8,17,8,19],[8,10,8,12],[8,14,8,16],[8,13,9,13],[0,0,0,5],[1,2,1,3],[2,2,2,3],[1,4,1,5],[2,4,2,5]]}
["Références Client",null,null,null,null,null,null,null,null,null,null,null,null,null,null,null,null,null,null,null,null,null,null,null,{"$f":"VLOOKUP(RELEVE_COTES!I20,TabExistant[],4,FALSE)","v":{"$error":"#N/A"}}]
["Nom client","N° DEVIS","référence chantier ",null,"Adresse livraison:"]
[{"$f":"RELEVE_COTES!$B$6","v":0},{"$f":"RELEVE_COTES!$B$7","v":0},{"$f":"RELEVE_COTES!$J$5","v":0},null,{"$f":"RELEVE_COTES!$K$6","v":0}]
[]
[]
[null,null,null,null,null,null,null,null,null,null,null,null,null,null,null,null,null,null,null,null,null,null,null,null,null,null,null,null,null,null,null,null,null,null,null,null,null,null,null,null,null,{"$f":"IF(RELEVE_COTES!$N$15<>\"SANS\",RELEVE_COTES!$O$15,\"\")","v":""}]
[]
[]
[null,null,"existant",null,null,null,null,null,null,null,"ecoinçon",null,null,"pose","chant plat",null,null,"gorge",null,null,"retour",null,"listel ","retour\ncochonet","Type \nd huisserie\n(bois ou metal )","Configuration nouveau bloc porte",null,null,null,null,null,null,null,null,"huisserie",null,null,"tierce\nfixe\nou\nsemi fixe","tierce\nEGAUX / INEGAUX","type\nd habillage\npour \nimposte","SERRURE","microviseur","ensemble","cylindre ","OBSERVATIONS","Finition\n vantail","sens\n d ouverture","fixation \nnouvelle\nhuisserie","PALETTISATION","Hauteur Fouillot","Hauteur Vantail Mini"]
["hauteur\nFDF","largeur\nFDF","repère","Main","Nombre","Largeur passage","Hauteur \npassage","feuillure \nexistante","battue \nfeuillure","parement","ebrasement\nferrage","ebrasement\ngâche","Retombée de linteau",null,"distance \nfeuillure/\nchant plat","largeur\nchant plat","epaisseur\nchant plat","distance \nfeuillure/\ngorge","largeur\ngorge","profondeur\ngorge","distance \nfeuillure/\nretour","profondeur retour",null,null,null,"type de porte","type de seuil","hauteur de seuil","TALON","antidegond/PAUMELLE","entrebailleur","type de serrure","strat vantaux \n(Face Paumelle/ Opposé Paumelle)","ral huisserie","pose","tierce","imposte"]
[{"$f":"G11+I11","v":0},{"$f":"F11+I11+I11","v":0},{"$f":"IF(RELEVE_COTES!$A59<>\"\",SUBSTITUTE(SUBSTITUTE(SUBSTITUTE(SUBSTITUTE(SUBSTITUTE(SUBSTITUTE(SUBSTITUTE(SUBSTITUTE(RELEVE_COTES!$A59,\" \",\"\"),\"-\",\"/\"),\".\",\"/\"),\"\\\",\"/\"),\",\",\"/\"),\"+\",\"_\"),\"&\",\"_\"),\"*\",\"/\"),\"\")","v":""},{"$f":"RELEVE_COTES!$B59","v":0},1,{"$f":"RELEVE_COTES!$C59","v":0},{"$f":"RELEVE_COTES!$D59","v":0},{"$f":"RELEVE_COTES!$E59","v":0},{"$f":"RELEVE_COTES!$F59","v":0},{"$f":"RELEVE_COTES!$G59","v":0},{"$f":"IF($D11=\"GP\",RELEVE_COTES!$I59,RELEVE_COTES!$H59)","v":0},{"$f":"IF($D11=\"GP\",RELEVE_COTES!$H59,RELEVE_COTES!$I59)","v":0},{"$f":"RELEVE_COTES!$J59","v":0},{"$f":"VLOOKUP(RELEVE_COTES!$K59,TabExistantRef1[],2,FALSE)","v":{"$error":"#N/A"}},{"$f":"IF($Y$1=\"BOIS\",RELEVE_COTES!$O59,0)","v":{"$error":"#N/A"}},{"$f":"IF($Y$1=\"BOIS\",RELEVE_COTES!$P59,0)","v":{"$error":"#N/A"}},{"$f":"IF($Y$1=\"BOIS\",RELEVE_COTES!$Q59,0)","v":{"$error":"#N/A"}},{"$f":"IF($Y$1=\"BANCHE\",$J11,0)","v":{"$error":"#N/A"}},{"$f":"IF($Y$1=\"BANCHE\",RELEVE_COTES!$L59,0)","v":{"$error":"#N/A"}},{"$f":"IF($Y$1=\"BANCHE\",10,0)","v":{"$error":"#N/A"}},{"$f":"IF($Y$1<>\"BANCHE\",$J11,0)","v":{"$error":"#N/A"}},{"$f":"IF($Y$1<>\"BANCHE\",RELEVE_COTES!$L59,0)","v":{"$error":"#N/A"}},{"$f":"IF($Y$1<>\"BANCHE\",RELEVE_COTES!$M59,20)","v":{"$error":"#N/A"}},{"$f":"IF($Y$1<>\"BANCHE\",RELEVE_COTES!$N59,0)","v":{"$error":"#N/A"}},{"$f":"RELEVE_COTES!$I$20","v":0},{"$f":"RELEVE_COTES!$C$11","v":0},{"$f":"RELEVE_COTES!$K$12","v":0},{"$f":"VLOOKUP(AA11,TabSeuilRef[],2,FALSE)","v":{"$error":"#N/A"}},0,{"$f":"\"Paumelles \"&RELEVE_COTES!$E$15","v":"Paumelles "},{"$f":"IF(RELEVE_COTES!$K$16=\"SANS\",RELEVE_COTES!$K$16,IF(RELEVE_COTES!$K$16=\"Intégré\",\"Intégré\",RELEVE_COTES!$K$16&\" / \"&VLOOKUP(RELEVE_COTES!$L$16,TabOptUsSerr[],2,FALSE)))","v":"SANS"},{"$f":"RELEVE_COTES!$K$11","v":0},{"$f":"\"OP: \"&IF(RELEVE_COTES!$E$12=\"Pr.Peint\",\"PP\",RELEVE_COTES!$G$12)&\"/FP: \"&IF(RELEVE_COTES!$E$13=\"Pr.Peint\",\"PP\",RELEVE_COTES!$G$13)","v":"OP: /FP: "},{"$f":"IF(RELEVE_COTES!$E$14=\"Pr.Peint\",\"PP\",VLOOKUP(RELEVE_COTES!$G$14,TabNuancHM[],2,FALSE))","v":"PP"},{"$f":"N11","v":{"$error":"#N/A"}},{"$f":"IF(RELEVE_COTES!$C$11 =\"R32S-R02\",\"OUI\",\"NON\")","v":"NON"},"NON",{"$f":"IF(AJ11=\"OUI\",\"SEMI FIXE\",\"\")","v":""},{"$f":"IF(AJ11=\"OUI\",RELEVE_COTES!$N$16,\"\")","v":""},null,{"$f":"VLOOKUP(RELEVE_COTES!$O$11,TabOptUsSerr[],2,FALSE)","v":"Usinage, fourniture et pose"},{"$f":"IF(RELEVE_COTES!$K$15<>\"SANS\",RELEVE_COTES!$L$15&\" \"&RELEVE_COTES!$K$15,\"\")&IF(RELEVE_COTES!$N$15<>\"SANS\",\" / PMR: \"&RELEVE_COTES!$O$15&\" \"&RELEVE_COTES!$N$15,\"SANS\")","v":"SANS"},{"$f":"IF(RELEVE_COTES!$K$14 <> \"SANS\",RELEVE_COTES!$O$14&\" \"&RELEVE_COTES!$K$14,\"\")","v":"U+F "},{"$f":"IF(RELEVE_COTES!$K$13 <> \"SANS\",RELEVE_COTES!$O$13&\" \"&RELEVE_COTES!$K$13,\"SANS\")","v":"U+F "},{"$f":"IF(RELEVE_COTES!$I$20 = \"Huisserie Bois\",RELEVE_COTES!$R59,IF(RELEVE_COTES!$I$20 = \"Huisserie Banchée\",RELEVE_COTES!$M59,IF(RELEVE_COTES!$I$20 = \"Bâti Scellé\",RELEVE_COTES!$O59,\"\")))","v":""},{"$f":"RELEVE_COTES!$E$12&\" / \"&RELEVE_COTES!$E$13","v":" SANS /  SANS"},"INT","VERINS + VERINS","NON",{"$f":"VLOOKUP(RELEVE_COTES!$K$11,TabSerrureRef[],3,FALSE)","v":{"$error":"#N/A"}},{"$f":"VLOOKUP(RELEVE_COTES!$K$11,TabSerrureRef[],6,FALSE)","v":{"$error":"#N/A"}}]
[{"$f":"G12+I12","v":0},{"$f":"F12+I12+I12","v":0},{"$f":"IF(RELEVE_COTES!$A60<>\"\",SUBSTITUTE(SUBSTITUTE(SUBSTITUTE(SUBSTITUTE(SUBSTITUTE(SUBSTITUTE(SUBSTITUTE(SUBSTITUTE(RELEVE_COTES!$A60,\" \",\"\"),\"-\",\"/\"),\".\",\"/\"),\"\\\",\"/\"),\",\",\"/\"),\"+\",\"_\"),\"&\",\"_\"),\"*\",\"/\"),\"\")","v":""},{"$f":"RELEVE_COTES!$B60","v":0},1,{"$f":"RELEVE_COTES!$C60","v":0},{"$f":"RELEVE_COTES!$D60","v":0},{"$f":"RELEVE_COTES!$E60","v":0},{"$f":"RELEVE_COTES!$F60","v":0},{"$f":"RELEVE_COTES!$G60","v":0},{"$f":"IF($D12=\"GP\",RELEVE_COTES!$I60,RELEVE_COTES!$H60)","v":0},{"$f":"IF($D12=\"GP\",RELEVE_COTES!$H60,RELEVE_COTES!$I60)","v":0},{"$f":"RELEVE_COTES!$J60","v":0},{"$f":"VLOOKUP(RELEVE_COTES!$K60,TabExistantRef1[],2,FALSE)","v":{"$error":"#N/A"}},{"$f":"IF($Y$1=\"BOIS\",RELEVE_COTES!$O60,0)","v":{"$error":"#N/A"}},{"$f":"IF($Y$1=\"BOIS\",RELEVE_COTES!$P60,0)","v":{"$error":"#N/A"}},{"$f":"IF($Y$1=\"BOIS\",RELEVE_COTES!$Q60,0)","v":{"$error":"#N/A"}},{"$f":"IF($Y$1=\"BANCHE\",$J12,0)","v":{"$error":"#N/A"}},{"$f":"IF($Y$1=\"BANCHE\",RELEVE_COTES!$L60,0)","v":{"$error":"#N/A"}},{"$f":"IF($Y$1=\"BANCHE\",10,0)","v":{"$error":"#N/A"}},{"$f":"IF($Y$1<>\"BANCHE\",$J12,0)","v":{"$error":"#N/A"}},{"$f":"IF($Y$1<>\"BANCHE\",RELEVE_COTES!$L60,0)","v":{"$error":"#N/A"}},{"$f":"IF($Y$1<>\"BANCHE\",RELEVE_COTES!$M60,20)","v":{"$error":"#N/A"}},{"$f":"IF($Y$1<>\"BANCHE\",RELEVE_COTES!$N60,0)","v":{"$error":"#N/A"}},{"$f":"RELEVE_COTES!$I$20","v":0},{"$f":"RELEVE_COTES!$C$11","v":0},{"$f":"RELEVE_COTES!$K$12","v":0},{"$f":"VLOOKUP(AA12,TabSeuilRef[],2,FALSE)","v":{"$error":"#N/A"}},0,{"$f":"\"Paumelles \"&RELEVE_COTES!$E$15","v":"Paumelles "},{"$f":"IF(RELEVE_COTES!$K$16=\"SANS\",RELEVE_COTES!$K$16,IF(RELEVE_COTES!$K$16=\"Intégré\",\"Intégré\",RELEVE_COTES!$K$16&\" / \"&VLOOKUP(RELEVE_COTES!$L$16,TabOptUsSerr[],2,FALSE)))","v":"SANS"},{"$f":"RELEVE_COTES!$K$11","v":0},{"$f":"\"OP: \"&IF(RELEVE_COTES!$E$12=\"Pr.Peint\",\"PP\",RELEVE_COTES!$G$12)&\"/FP: \"&IF(RELEVE_COTES!$E$13=\"Pr.Peint\",\"PP\",RELEVE_COTES!$G$13)","v":"OP: /FP: "},{"$f":"IF(RELEVE_COTES!$E$14=\"Pr.Peint\",\"PP\",VLOOKUP(RELEVE_COTES!$G$14,TabNuancHM[],2,FALSE))","v":"PP"},{"$f":"N12","v":{"$error":"#N/A"}},{"$f":"IF(RELEVE_COTES!$C$11 =\"R32S-R02\",\"OUI\",\"NON\")","v":"NON"},"NON",{"$f":"IF(AJ12=\"OUI\",\"SEMI FIXE\",\"\")","v":""},{"$f":"IF(AJ12=\"OUI\",RELEVE_COTES!$N$16,\"\")","v":""},null,{"$f":"VLOOKUP(RELEVE_COTES!$O$11,TabOptUsSerr[],2,FALSE)","v":"Usinage, fourniture et pose"},{"$f":"IF(RELEVE_COTES!$K$15<>\"SANS\",RELEVE_COTES!$L$15&\" \"&RELEVE_COTES!$K$15,\"\")&IF(RELEVE_COTES!$N$15<>\"SANS\",\" / PMR: \"&RELEVE_COTES!$O$15&\" \"&RELEVE_COTES!$N$15,\"SANS\")","v":"SANS"},{"$f":"IF(RELEVE_COTES!$K$14 <> \"SANS\",RELEVE_COTES!$O$14&\" \"&RELEVE_COTES!$K$14,\"\")","v":"U+F "},{"$f":"IF(RELEVE_COTES!$K$13 <> \"SANS\",RELEVE_COTES!$O$13&\" \"&RELEVE_COTES!$K$13,\"SANS\")","v":"U+F "},{"$f":"IF(RELEVE_COTES!$I$20 = \"Huisserie Bois\",RELEVE_COTES!$R60,IF(RELEVE_COTES!$I$20 = \"Huisserie Banchée\",RELEVE_COTES!$M60,IF(RELEVE_COTES!$I$20 = \"Bâti Scellé\",RELEVE_COTES!$O60,\"\")))","v":""},{"$f":"RELEVE_COTES!$E$12&\" / \"&RELEVE_COTES!$E$13","v":" SANS /  SANS"},"INT","VERINS + VERINS","NON",{"$f":"VLOOKUP(RELEVE_COTES!$K$11,TabSerrureRef[],3,FALSE)","v":{"$error":"#N/A"}},{"$f":"VLOOKUP(RELEVE_COTES!$K$11,TabSerrureRef[],6,FALSE)","v":{"$error":"#N/A"}}]
[0,0,{"$f":"IF(RELEVE_COTES!$A61<>\"\",SUBSTITUTE(SUBSTITUTE(SUBSTITUTE(SUBSTITUTE(SUBSTITUTE(SUBSTITUTE(SUBSTITUTE(SUBSTITUTE(RELEVE_COTES!$A61,\" \",\"\"),\"-\",\"/\"),\".\",\"/\"),\"\\\",\"/\"),\",\",\"/\"),\"+\",\"_\"),\"&\",\"_\"),\"*\",\"/\"),\"\")","v":""},{"$f":"RELEVE_COTES!$B61","v":0},1,{"$f":"RELEVE_COTES!$C61","v":0},{"$f":"RELEVE_COTES!$D61","v":0},{"$f":"RELEVE_COTES!$E61","v":0},{"$f":"RELEVE_COTES!$F61","v":0},{"$f":"RELEVE_COTES!$G61","v":0},{"$f":"IF($D13=\"GP\",RELEVE_COTES!$I61,RELEVE_COTES!$H61)","v":0},{"$f":"IF($D13=\"GP\",RELEVE_COTES!$H61,RELEVE_COTES!$I61)","v":0},{"$f":"RELEVE_COTES!$J61","v":0},{"$f":"VLOOKUP(RELEVE_COTES!$K61,TabExistantRef1[],2,FALSE)","v":{"$error":"#N/A"}},{"$f":"IF($Y$1=\"BOIS\",RELEVE_COTES!$O61,0)","v":{"$error":"#N/A"}},{"$f":"IF($Y$1=\"BOIS\",RELEVE_COTES!$P61,0)","v":{"$error":"#N/A"}},{"$f":"IF($Y$1=\"BOIS\",RELEVE_COTES!$Q61,0)","v":{"$error":"#N/A"}},{"$error":"#N/A"},{"$f":"IF($Y$1=\"BANCHE\",RELEVE_COTES!$L61,0)","v":{"$error":"#N/A"}},{"$error":"#N/A"},{"$error":"#N/A"},{"$f":"IF($Y$1<>\"BANCHE\",RELEVE_COTES!$L61,0)","v":{"$error":"#N/A"}},{"$f":"IF($Y$1<>\"BANCHE\",RELEVE_COTES!$M61,20)","v":{"$error":"#N/A"}},{"$f":"IF($Y$1<>\"BANCHE\",RELEVE_COTES!$N61,0)","v":{"$error":"#N/A"}},{"$f":"RELEVE_COTES!$I$20","v":0},{"$f":"RELEVE_COTES!$C$11","v":0},{"$f":"RELEVE_COTES!$K$12","v":0},{"$f":"VLOOKUP(AA13,TabSeuilRef[],2,FALSE)","v":{"$error":"#N/A"}},0,{"$f":"\"Paumelles \"&RELEVE_COTES!$E$15","v":"Paumelles "},{"$f":"IF(RELEVE_COTES!$K$16=\"SANS\",RELEVE_COTES!$K$16,IF(RELEVE_COTES!$K$16=\"Intégré\",\"Intégré\",RELEVE_COTES!$K$16&\" / \"&VLOOKUP(RELEVE_COTES!$L$16,TabOptUsSerr[],2,FALSE)))","v":"SANS"},{"$f":"RELEVE_COTES!$K$11","v":0},{"$f":"\"OP: \"&IF(RELEVE_COTES!$E$12=\"Pr.Peint\",\"PP\",RELEVE_COTES!$G$12)&\"/FP: \"&IF(RELEVE_COTES!$E$13=\"Pr.Peint\",\"PP\",RELEVE_COTES!$G$13)","v":"OP: /FP: "},{"$f":"IF(RELEVE_COTES!$E$14=\"Pr.Peint\",\"PP\",VLOOKUP(RELEVE_COTES!$G$14,TabNuancHM[],2,FALSE))","v":"PP"},{"$error":"#N/A"},{"$f":"IF(RELEVE_COTES!$C$11 =\"R32S-R02\",\"OUI\",\"NON\")","v":"NON"},"NON",{"$f":"IF(AJ13=\"OUI\",\"SEMI FIXE\",\"\")","v":""},{"$f":"IF(AJ13=\"OUI\",RELEVE_COTES!$N$16,\"\")","v":""},null,{"$f":"VLOOKUP(RELEVE_COTES!$O$11,TabOptUsSerr[],2,FALSE)","v":"Usinage, fourniture et pose"},{"$f":"IF(RELEVE_COTES!$K$15<>\"SANS\",RELEVE_COTES!$L$15&\" \"&RELEVE_COTES!$K$15,\"\")&IF(RELEVE_COTES!$N$15<>\"SANS\",\" / PMR: \"&RELEVE_COTES!$O$15&\" \"&RELEVE_COTES!$N$15,\"SANS\")","v":"SANS"},{"$f":"IF(RELEVE_COTES!$K$14 <> \"SANS\",RELEVE_COTES!$O$14&\" \"&RELEVE_COTES!$K$14,\"\")","v":"U+F "},{"$f":"IF(RELEVE_COTES!$K$13 <> \"SANS\",RELEVE_COTES!$O$13&\" \"&RELEVE_COTES!$K$13,\"SANS\")","v":"U+F "},{"$f":"IF(RELEVE_COTES!$I$20 = \"Huisserie Bois\",RELEVE_COTES!$R61,IF(RELEVE_COTES!$I$20 = \"Huisserie Banchée\",RELEVE_COTES!$M61,IF(RELEVE_COTES!$I$20 = \"Bâti Scellé\",RELEVE_COTES!$O61,\"\")))","v":""},{"$f":"RELEVE_COTES!$E$12&\" / \"&RELEVE_COTES!$E$13","v":" SANS /  SANS"},"INT","VERINS + VERINS","NON",{"$f":"VLOOKUP(RELEVE_COTES!$K$11,TabSerrureRef[],3,FALSE)","v":{"$error":"#N/A"}},{"$f":"VLOOKUP(RELEVE_COTES!$K$11,TabSerrureRef[],6,FALSE)","v":{"$error":"#N/A"}}]
[0,0,{"$f":"IF(RELEVE_COTES!$A62<>\"\",SUBSTITUTE(SUBSTITUTE(SUBSTITUTE(SUBSTITUTE(SUBSTITUTE(SUBSTITUTE(SUBSTITUTE(SUBSTITUTE(RELEVE_COTES!$A62,\" \",\"\"),\"-\",\"/\"),\".\",\"/\"),\"\\\",\"/\"),\",\",\"/\"),\"+\",\"_\"),\"&\",\"_\"),\"*\",\"/\"),\"\")","v":""},{"$f":"RELEVE_COTES!$B62","v":0},1,{"$f":"RELEVE_COTES!$C62","v":0},{"$f":"RELEVE_COTES!$D62","v":0},{"$f":"RELEVE_COTES!$E62","v":0},{"$f":"RELEVE_COTES!$F62","v":0},{"$f":"RELEVE_COTES!$G62","v":0},{"$f":"IF($D14=\"GP\",RELEVE_COTES!$I62,RELEVE_COTES!$H62)","v":0},{"$f":"IF($D14=\"GP\",RELEVE_COTES!$H62,RELEVE_COTES!$I62)","v":0},{"$f":"RELEVE_COTES!$J62","v":0},{"$f":"VLOOKUP(RELEVE_COTES!$K62,TabExistantRef1[],2,FALSE)","v":{"$error":"#N/A"}},{"$f":"IF($Y$1=\"BOIS\",RELEVE_COTES!$O62,0)","v":{"$error":"#N/A"}},{"$f":"IF($Y$1=\"BOIS\",RELEVE_COTES!$P62,0)","v":{"$error":"#N/A"}},{"$f":"IF($Y$1=\"BOIS\",RELEVE_COTES!$Q62,0)","v":{"$error":"#N/A"}},{"$error":"#N/A"},{"$f":"IF($Y$1=\"BANCHE\",RELEVE_COTES!$L62,0)","v":{"$error":"#N/A"}},{"$error":"#N/A"},{"$error":"#N/A"},{"$f":"IF($Y$1<>\"BANCHE\",RELEVE_COTES!$L62,0)","v":{"$error":"#N/A"}},{"$f":"IF($Y$1<>\"BANCHE\",RELEVE_COTES!$M62,20)","v":{"$error":"#N/A"}},{"$f":"IF($Y$1<>\"BANCHE\",RELEVE_COTES!$N62,0)","v":{"$error":"#N/A"}},{"$f":"RELEVE_COTES!$I$20","v":0},{"$f":"RELEVE_COTES!$C$11","v":0},{"$f":"RELEVE_COTES!$K$12","v":0},{"$f":"VLOOKUP(AA14,TabSeuilRef[],2,FALSE)","v":{"$error":"#N/A"}},0,{"$f":"\"Paumelles \"&RELEVE_COTES!$E$15","v":"Paumelles "},{"$f":"IF(RELEVE_COTES!$K$16=\"SANS\",RELEVE_COTES!$K$16,IF(RELEVE_COTES!$K$16=\"Intégré\",\"Intégré\",RELEVE_COTES!$K$16&\" / \"&VLOOKUP(RELEVE_COTES!$L$16,TabOptUsSerr[],2,FALSE)))","v":"SANS"},{"$f":"RELEVE_COTES!$K$11","v":0},{"$f":"\"OP: \"&IF(RELEVE_COTES!$E$12=\"Pr.Peint\",\"PP\",RELEVE_COTES!$G$12)&\"/FP: \"&IF(RELEVE_COTES!$E$13=\"Pr.Peint\",\"PP\",RELEVE_COTES!$G$13)","v":"OP: /FP: "},{"$f":"IF(RELEVE_COTES!$E$14=\"Pr.Peint\",\"PP\",VLOOKUP(RELEVE_COTES!$G$14,TabNuancHM[],2,FALSE))","v":"PP"},{"$error":"#N/A"},{"$f":"IF(RELEVE_COTES!$C$11 =\"R32S-R02\",\"OUI\",\"NON\")","v":"NON"},"NON","",{"$f":"IF(AJ14=\"OUI\",RELEVE_COTES!$N$16,\"\")","v":""},null,{"$f":"VLOOKUP(RELEVE_COTES!$O$11,TabOptUsSerr[],2,FALSE)","v":"Usinage, fourniture et pose"},{"$f":"IF(RELEVE_COTES!$K$15<>\"SANS\",RELEVE_COTES!$L$15&\" \"&RELEVE_COTES!$K$15,\"\")&IF(RELEVE_COTES!$N$15<>\"SANS\",\" / PMR: \"&RELEVE_COTES!$O$15&\" \"&RELEVE_COTES!$N$15,\"SANS\")","v":"SANS"},{"$f":"IF(RELEVE_COTES!$K$14 <> \"SANS\",RELEVE_COTES!$O$14&\" \"&RELEVE_COTES!$K$14,\"\")","v":"U+F "},{"$f":"IF(RELEVE_COTES!$K$13 <> \"SANS\",RELEVE_COTES!$O$13&\" \"&RELEVE_COTES!$K$13,\"SANS\")","v":"U+F "},{"$f":"IF(RELEVE_COTES!$I$20 = \"Huisserie Bois\",RELEVE_COTES!$R62,IF(RELEVE_COTES!$I$20 = \"Huisserie Banchée\",RELEVE_COTES!$M62,IF(RELEVE_COTES!$I$20 = \"Bâti Scellé\",RELEVE_COTES!$O62,\"\")))","v":""},{"$f":"RELEVE_COTES!$E$12&\" / \"&RELEVE_COTES!$E$13","v":" SANS /  SANS"},"INT","VERINS + VERINS","NON",{"$f":"VLOOKUP(RELEVE_COTES!$K$11,TabSerrureRef[],3,FALSE)","v":{"$error":"#N/A"}},{"$f":"VLOOKUP(RELEVE_COTES!$K$11,TabSerrureRef[],6,FALSE)","v":{"$error":"#N/A"}}]
[0,0,{"$f":"IF(RELEVE_COTES!$A63<>\"\",SUBSTITUTE(SUBSTITUTE(SUBSTITUTE(SUBSTITUTE(SUBSTITUTE(SUBSTITUTE(SUBSTITUTE(SUBSTITUTE(RELEVE_COTES!$A63,\" \",\"\"),\"-\",\"/\"),\".\",\"/\"),\"\\\",\"/\"),\",\",\"/\"),\"+\",\"_\"),\"&\",\"_\"),\"*\",\"/\"),\"\")","v":""},{"$f":"RELEVE_COTES!$B63","v":0},1,{"$f":"RELEVE_COTES!$C63","v":0},{"$f":"RELEVE_COTES!$D63","v":0},{"$f":"RELEVE_COTES!$E63","v":0},{"$f":"RELEVE_COTES!$F63","v":0},{"$f":"RELEVE_COTES!$G63","v":0},{"$f":"IF($D15=\"GP\",RELEVE_COTES!$I63,RELEVE_COTES!$H63)","v":0},{"$f":"IF($D15=\"GP\",RELEVE_COTES!$H63,RELEVE_COTES!$I63)","v":0},{"$f":"RELEVE_COTES!$J63","v":0},{"$f":"VLOOKUP(RELEVE_COTES!$K63,TabExistantRef1[],2,FALSE)","v":{"$error":"#N/A"}},{"$f":"IF($Y$1=\"BOIS\",RELEVE_COTES!$O63,0)","v":{"$error":"#N/A"}},{"$f":"IF($Y$1=\"BOIS\",RELEVE_COTES!$P63,0)","v":{"$error":"#N/A"}},{"$f":"IF($Y$1=\"BOIS\",RELEVE_COTES!$Q63,0)","v":{"$error":"#N/A"}},{"$error":"#N/A"},{"$f":"IF($Y$1=\"BANCHE\",RELEVE_COTES!$L63,0)","v":{"$error":"#N/A"}},{"$error":"#N/A"},{"$error":"#N/A"},{"$f":"IF($Y$1<>\"BANCHE\",RELEVE_COTES!$L63,0)","v":{"$error":"#N/A"}},{"$f":"IF($Y$1<>\"BANCHE\",RELEVE_COTES!$M63,20)","v":{"$error":"#N/A"}},{"$f":"IF($Y$1<>\"BANCHE\",RELEVE_COTES!$N63,0)","v":{"$error":"#N/A"}},{"$f":"RELEVE_COTES!$I$20","v":0},{"$f":"RELEVE_COTES!$C$11","v":0},{"$f":"RELEVE_COTES!$K$12","v":0},{"$f":"VLOOKUP(AA15,TabSeuilRef[],2,FALSE)","v":{"$error":"#N/A"}},0,{"$f":"\"Paumelles \"&RELEVE_COTES!$E$15","v":"Paumelles "},{"$f":"IF(RELEVE_COTES!$K$16=\"SANS\",RELEVE_COTES!$K$16,IF(RELEVE_COTES!$K$16=\"Intégré\",\"Intégré\",RELEVE_COTES!$K$16&\" / \"&VLOOKUP(RELEVE_COTES!$L$16,TabOptUsSerr[],2,FALSE)))","v":"SANS"},{"$f":"RELEVE_COTES!$K$11","v":0},{"$f":"\"OP: \"&IF(RELEVE_COTES!$E$12=\"Pr.Peint\",\"PP\",RELEVE_COTES!$G$12)&\"/FP: \"&IF(RELEVE_COTES!$E$13=\"Pr.Peint\",\"PP\",RELEVE_COTES!$G$13)","v":"OP: /FP: "},{"$f":"IF(RELEVE_COTES!$E$14=\"Pr.Peint\",\"PP\",VLOOKUP(RELEVE_COTES!$G$14,TabNuancHM[],2,FALSE))","v":"PP"},{"$error":"#N/A"},{"$f":"IF(RELEVE_COTES!$C$11 =\"R32S-R02\",\"OUI\",\"NON\")","v":"NON"},"NON","",{"$f":"IF(AJ15=\"OUI\",RELEVE_COTES!$N$16,\"\")","v":""},null,{"$f":"VLOOKUP(RELEVE_COTES!$O$11,TabOptUsSerr[],2,FALSE)","v":"Usinage, fourniture et pose"},{"$f":"IF(RELEVE_COTES!$K$15<>\"SANS\",RELEVE_COTES!$L$15&\" \"&RELEVE_COTES!$K$15,\"\")&IF(RELEVE_COTES!$N$15<>\"SANS\",\" / PMR: \"&RELEVE_COTES!$O$15&\" \"&RELEVE_COTES!$N$15,\"SANS\")","v":"SANS"},{"$f":"IF(RELEVE_COTES!$K$14 <> \"SANS\",RELEVE_COTES!$O$14&\" \"&RELEVE_COTES!$K$14,\"\")","v":"U+F "},{"$f":"IF(RELEVE_COTES!$K$13 <> \"SANS\",RELEVE_COTES!$O$13&\" \"&RELEVE_COTES!$K$13,\"SANS\")","v":"U+F "},{"$f":"IF(RELEVE_COTES!$I$20 = \"Huisserie Bois\",RELEVE_COTES!$R63,IF(RELEVE_COTES!$I$20 = \"Huisserie Banchée\",RELEVE_COTES!$M63,IF(RELEVE_COTES!$I$20 = \"Bâti Scellé\",RELEVE_COTES!$O63,\"\")))","v":""},{"$f":"RELEVE_COTES!$E$12&\" / \"&RELEVE_COTES!$E$13","v":" SANS /  SANS"},"INT","VERINS + VERINS","NON",{"$f":"VLOOKUP(RELEVE_COTES!$K$11,TabSerrureRef[],3,FALSE)","v":{"$error":"#N/A"}},{"$f":"VLOOKUP(RELEVE_COTES!$K$11,TabSerrureRef[],6,FALSE)","v":{"$error":"#N/A"}}]
[0,0,{"$f":"IF(RELEVE_COTES!$A64<>\"\",SUBSTITUTE(SUBSTITUTE(SUBSTITUTE(SUBSTITUTE(SUBSTITUTE(SUBSTITUTE(SUBSTITUTE(SUBSTITUTE(RELEVE_COTES!$A64,\" \",\"\"),\"-\",\"/\"),\".\",\"/\"),\"\\\",\"/\"),\",\",\"/\"),\"+\",\"_\"),\"&\",\"_\"),\"*\",\"/\"),\"\")","v":""},{"$f":"RELEVE_COTES!$B64","v":0},1,{"$f":"RELEVE_COTES!$C64","v":0},{"$f":"RELEVE_COTES!$D64","v":0},{"$f":"RELEVE_COTES!$E64","v":0},{"$f":"RELEVE_COTES!$F64","v":0},{"$f":"RELEVE_COTES!$G64","v":0},{"$f":"IF($D16=\"GP\",RELEVE_COTES!$I64,RELEVE_COTES!$H64)","v":0},{"$f":"IF($D16=\"GP\",RELEVE_COTES!$H64,RELEVE_COTES!$I64)","v":0},{"$f":"RELEVE_COTES!$J64","v":0},{"$f":"VLOOKUP(RELEVE_COTES!$K64,TabExistantRef1[],2,FALSE)","v":{"$error":"#N/A"}},{"$f":"IF($Y$1=\"BOIS\",RELEVE_COTES!$O64,0)","v":{"$error":"#N/A"}},{"$f":"IF($Y$1=\"BOIS\",RELEVE_COTES!$P64,0)","v":{"$error":"#N/A"}},{"$f":"IF($Y$1=\"BOIS\",RELEVE_COTES!$Q64,0)","v":{"$error":"#N/A"}},{"$error":"#N/A"},{"$f":"IF($Y$1=\"BANCHE\",RELEVE_COTES!$L64,0)","v":{"$error":"#N/A"}},{"$error":"#N/A"},{"$error":"#N/A"},{"$f":"IF($Y$1<>\"BANCHE\",RELEVE_COTES!$L64,0)","v":{"$error":"#N/A"}},{"$f":"IF($Y$1<>\"BANCHE\",RELEVE_COTES!$M64,20)","v":{"$error":"#N/A"}},{"$f":"IF($Y$1<>\"BANCHE\",RELEVE_COTES!$N64,0)","v":{"$error":"#N/A"}},{"$f":"RELEVE_COTES!$I$20","v":0},{"$f":"RELEVE_COTES!$C$11","v":0},{"$f":"RELEVE_COTES!$K$12","v":0},{"$f":"VLOOKUP(AA16,TabSeuilRef[],2,FALSE)","v":{"$error":"#N/A"}},0,{"$f":"\"Paumelles \"&RELEVE_COTES!$E$15","v":"Paumelles "},{"$f":"IF(RELEVE_COTES!$K$16=\"SANS\",RELEVE_COTES!$K$16,IF(RELEVE_COTES!$K$16=\"Intégré\",\"Intégré\",RELEVE_COTES!$K$16&\" / \"&VLOOKUP(RELEVE_COTES!$L$16,TabOptUsSerr[],2,FALSE)))","v":"SANS"},{"$f":"RELEVE_COTES!$K$11","v":0},{"$f":"\"OP: \"&IF(RELEVE_COTES!$E$12=\"Pr.Peint\",\"PP\",RELEVE_COTES!$G$12)&\"/FP: \"&IF(RELEVE_COTES!$E$13=\"Pr.Peint\",\"PP\",RELEVE_COTES!$G$13)","v":"OP: /FP: "},{"$f":"IF(RELEVE_COTES!$E$14=\"Pr.Peint\",\"PP\",VLOOKUP(RELEVE_COTES!$G$14,TabNuancHM[],2,FALSE))","v":"PP"},{"$error":"#N/A"},{"$f":"IF(RELEVE_COTES!$C$11 =\"R32S-R02\",\"OUI\",\"NON\")","v":"NON"},"NON","",{"$f":"IF(AJ16=\"OUI\",RELEVE_COTES!$N$16,\"\")","v":""},null,{"$f":"VLOOKUP(RELEVE_COTES!$O$11,TabOptUsSerr[],2,FALSE)","v":"Usinage, fourniture et pose"},{"$f":"IF(RELEVE_COTES!$K$15<>\"SANS\",RELEVE_COTES!$L$15&\" \"&RELEVE_COTES!$K$15,\"\")&IF(RELEVE_COTES!$N$15<>\"SANS\",\" / PMR: \"&RELEVE_COTES!$O$15&\" \"&RELEVE_COTES!$N$15,\"SANS\")","v":"SANS"},{"$f":"IF(RELEVE_COTES!$K$14 <> \"SANS\",RELEVE_COTES!$O$14&\" \"&RELEVE_COTES!$K$14,\"\")","v":"U+F "},{"$f":"IF(RELEVE_COTES!$K$13 <> \"SANS\",RELEVE_COTES!$O$13&\" \"&RELEVE_COTES!$K$13,\"SANS\")","v":"U+F "},{"$f":"IF(RELEVE_COTES!$I$20 = \"Huisserie Bois\",RELEVE_COTES!$R64,IF(RELEVE_COTES!$I$20 = \"Huisserie Banchée\",RELEVE_COTES!$M64,IF(RELEVE_COTES!$I$20 = \"Bâti Scellé\",RELEVE_COTES!$O64,\"\")))","v":""},{"$f":"RELEVE_COTES!$E$12&\" / \"&RELEVE_COTES!$E$13","v":" SANS /  SANS"},"INT","VERINS + VERINS","NON",{"$f":"VLOOKUP(RELEVE_COTES!$K$11,TabSerrureRef[],3,FALSE)","v":{"$error":"#N/A"}},{"$f":"VLOOKUP(RELEVE_COTES!$K$11,TabSerrureRef[],6,FALSE)","v":{"$error":"#N/A"}}]
[0,0,{"$f":"IF(RELEVE_COTES!$A65<>\"\",SUBSTITUTE(SUBSTITUTE(SUBSTITUTE(SUBSTITUTE(SUBSTITUTE(SUBSTITUTE(SUBSTITUTE(SUBSTITUTE(RELEVE_COTES!$A65,\" \",\"\"),\"-\",\"/\"),\".\",\"/\"),\"\\\",\"/\"),\",\",\"/\"),\"+\",\"_\"),\"&\",\"_\"),\"*\",\"/\"),\"\")","v":""},{"$f":"RELEVE_COTES!$B65","v":0},1,{"$f":"RELEVE_COTES!$C65","v":0},{"$f":"RELEVE_COTES!$D65","v":0},{"$f":"RELEVE_COTES!$E65","v":0},{"$f":"RELEVE_COTES!$F65","v":0},{"$f":"RELEVE_COTES!$G65","v":0},{"$f":"IF($D17=\"GP\",RELEVE_COTES!$I65,RELEVE_COTES!$H65)","v":0},{"$f":"IF($D17=\"GP\",RELEVE_COTES!$H65,RELEVE_COTES!$I65)","v":0},{"$f":"RELEVE_COTES!$J65","v":0},{"$f":"VLOOKUP(RELEVE_COTES!$K65,TabExistantRef1[],2,FALSE)","v":{"$error":"#N/A"}},{"$f":"IF($Y$1=\"BOIS\",RELEVE_COTES!$O65,0)","v":{"$error":"#N/A"}},{"$f":"IF($Y$1=\"BOIS\",RELEVE_COTES!$P65,0)","v":{"$error":"#N/A"}},{"$f":"IF($Y$1=\"BOIS\",RELEVE_COTES!$Q65,0)","v":{"$error":"#N/A"}},{"$error":"#N/A"},{"$f":"IF($Y$1=\"BANCHE\",RELEVE_COTES!$L65,0)","v":{"$error":"#N/A"}},{"$error":"#N/A"},{"$error":"#N/A"},{"$f":"IF($Y$1<>\"BANCHE\",RELEVE_COTES!$L65,0)","v":{"$error":"#N/A"}},{"$f":"IF($Y$1<>\"BANCHE\",RELEVE_COTES!$M65,20)","v":{"$error":"#N/A"}},{"$f":"IF($Y$1<>\"BANCHE\",RELEVE_COTES!$N65,0)","v":{"$error":"#N/A"}},{"$f":"RELEVE_COTES!$I$20","v":0},{"$f":"RELEVE_COTES!$C$11","v":0},{"$f":"RELEVE_COTES!$K$12","v":0},{"$f":"VLOOKUP(AA17,TabSeuilRef[],2,FALSE)","v":{"$error":"#N/A"}},0,{"$f":"\"Paumelles \"&RELEVE_COTES!$E$15","v":"Paumelles "},{"$f":"IF(RELEVE_COTES!$K$16=\"SANS\",RELEVE_COTES!$K$16,IF(RELEVE_COTES!$K$16=\"Intégré\",\"Intégré\",RELEVE_COTES!$K$16&\" / \"&VLOOKUP(RELEVE_COTES!$L$16,TabOptUsSerr[],2,FALSE)))","v":"SANS"},{"$f":"RELEVE_COTES!$K$11","v":0},{"$f":"\"OP: \"&IF(RELEVE_COTES!$E$12=\"Pr.Peint\",\"PP\",RELEVE_COTES!$G$12)&\"/FP: \"&IF(RELEVE_COTES!$E$13=\"Pr.Peint\",\"PP\",RELEVE_COTES!$G$13)","v":"OP: /FP: "},{"$f":"IF(RELEVE_COTES!$E$14=\"Pr.Peint\",\"PP\",VLOOKUP(RELEVE_COTES!$G$14,TabNuancHM[],2,FALSE))","v":"PP"},{"$error":"#N/A"},{"$f":"IF(RELEVE_COTES!$C$11 =\"R32S-R02\",\"OUI\",\"NON\")","v":"NON"},"NON","",{"$f":"IF(AJ17=\"OUI\",RELEVE_COTES!$N$16,\"\")","v":""},null,{"$f":"VLOOKUP(RELEVE_COTES!$O$11,TabOptUsSerr[],2,FALSE)","v":"Usinage, fourniture et pose"},{"$f":"IF(RELEVE_COTES!$K$15<>\"SANS\",RELEVE_COTES!$L$15&\" \"&RELEVE_COTES!$K$15,\"\")&IF(RELEVE_COTES!$N$15<>\"SANS\",\" / PMR: \"&RELEVE_COTES!$O$15&\" \"&RELEVE_COTES!$N$15,\"SANS\")","v":"SANS"},{"$f":"IF(RELEVE_COTES!$K$14 <> \"SANS\",RELEVE_COTES!$O$14&\" \"&RELEVE_COTES!$K$14,\"\")","v":"U+F "},{"$f":"IF(RELEVE_COTES!$K$13 <> \"SANS\",RELEVE_COTES!$O$13&\" \"&RELEVE_COTES!$K$13,\"SANS\")","v":"U+F "},{"$f":"IF(RELEVE_COTES!$I$20 = \"Huisserie Bois\",RELEVE_COTES!$R65,IF(RELEVE_COTES!$I$20 = \"Huisserie Banchée\",RELEVE_COTES!$M65,IF(RELEVE_COTES!$I$20 = \"Bâti Scellé\",RELEVE_COTES!$O65,\"\")))","v":""},{"$f":"RELEVE_COTES!$E$12&\" / \"&RELEVE_COTES!$E$13","v":" SANS /  SANS"},"INT","VERINS + VERINS","NON",{"$f":"VLOOKUP(RELEVE_COTES!$K$11,TabSerrureRef[],3,FALSE)","v":{"$error":"#N/A"}},{"$f":"VLOOKUP(RELEVE_COTES!$K$11,TabSerrureRef[],6,FALSE)","v":{"$error":"#N/A"}}]
[0,0,{"$f":"IF(RELEVE_COTES!$A66<>\"\",SUBSTITUTE(SUBSTITUTE(SUBSTITUTE(SUBSTITUTE(SUBSTITUTE(SUBSTITUTE(SUBSTITUTE(SUBSTITUTE(RELEVE_COTES!$A66,\" \",\"\"),\"-\",\"/\"),\".\",\"/\"),\"\\\",\"/\"),\",\",\"/\"),\"+\",\"_\"),\"&\",\"_\"),\"*\",\"/\"),\"\")","v":""},{"$f":"RELEVE_COTES!$B66","v":0},1,{"$f":"RELEVE_COTES!$C66","v":0},{"$f":"RELEVE_COTES!$D66","v":0},{"$f":"RELEVE_COTES!$E66","v":0},{"$f":"RELEVE_COTES!$F66","v":0},{"$f":"RELEVE_COTES!$G66","v":0},{"$f":"IF($D18=\"GP\",RELEVE_COTES!$I66,RELEVE_COTES!$H66)","v":0},{"$f":"IF($D18=\"GP\",RELEVE_COTES!$H66,RELEVE_COTES!$I66)","v":0},{"$f":"RELEVE_COTES!$J66","v":0},{"$f":"VLOOKUP(RELEVE_COTES!$K66,TabExistantRef1[],2,FALSE)","v":{"$error":"#N/A"}},{"$f":"IF($Y$1=\"BOIS\",RELEVE_COTES!$O66,0)","v":{"$error":"#N/A"}},{"$f":"IF($Y$1=\"BOIS\",RELEVE_COTES!$P66,0)","v":{"$error":"#N/A"}},{"$f":"IF($Y$1=\"BOIS\",RELEVE_COTES!$Q66,0)","v":{"$error":"#N/A"}},{"$error":"#N/A"},{"$f":"IF($Y$1=\"BANCHE\",RELEVE_COTES!$L66,0)","v":{"$error":"#N/A"}},{"$error":"#N/A"},{"$error":"#N/A"},{"$f":"IF($Y$1<>\"BANCHE\",RELEVE_COTES!$L66,0)","v":{"$error":"#N/A"}},{"$f":"IF($Y$1<>\"BANCHE\",RELEVE_COTES!$M66,20)","v":{"$error":"#N/A"}},{"$f":"IF($Y$1<>\"BANCHE\",RELEVE_COTES!$N66,0)","v":{"$error":"#N/A"}},{"$f":"RELEVE_COTES!$I$20","v":0},{"$f":"RELEVE_COTES!$C$11","v":0},{"$f":"RELEVE_COTES!$K$12","v":0},{"$f":"VLOOKUP(AA18,TabSeuilRef[],2,FALSE)","v":{"$error":"#N/A"}},0,{"$f":"\"Paumelles \"&RELEVE_COTES!$E$15","v":"Paumelles "},{"$f":"IF(RELEVE_COTES!$K$16=\"SANS\",RELEVE_COTES!$K$16,IF(RELEVE_COTES!$K$16=\"Intégré\",\"Intégré\",RELEVE_COTES!$K$16&\" / \"&VLOOKUP(RELEVE_COTES!$L$16,TabOptUsSerr[],2,FALSE)))","v":"SANS"},{"$f":"RELEVE_COTES!$K$11","v":0},{"$f":"\"OP: \"&IF(RELEVE_COTES!$E$12=\"Pr.Peint\",\"PP\",RELEVE_COTES!$G$12)&\"/FP: \"&IF(RELEVE_COTES!$E$13=\"Pr.Peint\",\"PP\",RELEVE_COTES!$G$13)","v":"OP: /FP: "},{"$f":"IF(RELEVE_COTES!$E$14=\"Pr.Peint\",\"PP\",VLOOKUP(RELEVE_COTES!$G$14,TabNuancHM[],2,FALSE))","v":"PP"},{"$error":"#N/A"},{"$f":"IF(RELEVE_COTES!$C$11 =\"R32S-R02\",\"OUI\",\"NON\")","v":"NON"},"NON","",{"$f":"IF(AJ18=\"OUI\",RELEVE_COTES!$N$16,\"\")","v":""},null,{"$f":"VLOOKUP(RELEVE_COTES!$O$11,TabOptUsSerr[],2,FALSE)","v":"Usinage, fourniture et pose"},{"$f":"IF(RELEVE_COTES!$K$15<>\"SANS\",RELEVE_COTES!$L$15&\" \"&RELEVE_COTES!$K$15,\"\")&IF(RELEVE_COTES!$N$15<>\"SANS\",\" / PMR: \"&RELEVE_COTES!$O$15&\" \"&RELEVE_COTES!$N$15,\"SANS\")","v":"SANS"},{"$f":"IF(RELEVE_COTES!$K$14 <> \"SANS\",RELEVE_COTES!$O$14&\" \"&RELEVE_COTES!$K$14,\"\")","v":"U+F "},{"$f":"IF(RELEVE_COTES!$K$13 <> \"SANS\",RELEVE_COTES!$O$13&\" \"&RELEVE_COTES!$K$13,\"SANS\")","v":"U+F "},{"$f":"IF(RELEVE_COTES!$I$20 = \"Huisserie Bois\",RELEVE_COTES!$R66,IF(RELEVE_COTES!$I$20 = \"Huisserie Banchée\",RELEVE_COTES!$M66,IF(RELEVE_COTES!$I$20 = \"Bâti Scellé\",RELEVE_COTES!$O66,\"\")))","v":""},{"$f":"RELEVE_COTES!$E$12&\" / \"&RELEVE_COTES!$E$13","v":" SANS /  SANS"},"INT","VERINS + VERINS","NON",{"$f":"VLOOKUP(RELEVE_COTES!$K$11,TabSerrureRef[],3,FALSE)","v":{"$error":"#N/A"}},{"$f":"VLOOKUP(RELEVE_COTES!$K$11,TabSerrureRef[],6,FALSE)","v":{"$error":"#N/A"}}]
[0,0,{"$f":"IF(RELEVE_COTES!$A67<>\"\",SUBSTITUTE(SUBSTITUTE(SUBSTITUTE(SUBSTITUTE(SUBSTITUTE(SUBSTITUTE(SUBSTITUTE(SUBSTITUTE(RELEVE_COTES!$A67,\" \",\"\"),\"-\",\"/\"),\".\",\"/\"),\"\\\",\"/\"),\",\",\"/\"),\"+\",\"_\"),\"&\",\"_\"),\"*\",\"/\"),\"\")","v":""},{"$f":"RELEVE_COTES!$B67","v":0},1,{"$f":"RELEVE_COTES!$C67","v":0},{"$f":"RELEVE_COTES!$D67","v":0},{"$f":"RELEVE_COTES!$E67","v":0},{"$f":"RELEVE_COTES!$F67","v":0},{"$f":"RELEVE_COTES!$G67","v":0},{"$f":"IF($D19=\"GP\",RELEVE_COTES!$I67,RELEVE_COTES!$H67)","v":0},{"$f":"IF($D19=\"GP\",RELEVE_COTES!$H67,RELEVE_COTES!$I67)","v":0},{"$f":"RELEVE_COTES!$J67","v":0},{"$f":"VLOOKUP(RELEVE_COTES!$K67,TabExistantRef1[],2,FALSE)","v":{"$error":"#N/A"}},{"$f":"IF($Y$1=\"BOIS\",RELEVE_COTES!$O67,0)","v":{"$error":"#N/A"}},{"$f":"IF($Y$1=\"BOIS\",RELEVE_COTES!$P67,0)","v":{"$error":"#N/A"}},{"$f":"IF($Y$1=\"BOIS\",RELEVE_COTES!$Q67,0)","v":{"$error":"#N/A"}},{"$error":"#N/A"},{"$f":"IF($Y$1=\"BANCHE\",RELEVE_COTES!$L67,0)","v":{"$error":"#N/A"}},{"$error":"#N/A"},{"$error":"#N/A"},{"$f":"IF($Y$1<>\"BANCHE\",RELEVE_COTES!$L67,0)","v":{"$error":"#N/A"}},{"$f":"IF($Y$1<>\"BANCHE\",RELEVE_COTES!$M67,20)","v":{"$error":"#N/A"}},{"$f":"IF($Y$1<>\"BANCHE\",RELEVE_COTES!$N67,0)","v":{"$error":"#N/A"}},{"$f":"RELEVE_COTES!$I$20","v":0},{"$f":"RELEVE_COTES!$C$11","v":0},{"$f":"RELEVE_COTES!$K$12","v":0},{"$f":"VLOOKUP(AA19,TabSeuilRef[],2,FALSE)","v":{"$error":"#N/A"}},0,{"$f":"\"Paumelles \"&RELEVE_COTES!$E$15","v":"Paumelles "},{"$f":"IF(RELEVE_COTES!$K$16=\"SANS\",RELEVE_COTES!$K$16,IF(RELEVE_COTES!$K$16=\"Intégré\",\"Intégré\",RELEVE_COTES!$K$16&\" / \"&VLOOKUP(RELEVE_COTES!$L$16,TabOptUsSerr[],2,FALSE)))","v":"SANS"},{"$f":"RELEVE_COTES!$K$11","v":0},{"$f":"\"OP: \"&IF(RELEVE_COTES!$E$12=\"Pr.Peint\",\"PP\",RELEVE_COTES!$G$12)&\"/FP: \"&IF(RELEVE_COTES!$E$13=\"Pr.Peint\",\"PP\",RELEVE_COTES!$G$13)","v":"OP: /FP: "},{"$f":"IF(RELEVE_COTES!$E$14=\"Pr.Peint\",\"PP\",VLOOKUP(RELEVE_COTES!$G$14,TabNuancHM[],2,FALSE))","v":"PP"},{"$error":"#N/A"},{"$f":"IF(RELEVE_COTES!$C$11 =\"R32S-R02\",\"OUI\",\"NON\")","v":"NON"},"NON","",{"$f":"IF(AJ19=\"OUI\",RELEVE_COTES!$N$16,\"\")","v":""},null,{"$f":"VLOOKUP(RELEVE_COTES!$O$11,TabOptUsSerr[],2,FALSE)","v":"Usinage, fourniture et pose"},{"$f":"IF(RELEVE_COTES!$K$15<>\"SANS\",RELEVE_COTES!$L$15&\" \"&RELEVE_COTES!$K$15,\"\")&IF(RELEVE_COTES!$N$15<>\"SANS\",\" / PMR: \"&RELEVE_COTES!$O$15&\" \"&RELEVE_COTES!$N$15,\"SANS\")","v":"SANS"},{"$f":"IF(RELEVE_COTES!$K$14 <> \"SANS\",RELEVE_COTES!$O$14&\" \"&RELEVE_COTES!$K$14,\"\")","v":"U+F "},{"$f":"IF(RELEVE_COTES!$K$13 <> \"SANS\",RELEVE_COTES!$O$13&\" \"&RELEVE_COTES!$K$13,\"SANS\")","v":"U+F "},{"$f":"IF(RELEVE_COTES!$I$20 = \"Huisserie Bois\",RELEVE_COTES!$R67,IF(RELEVE_COTES!$I$20 = \"Huisserie Banchée\",RELEVE_COTES!$M67,IF(RELEVE_COTES!$I$20 = \"Bâti Scellé\",RELEVE_COTES!$O67,\"\")))","v":""},{"$f":"RELEVE_COTES!$E$12&\" / \"&RELEVE_COTES!$E$13","v":" SANS /  SANS"},"INT","VERINS + VERINS","NON",{"$f":"VLOOKUP(RELEVE_COTES!$K$11,TabSerrureRef[],3,FALSE)","v":{"$error":"#N/A"}},{"$f":"VLOOKUP(RELEVE_COTES!$K$11,TabSerrureRef[],6,FALSE)","v":{"$error":"#N/A"}}]
[0,0,{"$f":"IF(RELEVE_COTES!$A68<>\"\",SUBSTITUTE(SUBSTITUTE(SUBSTITUTE(SUBSTITUTE(SUBSTITUTE(SUBSTITUTE(SUBSTITUTE(SUBSTITUTE(RELEVE_COTES!$A68,\" \",\"\"),\"-\",\"/\"),\".\",\"/\"),\"\\\",\"/\"),\",\",\"/\"),\"+\",\"_\"),\"&\",\"_\"),\"*\",\"/\"),\"\")","v":""},{"$f":"RELEVE_COTES!$B68","v":0},1,{"$f":"RELEVE_COTES!$C68","v":0},{"$f":"RELEVE_COTES!$D68","v":0},{"$f":"RELEVE_COTES!$E68","v":0},{"$f":"RELEVE_COTES!$F68","v":0},{"$f":"RELEVE_COTES!$G68","v":0},{"$f":"IF($D20=\"GP\",RELEVE_COTES!$I68,RELEVE_COTES!$H68)","v":0},{"$f":"IF($D20=\"GP\",RELEVE_COTES!$H68,RELEVE_COTES!$I68)","v":0},{"$f":"RELEVE_COTES!$J68","v":0},{"$f":"VLOOKUP(RELEVE_COTES!$K68,TabExistantRef1[],2,FALSE)","v":{"$error":"#N/A"}},{"$f":"IF($Y$1=\"BOIS\",RELEVE_COTES!$O68,0)","v":{"$error":"#N/A"}},{"$f":"IF($Y$1=\"BOIS\",RELEVE_COTES!$P68,0)","v":{"$error":"#N/A"}},{"$f":"IF($Y$1=\"BOIS\",RELEVE_COTES!$Q68,0)","v":{"$error":"#N/A"}},{"$error":"#N/A"},{"$f":"IF($Y$1=\"BANCHE\",RELEVE_COTES!$L68,0)","v":{"$error":"#N/A"}},{"$error":"#N/A"},{"$error":"#N/A"},{"$f":"IF($Y$1<>\"BANCHE\",RELEVE_COTES!$L68,0)","v":{"$error":"#N/A"}},{"$f":"IF($Y$1<>\"BANCHE\",RELEVE_COTES!$M68,20)","v":{"$error":"#N/A"}},{"$f":"IF($Y$1<>\"BANCHE\",RELEVE_COTES!$N68,0)","v":{"$error":"#N/A"}},{"$f":"RELEVE_COTES!$I$20","v":0},{"$f":"RELEVE_COTES!$C$11","v":0},{"$f":"RELEVE_COTES!$K$12","v":0},{"$f":"VLOOKUP(AA20,TabSeuilRef[],2,FALSE)","v":{"$error":"#N/A"}},0,{"$f":"\"Paumelles \"&RELEVE_COTES!$E$15","v":"Paumelles "},{"$f":"IF(RELEVE_COTES!$K$16=\"SANS\",RELEVE_COTES!$K$16,IF(RELEVE_COTES!$K$16=\"Intégré\",\"Intégré\",RELEVE_COTES!$K$16&\" / \"&VLOOKUP(RELEVE_COTES!$L$16,TabOptUsSerr[],2,FALSE)))","v":"SANS"},{"$f":"RELEVE_COTES!$K$11","v":0},{"$f":"\"OP: \"&IF(RELEVE_COTES!$E$12=\"Pr.Peint\",\"PP\",RELEVE_COTES!$G$12)&\"/FP: \"&IF(RELEVE_COTES!$E$13=\"Pr.Peint\",\"PP\",RELEVE_COTES!$G$13)","v":"OP: /FP: "},{"$f":"IF(RELEVE_COTES!$E$14=\"Pr.Peint\",\"PP\",VLOOKUP(RELEVE_COTES!$G$14,TabNuancHM[],2,FALSE))","v":"PP"},{"$error":"#N/A"},{"$f":"IF(RELEVE_COTES!$C$11 =\"R32S-R02\",\"OUI\",\"NON\")","v":"NON"},"NON","",{"$f":"IF(AJ20=\"OUI\",RELEVE_COTES!$N$16,\"\")","v":""},null,{"$f":"VLOOKUP(RELEVE_COTES!$O$11,TabOptUsSerr[],2,FALSE)","v":"Usinage, fourniture et pose"},{"$f":"IF(RELEVE_COTES!$K$15<>\"SANS\",RELEVE_COTES!$L$15&\" \"&RELEVE_COTES!$K$15,\"\")&IF(RELEVE_COTES!$N$15<>\"SANS\",\" / PMR: \"&RELEVE_COTES!$O$15&\" \"&RELEVE_COTES!$N$15,\"SANS\")","v":"SANS"},{"$f":"IF(RELEVE_COTES!$K$14 <> \"SANS\",RELEVE_COTES!$O$14&\" \"&RELEVE_COTES!$K$14,\"\")","v":"U+F "},{"$f":"IF(RELEVE_COTES!$K$13 <> \"SANS\",RELEVE_COTES!$O$13&\" \"&RELEVE_COTES!$K$13,\"SANS\")","v":"U+F "},{"$f":"IF(RELEVE_COTES!$I$20 = \"Huisserie Bois\",RELEVE_COTES!$R68,IF(RELEVE_COTES!$I$20 = \"Huisserie Banchée\",RELEVE_COTES!$M68,IF(RELEVE_COTES!$I$20 = \"Bâti Scellé\",RELEVE_COTES!$O68,\"\")))","v":""},{"$f":"RELEVE_COTES!$E$12&\" / \"&RELEVE_COTES!$E$13","v":" SANS /  SANS"},"INT","VERINS + VERINS","NON",{"$f":"VLOOKUP(RELEVE_COTES!$K$11,TabSerrureRef[],3,FALSE)","v":{"$error":"#N/A"}},{"$f":"VLOOKUP(RELEVE_COTES!$K$11,TabSerrureRef[],6,FALSE)","v":{"$error":"#N/A"}}]
[0,0,{"$f":"IF(RELEVE_COTES!$A69<>\"\",SUBSTITUTE(SUBSTITUTE(SUBSTITUTE(SUBSTITUTE(SUBSTITUTE(SUBSTITUTE(SUBSTITUTE(SUBSTITUTE(RELEVE_COTES!$A69,\" \",\"\"),\"-\",\"/\"),\".\",\"/\"),\"\\\",\"/\"),\",\",\"/\"),\"+\",\"_\"),\"&\",\"_\"),\"*\",\"/\"),\"\")","v":""},{"$f":"RELEVE_COTES!$B69","v":0},1,{"$f":"RELEVE_COTES!$C69","v":0},{"$f":"RELEVE_COTES!$D69","v":0},{"$f":"RELEVE_COTES!$E69","v":0},{"$f":"RELEVE_COTES!$F69","v":0},{"$f":"RELEVE_COTES!$G69","v":0},{"$f":"IF($D21=\"GP\",RELEVE_COTES!$I69,RELEVE_COTES!$H69)","v":0},{"$f":"IF($D21=\"GP\",RELEVE_COTES!$H69,RELEVE_COTES!$I69)","v":0},{"$f":"RELEVE_COTES!$J69","v":0},{"$f":"VLOOKUP(RELEVE_COTES!$K69,TabExistantRef1[],2,FALSE)","v":{"$error":"#N/A"}},{"$f":"IF($Y$1=\"BOIS\",RELEVE_COTES!$O69,0)","v":{"$error":"#N/A"}},{"$f":"IF($Y$1=\"BOIS\",RELEVE_COTES!$P69,0)","v":{"$error":"#N/A"}},{"$f":"IF($Y$1=\"BOIS\",RELEVE_COTES!$Q69,0)","v":{"$error":"#N/A"}},{"$error":"#N/A"},{"$f":"IF($Y$1=\"BANCHE\",RELEVE_COTES!$L69,0)","v":{"$error":"#N/A"}},{"$error":"#N/A"},{"$error":"#N/A"},{"$f":"IF($Y$1<>\"BANCHE\",RELEVE_COTES!$L69,0)","v":{"$error":"#N/A"}},{"$f":"IF($Y$1<>\"BANCHE\",RELEVE_COTES!$M69,20)","v":{"$error":"#N/A"}},{"$f":"IF($Y$1<>\"BANCHE\",RELEVE_COTES!$N69,0)","v":{"$error":"#N/A"}},{"$f":"RELEVE_COTES!$I$20","v":0},{"$f":"RELEVE_COTES!$C$11","v":0},{"$f":"RELEVE_COTES!$K$12","v":0},{"$f":"VLOOKUP(AA21,TabSeuilRef[],2,FALSE)","v":{"$error":"#N/A"}},0,{"$f":"\"Paumelles \"&RELEVE_COTES!$E$15","v":"Paumelles "},{"$f":"IF(RELEVE_COTES!$K$16=\"SANS\",RELEVE_COTES!$K$16,IF(RELEVE_COTES!$K$16=\"Intégré\",\"Intégré\",RELEVE_COTES!$K$16&\" / \"&VLOOKUP(RELEVE_COTES!$L$16,TabOptUsSerr[],2,FALSE)))","v":"SANS"},{"$f":"RELEVE_COTES!$K$11","v":0},{"$f":"\"OP: \"&IF(RELEVE_COTES!$E$12=\"Pr.Peint\",\"PP\",RELEVE_COTES!$G$12)&\"/FP: \"&IF(RELEVE_COTES!$E$13=\"Pr.Peint\",\"PP\",RELEVE_COTES!$G$13)","v":"OP: /FP: "},{"$f":"IF(RELEVE_COTES!$E$14=\"Pr.Peint\",\"PP\",VLOOKUP(RELEVE_COTES!$G$14,TabNuancHM[],2,FALSE))","v":"PP"},{"$error":"#N/A"},{"$f":"IF(RELEVE_COTES!$C$11 =\"R32S-R02\",\"OUI\",\"NON\")","v":"NON"},"NON","",{"$f":"IF(AJ21=\"OUI\",RELEVE_COTES!$N$16,\"\")","v":""},null,{"$f":"VLOOKUP(RELEVE_COTES!$O$11,TabOptUsSerr[],2,FALSE)","v":"Usinage, fourniture et pose"},{"$f":"IF(RELEVE_COTES!$K$15<>\"SANS\",RELEVE_COTES!$L$15&\" \"&RELEVE_COTES!$K$15,\"\")&IF(RELEVE_COTES!$N$15<>\"SANS\",\" / PMR: \"&RELEVE_COTES!$O$15&\" \"&RELEVE_COTES!$N$15,\"SANS\")","v":"SANS"},{"$f":"IF(RELEVE_COTES!$K$14 <> \"SANS\",RELEVE_COTES!$O$14&\" \"&RELEVE_COTES!$K$14,\"\")","v":"U+F "},{"$f":"IF(RELEVE_COTES!$K$13 <> \"SANS\",RELEVE_COTES!$O$13&\" \"&RELEVE_COTES!$K$13,\"SANS\")","v":"U+F "},{"$f":"IF(RELEVE_COTES!$I$20 = \"Huisserie Bois\",RELEVE_COTES!$R69,IF(RELEVE_COTES!$I$20 = \"Huisserie Banchée\",RELEVE_COTES!$M69,IF(RELEVE_COTES!$I$20 = \"Bâti Scellé\",RELEVE_COTES!$O69,\"\")))","v":""},{"$f":"RELEVE_COTES!$E$12&\" / \"&RELEVE_COTES!$E$13","v":" SANS /  SANS"},"INT","VERINS + VERINS","NON",{"$f":"VLOOKUP(RELEVE_COTES!$K$11,TabSerrureRef[],3,FALSE)","v":{"$error":"#N/A"}},{"$f":"VLOOKUP(RELEVE_COTES!$K$11,TabSerrureRef[],6,FALSE)","v":{"$error":"#N/A"}}]
[0,0,{"$f":"IF(RELEVE_COTES!$A70<>\"\",SUBSTITUTE(SUBSTITUTE(SUBSTITUTE(SUBSTITUTE(SUBSTITUTE(SUBSTITUTE(SUBSTITUTE(SUBSTITUTE(RELEVE_COTES!$A70,\" \",\"\"),\"-\",\"/\"),\".\",\"/\"),\"\\\",\"/\"),\",\",\"/\"),\"+\",\"_\"),\"&\",\"_\"),\"*\",\"/\"),\"\")","v":""},{"$f":"RELEVE_COTES!$B70","v":0},1,{"$f":"RELEVE_COTES!$C70","v":0},{"$f":"RELEVE_COTES!$D70","v":0},{"$f":"RELEVE_COTES!$E70","v":0},{"$f":"RELEVE_COTES!$F70","v":0},{"$f":"RELEVE_COTES!$G70","v":0},{"$f":"IF($D22=\"GP\",RELEVE_COTES!$I70,RELEVE_COTES!$H70)","v":0},{"$f":"IF($D22=\"GP\",RELEVE_COTES!$H70,RELEVE_COTES!$I70)","v":0},{"$f":"RELEVE_COTES!$J70","v":0},{"$f":"VLOOKUP(RELEVE_COTES!$K70,TabExistantRef1[],2,FALSE)","v":{"$error":"#N/A"}},{"$f":"IF($Y$1=\"BOIS\",RELEVE_COTES!$O70,0)","v":{"$error":"#N/A"}},{"$f":"IF($Y$1=\"BOIS\",RELEVE_COTES!$P70,0)","v":{"$error":"#N/A"}},{"$f":"IF($Y$1=\"BOIS\",RELEVE_COTES!$Q70,0)","v":{"$error":"#N/A"}},{"$error":"#N/A"},{"$f":"IF($Y$1=\"BANCHE\",RELEVE_COTES!$L70,0)","v":{"$error":"#N/A"}},{"$error":"#N/A"},{"$error":"#N/A"},{"$f":"IF($Y$1<>\"BANCHE\",RELEVE_COTES!$L70,0)","v":{"$error":"#N/A"}},{"$f":"IF($Y$1<>\"BANCHE\",RELEVE_COTES!$M70,20)","v":{"$error":"#N/A"}},{"$f":"IF($Y$1<>\"BANCHE\",RELEVE_COTES!$N70,0)","v":{"$error":"#N/A"}},{"$f":"RELEVE_COTES!$I$20","v":0},{"$f":"RELEVE_COTES!$C$11","v":0},{"$f":"RELEVE_COTES!$K$12","v":0},{"$f":"VLOOKUP(AA22,TabSeuilRef[],2,FALSE)","v":{"$error":"#N/A"}},0,{"$f":"\"Paumelles \"&RELEVE_COTES!$E$15","v":"Paumelles "},{"$f":"IF(RELEVE_COTES!$K$16=\"SANS\",RELEVE_COTES!$K$16,IF(RELEVE_COTES!$K$16=\"Intégré\",\"Intégré\",RELEVE_COTES!$K$16&\" / \"&VLOOKUP(RELEVE_COTES!$L$16,TabOptUsSerr[],2,FALSE)))","v":"SANS"},{"$f":"RELEVE_COTES!$K$11","v":0},{"$f":"\"OP: \"&IF(RELEVE_COTES!$E$12=\"Pr.Peint\",\"PP\",RELEVE_COTES!$G$12)&\"/FP: \"&IF(RELEVE_COTES!$E$13=\"Pr.Peint\",\"PP\",RELEVE_COTES!$G$13)","v":"OP: /FP: "},{"$f":"IF(RELEVE_COTES!$E$14=\"Pr.Peint\",\"PP\",VLOOKUP(RELEVE_COTES!$G$14,TabNuancHM[],2,FALSE))","v":"PP"},{"$error":"#N/A"},{"$f":"IF(RELEVE_COTES!$C$11 =\"R32S-R02\",\"OUI\",\"NON\")","v":"NON"},"NON","",{"$f":"IF(AJ22=\"OUI\",RELEVE_COTES!$N$16,\"\")","v":""},null,{"$f":"VLOOKUP(RELEVE_COTES!$O$11,TabOptUsSerr[],2,FALSE)","v":"Usinage, fourniture et pose"},{"$f":"IF(RELEVE_COTES!$K$15<>\"SANS\",RELEVE_COTES!$L$15&\" \"&RELEVE_COTES!$K$15,\"\")&IF(RELEVE_COTES!$N$15<>\"SANS\",\" / PMR: \"&RELEVE_COTES!$O$15&\" \"&RELEVE_COTES!$N$15,\"SANS\")","v":"SANS"},{"$f":"IF(RELEVE_COTES!$K$14 <> \"SANS\",RELEVE_COTES!$O$14&\" \"&RELEVE_COTES!$K$14,\"\")","v":"U+F "},{"$f":"IF(RELEVE_COTES!$K$13 <> \"SANS\",RELEVE_COTES!$O$13&\" \"&RELEVE_COTES!$K$13,\"SANS\")","v":"U+F "},{"$f":"IF(RELEVE_COTES!$I$20 = \"Huisserie Bois\",RELEVE_COTES!$R70,IF(RELEVE_COTES!$I$20 = \"Huisserie Banchée\",RELEVE_COTES!$M70,IF(RELEVE_COTES!$I$20 = \"Bâti Scellé\",RELEVE_COTES!$O70,\"\")))","v":""},{"$f":"RELEVE_COTES!$E$12&\" / \"&RELEVE_COTES!$E$13","v":" SANS /  SANS"},"INT","VERINS + VERINS","NON",{"$f":"VLOOKUP(RELEVE_COTES!$K$11,TabSerrureRef[],3,FALSE)","v":{"$error":"#N/A"}},{"$f":"VLOOKUP(RELEVE_COTES!$K$11,TabSerrureRef[],6,FALSE)","v":{"$error":"#N/A"}}]
[0,0,{"$f":"IF(RELEVE_COTES!$A71<>\"\",SUBSTITUTE(SUBSTITUTE(SUBSTITUTE(SUBSTITUTE(SUBSTITUTE(SUBSTITUTE(SUBSTITUTE(SUBSTITUTE(RELEVE_COTES!$A71,\" \",\"\"),\"-\",\"/\"),\".\",\"/\"),\"\\\",\"/\"),\",\",\"/\"),\"+\",\"_\"),\"&\",\"_\"),\"*\",\"/\"),\"\")","v":""},{"$f":"RELEVE_COTES!$B71","v":0},1,{"$f":"RELEVE_COTES!$C71","v":0},{"$f":"RELEVE_COTES!$D71","v":0},{"$f":"RELEVE_COTES!$E71","v":0},{"$f":"RELEVE_COTES!$F71","v":0},{"$f":"RELEVE_COTES!$G71","v":0},{"$f":"IF($D23=\"GP\",RELEVE_COTES!$I71,RELEVE_COTES!$H71)","v":0},{"$f":"IF($D23=\"GP\",RELEVE_COTES!$H71,RELEVE_COTES!$I71)","v":0},{"$f":"RELEVE_COTES!$J71","v":0},{"$f":"VLOOKUP(RELEVE_COTES!$K71,TabExistantRef1[],2,FALSE)","v":{"$error":"#N/A"}},{"$f":"IF($Y$1=\"BOIS\",RELEVE_COTES!$O71,0)","v":{"$error":"#N/A"}},{"$f":"IF($Y$1=\"BOIS\",RELEVE_COTES!$P71,0)","v":{"$error":"#N/A"}},{"$f":"IF($Y$1=\"BOIS\",RELEVE_COTES!$Q71,0)","v":{"$error":"#N/A"}},{"$error":"#N/A"},{"$f":"IF($Y$1=\"BANCHE\",RELEVE_COTES!$L71,0)","v":{"$error":"#N/A"}},{"$error":"#N/A"},{"$error":"#N/A"},{"$f":"IF($Y$1<>\"BANCHE\",RELEVE_COTES!$L71,0)","v":{"$error":"#N/A"}},{"$f":"IF($Y$1<>\"BANCHE\",RELEVE_COTES!$M71,20)","v":{"$error":"#N/A"}},{"$f":"IF($Y$1<>\"BANCHE\",RELEVE_COTES!$N71,0)","v":{"$error":"#N/A"}},{"$f":"RELEVE_COTES!$I$20","v":0},{"$f":"RELEVE_COTES!$C$11","v":0},{"$f":"RELEVE_COTES!$K$12","v":0},{"$f":"VLOOKUP(AA23,TabSeuilRef[],2,FALSE)","v":{"$error":"#N/A"}},0,{"$f":"\"Paumelles \"&RELEVE_COTES!$E$15","v":"Paumelles "},{"$f":"IF(RELEVE_COTES!$K$16=\"SANS\",RELEVE_COTES!$K$16,IF(RELEVE_COTES!$K$16=\"Intégré\",\"Intégré\",RELEVE_COTES!$K$16&\" / \"&VLOOKUP(RELEVE_COTES!$L$16,TabOptUsSerr[],2,FALSE)))","v":"SANS"},{"$f":"RELEVE_COTES!$K$11","v":0},{"$f":"\"OP: \"&IF(RELEVE_COTES!$E$12=\"Pr.Peint\",\"PP\",RELEVE_COTES!$G$12)&\"/FP: \"&IF(RELEVE_COTES!$E$13=\"Pr.Peint\",\"PP\",RELEVE_COTES!$G$13)","v":"OP: /FP: "},{"$f":"IF(RELEVE_COTES!$E$14=\"Pr.Peint\",\"PP\",VLOOKUP(RELEVE_COTES!$G$14,TabNuancHM[],2,FALSE))","v":"PP"},{"$error":"#N/A"},{"$f":"IF(RELEVE_COTES!$C$11 =\"R32S-R02\",\"OUI\",\"NON\")","v":"NON"},"NON","",{"$f":"IF(AJ23=\"OUI\",RELEVE_COTES!$N$16,\"\")","v":""},null,{"$f":"VLOOKUP(RELEVE_COTES!$O$11,TabOptUsSerr[],2,FALSE)","v":"Usinage, fourniture et pose"},{"$f":"IF(RELEVE_COTES!$K$15<>\"SANS\",RELEVE_COTES!$L$15&\" \"&RELEVE_COTES!$K$15,\"\")&IF(RELEVE_COTES!$N$15<>\"SANS\",\" / PMR: \"&RELEVE_COTES!$O$15&\" \"&RELEVE_COTES!$N$15,\"SANS\")","v":"SANS"},{"$f":"IF(RELEVE_COTES!$K$14 <> \"SANS\",RELEVE_COTES!$O$14&\" \"&RELEVE_COTES!$K$14,\"\")","v":"U+F "},{"$f":"IF(RELEVE_COTES!$K$13 <> \"SANS\",RELEVE_COTES!$O$13&\" \"&RELEVE_COTES!$K$13,\"SANS\")","v":"U+F "},{"$f":"IF(RELEVE_COTES!$I$20 = \"Huisserie Bois\",RELEVE_COTES!$R71,IF(RELEVE_COTES!$I$20 = \"Huisserie Banchée\",RELEVE_COTES!$M71,IF(RELEVE_COTES!$I$20 = \"Bâti Scellé\",RELEVE_COTES!$O71,\"\")))","v":""},{"$f":"RELEVE_COTES!$E$12&\" / \"&RELEVE_COTES!$E$13","v":" SANS /  SANS"},"INT","VERINS + VERINS","NON",{"$f":"VLOOKUP(RELEVE_COTES!$K$11,TabSerrureRef[],3,FALSE)","v":{"$error":"#N/A"}},{"$f":"VLOOKUP(RELEVE_COTES!$K$11,TabSerrureRef[],6,FALSE)","v":{"$error":"#N/A"}}]
[0,0,{"$f":"IF(RELEVE_COTES!$A72<>\"\",SUBSTITUTE(SUBSTITUTE(SUBSTITUTE(SUBSTITUTE(SUBSTITUTE(SUBSTITUTE(SUBSTITUTE(SUBSTITUTE(RELEVE_COTES!$A72,\" \",\"\"),\"-\",\"/\"),\".\",\"/\"),\"\\\",\"/\"),\",\",\"/\"),\"+\",\"_\"),\"&\",\"_\"),\"*\",\"/\"),\"\")","v":""},{"$f":"RELEVE_COTES!$B72","v":0},1,{"$f":"RELEVE_COTES!$C72","v":0},{"$f":"RELEVE_COTES!$D72","v":0},{"$f":"RELEVE_COTES!$E72","v":0},{"$f":"RELEVE_COTES!$F72","v":0},{"$f":"RELEVE_COTES!$G72","v":0},{"$f":"IF($D24=\"GP\",RELEVE_COTES!$I72,RELEVE_COTES!$H72)","v":0},{"$f":"IF($D24=\"GP\",RELEVE_COTES!$H72,RELEVE_COTES!$I72)","v":0},{"$f":"RELEVE_COTES!$J72","v":0},{"$f":"VLOOKUP(RELEVE_COTES!$K72,TabExistantRef1[],2,FALSE)","v":{"$error":"#N/A"}},{"$f":"IF($Y$1=\"BOIS\",RELEVE_COTES!$O72,0)","v":{"$error":"#N/A"}},{"$f":"IF($Y$1=\"BOIS\",RELEVE_COTES!$P72,0)","v":{"$error":"#N/A"}},{"$f":"IF($Y$1=\"BOIS\",RELEVE_COTES!$Q72,0)","v":{"$error":"#N/A"}},{"$error":"#N/A"},{"$f":"IF($Y$1=\"BANCHE\",RELEVE_COTES!$L72,0)","v":{"$error":"#N/A"}},{"$error":"#N/A"},{"$error":"#N/A"},{"$f":"IF($Y$1<>\"BANCHE\",RELEVE_COTES!$L72,0)","v":{"$error":"#N/A"}},{"$f":"IF($Y$1<>\"BANCHE\",RELEVE_COTES!$M72,20)","v":{"$error":"#N/A"}},{"$f":"IF($Y$1<>\"BANCHE\",RELEVE_COTES!$N72,0)","v":{"$error":"#N/A"}},{"$f":"RELEVE_COTES!$I$20","v":0},{"$f":"RELEVE_COTES!$C$11","v":0},{"$f":"RELEVE_COTES!$K$12","v":0},{"$f":"VLOOKUP(AA24,TabSeuilRef[],2,FALSE)","v":{"$error":"#N/A"}},0,{"$f":"\"Paumelles \"&RELEVE_COTES!$E$15","v":"Paumelles "},{"$f":"IF(RELEVE_COTES!$K$16=\"SANS\",RELEVE_COTES!$K$16,IF(RELEVE_COTES!$K$16=\"Intégré\",\"Intégré\",RELEVE_COTES!$K$16&\" / \"&VLOOKUP(RELEVE_COTES!$L$16,TabOptUsSerr[],2,FALSE)))","v":"SANS"},{"$f":"RELEVE_COTES!$K$11","v":0},{"$f":"\"OP: \"&IF(RELEVE_COTES!$E$12=\"Pr.Peint\",\"PP\",RELEVE_COTES!$G$12)&\"/FP: \"&IF(RELEVE_COTES!$E$13=\"Pr.Peint\",\"PP\",RELEVE_COTES!$G$13)","v":"OP: /FP: "},{"$f":"IF(RELEVE_COTES!$E$14=\"Pr.Peint\",\"PP\",VLOOKUP(RELEVE_COTES!$G$14,TabNuancHM[],2,FALSE))","v":"PP"},{"$error":"#N/A"},{"$f":"IF(RELEVE_COTES!$C$11 =\"R32S-R02\",\"OUI\",\"NON\")","v":"NON"},"NON","",{"$f":"IF(AJ24=\"OUI\",RELEVE_COTES!$N$16,\"\")","v":""},null,{"$f":"VLOOKUP(RELEVE_COTES!$O$11,TabOptUsSerr[],2,FALSE)","v":"Usinage, fourniture et pose"},{"$f":"IF(RELEVE_COTES!$K$15<>\"SANS\",RELEVE_COTES!$L$15&\" \"&RELEVE_COTES!$K$15,\"\")&IF(RELEVE_COTES!$N$15<>\"SANS\",\" / PMR: \"&RELEVE_COTES!$O$15&\" \"&RELEVE_COTES!$N$15,\"SANS\")","v":"SANS"},{"$f":"IF(RELEVE_COTES!$K$14 <> \"SANS\",RELEVE_COTES!$O$14&\" \"&RELEVE_COTES!$K$14,\"\")","v":"U+F "},{"$f":"IF(RELEVE_COTES!$K$13 <> \"SANS\",RELEVE_COTES!$O$13&\" \"&RELEVE_COTES!$K$13,\"SANS\")","v":"U+F "},{"$f":"IF(RELEVE_COTES!$I$20 = \"Huisserie Bois\",RELEVE_COTES!$R72,IF(RELEVE_COTES!$I$20 = \"Huisserie Banchée\",RELEVE_COTES!$M72,IF(RELEVE_COTES!$I$20 = \"Bâti Scellé\",RELEVE_COTES!$O72,\"\")))","v":""},{"$f":"RELEVE_COTES!$E$12&\" / \"&RELEVE_COTES!$E$13","v":" SANS /  SANS"},"INT","VERINS + VERINS","NON",{"$f":"VLOOKUP(RELEVE_COTES!$K$11,TabSerrureRef[],3,FALSE)","v":{"$error":"#N/A"}},{"$f":"VLOOKUP(RELEVE_COTES!$K$11,TabSerrureRef[],6,FALSE)","v":{"$error":"#N/A"}}]
[0,0,{"$f":"IF(RELEVE_COTES!$A73<>\"\",SUBSTITUTE(SUBSTITUTE(SUBSTITUTE(SUBSTITUTE(SUBSTITUTE(SUBSTITUTE(SUBSTITUTE(SUBSTITUTE(RELEVE_COTES!$A73,\" \",\"\"),\"-\",\"/\"),\".\",\"/\"),\"\\\",\"/\"),\",\",\"/\"),\"+\",\"_\"),\"&\",\"_\"),\"*\",\"/\"),\"\")","v":""},{"$f":"RELEVE_COTES!$B73","v":0},1,{"$f":"RELEVE_COTES!$C73","v":0},{"$f":"RELEVE_COTES!$D73","v":0},{"$f":"RELEVE_COTES!$E73","v":0},{"$f":"RELEVE_COTES!$F73","v":0},{"$f":"RELEVE_COTES!$G73","v":0},{"$f":"IF($D25=\"GP\",RELEVE_COTES!$I73,RELEVE_COTES!$H73)","v":0},{"$f":"IF($D25=\"GP\",RELEVE_COTES!$H73,RELEVE_COTES!$I73)","v":0},{"$f":"RELEVE_COTES!$J73","v":0},{"$f":"VLOOKUP(RELEVE_COTES!$K73,TabExistantRef1[],2,FALSE)","v":{"$error":"#N/A"}},{"$f":"IF($Y$1=\"BOIS\",RELEVE_COTES!$O73,0)","v":{"$error":"#N/A"}},{"$f":"IF($Y$1=\"BOIS\",RELEVE_COTES!$P73,0)","v":{"$error":"#N/A"}},{"$f":"IF($Y$1=\"BOIS\",RELEVE_COTES!$Q73,0)","v":{"$error":"#N/A"}},{"$error":"#N/A"},{"$f":"IF($Y$1=\"BANCHE\",RELEVE_COTES!$L73,0)","v":{"$error":"#N/A"}},{"$error":"#N/A"},{"$error":"#N/A"},{"$f":"IF($Y$1<>\"BANCHE\",RELEVE_COTES!$L73,0)","v":{"$error":"#N/A"}},{"$f":"IF($Y$1<>\"BANCHE\",RELEVE_COTES!$M73,20)","v":{"$error":"#N/A"}},{"$f":"IF($Y$1<>\"BANCHE\",RELEVE_COTES!$N73,0)","v":{"$error":"#N/A"}},{"$f":"RELEVE_COTES!$I$20","v":0},{"$f":"RELEVE_COTES!$C$11","v":0},{"$f":"RELEVE_COTES!$K$12","v":0},{"$f":"VLOOKUP(AA25,TabSeuilRef[],2,FALSE)","v":{"$error":"#N/A"}},0,{"$f":"\"Paumelles \"&RELEVE_COTES!$E$15","v":"Paumelles "},{"$f":"IF(RELEVE_COTES!$K$16=\"SANS\",RELEVE_COTES!$K$16,IF(RELEVE_COTES!$K$16=\"Intégré\",\"Intégré\",RELEVE_COTES!$K$16&\" / \"&VLOOKUP(RELEVE_COTES!$L$16,TabOptUsSerr[],2,FALSE)))","v":"SANS"},{"$f":"RELEVE_COTES!$K$11","v":0},{"$f":"\"OP: \"&IF(RELEVE_COTES!$E$12=\"Pr.Peint\",\"PP\",RELEVE_COTES!$G$12)&\"/FP: \"&IF(RELEVE_COTES!$E$13=\"Pr.Peint\",\"PP\",RELEVE_COTES!$G$13)","v":"OP: /FP: "},{"$f":"IF(RELEVE_COTES!$E$14=\"Pr.Peint\",\"PP\",VLOOKUP(RELEVE_COTES!$G$14,TabNuancHM[],2,FALSE))","v":"PP"},{"$error":"#N/A"},{"$f":"IF(RELEVE_COTES!$C$11 =\"R32S-R02\",\"OUI\",\"NON\")","v":"NON"},"NON","",{"$f":"IF(AJ25=\"OUI\",RELEVE_COTES!$N$16,\"\")","v":""},null,{"$f":"VLOOKUP(RELEVE_COTES!$O$11,TabOptUsSerr[],2,FALSE)","v":"Usinage, fourniture et pose"},{"$f":"IF(RELEVE_COTES!$K$15<>\"SANS\",RELEVE_COTES!$L$15&\" \"&RELEVE_COTES!$K$15,\"\")&IF(RELEVE_COTES!$N$15<>\"SANS\",\" / PMR: \"&RELEVE_COTES!$O$15&\" \"&RELEVE_COTES!$N$15,\"SANS\")","v":"SANS"},{"$f":"IF(RELEVE_COTES!$K$14 <> \"SANS\",RELEVE_COTES!$O$14&\" \"&RELEVE_COTES!$K$14,\"\")","v":"U+F "},{"$f":"IF(RELEVE_COTES!$K$13 <> \"SANS\",RELEVE_COTES!$O$13&\" \"&RELEVE_COTES!$K$13,\"SANS\")","v":"U+F "},{"$f":"IF(RELEVE_COTES!$I$20 = \"Huisserie Bois\",RELEVE_COTES!$R73,IF(RELEVE_COTES!$I$20 = \"Huisserie Banchée\",RELEVE_COTES!$M73,IF(RELEVE_COTES!$I$20 = \"Bâti Scellé\",RELEVE_COTES!$O73,\"\")))","v":""},{"$f":"RELEVE_COTES!$E$12&\" / \"&RELEVE_COTES!$E$13","v":" SANS /  SANS"},"INT","VERINS + VERINS","NON",{"$f":"VLOOKUP(RELEVE_COTES!$K$11,TabSerrureRef[],3,FALSE)","v":{"$error":"#N/A"}},{"$f":"VLOOKUP(RELEVE_COTES!$K$11,TabSerrureRef[],6,FALSE)","v":{"$error":"#N/A"}}]
[0,0,{"$f":"IF(RELEVE_COTES!$A74<>\"\",SUBSTITUTE(SUBSTITUTE(SUBSTITUTE(SUBSTITUTE(SUBSTITUTE(SUBSTITUTE(SUBSTITUTE(SUBSTITUTE(RELEVE_COTES!$A74,\" \",\"\"),\"-\",\"/\"),\".\",\"/\"),\"\\\",\"/\"),\",\",\"/\"),\"+\",\"_\"),\"&\",\"_\"),\"*\",\"/\"),\"\")","v":""},{"$f":"RELEVE_COTES!$B74","v":0},1,{"$f":"RELEVE_COTES!$C74","v":0},{"$f":"RELEVE_COTES!$D74","v":0},{"$f":"RELEVE_COTES!$E74","v":0},{"$f":"RELEVE_COTES!$F74","v":0},{"$f":"RELEVE_COTES!$G74","v":0},{"$f":"IF($D26=\"GP\",RELEVE_COTES!$I74,RELEVE_COTES!$H74)","v":0},{"$f":"IF($D26=\"GP\",RELEVE_COTES!$H74,RELEVE_COTES!$I74)","v":0},{"$f":"RELEVE_COTES!$J74","v":0},{"$f":"VLOOKUP(RELEVE_COTES!$K74,TabExistantRef1[],2,FALSE)","v":{"$error":"#N/A"}},{"$f":"IF($Y$1=\"BOIS\",RELEVE_COTES!$O74,0)","v":{"$error":"#N/A"}},{"$f":"IF($Y$1=\"BOIS\",RELEVE_COTES!$P74,0)","v":{"$error":"#N/A"}},{"$f":"IF($Y$1=\"BOIS\",RELEVE_COTES!$Q74,0)","v":{"$error":"#N/A"}},{"$error":"#N/A"},{"$f":"IF($Y$1=\"BANCHE\",RELEVE_COTES!$L74,0)","v":{"$error":"#N/A"}},{"$error":"#N/A"},{"$error":"#N/A"},{"$f":"IF($Y$1<>\"BANCHE\",RELEVE_COTES!$L74,0)","v":{"$error":"#N/A"}},{"$f":"IF($Y$1<>\"BANCHE\",RELEVE_COTES!$M74,20)","v":{"$error":"#N/A"}},{"$f":"IF($Y$1<>\"BANCHE\",RELEVE_COTES!$N74,0)","v":{"$error":"#N/A"}},{"$f":"RELEVE_COTES!$I$20","v":0},{"$f":"RELEVE_COTES!$C$11","v":0},{"$f":"RELEVE_COTES!$K$12","v":0},{"$f":"VLOOKUP(AA26,TabSeuilRef[],2,FALSE)","v":{"$error":"#N/A"}},0,{"$f":"\"Paumelles \"&RELEVE_COTES!$E$15","v":"Paumelles "},{"$f":"IF(RELEVE_COTES!$K$16=\"SANS\",RELEVE_COTES!$K$16,IF(RELEVE_COTES!$K$16=\"Intégré\",\"Intégré\",RELEVE_COTES!$K$16&\" / \"&VLOOKUP(RELEVE_COTES!$L$16,TabOptUsSerr[],2,FALSE)))","v":"SANS"},{"$f":"RELEVE_COTES!$K$11","v":0},{"$f":"\"OP: \"&IF(RELEVE_COTES!$E$12=\"Pr.Peint\",\"PP\",RELEVE_COTES!$G$12)&\"/FP: \"&IF(RELEVE_COTES!$E$13=\"Pr.Peint\",\"PP\",RELEVE_COTES!$G$13)","v":"OP: /FP: "},{"$f":"IF(RELEVE_COTES!$E$14=\"Pr.Peint\",\"PP\",VLOOKUP(RELEVE_COTES!$G$14,TabNuancHM[],2,FALSE))","v":"PP"},{"$error":"#N/A"},{"$f":"IF(RELEVE_COTES!$C$11 =\"R32S-R02\",\"OUI\",\"NON\")","v":"NON"},"NON","",{"$f":"IF(AJ26=\"OUI\",RELEVE_COTES!$N$16,\"\")","v":""},null,{"$f":"VLOOKUP(RELEVE_COTES!$O$11,TabOptUsSerr[],2,FALSE)","v":"Usinage, fourniture et pose"},{"$f":"IF(RELEVE_COTES!$K$15<>\"SANS\",RELEVE_COTES!$L$15&\" \"&RELEVE_COTES!$K$15,\"\")&IF(RELEVE_COTES!$N$15<>\"SANS\",\" / PMR: \"&RELEVE_COTES!$O$15&\" \"&RELEVE_COTES!$N$15,\"SANS\")","v":"SANS"},{"$f":"IF(RELEVE_COTES!$K$14 <> \"SANS\",RELEVE_COTES!$O$14&\" \"&RELEVE_COTES!$K$14,\"\")","v":"U+F "},{"$f":"IF(RELEVE_COTES!$K$13 <> \"SANS\",RELEVE_COTES!$O$13&\" \"&RELEVE_COTES!$K$13,\"SANS\")","v":"U+F "},{"$f":"IF(RELEVE_COTES!$I$20 = \"Huisserie Bois\",RELEVE_COTES!$R74,IF(RELEVE_COTES!$I$20 = \"Huisserie Banchée\",RELEVE_COTES!$M74,IF(RELEVE_COTES!$I$20 = \"Bâti Scellé\",RELEVE_COTES!$O74,\"\")))","v":""},{"$f":"RELEVE_COTES!$E$12&\" / \"&RELEVE_COTES!$E$13","v":" SANS /  SANS"},"INT","VERINS + VERINS","NON",{"$f":"VLOOKUP(RELEVE_COTES!$K$11,TabSerrureRef[],3,FALSE)","v":{"$error":"#N/A"}},{"$f":"VLOOKUP(RELEVE_COTES!$K$11,TabSerrureRef[],6,FALSE)","v":{"$error":"#N/A"}}]
[0,0,{"$f":"IF(RELEVE_COTES!$A75<>\"\",SUBSTITUTE(SUBSTITUTE(SUBSTITUTE(SUBSTITUTE(SUBSTITUTE(SUBSTITUTE(SUBSTITUTE(SUBSTITUTE(RELEVE_COTES!$A75,\" \",\"\"),\"-\",\"/\"),\".\",\"/\"),\"\\\",\"/\"),\",\",\"/\"),\"+\",\"_\"),\"&\",\"_\"),\"*\",\"/\"),\"\")","v":""},{"$f":"RELEVE_COTES!$B75","v":0},1,{"$f":"RELEVE_COTES!$C75","v":0},{"$f":"RELEVE_COTES!$D75","v":0},{"$f":"RELEVE_COTES!$E75","v":0},{"$f":"RELEVE_COTES!$F75","v":0},{"$f":"RELEVE_COTES!$G75","v":0},{"$f":"IF($D27=\"GP\",RELEVE_COTES!$I75,RELEVE_COTES!$H75)","v":0},{"$f":"IF($D27=\"GP\",RELEVE_COTES!$H75,RELEVE_COTES!$I75)","v":0},{"$f":"RELEVE_COTES!$J75","v":0},{"$f":"VLOOKUP(RELEVE_COTES!$K75,TabExistantRef1[],2,FALSE)","v":{"$error":"#N/A"}},{"$f":"IF($Y$1=\"BOIS\",RELEVE_COTES!$O75,0)","v":{"$error":"#N/A"}},{"$f":"IF($Y$1=\"BOIS\",RELEVE_COTES!$P75,0)","v":{"$error":"#N/A"}},{"$f":"IF($Y$1=\"BOIS\",RELEVE_COTES!$Q75,0)","v":{"$error":"#N/A"}},{"$error":"#N/A"},{"$f":"IF($Y$1=\"BANCHE\",RELEVE_COTES!$L75,0)","v":{"$error":"#N/A"}},{"$error":"#N/A"},{"$error":"#N/A"},{"$f":"IF($Y$1<>\"BANCHE\",RELEVE_COTES!$L75,0)","v":{"$error":"#N/A"}},{"$f":"IF($Y$1<>\"BANCHE\",RELEVE_COTES!$M75,20)","v":{"$error":"#N/A"}},{"$f":"IF($Y$1<>\"BANCHE\",RELEVE_COTES!$N75,0)","v":{"$error":"#N/A"}},{"$f":"RELEVE_COTES!$I$20","v":0},{"$f":"RELEVE_COTES!$C$11","v":0},{"$f":"RELEVE_COTES!$K$12","v":0},{"$f":"VLOOKUP(AA27,TabSeuilRef[],2,FALSE)","v":{"$error":"#N/A"}},0,{"$f":"\"Paumelles \"&RELEVE_COTES!$E$15","v":"Paumelles "},{"$f":"IF(RELEVE_COTES!$K$16=\"SANS\",RELEVE_COTES!$K$16,IF(RELEVE_COTES!$K$16=\"Intégré\",\"Intégré\",RELEVE_COTES!$K$16&\" / \"&VLOOKUP(RELEVE_COTES!$L$16,TabOptUsSerr[],2,FALSE)))","v":"SANS"},{"$f":"RELEVE_COTES!$K$11","v":0},{"$f":"\"OP: \"&IF(RELEVE_COTES!$E$12=\"Pr.Peint\",\"PP\",RELEVE_COTES!$G$12)&\"/FP: \"&IF(RELEVE_COTES!$E$13=\"Pr.Peint\",\"PP\",RELEVE_COTES!$G$13)","v":"OP: /FP: "},{"$f":"IF(RELEVE_COTES!$E$14=\"Pr.Peint\",\"PP\",VLOOKUP(RELEVE_COTES!$G$14,TabNuancHM[],2,FALSE))","v":"PP"},{"$error":"#N/A"},{"$f":"IF(RELEVE_COTES!$C$11 =\"R32S-R02\",\"OUI\",\"NON\")","v":"NON"},"NON","",{"$f":"IF(AJ27=\"OUI\",RELEVE_COTES!$N$16,\"\")","v":""},null,{"$f":"VLOOKUP(RELEVE_COTES!$O$11,TabOptUsSerr[],2,FALSE)","v":"Usinage, fourniture et pose"},{"$f":"IF(RELEVE_COTES!$K$15<>\"SANS\",RELEVE_COTES!$L$15&\" \"&RELEVE_COTES!$K$15,\"\")&IF(RELEVE_COTES!$N$15<>\"SANS\",\" / PMR: \"&RELEVE_COTES!$O$15&\" \"&RELEVE_COTES!$N$15,\"SANS\")","v":"SANS"},{"$f":"IF(RELEVE_COTES!$K$14 <> \"SANS\",RELEVE_COTES!$O$14&\" \"&RELEVE_COTES!$K$14,\"\")","v":"U+F "},{"$f":"IF(RELEVE_COTES!$K$13 <> \"SANS\",RELEVE_COTES!$O$13&\" \"&RELEVE_COTES!$K$13,\"SANS\")","v":"U+F "},{"$f":"IF(RELEVE_COTES!$I$20 = \"Huisserie Bois\",RELEVE_COTES!$R75,IF(RELEVE_COTES!$I$20 = \"Huisserie Banchée\",RELEVE_COTES!$M75,IF(RELEVE_COTES!$I$20 = \"Bâti Scellé\",RELEVE_COTES!$O75,\"\")))","v":""},{"$f":"RELEVE_COTES!$E$12&\" / \"&RELEVE_COTES!$E$13","v":" SANS /  SANS"},"INT","VERINS + VERINS","NON",{"$f":"VLOOKUP(RELEVE_COTES!$K$11,TabSerrureRef[],3,FALSE)","v":{"$error":"#N/A"}},{"$f":"VLOOKUP(RELEVE_COTES!$K$11,TabSerrureRef[],6,FALSE)","v":{"$error":"#N/A"}}]
[0,0,{"$f":"IF(RELEVE_COTES!$A76<>\"\",SUBSTITUTE(SUBSTITUTE(SUBSTITUTE(SUBSTITUTE(SUBSTITUTE(SUBSTITUTE(SUBSTITUTE(SUBSTITUTE(RELEVE_COTES!$A76,\" \",\"\"),\"-\",\"/\"),\".\",\"/\"),\"\\\",\"/\"),\",\",\"/\"),\"+\",\"_\"),\"&\",\"_\"),\"*\",\"/\"),\"\")","v":""},{"$f":"RELEVE_COTES!$B76","v":0},1,{"$f":"RELEVE_COTES!$C76","v":0},{"$f":"RELEVE_COTES!$D76","v":0},{"$f":"RELEVE_COTES!$E76","v":0},{"$f":"RELEVE_COTES!$F76","v":0},{"$f":"RELEVE_COTES!$G76","v":0},{"$f":"IF($D28=\"GP\",RELEVE_COTES!$I76,RELEVE_COTES!$H76)","v":0},{"$f":"IF($D28=\"GP\",RELEVE_COTES!$H76,RELEVE_COTES!$I76)","v":0},{"$f":"RELEVE_COTES!$J76","v":0},{"$f":"VLOOKUP(RELEVE_COTES!$K76,TabExistantRef1[],2,FALSE)","v":{"$error":"#N/A"}},{"$f":"IF($Y$1=\"BOIS\",RELEVE_COTES!$O76,0)","v":{"$error":"#N/A"}},{"$f":"IF($Y$1=\"BOIS\",RELEVE_COTES!$P76,0)","v":{"$error":"#N/A"}},{"$f":"IF($Y$1=\"BOIS\",RELEVE_COTES!$Q76,0)","v":{"$error":"#N/A"}},{"$error":"#N/A"},{"$f":"IF($Y$1=\"BANCHE\",RELEVE_COTES!$L76,0)","v":{"$error":"#N/A"}},{"$error":"#N/A"},{"$error":"#N/A"},{"$f":"IF($Y$1<>\"BANCHE\",RELEVE_COTES!$L76,0)","v":{"$error":"#N/A"}},{"$f":"IF($Y$1<>\"BANCHE\",RELEVE_COTES!$M76,20)","v":{"$error":"#N/A"}},{"$f":"IF($Y$1<>\"BANCHE\",RELEVE_COTES!$N76,0)","v":{"$error":"#N/A"}},{"$f":"RELEVE_COTES!$I$20","v":0},{"$f":"RELEVE_COTES!$C$11","v":0},{"$f":"RELEVE_COTES!$K$12","v":0},{"$f":"VLOOKUP(AA28,TabSeuilRef[],2,FALSE)","v":{"$error":"#N/A"}},0,{"$f":"\"Paumelles \"&RELEVE_COTES!$E$15","v":"Paumelles "},{"$f":"IF(RELEVE_COTES!$K$16=\"SANS\",RELEVE_COTES!$K$16,IF(RELEVE_COTES!$K$16=\"Intégré\",\"Intégré\",RELEVE_COTES!$K$16&\" / \"&VLOOKUP(RELEVE_COTES!$L$16,TabOptUsSerr[],2,FALSE)))","v":"SANS"},{"$f":"RELEVE_COTES!$K$11","v":0},{"$f":"\"OP: \"&IF(RELEVE_COTES!$E$12=\"Pr.Peint\",\"PP\",RELEVE_COTES!$G$12)&\"/FP: \"&IF(RELEVE_COTES!$E$13=\"Pr.Peint\",\"PP\",RELEVE_COTES!$G$13)","v":"OP: /FP: "},{"$f":"IF(RELEVE_COTES!$E$14=\"Pr.Peint\",\"PP\",VLOOKUP(RELEVE_COTES!$G$14,TabNuancHM[],2,FALSE))","v":"PP"},{"$error":"#N/A"},{"$f":"IF(RELEVE_COTES!$C$11 =\"R32S-R02\",\"OUI\",\"NON\")","v":"NON"},"NON","",{"$f":"IF(AJ28=\"OUI\",RELEVE_COTES!$N$16,\"\")","v":""},null,{"$f":"VLOOKUP(RELEVE_COTES!$O$11,TabOptUsSerr[],2,FALSE)","v":"Usinage, fourniture et pose"},{"$f":"IF(RELEVE_COTES!$K$15<>\"SANS\",RELEVE_COTES!$L$15&\" \"&RELEVE_COTES!$K$15,\"\")&IF(RELEVE_COTES!$N$15<>\"SANS\",\" / PMR: \"&RELEVE_COTES!$O$15&\" \"&RELEVE_COTES!$N$15,\"SANS\")","v":"SANS"},{"$f":"IF(RELEVE_COTES!$K$14 <> \"SANS\",RELEVE_COTES!$O$14&\" \"&RELEVE_COTES!$K$14,\"\")","v":"U+F "},{"$f":"IF(RELEVE_COTES!$K$13 <> \"SANS\",RELEVE_COTES!$O$13&\" \"&RELEVE_COTES!$K$13,\"SANS\")","v":"U+F "},{"$f":"IF(RELEVE_COTES!$I$20 = \"Huisserie Bois\",RELEVE_COTES!$R76,IF(RELEVE_COTES!$I$20 = \"Huisserie Banchée\",RELEVE_COTES!$M76,IF(RELEVE_COTES!$I$20 = \"Bâti Scellé\",RELEVE_COTES!$O76,\"\")))","v":""},{"$f":"RELEVE_COTES!$E$12&\" / \"&RELEVE_COTES!$E$13","v":" SANS /  SANS"},"INT","VERINS + VERINS","NON",{"$f":"VLOOKUP(RELEVE_COTES!$K$11,TabSerrureRef[],3,FALSE)","v":{"$error":"#N/A"}},{"$f":"VLOOKUP(RELEVE_COTES!$K$11,TabSerrureRef[],6,FALSE)","v":{"$error":"#N/A"}}]
[0,0,{"$f":"IF(RELEVE_COTES!$A77<>\"\",SUBSTITUTE(SUBSTITUTE(SUBSTITUTE(SUBSTITUTE(SUBSTITUTE(SUBSTITUTE(SUBSTITUTE(SUBSTITUTE(RELEVE_COTES!$A77,\" \",\"\"),\"-\",\"/\"),\".\",\"/\"),\"\\\",\"/\"),\",\",\"/\"),\"+\",\"_\"),\"&\",\"_\"),\"*\",\"/\"),\"\")","v":""},{"$f":"RELEVE_COTES!$B77","v":0},1,{"$f":"RELEVE_COTES!$C77","v":0},{"$f":"RELEVE_COTES!$D77","v":0},{"$f":"RELEVE_COTES!$E77","v":0},{"$f":"RELEVE_COTES!$F77","v":0},{"$f":"RELEVE_COTES!$G77","v":0},{"$f":"IF($D29=\"GP\",RELEVE_COTES!$I77,RELEVE_COTES!$H77)","v":0},{"$f":"IF($D29=\"GP\",RELEVE_COTES!$H77,RELEVE_COTES!$I77)","v":0},{"$f":"RELEVE_COTES!$J77","v":0},{"$f":"VLOOKUP(RELEVE_COTES!$K77,TabExistantRef1[],2,FALSE)","v":{"$error":"#N/A"}},{"$f":"IF($Y$1=\"BOIS\",RELEVE_COTES!$O77,0)","v":{"$error":"#N/A"}},{"$f":"IF($Y$1=\"BOIS\",RELEVE_COTES!$P77,0)","v":{"$error":"#N/A"}},{"$f":"IF($Y$1=\"BOIS\",RELEVE_COTES!$Q77,0)","v":{"$error":"#N/A"}},{"$error":"#N/A"},{"$f":"IF($Y$1=\"BANCHE\",RELEVE_COTES!$L77,0)","v":{"$error":"#N/A"}},{"$error":"#N/A"},{"$error":"#N/A"},{"$f":"IF($Y$1<>\"BANCHE\",RELEVE_COTES!$L77,0)","v":{"$error":"#N/A"}},{"$f":"IF($Y$1<>\"BANCHE\",RELEVE_COTES!$M77,20)","v":{"$error":"#N/A"}},{"$f":"IF($Y$1<>\"BANCHE\",RELEVE_COTES!$N77,0)","v":{"$error":"#N/A"}},{"$f":"RELEVE_COTES!$I$20","v":0},{"$f":"RELEVE_COTES!$C$11","v":0},{"$f":"RELEVE_COTES!$K$12","v":0},{"$f":"VLOOKUP(AA29,TabSeuilRef[],2,FALSE)","v":{"$error":"#N/A"}},0,{"$f":"\"Paumelles \"&RELEVE_COTES!$E$15","v":"Paumelles "},{"$f":"IF(RELEVE_COTES!$K$16=\"SANS\",RELEVE_COTES!$K$16,IF(RELEVE_COTES!$K$16=\"Intégré\",\"Intégré\",RELEVE_COTES!$K$16&\" / \"&VLOOKUP(RELEVE_COTES!$L$16,TabOptUsSerr[],2,FALSE)))","v":"SANS"},{"$f":"RELEVE_COTES!$K$11","v":0},{"$f":"\"OP: \"&IF(RELEVE_COTES!$E$12=\"Pr.Peint\",\"PP\",RELEVE_COTES!$G$12)&\"/FP: \"&IF(RELEVE_COTES!$E$13=\"Pr.Peint\",\"PP\",RELEVE_COTES!$G$13)","v":"OP: /FP: "},{"$f":"IF(RELEVE_COTES!$E$14=\"Pr.Peint\",\"PP\",VLOOKUP(RELEVE_COTES!$G$14,TabNuancHM[],2,FALSE))","v":"PP"},{"$error":"#N/A"},{"$f":"IF(RELEVE_COTES!$C$11 =\"R32S-R02\",\"OUI\",\"NON\")","v":"NON"},"NON","",{"$f":"IF(AJ29=\"OUI\",RELEVE_COTES!$N$16,\"\")","v":""},null,{"$f":"VLOOKUP(RELEVE_COTES!$O$11,TabOptUsSerr[],2,FALSE)","v":"Usinage, fourniture et pose"},{"$f":"IF(RELEVE_COTES!$K$15<>\"SANS\",RELEVE_COTES!$L$15&\" \"&RELEVE_COTES!$K$15,\"\")&IF(RELEVE_COTES!$N$15<>\"SANS\",\" / PMR: \"&RELEVE_COTES!$O$15&\" \"&RELEVE_COTES!$N$15,\"SANS\")","v":"SANS"},{"$f":"IF(RELEVE_COTES!$K$14 <> \"SANS\",RELEVE_COTES!$O$14&\" \"&RELEVE_COTES!$K$14,\"\")","v":"U+F "},{"$f":"IF(RELEVE_COTES!$K$13 <> \"SANS\",RELEVE_COTES!$O$13&\" \"&RELEVE_COTES!$K$13,\"SANS\")","v":"U+F "},{"$f":"IF(RELEVE_COTES!$I$20 = \"Huisserie Bois\",RELEVE_COTES!$R77,IF(RELEVE_COTES!$I$20 = \"Huisserie Banchée\",RELEVE_COTES!$M77,IF(RELEVE_COTES!$I$20 = \"Bâti Scellé\",RELEVE_COTES!$O77,\"\")))","v":""},{"$f":"RELEVE_COTES!$E$12&\" / \"&RELEVE_COTES!$E$13","v":" SANS /  SANS"},"INT","VERINS + VERINS","NON",{"$f":"VLOOKUP(RELEVE_COTES!$K$11,TabSerrureRef[],3,FALSE)","v":{"$error":"#N/A"}},{"$f":"VLOOKUP(RELEVE_COTES!$K$11,TabSerrureRef[],6,FALSE)","v":{"$error":"#N/A"}}]
[0,0,{"$f":"IF(RELEVE_COTES!$A78<>\"\",SUBSTITUTE(SUBSTITUTE(SUBSTITUTE(SUBSTITUTE(SUBSTITUTE(SUBSTITUTE(SUBSTITUTE(SUBSTITUTE(RELEVE_COTES!$A78,\" \",\"\"),\"-\",\"/\"),\".\",\"/\"),\"\\\",\"/\"),\",\",\"/\"),\"+\",\"_\"),\"&\",\"_\"),\"*\",\"/\"),\"\")","v":""},{"$f":"RELEVE_COTES!$B78","v":0},1,{"$f":"RELEVE_COTES!$C78","v":0},{"$f":"RELEVE_COTES!$D78","v":0},{"$f":"RELEVE_COTES!$E78","v":0},{"$f":"RELEVE_COTES!$F78","v":0},{"$f":"RELEVE_COTES!$G78","v":0},{"$f":"IF($D30=\"GP\",RELEVE_COTES!$I78,RELEVE_COTES!$H78)","v":0},{"$f":"IF($D30=\"GP\",RELEVE_COTES!$H78,RELEVE_COTES!$I78)","v":0},{"$f":"RELEVE_COTES!$J78","v":0},{"$f":"VLOOKUP(RELEVE_COTES!$K78,TabExistantRef1[],2,FALSE)","v":{"$error":"#N/A"}},{"$f":"IF($Y$1=\"BOIS\",RELEVE_COTES!$O78,0)","v":{"$error":"#N/A"}},{"$f":"IF($Y$1=\"BOIS\",RELEVE_COTES!$P78,0)","v":{"$error":"#N/A"}},{"$f":"IF($Y$1=\"BOIS\",RELEVE_COTES!$Q78,0)","v":{"$error":"#N/A"}},{"$error":"#N/A"},{"$f":"IF($Y$1=\"BANCHE\",RELEVE_COTES!$L78,0)","v":{"$error":"#N/A"}},{"$error":"#N/A"},{"$error":"#N/A"},{"$f":"IF($Y$1<>\"BANCHE\",RELEVE_COTES!$L78,0)","v":{"$error":"#N/A"}},{"$f":"IF($Y$1<>\"BANCHE\",RELEVE_COTES!$M78,20)","v":{"$error":"#N/A"}},{"$f":"IF($Y$1<>\"BANCHE\",RELEVE_COTES!$N78,0)","v":{"$error":"#N/A"}},{"$f":"RELEVE_COTES!$I$20","v":0},{"$f":"RELEVE_COTES!$C$11","v":0},{"$f":"RELEVE_COTES!$K$12","v":0},{"$f":"VLOOKUP(AA30,TabSeuilRef[],2,FALSE)","v":{"$error":"#N/A"}},0,{"$f":"\"Paumelles \"&RELEVE_COTES!$E$15","v":"Paumelles "},{"$f":"IF(RELEVE_COTES!$K$16=\"SANS\",RELEVE_COTES!$K$16,IF(RELEVE_COTES!$K$16=\"Intégré\",\"Intégré\",RELEVE_COTES!$K$16&\" / \"&VLOOKUP(RELEVE_COTES!$L$16,TabOptUsSerr[],2,FALSE)))","v":"SANS"},{"$f":"RELEVE_COTES!$K$11","v":0},{"$f":"\"OP: \"&IF(RELEVE_COTES!$E$12=\"Pr.Peint\",\"PP\",RELEVE_COTES!$G$12)&\"/FP: \"&IF(RELEVE_COTES!$E$13=\"Pr.Peint\",\"PP\",RELEVE_COTES!$G$13)","v":"OP: /FP: "},{"$f":"IF(RELEVE_COTES!$E$14=\"Pr.Peint\",\"PP\",VLOOKUP(RELEVE_COTES!$G$14,TabNuancHM[],2,FALSE))","v":"PP"},{"$error":"#N/A"},{"$f":"IF(RELEVE_COTES!$C$11 =\"R32S-R02\",\"OUI\",\"NON\")","v":"NON"},"NON","",{"$f":"IF(AJ30=\"OUI\",RELEVE_COTES!$N$16,\"\")","v":""},null,{"$f":"VLOOKUP(RELEVE_COTES!$O$11,TabOptUsSerr[],2,FALSE)","v":"Usinage, fourniture et pose"},{"$f":"IF(RELEVE_COTES!$K$15<>\"SANS\",RELEVE_COTES!$L$15&\" \"&RELEVE_COTES!$K$15,\"\")&IF(RELEVE_COTES!$N$15<>\"SANS\",\" / PMR: \"&RELEVE_COTES!$O$15&\" \"&RELEVE_COTES!$N$15,\"SANS\")","v":"SANS"},{"$f":"IF(RELEVE_COTES!$K$14 <> \"SANS\",RELEVE_COTES!$O$14&\" \"&RELEVE_COTES!$K$14,\"\")","v":"U+F "},{"$f":"IF(RELEVE_COTES!$K$13 <> \"SANS\",RELEVE_COTES!$O$13&\" \"&RELEVE_COTES!$K$13,\"SANS\")","v":"U+F "},{"$f":"IF(RELEVE_COTES!$I$20 = \"Huisserie Bois\",RELEVE_COTES!$R78,IF(RELEVE_COTES!$I$20 = \"Huisserie Banchée\",RELEVE_COTES!$M78,IF(RELEVE_COTES!$I$20 = \"Bâti Scellé\",RELEVE_COTES!$O78,\"\")))","v":""},{"$f":"RELEVE_COTES!$E$12&\" / \"&RELEVE_COTES!$E$13","v":" SANS /  SANS"},"INT","VERINS + VERINS","NON",{"$f":"VLOOKUP(RELEVE_COTES!$K$11,TabSerrureRef[],3,FALSE)","v":{"$error":"#N/A"}},{"$f":"VLOOKUP(RELEVE_COTES!$K$11,TabSerrureRef[],6,FALSE)","v":{"$error":"#N/A"}}]
[0,0,{"$f":"IF(RELEVE_COTES!$A79<>\"\",SUBSTITUTE(SUBSTITUTE(SUBSTITUTE(SUBSTITUTE(SUBSTITUTE(SUBSTITUTE(SUBSTITUTE(SUBSTITUTE(RELEVE_COTES!$A79,\" \",\"\"),\"-\",\"/\"),\".\",\"/\"),\"\\\",\"/\"),\",\",\"/\"),\"+\",\"_\"),\"&\",\"_\"),\"*\",\"/\"),\"\")","v":""},{"$f":"RELEVE_COTES!$B79","v":0},1,{"$f":"RELEVE_COTES!$C79","v":0},{"$f":"RELEVE_COTES!$D79","v":0},{"$f":"RELEVE_COTES!$E79","v":0},{"$f":"RELEVE_COTES!$F79","v":0},{"$f":"RELEVE_COTES!$G79","v":0},{"$f":"IF($D31=\"GP\",RELEVE_COTES!$I79,RELEVE_COTES!$H79)","v":0},{"$f":"IF($D31=\"GP\",RELEVE_COTES!$H79,RELEVE_COTES!$I79)","v":0},{"$f":"RELEVE_COTES!$J79","v":0},{"$f":"VLOOKUP(RELEVE_COTES!$K79,TabExistantRef1[],2,FALSE)","v":{"$error":"#N/A"}},{"$f":"IF($Y$1=\"BOIS\",RELEVE_COTES!$O79,0)","v":{"$error":"#N/A"}},{"$f":"IF($Y$1=\"BOIS\",RELEVE_COTES!$P79,0)","v":{"$error":"#N/A"}},{"$f":"IF($Y$1=\"BOIS\",RELEVE_COTES!$Q79,0)","v":{"$error":"#N/A"}},{"$error":"#N/A"},{"$f":"IF($Y$1=\"BANCHE\",RELEVE_COTES!$L79,0)","v":{"$error":"#N/A"}},{"$error":"#N/A"},{"$error":"#N/A"},{"$f":"IF($Y$1<>\"BANCHE\",RELEVE_COTES!$L79,0)","v":{"$error":"#N/A"}},{"$f":"IF($Y$1<>\"BANCHE\",RELEVE_COTES!$M79,20)","v":{"$error":"#N/A"}},{"$f":"IF($Y$1<>\"BANCHE\",RELEVE_COTES!$N79,0)","v":{"$error":"#N/A"}},{"$f":"RELEVE_COTES!$I$20","v":0},{"$f":"RELEVE_COTES!$C$11","v":0},{"$f":"RELEVE_COTES!$K$12","v":0},{"$f":"VLOOKUP(AA31,TabSeuilRef[],2,FALSE)","v":{"$error":"#N/A"}},0,{"$f":"\"Paumelles \"&RELEVE_COTES!$E$15","v":"Paumelles "},{"$f":"IF(RELEVE_COTES!$K$16=\"SANS\",RELEVE_COTES!$K$16,IF(RELEVE_COTES!$K$16=\"Intégré\",\"Intégré\",RELEVE_COTES!$K$16&\" / \"&VLOOKUP(RELEVE_COTES!$L$16,TabOptUsSerr[],2,FALSE)))","v":"SANS"},{"$f":"RELEVE_COTES!$K$11","v":0},{"$f":"\"OP: \"&IF(RELEVE_COTES!$E$12=\"Pr.Peint\",\"PP\",RELEVE_COTES!$G$12)&\"/FP: \"&IF(RELEVE_COTES!$E$13=\"Pr.Peint\",\"PP\",RELEVE_COTES!$G$13)","v":"OP: /FP: "},{"$f":"IF(RELEVE_COTES!$E$14=\"Pr.Peint\",\"PP\",VLOOKUP(RELEVE_COTES!$G$14,TabNuancHM[],2,FALSE))","v":"PP"},{"$error":"#N/A"},{"$f":"IF(RELEVE_COTES!$C$11 =\"R32S-R02\",\"OUI\",\"NON\")","v":"NON"},"NON","",{"$f":"IF(AJ31=\"OUI\",RELEVE_COTES!$N$16,\"\")","v":""},null,{"$f":"VLOOKUP(RELEVE_COTES!$O$11,TabOptUsSerr[],2,FALSE)","v":"Usinage, fourniture et pose"},{"$f":"IF(RELEVE_COTES!$K$15<>\"SANS\",RELEVE_COTES!$L$15&\" \"&RELEVE_COTES!$K$15,\"\")&IF(RELEVE_COTES!$N$15<>\"SANS\",\" / PMR: \"&RELEVE_COTES!$O$15&\" \"&RELEVE_COTES!$N$15,\"SANS\")","v":"SANS"},{"$f":"IF(RELEVE_COTES!$K$14 <> \"SANS\",RELEVE_COTES!$O$14&\" \"&RELEVE_COTES!$K$14,\"\")","v":"U+F "},{"$f":"IF(RELEVE_COTES!$K$13 <> \"SANS\",RELEVE_COTES!$O$13&\" \"&RELEVE_COTES!$K$13,\"SANS\")","v":"U+F "},{"$f":"IF(RELEVE_COTES!$I$20 = \"Huisserie Bois\",RELEVE_COTES!$R79,IF(RELEVE_COTES!$I$20 = \"Huisserie Banchée\",RELEVE_COTES!$M79,IF(RELEVE_COTES!$I$20 = \"Bâti Scellé\",RELEVE_COTES!$O79,\"\")))","v":""},{"$f":"RELEVE_COTES!$E$12&\" / \"&RELEVE_COTES!$E$13","v":" SANS /  SANS"},"INT","VERINS + VERINS","NON",{"$f":"VLOOKUP(RELEVE_COTES!$K$11,TabSerrureRef[],3,FALSE)","v":{"$error":"#N/A"}},{"$f":"VLOOKUP(RELEVE_COTES!$K$11,TabSerrureRef[],6,FALSE)","v":{"$error":"#N/A"}}]
[0,0,{"$f":"IF(RELEVE_COTES!$A80<>\"\",SUBSTITUTE(SUBSTITUTE(SUBSTITUTE(SUBSTITUTE(SUBSTITUTE(SUBSTITUTE(SUBSTITUTE(SUBSTITUTE(RELEVE_COTES!$A80,\" \",\"\"),\"-\",\"/\"),\".\",\"/\"),\"\\\",\"/\"),\",\",\"/\"),\"+\",\"_\"),\"&\",\"_\"),\"*\",\"/\"),\"\")","v":""},{"$f":"RELEVE_COTES!$B80","v":0},1,{"$f":"RELEVE_COTES!$C80","v":0},{"$f":"RELEVE_COTES!$D80","v":0},{"$f":"RELEVE_COTES!$E80","v":0},{"$f":"RELEVE_COTES!$F80","v":0},{"$f":"RELEVE_COTES!$G80","v":0},{"$f":"IF($D32=\"GP\",RELEVE_COTES!$I80,RELEVE_COTES!$H80)","v":0},{"$f":"IF($D32=\"GP\",RELEVE_COTES!$H80,RELEVE_COTES!$I80)","v":0},{"$f":"RELEVE_COTES!$J80","v":0},{"$f":"VLOOKUP(RELEVE_COTES!$K80,TabExistantRef1[],2,FALSE)","v":{"$error":"#N/A"}},{"$f":"IF($Y$1=\"BOIS\",RELEVE_COTES!$O80,0)","v":{"$error":"#N/A"}},{"$f":"IF($Y$1=\"BOIS\",RELEVE_COTES!$P80,0)","v":{"$error":"#N/A"}},{"$f":"IF($Y$1=\"BOIS\",RELEVE_COTES!$Q80,0)","v":{"$error":"#N/A"}},{"$error":"#N/A"},{"$f":"IF($Y$1=\"BANCHE\",RELEVE_COTES!$L80,0)","v":{"$error":"#N/A"}},{"$error":"#N/A"},{"$error":"#N/A"},{"$f":"IF($Y$1<>\"BANCHE\",RELEVE_COTES!$L80,0)","v":{"$error":"#N/A"}},{"$f":"IF($Y$1<>\"BANCHE\",RELEVE_COTES!$M80,20)","v":{"$error":"#N/A"}},{"$f":"IF($Y$1<>\"BANCHE\",RELEVE_COTES!$N80,0)","v":{"$error":"#N/A"}},{"$f":"RELEVE_COTES!$I$20","v":0},{"$f":"RELEVE_COTES!$C$11","v":0},{"$f":"RELEVE_COTES!$K$12","v":0},{"$f":"VLOOKUP(AA32,TabSeuilRef[],2,FALSE)","v":{"$error":"#N/A"}},0,{"$f":"\"Paumelles \"&RELEVE_COTES!$E$15","v":"Paumelles "},{"$f":"IF(RELEVE_COTES!$K$16=\"SANS\",RELEVE_COTES!$K$16,IF(RELEVE_COTES!$K$16=\"Intégré\",\"Intégré\",RELEVE_COTES!$K$16&\" / \"&VLOOKUP(RELEVE_COTES!$L$16,TabOptUsSerr[],2,FALSE)))","v":"SANS"},{"$f":"RELEVE_COTES!$K$11","v":0},{"$f":"\"OP: \"&IF(RELEVE_COTES!$E$12=\"Pr.Peint\",\"PP\",RELEVE_COTES!$G$12)&\"/FP: \"&IF(RELEVE_COTES!$E$13=\"Pr.Peint\",\"PP\",RELEVE_COTES!$G$13)","v":"OP: /FP: "},{"$f":"IF(RELEVE_COTES!$E$14=\"Pr.Peint\",\"PP\",VLOOKUP(RELEVE_COTES!$G$14,TabNuancHM[],2,FALSE))","v":"PP"},{"$error":"#N/A"},{"$f":"IF(RELEVE_COTES!$C$11 =\"R32S-R02\",\"OUI\",\"NON\")","v":"NON"},"NON","",{"$f":"IF(AJ32=\"OUI\",RELEVE_COTES!$N$16,\"\")","v":""},null,{"$f":"VLOOKUP(RELEVE_COTES!$O$11,TabOptUsSerr[],2,FALSE)","v":"Usinage, fourniture et pose"},{"$f":"IF(RELEVE_COTES!$K$15<>\"SANS\",RELEVE_COTES!$L$15&\" \"&RELEVE_COTES!$K$15,\"\")&IF(RELEVE_COTES!$N$15<>\"SANS\",\" / PMR: \"&RELEVE_COTES!$O$15&\" \"&RELEVE_COTES!$N$15,\"SANS\")","v":"SANS"},{"$f":"IF(RELEVE_COTES!$K$14 <> \"SANS\",RELEVE_COTES!$O$14&\" \"&RELEVE_COTES!$K$14,\"\")","v":"U+F "},{"$f":"IF(RELEVE_COTES!$K$13 <> \"SANS\",RELEVE_COTES!$O$13&\" \"&RELEVE_COTES!$K$13,\"SANS\")","v":"U+F "},{"$f":"IF(RELEVE_COTES!$I$20 = \"Huisserie Bois\",RELEVE_COTES!$R80,IF(RELEVE_COTES!$I$20 = \"Huisserie Banchée\",RELEVE_COTES!$M80,IF(RELEVE_COTES!$I$20 = \"Bâti Scellé\",RELEVE_COTES!$O80,\"\")))","v":""},{"$f":"RELEVE_COTES!$E$12&\" / \"&RELEVE_COTES!$E$13","v":" SANS /  SANS"},"INT","VERINS + VERINS","NON",{"$f":"VLOOKUP(RELEVE_COTES!$K$11,TabSerrureRef[],3,FALSE)","v":{"$error":"#N/A"}},{"$f":"VLOOKUP(RELEVE_COTES!$K$11,TabSerrureRef[],6,FALSE)","v":{"$error":"#N/A"}}]
[0,0,{"$f":"IF(RELEVE_COTES!$A81<>\"\",SUBSTITUTE(SUBSTITUTE(SUBSTITUTE(SUBSTITUTE(SUBSTITUTE(SUBSTITUTE(SUBSTITUTE(SUBSTITUTE(RELEVE_COTES!$A81,\" \",\"\"),\"-\",\"/\"),\".\",\"/\"),\"\\\",\"/\"),\",\",\"/\"),\"+\",\"_\"),\"&\",\"_\"),\"*\",\"/\"),\"\")","v":""},{"$f":"RELEVE_COTES!$B81","v":0},1,{"$f":"RELEVE_COTES!$C81","v":0},{"$f":"RELEVE_COTES!$D81","v":0},{"$f":"RELEVE_COTES!$E81","v":0},{"$f":"RELEVE_COTES!$F81","v":0},{"$f":"RELEVE_COTES!$G81","v":0},{"$f":"IF($D33=\"GP\",RELEVE_COTES!$I81,RELEVE_COTES!$H81)","v":0},{"$f":"IF($D33=\"GP\",RELEVE_COTES!$H81,RELEVE_COTES!$I81)","v":0},{"$f":"RELEVE_COTES!$J81","v":0},{"$f":"VLOOKUP(RELEVE_COTES!$K81,TabExistantRef1[],2,FALSE)","v":{"$error":"#N/A"}},{"$f":"IF($Y$1=\"BOIS\",RELEVE_COTES!$O81,0)","v":{"$error":"#N/A"}},{"$f":"IF($Y$1=\"BOIS\",RELEVE_COTES!$P81,0)","v":{"$error":"#N/A"}},{"$f":"IF($Y$1=\"BOIS\",RELEVE_COTES!$Q81,0)","v":{"$error":"#N/A"}},{"$error":"#N/A"},{"$f":"IF($Y$1=\"BANCHE\",RELEVE_COTES!$L81,0)","v":{"$error":"#N/A"}},{"$error":"#N/A"},{"$error":"#N/A"},{"$f":"IF($Y$1<>\"BANCHE\",RELEVE_COTES!$L81,0)","v":{"$error":"#N/A"}},{"$f":"IF($Y$1<>\"BANCHE\",RELEVE_COTES!$M81,20)","v":{"$error":"#N/A"}},{"$f":"IF($Y$1<>\"BANCHE\",RELEVE_COTES!$N81,0)","v":{"$error":"#N/A"}},{"$f":"RELEVE_COTES!$I$20","v":0},{"$f":"RELEVE_COTES!$C$11","v":0},{"$f":"RELEVE_COTES!$K$12","v":0},{"$f":"VLOOKUP(AA33,TabSeuilRef[],2,FALSE)","v":{"$error":"#N/A"}},0,{"$f":"\"Paumelles \"&RELEVE_COTES!$E$15","v":"Paumelles "},{"$f":"IF(RELEVE_COTES!$K$16=\"SANS\",RELEVE_COTES!$K$16,IF(RELEVE_COTES!$K$16=\"Intégré\",\"Intégré\",RELEVE_COTES!$K$16&\" / \"&VLOOKUP(RELEVE_COTES!$L$16,TabOptUsSerr[],2,FALSE)))","v":"SANS"},{"$f":"RELEVE_COTES!$K$11","v":0},{"$f":"\"OP: \"&IF(RELEVE_COTES!$E$12=\"Pr.Peint\",\"PP\",RELEVE_COTES!$G$12)&\"/FP: \"&IF(RELEVE_COTES!$E$13=\"Pr.Peint\",\"PP\",RELEVE_COTES!$G$13)","v":"OP: /FP: "},{"$f":"IF(RELEVE_COTES!$E$14=\"Pr.Peint\",\"PP\",VLOOKUP(RELEVE_COTES!$G$14,TabNuancHM[],2,FALSE))","v":"PP"},{"$error":"#N/A"},{"$f":"IF(RELEVE_COTES!$C$11 =\"R32S-R02\",\"OUI\",\"NON\")","v":"NON"},"NON","",{"$f":"IF(AJ33=\"OUI\",RELEVE_COTES!$N$16,\"\")","v":""},null,{"$f":"VLOOKUP(RELEVE_COTES!$O$11,TabOptUsSerr[],2,FALSE)","v":"Usinage, fourniture et pose"},{"$f":"IF(RELEVE_COTES!$K$15<>\"SANS\",RELEVE_COTES!$L$15&\" \"&RELEVE_COTES!$K$15,\"\")&IF(RELEVE_COTES!$N$15<>\"SANS\",\" / PMR: \"&RELEVE_COTES!$O$15&\" \"&RELEVE_COTES!$N$15,\"SANS\")","v":"SANS"},{"$f":"IF(RELEVE_COTES!$K$14 <> \"SANS\",RELEVE_COTES!$O$14&\" \"&RELEVE_COTES!$K$14,\"\")","v":"U+F "},{"$f":"IF(RELEVE_COTES!$K$13 <> \"SANS\",RELEVE_COTES!$O$13&\" \"&RELEVE_COTES!$K$13,\"SANS\")","v":"U+F "},{"$f":"IF(RELEVE_COTES!$I$20 = \"Huisserie Bois\",RELEVE_COTES!$R81,IF(RELEVE_COTES!$I$20 = \"Huisserie Banchée\",RELEVE_COTES!$M81,IF(RELEVE_COTES!$I$20 = \"Bâti Scellé\",RELEVE_COTES!$O81,\"\")))","v":""},{"$f":"RELEVE_COTES!$E$12&\" / \"&RELEVE_COTES!$E$13","v":" SANS /  SANS"},"INT","VERINS + VERINS","NON",{"$f":"VLOOKUP(RELEVE_COTES!$K$11,TabSerrureRef[],3,FALSE)","v":{"$error":"#N/A"}},{"$f":"VLOOKUP(RELEVE_COTES!$K$11,TabSerrureRef[],6,FALSE)","v":{"$error":"#N/A"}}]
[0,0,{"$f":"IF(RELEVE_COTES!$A82<>\"\",SUBSTITUTE(SUBSTITUTE(SUBSTITUTE(SUBSTITUTE(SUBSTITUTE(SUBSTITUTE(SUBSTITUTE(SUBSTITUTE(RELEVE_COTES!$A82,\" \",\"\"),\"-\",\"/\"),\".\",\"/\"),\"\\\",\"/\"),\",\",\"/\"),\"+\",\"_\"),\"&\",\"_\"),\"*\",\"/\"),\"\")","v":""},{"$f":"RELEVE_COTES!$B82","v":0},1,{"$f":"RELEVE_COTES!$C82","v":0},{"$f":"RELEVE_COTES!$D82","v":0},{"$f":"RELEVE_COTES!$E82","v":0},{"$f":"RELEVE_COTES!$F82","v":0},{"$f":"RELEVE_COTES!$G82","v":0},{"$f":"IF($D34=\"GP\",RELEVE_COTES!$I82,RELEVE_COTES!$H82)","v":0},{"$f":"IF($D34=\"GP\",RELEVE_COTES!$H82,RELEVE_COTES!$I82)","v":0},{"$f":"RELEVE_COTES!$J82","v":0},{"$f":"VLOOKUP(RELEVE_COTES!$K82,TabExistantRef1[],2,FALSE)","v":{"$error":"#N/A"}},{"$f":"IF($Y$1=\"BOIS\",RELEVE_COTES!$O82,0)","v":{"$error":"#N/A"}},{"$f":"IF($Y$1=\"BOIS\",RELEVE_COTES!$P82,0)","v":{"$error":"#N/A"}},{"$f":"IF($Y$1=\"BOIS\",RELEVE_COTES!$Q82,0)","v":{"$error":"#N/A"}},{"$error":"#N/A"},{"$f":"IF($Y$1=\"BANCHE\",RELEVE_COTES!$L82,0)","v":{"$error":"#N/A"}},{"$error":"#N/A"},{"$error":"#N/A"},{"$f":"IF($Y$1<>\"BANCHE\",RELEVE_COTES!$L82,0)","v":{"$error":"#N/A"}},{"$f":"IF($Y$1<>\"BANCHE\",RELEVE_COTES!$M82,20)","v":{"$error":"#N/A"}},{"$f":"IF($Y$1<>\"BANCHE\",RELEVE_COTES!$N82,0)","v":{"$error":"#N/A"}},{"$f":"RELEVE_COTES!$I$20","v":0},{"$f":"RELEVE_COTES!$C$11","v":0},{"$f":"RELEVE_COTES!$K$12","v":0},{"$f":"VLOOKUP(AA34,TabSeuilRef[],2,FALSE)","v":{"$error":"#N/A"}},0,{"$f":"\"Paumelles \"&RELEVE_COTES!$E$15","v":"Paumelles "},{"$f":"IF(RELEVE_COTES!$K$16=\"SANS\",RELEVE_COTES!$K$16,IF(RELEVE_COTES!$K$16=\"Intégré\",\"Intégré\",RELEVE_COTES!$K$16&\" / \"&VLOOKUP(RELEVE_COTES!$L$16,TabOptUsSerr[],2,FALSE)))","v":"SANS"},{"$f":"RELEVE_COTES!$K$11","v":0},{"$f":"\"OP: \"&IF(RELEVE_COTES!$E$12=\"Pr.Peint\",\"PP\",RELEVE_COTES!$G$12)&\"/FP: \"&IF(RELEVE_COTES!$E$13=\"Pr.Peint\",\"PP\",RELEVE_COTES!$G$13)","v":"OP: /FP: "},{"$f":"IF(RELEVE_COTES!$E$14=\"Pr.Peint\",\"PP\",VLOOKUP(RELEVE_COTES!$G$14,TabNuancHM[],2,FALSE))","v":"PP"},{"$error":"#N/A"},{"$f":"IF(RELEVE_COTES!$C$11 =\"R32S-R02\",\"OUI\",\"NON\")","v":"NON"},"NON","",{"$f":"IF(AJ34=\"OUI\",RELEVE_COTES!$N$16,\"\")","v":""},null,{"$f":"VLOOKUP(RELEVE_COTES!$O$11,TabOptUsSerr[],2,FALSE)","v":"Usinage, fourniture et pose"},{"$f":"IF(RELEVE_COTES!$K$15<>\"SANS\",RELEVE_COTES!$L$15&\" \"&RELEVE_COTES!$K$15,\"\")&IF(RELEVE_COTES!$N$15<>\"SANS\",\" / PMR: \"&RELEVE_COTES!$O$15&\" \"&RELEVE_COTES!$N$15,\"SANS\")","v":"SANS"},{"$f":"IF(RELEVE_COTES!$K$14 <> \"SANS\",RELEVE_COTES!$O$14&\" \"&RELEVE_COTES!$K$14,\"\")","v":"U+F "},{"$f":"IF(RELEVE_COTES!$K$13 <> \"SANS\",RELEVE_COTES!$O$13&\" \"&RELEVE_COTES!$K$13,\"SANS\")","v":"U+F "},{"$f":"IF(RELEVE_COTES!$I$20 = \"Huisserie Bois\",RELEVE_COTES!$R82,IF(RELEVE_COTES!$I$20 = \"Huisserie Banchée\",RELEVE_COTES!$M82,IF(RELEVE_COTES!$I$20 = \"Bâti Scellé\",RELEVE_COTES!$O82,\"\")))","v":""},{"$f":"RELEVE_COTES!$E$12&\" / \"&RELEVE_COTES!$E$13","v":" SANS /  SANS"},"INT","VERINS + VERINS","NON",{"$f":"VLOOKUP(RELEVE_COTES!$K$11,TabSerrureRef[],3,FALSE)","v":{"$error":"#N/A"}},{"$f":"VLOOKUP(RELEVE_COTES!$K$11,TabSerrureRef[],6,FALSE)","v":{"$error":"#N/A"}}]
[0,0,{"$f":"IF(RELEVE_COTES!$A83<>\"\",SUBSTITUTE(SUBSTITUTE(SUBSTITUTE(SUBSTITUTE(SUBSTITUTE(SUBSTITUTE(SUBSTITUTE(SUBSTITUTE(RELEVE_COTES!$A83,\" \",\"\"),\"-\",\"/\"),\".\",\"/\"),\"\\\",\"/\"),\",\",\"/\"),\"+\",\"_\"),\"&\",\"_\"),\"*\",\"/\"),\"\")","v":""},{"$f":"RELEVE_COTES!$B83","v":0},1,{"$f":"RELEVE_COTES!$C83","v":0},{"$f":"RELEVE_COTES!$D83","v":0},{"$f":"RELEVE_COTES!$E83","v":0},{"$f":"RELEVE_COTES!$F83","v":0},{"$f":"RELEVE_COTES!$G83","v":0},{"$f":"IF($D35=\"GP\",RELEVE_COTES!$I83,RELEVE_COTES!$H83)","v":0},{"$f":"IF($D35=\"GP\",RELEVE_COTES!$H83,RELEVE_COTES!$I83)","v":0},{"$f":"RELEVE_COTES!$J83","v":0},{"$f":"VLOOKUP(RELEVE_COTES!$K83,TabExistantRef1[],2,FALSE)","v":{"$error":"#N/A"}},{"$f":"IF($Y$1=\"BOIS\",RELEVE_COTES!$O83,0)","v":{"$error":"#N/A"}},{"$f":"IF($Y$1=\"BOIS\",RELEVE_COTES!$P83,0)","v":{"$error":"#N/A"}},{"$f":"IF($Y$1=\"BOIS\",RELEVE_COTES!$Q83,0)","v":{"$error":"#N/A"}},{"$error":"#N/A"},{"$f":"IF($Y$1=\"BANCHE\",RELEVE_COTES!$L83,0)","v":{"$error":"#N/A"}},{"$error":"#N/A"},{"$error":"#N/A"},{"$f":"IF($Y$1<>\"BANCHE\",RELEVE_COTES!$L83,0)","v":{"$error":"#N/A"}},{"$f":"IF($Y$1<>\"BANCHE\",RELEVE_COTES!$M83,20)","v":{"$error":"#N/A"}},{"$f":"IF($Y$1<>\"BANCHE\",RELEVE_COTES!$N83,0)","v":{"$error":"#N/A"}},{"$f":"RELEVE_COTES!$I$20","v":0},{"$f":"RELEVE_COTES!$C$11","v":0},{"$f":"RELEVE_COTES!$K$12","v":0},{"$f":"VLOOKUP(AA35,TabSeuilRef[],2,FALSE)","v":{"$error":"#N/A"}},0,{"$f":"\"Paumelles \"&RELEVE_COTES!$E$15","v":"Paumelles "},{"$f":"IF(RELEVE_COTES!$K$16=\"SANS\",RELEVE_COTES!$K$16,IF(RELEVE_COTES!$K$16=\"Intégré\",\"Intégré\",RELEVE_COTES!$K$16&\" / \"&VLOOKUP(RELEVE_COTES!$L$16,TabOptUsSerr[],2,FALSE)))","v":"SANS"},{"$f":"RELEVE_COTES!$K$11","v":0},{"$f":"\"OP: \"&IF(RELEVE_COTES!$E$12=\"Pr.Peint\",\"PP\",RELEVE_COTES!$G$12)&\"/FP: \"&IF(RELEVE_COTES!$E$13=\"Pr.Peint\",\"PP\",RELEVE_COTES!$G$13)","v":"OP: /FP: "},{"$f":"IF(RELEVE_COTES!$E$14=\"Pr.Peint\",\"PP\",VLOOKUP(RELEVE_COTES!$G$14,TabNuancHM[],2,FALSE))","v":"PP"},{"$error":"#N/A"},{"$f":"IF(RELEVE_COTES!$C$11 =\"R32S-R02\",\"OUI\",\"NON\")","v":"NON"},"NON","",{"$f":"IF(AJ35=\"OUI\",RELEVE_COTES!$N$16,\"\")","v":""},null,{"$f":"VLOOKUP(RELEVE_COTES!$O$11,TabOptUsSerr[],2,FALSE)","v":"Usinage, fourniture et pose"},{"$f":"IF(RELEVE_COTES!$K$15<>\"SANS\",RELEVE_COTES!$L$15&\" \"&RELEVE_COTES!$K$15,\"\")&IF(RELEVE_COTES!$N$15<>\"SANS\",\" / PMR: \"&RELEVE_COTES!$O$15&\" \"&RELEVE_COTES!$N$15,\"SANS\")","v":"SANS"},{"$f":"IF(RELEVE_COTES!$K$14 <> \"SANS\",RELEVE_COTES!$O$14&\" \"&RELEVE_COTES!$K$14,\"\")","v":"U+F "},{"$f":"IF(RELEVE_COTES!$K$13 <> \"SANS\",RELEVE_COTES!$O$13&\" \"&RELEVE_COTES!$K$13,\"SANS\")","v":"U+F "},{"$f":"IF(RELEVE_COTES!$I$20 = \"Huisserie Bois\",RELEVE_COTES!$R83,IF(RELEVE_COTES!$I$20 = \"Huisserie Banchée\",RELEVE_COTES!$M83,IF(RELEVE_COTES!$I$20 = \"Bâti Scellé\",RELEVE_COTES!$O83,\"\")))","v":""},{"$f":"RELEVE_COTES!$E$12&\" / \"&RELEVE_COTES!$E$13","v":" SANS /  SANS"},"INT","VERINS + VERINS","NON",{"$f":"VLOOKUP(RELEVE_COTES!$K$11,TabSerrureRef[],3,FALSE)","v":{"$error":"#N/A"}},{"$f":"VLOOKUP(RELEVE_COTES!$K$11,TabSerrureRef[],6,FALSE)","v":{"$error":"#N/A"}}]
[0,0,{"$f":"IF(RELEVE_COTES!$A84<>\"\",SUBSTITUTE(SUBSTITUTE(SUBSTITUTE(SUBSTITUTE(SUBSTITUTE(SUBSTITUTE(SUBSTITUTE(SUBSTITUTE(RELEVE_COTES!$A84,\" \",\"\"),\"-\",\"/\"),\".\",\"/\"),\"\\\",\"/\"),\",\",\"/\"),\"+\",\"_\"),\"&\",\"_\"),\"*\",\"/\"),\"\")","v":""},{"$f":"RELEVE_COTES!$B84","v":0},1,{"$f":"RELEVE_COTES!$C84","v":0},{"$f":"RELEVE_COTES!$D84","v":0},{"$f":"RELEVE_COTES!$E84","v":0},{"$f":"RELEVE_COTES!$F84","v":0},{"$f":"RELEVE_COTES!$G84","v":0},{"$f":"IF($D36=\"GP\",RELEVE_COTES!$I84,RELEVE_COTES!$H84)","v":0},{"$f":"IF($D36=\"GP\",RELEVE_COTES!$H84,RELEVE_COTES!$I84)","v":0},{"$f":"RELEVE_COTES!$J84","v":0},{"$f":"VLOOKUP(RELEVE_COTES!$K84,TabExistantRef1[],2,FALSE)","v":{"$error":"#N/A"}},{"$f":"IF($Y$1=\"BOIS\",RELEVE_COTES!$O84,0)","v":{"$error":"#N/A"}},{"$f":"IF($Y$1=\"BOIS\",RELEVE_COTES!$P84,0)","v":{"$error":"#N/A"}},{"$f":"IF($Y$1=\"BOIS\",RELEVE_COTES!$Q84,0)","v":{"$error":"#N/A"}},{"$error":"#N/A"},{"$f":"IF($Y$1=\"BANCHE\",RELEVE_COTES!$L84,0)","v":{"$error":"#N/A"}},{"$error":"#N/A"},{"$error":"#N/A"},{"$f":"IF($Y$1<>\"BANCHE\",RELEVE_COTES!$L84,0)","v":{"$error":"#N/A"}},{"$f":"IF($Y$1<>\"BANCHE\",RELEVE_COTES!$M84,20)","v":{"$error":"#N/A"}},{"$f":"IF($Y$1<>\"BANCHE\",RELEVE_COTES!$N84,0)","v":{"$error":"#N/A"}},{"$f":"RELEVE_COTES!$I$20","v":0},{"$f":"RELEVE_COTES!$C$11","v":0},{"$f":"RELEVE_COTES!$K$12","v":0},{"$f":"VLOOKUP(AA36,TabSeuilRef[],2,FALSE)","v":{"$error":"#N/A"}},0,{"$f":"\"Paumelles \"&RELEVE_COTES!$E$15","v":"Paumelles "},{"$f":"IF(RELEVE_COTES!$K$16=\"SANS\",RELEVE_COTES!$K$16,IF(RELEVE_COTES!$K$16=\"Intégré\",\"Intégré\",RELEVE_COTES!$K$16&\" / \"&VLOOKUP(RELEVE_COTES!$L$16,TabOptUsSerr[],2,FALSE)))","v":"SANS"},{"$f":"RELEVE_COTES!$K$11","v":0},{"$f":"\"OP: \"&IF(RELEVE_COTES!$E$12=\"Pr.Peint\",\"PP\",RELEVE_COTES!$G$12)&\"/FP: \"&IF(RELEVE_COTES!$E$13=\"Pr.Peint\",\"PP\",RELEVE_COTES!$G$13)","v":"OP: /FP: "},{"$f":"IF(RELEVE_COTES!$E$14=\"Pr.Peint\",\"PP\",VLOOKUP(RELEVE_COTES!$G$14,TabNuancHM[],2,FALSE))","v":"PP"},{"$error":"#N/A"},{"$f":"IF(RELEVE_COTES!$C$11 =\"R32S-R02\",\"OUI\",\"NON\")","v":"NON"},"NON","",{"$f":"IF(AJ36=\"OUI\",RELEVE_COTES!$N$16,\"\")","v":""},null,{"$f":"VLOOKUP(RELEVE_COTES!$O$11,TabOptUsSerr[],2,FALSE)","v":"Usinage, fourniture et pose"},{"$f":"IF(RELEVE_COTES!$K$15<>\"SANS\",RELEVE_COTES!$L$15&\" \"&RELEVE_COTES!$K$15,\"\")&IF(RELEVE_COTES!$N$15<>\"SANS\",\" / PMR: \"&RELEVE_COTES!$O$15&\" \"&RELEVE_COTES!$N$15,\"SANS\")","v":"SANS"},{"$f":"IF(RELEVE_COTES!$K$14 <> \"SANS\",RELEVE_COTES!$O$14&\" \"&RELEVE_COTES!$K$14,\"\")","v":"U+F "},{"$f":"IF(RELEVE_COTES!$K$13 <> \"SANS\",RELEVE_COTES!$O$13&\" \"&RELEVE_COTES!$K$13,\"SANS\")","v":"U+F "},{"$f":"IF(RELEVE_COTES!$I$20 = \"Huisserie Bois\",RELEVE_COTES!$R84,IF(RELEVE_COTES!$I$20 = \"Huisserie Banchée\",RELEVE_COTES!$M84,IF(RELEVE_COTES!$I$20 = \"Bâti Scellé\",RELEVE_COTES!$O84,\"\")))","v":""},{"$f":"RELEVE_COTES!$E$12&\" / \"&RELEVE_COTES!$E$13","v":" SANS /  SANS"},"INT","VERINS + VERINS","NON",{"$f":"VLOOKUP(RELEVE_COTES!$K$11,TabSerrureRef[],3,FALSE)","v":{"$error":"#N/A"}},{"$f":"VLOOKUP(RELEVE_COTES!$K$11,TabSerrureRef[],6,FALSE)","v":{"$error":"#N/A"}}]
[0,0,{"$f":"IF(RELEVE_COTES!$A85<>\"\",SUBSTITUTE(SUBSTITUTE(SUBSTITUTE(SUBSTITUTE(SUBSTITUTE(SUBSTITUTE(SUBSTITUTE(SUBSTITUTE(RELEVE_COTES!$A85,\" \",\"\"),\"-\",\"/\"),\".\",\"/\"),\"\\\",\"/\"),\",\",\"/\"),\"+\",\"_\"),\"&\",\"_\"),\"*\",\"/\"),\"\")","v":""},{"$f":"RELEVE_COTES!$B85","v":0},1,{"$f":"RELEVE_COTES!$C85","v":0},{"$f":"RELEVE_COTES!$D85","v":0},{"$f":"RELEVE_COTES!$E85","v":0},{"$f":"RELEVE_COTES!$F85","v":0},{"$f":"RELEVE_COTES!$G85","v":0},{"$f":"IF($D37=\"GP\",RELEVE_COTES!$I85,RELEVE_COTES!$H85)","v":0},{"$f":"IF($D37=\"GP\",RELEVE_COTES!$H85,RELEVE_COTES!$I85)","v":0},{"$f":"RELEVE_COTES!$J85","v":0},{"$f":"VLOOKUP(RELEVE_COTES!$K85,TabExistantRef1[],2,FALSE)","v":{"$error":"#N/A"}},{"$f":"IF($Y$1=\"BOIS\",RELEVE_COTES!$O85,0)","v":{"$error":"#N/A"}},{"$f":"IF($Y$1=\"BOIS\",RELEVE_COTES!$P85,0)","v":{"$error":"#N/A"}},{"$f":"IF($Y$1=\"BOIS\",RELEVE_COTES!$Q85,0)","v":{"$error":"#N/A"}},{"$error":"#N/A"},{"$f":"IF($Y$1=\"BANCHE\",RELEVE_COTES!$L85,0)","v":{"$error":"#N/A"}},{"$error":"#N/A"},{"$error":"#N/A"},{"$f":"IF($Y$1<>\"BANCHE\",RELEVE_COTES!$L85,0)","v":{"$error":"#N/A"}},{"$f":"IF($Y$1<>\"BANCHE\",RELEVE_COTES!$M85,20)","v":{"$error":"#N/A"}},{"$f":"IF($Y$1<>\"BANCHE\",RELEVE_COTES!$N85,0)","v":{"$error":"#N/A"}},{"$f":"RELEVE_COTES!$I$20","v":0},{"$f":"RELEVE_COTES!$C$11","v":0},{"$f":"RELEVE_COTES!$K$12","v":0},{"$f":"VLOOKUP(AA37,TabSeuilRef[],2,FALSE)","v":{"$error":"#N/A"}},0,{"$f":"\"Paumelles \"&RELEVE_COTES!$E$15","v":"Paumelles "},{"$f":"IF(RELEVE_COTES!$K$16=\"SANS\",RELEVE_COTES!$K$16,IF(RELEVE_COTES!$K$16=\"Intégré\",\"Intégré\",RELEVE_COTES!$K$16&\" / \"&VLOOKUP(RELEVE_COTES!$L$16,TabOptUsSerr[],2,FALSE)))","v":"SANS"},{"$f":"RELEVE_COTES!$K$11","v":0},{"$f":"\"OP: \"&IF(RELEVE_COTES!$E$12=\"Pr.Peint\",\"PP\",RELEVE_COTES!$G$12)&\"/FP: \"&IF(RELEVE_COTES!$E$13=\"Pr.Peint\",\"PP\",RELEVE_COTES!$G$13)","v":"OP: /FP: "},{"$f":"IF(RELEVE_COTES!$E$14=\"Pr.Peint\",\"PP\",VLOOKUP(RELEVE_COTES!$G$14,TabNuancHM[],2,FALSE))","v":"PP"},{"$error":"#N/A"},{"$f":"IF(RELEVE_COTES!$C$11 =\"R32S-R02\",\"OUI\",\"NON\")","v":"NON"},"NON","",{"$f":"IF(AJ37=\"OUI\",RELEVE_COTES!$N$16,\"\")","v":""},null,{"$f":"VLOOKUP(RELEVE_COTES!$O$11,TabOptUsSerr[],2,FALSE)","v":"Usinage, fourniture et pose"},{"$f":"IF(RELEVE_COTES!$K$15<>\"SANS\",RELEVE_COTES!$L$15&\" \"&RELEVE_COTES!$K$15,\"\")&IF(RELEVE_COTES!$N$15<>\"SANS\",\" / PMR: \"&RELEVE_COTES!$O$15&\" \"&RELEVE_COTES!$N$15,\"SANS\")","v":"SANS"},{"$f":"IF(RELEVE_COTES!$K$14 <> \"SANS\",RELEVE_COTES!$O$14&\" \"&RELEVE_COTES!$K$14,\"\")","v":"U+F "},{"$f":"IF(RELEVE_COTES!$K$13 <> \"SANS\",RELEVE_COTES!$O$13&\" \"&RELEVE_COTES!$K$13,\"SANS\")","v":"U+F "},{"$f":"IF(RELEVE_COTES!$I$20 = \"Huisserie Bois\",RELEVE_COTES!$R85,IF(RELEVE_COTES!$I$20 = \"Huisserie Banchée\",RELEVE_COTES!$M85,IF(RELEVE_COTES!$I$20 = \"Bâti Scellé\",RELEVE_COTES!$O85,\"\")))","v":""},{"$f":"RELEVE_COTES!$E$12&\" / \"&RELEVE_COTES!$E$13","v":" SANS /  SANS"},"INT","VERINS + VERINS","NON",{"$f":"VLOOKUP(RELEVE_COTES!$K$11,TabSerrureRef[],3,FALSE)","v":{"$error":"#N/A"}},{"$f":"VLOOKUP(RELEVE_COTES!$K$11,TabSerrureRef[],6,FALSE)","v":{"$error":"#N/A"}}]
[0,0,{"$f":"IF(RELEVE_COTES!$A86<>\"\",SUBSTITUTE(SUBSTITUTE(SUBSTITUTE(SUBSTITUTE(SUBSTITUTE(SUBSTITUTE(SUBSTITUTE(SUBSTITUTE(RELEVE_COTES!$A86,\" \",\"\"),\"-\",\"/\"),\".\",\"/\"),\"\\\",\"/\"),\",\",\"/\"),\"+\",\"_\"),\"&\",\"_\"),\"*\",\"/\"),\"\")","v":""},{"$f":"RELEVE_COTES!$B86","v":0},1,{"$f":"RELEVE_COTES!$C86","v":0},{"$f":"RELEVE_COTES!$D86","v":0},{"$f":"RELEVE_COTES!$E86","v":0},{"$f":"RELEVE_COTES!$F86","v":0},{"$f":"RELEVE_COTES!$G86","v":0},{"$f":"IF($D38=\"GP\",RELEVE_COTES!$I86,RELEVE_COTES!$H86)","v":0},{"$f":"IF($D38=\"GP\",RELEVE_COTES!$H86,RELEVE_COTES!$I86)","v":0},{"$f":"RELEVE_COTES!$J86","v":0},{"$f":"VLOOKUP(RELEVE_COTES!$K86,TabExistantRef1[],2,FALSE)","v":{"$error":"#N/A"}},{"$f":"IF($Y$1=\"BOIS\",RELEVE_COTES!$O86,0)","v":{"$error":"#N/A"}},{"$f":"IF($Y$1=\"BOIS\",RELEVE_COTES!$P86,0)","v":{"$error":"#N/A"}},{"$f":"IF($Y$1=\"BOIS\",RELEVE_COTES!$Q86,0)","v":{"$error":"#N/A"}},{"$error":"#N/A"},{"$f":"IF($Y$1=\"BANCHE\",RELEVE_COTES!$L86,0)","v":{"$error":"#N/A"}},{"$error":"#N/A"},{"$error":"#N/A"},{"$f":"IF($Y$1<>\"BANCHE\",RELEVE_COTES!$L86,0)","v":{"$error":"#N/A"}},{"$f":"IF($Y$1<>\"BANCHE\",RELEVE_COTES!$M86,20)","v":{"$error":"#N/A"}},{"$f":"IF($Y$1<>\"BANCHE\",RELEVE_COTES!$N86,0)","v":{"$error":"#N/A"}},{"$f":"RELEVE_COTES!$I$20","v":0},{"$f":"RELEVE_COTES!$C$11","v":0},{"$f":"RELEVE_COTES!$K$12","v":0},{"$f":"VLOOKUP(AA38,TabSeuilRef[],2,FALSE)","v":{"$error":"#N/A"}},0,{"$f":"\"Paumelles \"&RELEVE_COTES!$E$15","v":"Paumelles "},{"$f":"IF(RELEVE_COTES!$K$16=\"SANS\",RELEVE_COTES!$K$16,IF(RELEVE_COTES!$K$16=\"Intégré\",\"Intégré\",RELEVE_COTES!$K$16&\" / \"&VLOOKUP(RELEVE_COTES!$L$16,TabOptUsSerr[],2,FALSE)))","v":"SANS"},{"$f":"RELEVE_COTES!$K$11","v":0},{"$f":"\"OP: \"&IF(RELEVE_COTES!$E$12=\"Pr.Peint\",\"PP\",RELEVE_COTES!$G$12)&\"/FP: \"&IF(RELEVE_COTES!$E$13=\"Pr.Peint\",\"PP\",RELEVE_COTES!$G$13)","v":"OP: /FP: "},{"$f":"IF(RELEVE_COTES!$E$14=\"Pr.Peint\",\"PP\",VLOOKUP(RELEVE_COTES!$G$14,TabNuancHM[],2,FALSE))","v":"PP"},{"$error":"#N/A"},{"$f":"IF(RELEVE_COTES!$C$11 =\"R32S-R02\",\"OUI\",\"NON\")","v":"NON"},"NON","",{"$f":"IF(AJ38=\"OUI\",RELEVE_COTES!$N$16,\"\")","v":""},null,{"$f":"VLOOKUP(RELEVE_COTES!$O$11,TabOptUsSerr[],2,FALSE)","v":"Usinage, fourniture et pose"},{"$f":"IF(RELEVE_COTES!$K$15<>\"SANS\",RELEVE_COTES!$L$15&\" \"&RELEVE_COTES!$K$15,\"\")&IF(RELEVE_COTES!$N$15<>\"SANS\",\" / PMR: \"&RELEVE_COTES!$O$15&\" \"&RELEVE_COTES!$N$15,\"SANS\")","v":"SANS"},{"$f":"IF(RELEVE_COTES!$K$14 <> \"SANS\",RELEVE_COTES!$O$14&\" \"&RELEVE_COTES!$K$14,\"\")","v":"U+F "},{"$f":"IF(RELEVE_COTES!$K$13 <> \"SANS\",RELEVE_COTES!$O$13&\" \"&RELEVE_COTES!$K$13,\"SANS\")","v":"U+F "},{"$f":"IF(RELEVE_COTES!$I$20 = \"Huisserie Bois\",RELEVE_COTES!$R86,IF(RELEVE_COTES!$I$20 = \"Huisserie Banchée\",RELEVE_COTES!$M86,IF(RELEVE_COTES!$I$20 = \"Bâti Scellé\",RELEVE_COTES!$O86,\"\")))","v":""},{"$f":"RELEVE_COTES!$E$12&\" / \"&RELEVE_COTES!$E$13","v":" SANS /  SANS"},"INT","VERINS + VERINS","NON",{"$f":"VLOOKUP(RELEVE_COTES!$K$11,TabSerrureRef[],3,FALSE)","v":{"$error":"#N/A"}},{"$f":"VLOOKUP(RELEVE_COTES!$K$11,TabSerrureRef[],6,FALSE)","v":{"$error":"#N/A"}}]
[0,0,{"$f":"IF(RELEVE_COTES!$A87<>\"\",SUBSTITUTE(SUBSTITUTE(SUBSTITUTE(SUBSTITUTE(SUBSTITUTE(SUBSTITUTE(SUBSTITUTE(SUBSTITUTE(RELEVE_COTES!$A87,\" \",\"\"),\"-\",\"/\"),\".\",\"/\"),\"\\\",\"/\"),\",\",\"/\"),\"+\",\"_\"),\"&\",\"_\"),\"*\",\"/\"),\"\")","v":""},{"$f":"RELEVE_COTES!$B87","v":0},1,{"$f":"RELEVE_COTES!$C87","v":0},{"$f":"RELEVE_COTES!$D87","v":0},{"$f":"RELEVE_COTES!$E87","v":0},{"$f":"RELEVE_COTES!$F87","v":0},{"$f":"RELEVE_COTES!$G87","v":0},{"$f":"IF($D39=\"GP\",RELEVE_COTES!$I87,RELEVE_COTES!$H87)","v":0},{"$f":"IF($D39=\"GP\",RELEVE_COTES!$H87,RELEVE_COTES!$I87)","v":0},{"$f":"RELEVE_COTES!$J87","v":0},{"$f":"VLOOKUP(RELEVE_COTES!$K87,TabExistantRef1[],2,FALSE)","v":{"$error":"#N/A"}},{"$f":"IF($Y$1=\"BOIS\",RELEVE_COTES!$O87,0)","v":{"$error":"#N/A"}},{"$f":"IF($Y$1=\"BOIS\",RELEVE_COTES!$P87,0)","v":{"$error":"#N/A"}},{"$f":"IF($Y$1=\"BOIS\",RELEVE_COTES!$Q87,0)","v":{"$error":"#N/A"}},{"$error":"#N/A"},{"$f":"IF($Y$1=\"BANCHE\",RELEVE_COTES!$L87,0)","v":{"$error":"#N/A"}},{"$error":"#N/A"},{"$error":"#N/A"},{"$f":"IF($Y$1<>\"BANCHE\",RELEVE_COTES!$L87,0)","v":{"$error":"#N/A"}},{"$f":"IF($Y$1<>\"BANCHE\",RELEVE_COTES!$M87,20)","v":{"$error":"#N/A"}},{"$f":"IF($Y$1<>\"BANCHE\",RELEVE_COTES!$N87,0)","v":{"$error":"#N/A"}},{"$f":"RELEVE_COTES!$I$20","v":0},{"$f":"RELEVE_COTES!$C$11","v":0},{"$f":"RELEVE_COTES!$K$12","v":0},{"$f":"VLOOKUP(AA39,TabSeuilRef[],2,FALSE)","v":{"$error":"#N/A"}},0,{"$f":"\"Paumelles \"&RELEVE_COTES!$E$15","v":"Paumelles "},{"$f":"IF(RELEVE_COTES!$K$16=\"SANS\",RELEVE_COTES!$K$16,IF(RELEVE_COTES!$K$16=\"Intégré\",\"Intégré\",RELEVE_COTES!$K$16&\" / \"&VLOOKUP(RELEVE_COTES!$L$16,TabOptUsSerr[],2,FALSE)))","v":"SANS"},{"$f":"RELEVE_COTES!$K$11","v":0},{"$f":"\"OP: \"&IF(RELEVE_COTES!$E$12=\"Pr.Peint\",\"PP\",RELEVE_COTES!$G$12)&\"/FP: \"&IF(RELEVE_COTES!$E$13=\"Pr.Peint\",\"PP\",RELEVE_COTES!$G$13)","v":"OP: /FP: "},{"$f":"IF(RELEVE_COTES!$E$14=\"Pr.Peint\",\"PP\",VLOOKUP(RELEVE_COTES!$G$14,TabNuancHM[],2,FALSE))","v":"PP"},{"$error":"#N/A"},{"$f":"IF(RELEVE_COTES!$C$11 =\"R32S-R02\",\"OUI\",\"NON\")","v":"NON"},"NON","",{"$f":"IF(AJ39=\"OUI\",RELEVE_COTES!$N$16,\"\")","v":""},null,{"$f":"VLOOKUP(RELEVE_COTES!$O$11,TabOptUsSerr[],2,FALSE)","v":"Usinage, fourniture et pose"},{"$f":"IF(RELEVE_COTES!$K$15<>\"SANS\",RELEVE_COTES!$L$15&\" \"&RELEVE_COTES!$K$15,\"\")&IF(RELEVE_COTES!$N$15<>\"SANS\",\" / PMR: \"&RELEVE_COTES!$O$15&\" \"&RELEVE_COTES!$N$15,\"SANS\")","v":"SANS"},{"$f":"IF(RELEVE_COTES!$K$14 <> \"SANS\",RELEVE_COTES!$O$14&\" \"&RELEVE_COTES!$K$14,\"\")","v":"U+F "},{"$f":"IF(RELEVE_COTES!$K$13 <> \"SANS\",RELEVE_COTES!$O$13&\" \"&RELEVE_COTES!$K$13,\"SANS\")","v":"U+F "},{"$f":"IF(RELEVE_COTES!$I$20 = \"Huisserie Bois\",RELEVE_COTES!$R87,IF(RELEVE_COTES!$I$20 = \"Huisserie Banchée\",RELEVE_COTES!$M87,IF(RELEVE_COTES!$I$20 = \"Bâti Scellé\",RELEVE_COTES!$O87,\"\")))","v":""},{"$f":"RELEVE_COTES!$E$12&\" / \"&RELEVE_COTES!$E$13","v":" SANS /  SANS"},"INT","VERINS + VERINS","NON",{"$f":"VLOOKUP(RELEVE_COTES!$K$11,TabSerrureRef[],3,FALSE)","v":{"$error":"#N/A"}},{"$f":"VLOOKUP(RELEVE_COTES!$K$11,TabSerrureRef[],6,FALSE)","v":{"$error":"#N/A"}}]
[0,0,{"$f":"IF(RELEVE_COTES!$A88<>\"\",SUBSTITUTE(SUBSTITUTE(SUBSTITUTE(SUBSTITUTE(SUBSTITUTE(SUBSTITUTE(SUBSTITUTE(SUBSTITUTE(RELEVE_COTES!$A88,\" \",\"\"),\"-\",\"/\"),\".\",\"/\"),\"\\\",\"/\"),\",\",\"/\"),\"+\",\"_\"),\"&\",\"_\"),\"*\",\"/\"),\"\")","v":""},{"$f":"RELEVE_COTES!$B88","v":0},1,{"$f":"RELEVE_COTES!$C88","v":0},{"$f":"RELEVE_COTES!$D88","v":0},{"$f":"RELEVE_COTES!$E88","v":0},{"$f":"RELEVE_COTES!$F88","v":0},{"$f":"RELEVE_COTES!$G88","v":0},{"$f":"IF($D40=\"GP\",RELEVE_COTES!$I88,RELEVE_COTES!$H88)","v":0},{"$f":"IF($D40=\"GP\",RELEVE_COTES!$H88,RELEVE_COTES!$I88)","v":0},{"$f":"RELEVE_COTES!$J88","v":0},{"$f":"VLOOKUP(RELEVE_COTES!$K88,TabExistantRef1[],2,FALSE)","v":{"$error":"#N/A"}},{"$f":"IF($Y$1=\"BOIS\",RELEVE_COTES!$O88,0)","v":{"$error":"#N/A"}},{"$f":"IF($Y$1=\"BOIS\",RELEVE_COTES!$P88,0)","v":{"$error":"#N/A"}},{"$f":"IF($Y$1=\"BOIS\",RELEVE_COTES!$Q88,0)","v":{"$error":"#N/A"}},{"$error":"#N/A"},{"$f":"IF($Y$1=\"BANCHE\",RELEVE_COTES!$L88,0)","v":{"$error":"#N/A"}},{"$error":"#N/A"},{"$error":"#N/A"},{"$f":"IF($Y$1<>\"BANCHE\",RELEVE_COTES!$L88,0)","v":{"$error":"#N/A"}},{"$f":"IF($Y$1<>\"BANCHE\",RELEVE_COTES!$M88,20)","v":{"$error":"#N/A"}},{"$f":"IF($Y$1<>\"BANCHE\",RELEVE_COTES!$N88,0)","v":{"$error":"#N/A"}},{"$f":"RELEVE_COTES!$I$20","v":0},{"$f":"RELEVE_COTES!$C$11","v":0},{"$f":"RELEVE_COTES!$K$12","v":0},{"$f":"VLOOKUP(AA40,TabSeuilRef[],2,FALSE)","v":{"$error":"#N/A"}},0,{"$f":"\"Paumelles \"&RELEVE_COTES!$E$15","v":"Paumelles "},{"$f":"IF(RELEVE_COTES!$K$16=\"SANS\",RELEVE_COTES!$K$16,IF(RELEVE_COTES!$K$16=\"Intégré\",\"Intégré\",RELEVE_COTES!$K$16&\" / \"&VLOOKUP(RELEVE_COTES!$L$16,TabOptUsSerr[],2,FALSE)))","v":"SANS"},{"$f":"RELEVE_COTES!$K$11","v":0},{"$f":"\"OP: \"&IF(RELEVE_COTES!$E$12=\"Pr.Peint\",\"PP\",RELEVE_COTES!$G$12)&\"/FP: \"&IF(RELEVE_COTES!$E$13=\"Pr.Peint\",\"PP\",RELEVE_COTES!$G$13)","v":"OP: /FP: "},{"$f":"IF(RELEVE_COTES!$E$14=\"Pr.Peint\",\"PP\",VLOOKUP(RELEVE_COTES!$G$14,TabNuancHM[],2,FALSE))","v":"PP"},{"$error":"#N/A"},{"$f":"IF(RELEVE_COTES!$C$11 =\"R32S-R02\",\"OUI\",\"NON\")","v":"NON"},"NON","",{"$f":"IF(AJ40=\"OUI\",RELEVE_COTES!$N$16,\"\")","v":""},null,{"$f":"VLOOKUP(RELEVE_COTES!$O$11,TabOptUsSerr[],2,FALSE)","v":"Usinage, fourniture et pose"},{"$f":"IF(RELEVE_COTES!$K$15<>\"SANS\",RELEVE_COTES!$L$15&\" \"&RELEVE_COTES!$K$15,\"\")&IF(RELEVE_COTES!$N$15<>\"SANS\",\" / PMR: \"&RELEVE_COTES!$O$15&\" \"&RELEVE_COTES!$N$15,\"SANS\")","v":"SANS"},{"$f":"IF(RELEVE_COTES!$K$14 <> \"SANS\",RELEVE_COTES!$O$14&\" \"&RELEVE_COTES!$K$14,\"\")","v":"U+F "},{"$f":"IF(RELEVE_COTES!$K$13 <> \"SANS\",RELEVE_COTES!$O$13&\" \"&RELEVE_COTES!$K$13,\"SANS\")","v":"U+F "},{"$f":"IF(RELEVE_COTES!$I$20 = \"Huisserie Bois\",RELEVE_COTES!$R88,IF(RELEVE_COTES!$I$20 = \"Huisserie Banchée\",RELEVE_COTES!$M88,IF(RELEVE_COTES!$I$20 = \"Bâti Scellé\",RELEVE_COTES!$O88,\"\")))","v":""},{"$f":"RELEVE_COTES!$E$12&\" / \"&RELEVE_COTES!$E$13","v":" SANS /  SANS"},"INT","VERINS + VERINS","NON",{"$f":"VLOOKUP(RELEVE_COTES!$K$11,TabSerrureRef[],3,FALSE)","v":{"$error":"#N/A"}},{"$f":"VLOOKUP(RELEVE_COTES!$K$11,TabSerrureRef[],6,FALSE)","v":{"$error":"#N/A"}}]
[0,0,{"$f":"IF(RELEVE_COTES!$A89<>\"\",SUBSTITUTE(SUBSTITUTE(SUBSTITUTE(SUBSTITUTE(SUBSTITUTE(SUBSTITUTE(SUBSTITUTE(SUBSTITUTE(RELEVE_COTES!$A89,\" \",\"\"),\"-\",\"/\"),\".\",\"/\"),\"\\\",\"/\"),\",\",\"/\"),\"+\",\"_\"),\"&\",\"_\"),\"*\",\"/\"),\"\")","v":""},{"$f":"RELEVE_COTES!$B89","v":0},1,{"$f":"RELEVE_COTES!$C89","v":0},{"$f":"RELEVE_COTES!$D89","v":0},{"$f":"RELEVE_COTES!$E89","v":0},{"$f":"RELEVE_COTES!$F89","v":0},{"$f":"RELEVE_COTES!$G89","v":0},{"$f":"IF($D41=\"GP\",RELEVE_COTES!$I89,RELEVE_COTES!$H89)","v":0},{"$f":"IF($D41=\"GP\",RELEVE_COTES!$H89,RELEVE_COTES!$I89)","v":0},{"$f":"RELEVE_COTES!$J89","v":0},{"$f":"VLOOKUP(RELEVE_COTES!$K89,TabExistantRef1[],2,FALSE)","v":{"$error":"#N/A"}},{"$f":"IF($Y$1=\"BOIS\",RELEVE_COTES!$O89,0)","v":{"$error":"#N/A"}},{"$f":"IF($Y$1=\"BOIS\",RELEVE_COTES!$P89,0)","v":{"$error":"#N/A"}},{"$f":"IF($Y$1=\"BOIS\",RELEVE_COTES!$Q89,0)","v":{"$error":"#N/A"}},{"$error":"#N/A"},{"$f":"IF($Y$1=\"BANCHE\",RELEVE_COTES!$L89,0)","v":{"$error":"#N/A"}},{"$error":"#N/A"},{"$error":"#N/A"},{"$f":"IF($Y$1<>\"BANCHE\",RELEVE_COTES!$L89,0)","v":{"$error":"#N/A"}},{"$f":"IF($Y$1<>\"BANCHE\",RELEVE_COTES!$M89,20)","v":{"$error":"#N/A"}},{"$f":"IF($Y$1<>\"BANCHE\",RELEVE_COTES!$N89,0)","v":{"$error":"#N/A"}},{"$f":"RELEVE_COTES!$I$20","v":0},{"$f":"RELEVE_COTES!$C$11","v":0},{"$f":"RELEVE_COTES!$K$12","v":0},{"$f":"VLOOKUP(AA41,TabSeuilRef[],2,FALSE)","v":{"$error":"#N/A"}},0,{"$f":"\"Paumelles \"&RELEVE_COTES!$E$15","v":"Paumelles "},{"$f":"IF(RELEVE_COTES!$K$16=\"SANS\",RELEVE_COTES!$K$16,IF(RELEVE_COTES!$K$16=\"Intégré\",\"Intégré\",RELEVE_COTES!$K$16&\" / \"&VLOOKUP(RELEVE_COTES!$L$16,TabOptUsSerr[],2,FALSE)))","v":"SANS"},{"$f":"RELEVE_COTES!$K$11","v":0},{"$f":"\"OP: \"&IF(RELEVE_COTES!$E$12=\"Pr.Peint\",\"PP\",RELEVE_COTES!$G$12)&\"/FP: \"&IF(RELEVE_COTES!$E$13=\"Pr.Peint\",\"PP\",RELEVE_COTES!$G$13)","v":"OP: /FP: "},{"$f":"IF(RELEVE_COTES!$E$14=\"Pr.Peint\",\"PP\",VLOOKUP(RELEVE_COTES!$G$14,TabNuancHM[],2,FALSE))","v":"PP"},{"$error":"#N/A"},{"$f":"IF(RELEVE_COTES!$C$11 =\"R32S-R02\",\"OUI\",\"NON\")","v":"NON"},"NON","",{"$f":"IF(AJ41=\"OUI\",RELEVE_COTES!$N$16,\"\")","v":""},null,{"$f":"VLOOKUP(RELEVE_COTES!$O$11,TabOptUsSerr[],2,FALSE)","v":"Usinage, fourniture et pose"},{"$f":"IF(RELEVE_COTES!$K$15<>\"SANS\",RELEVE_COTES!$L$15&\" \"&RELEVE_COTES!$K$15,\"\")&IF(RELEVE_COTES!$N$15<>\"SANS\",\" / PMR: \"&RELEVE_COTES!$O$15&\" \"&RELEVE_COTES!$N$15,\"SANS\")","v":"SANS"},{"$f":"IF(RELEVE_COTES!$K$14 <> \"SANS\",RELEVE_COTES!$O$14&\" \"&RELEVE_COTES!$K$14,\"\")","v":"U+F "},{"$f":"IF(RELEVE_COTES!$K$13 <> \"SANS\",RELEVE_COTES!$O$13&\" \"&RELEVE_COTES!$K$13,\"SANS\")","v":"U+F "},{"$f":"IF(RELEVE_COTES!$I$20 = \"Huisserie Bois\",RELEVE_COTES!$R89,IF(RELEVE_COTES!$I$20 = \"Huisserie Banchée\",RELEVE_COTES!$M89,IF(RELEVE_COTES!$I$20 = \"Bâti Scellé\",RELEVE_COTES!$O89,\"\")))","v":""},{"$f":"RELEVE_COTES!$E$12&\" / \"&RELEVE_COTES!$E$13","v":" SANS /  SANS"},"INT","VERINS + VERINS","NON",{"$f":"VLOOKUP(RELEVE_COTES!$K$11,TabSerrureRef[],3,FALSE)","v":{"$error":"#N/A"}},{"$f":"VLOOKUP(RELEVE_COTES!$K$11,TabSerrureRef[],6,FALSE)","v":{"$error":"#N/A"}}]
[0,0,{"$f":"IF(RELEVE_COTES!$A90<>\"\",SUBSTITUTE(SUBSTITUTE(SUBSTITUTE(SUBSTITUTE(SUBSTITUTE(SUBSTITUTE(SUBSTITUTE(SUBSTITUTE(RELEVE_COTES!$A90,\" \",\"\"),\"-\",\"/\"),\".\",\"/\"),\"\\\",\"/\"),\",\",\"/\"),\"+\",\"_\"),\"&\",\"_\"),\"*\",\"/\"),\"\")","v":""},{"$f":"RELEVE_COTES!$B90","v":0},1,{"$f":"RELEVE_COTES!$C90","v":0},{"$f":"RELEVE_COTES!$D90","v":0},{"$f":"RELEVE_COTES!$E90","v":0},{"$f":"RELEVE_COTES!$F90","v":0},{"$f":"RELEVE_COTES!$G90","v":0},{"$f":"IF($D42=\"GP\",RELEVE_COTES!$I90,RELEVE_COTES!$H90)","v":0},{"$f":"IF($D42=\"GP\",RELEVE_COTES!$H90,RELEVE_COTES!$I90)","v":0},{"$f":"RELEVE_COTES!$J90","v":0},{"$f":"VLOOKUP(RELEVE_COTES!$K90,TabExistantRef1[],2,FALSE)","v":{"$error":"#N/A"}},{"$f":"IF($Y$1=\"BOIS\",RELEVE_COTES!$O90,0)","v":{"$error":"#N/A"}},{"$f":"IF($Y$1=\"BOIS\",RELEVE_COTES!$P90,0)","v":{"$error":"#N/A"}},{"$f":"IF($Y$1=\"BOIS\",RELEVE_COTES!$Q90,0)","v":{"$error":"#N/A"}},{"$error":"#N/A"},{"$f":"IF($Y$1=\"BANCHE\",RELEVE_COTES!$L90,0)","v":{"$error":"#N/A"}},{"$error":"#N/A"},{"$error":"#N/A"},{"$f":"IF($Y$1<>\"BANCHE\",RELEVE_COTES!$L90,0)","v":{"$error":"#N/A"}},{"$f":"IF($Y$1<>\"BANCHE\",RELEVE_COTES!$M90,20)","v":{"$error":"#N/A"}},{"$f":"IF($Y$1<>\"BANCHE\",RELEVE_COTES!$N90,0)","v":{"$error":"#N/A"}},{"$f":"RELEVE_COTES!$I$20","v":0},{"$f":"RELEVE_COTES!$C$11","v":0},{"$f":"RELEVE_COTES!$K$12","v":0},{"$f":"VLOOKUP(AA42,TabSeuilRef[],2,FALSE)","v":{"$error":"#N/A"}},0,{"$f":"\"Paumelles \"&RELEVE_COTES!$E$15","v":"Paumelles "},{"$f":"IF(RELEVE_COTES!$K$16=\"SANS\",RELEVE_COTES!$K$16,IF(RELEVE_COTES!$K$16=\"Intégré\",\"Intégré\",RELEVE_COTES!$K$16&\" / \"&VLOOKUP(RELEVE_COTES!$L$16,TabOptUsSerr[],2,FALSE)))","v":"SANS"},{"$f":"RELEVE_COTES!$K$11","v":0},{"$f":"\"OP: \"&IF(RELEVE_COTES!$E$12=\"Pr.Peint\",\"PP\",RELEVE_COTES!$G$12)&\"/FP: \"&IF(RELEVE_COTES!$E$13=\"Pr.Peint\",\"PP\",RELEVE_COTES!$G$13)","v":"OP: /FP: "},{"$f":"IF(RELEVE_COTES!$E$14=\"Pr.Peint\",\"PP\",VLOOKUP(RELEVE_COTES!$G$14,TabNuancHM[],2,FALSE))","v":"PP"},{"$error":"#N/A"},{"$f":"IF(RELEVE_COTES!$C$11 =\"R32S-R02\",\"OUI\",\"NON\")","v":"NON"},"NON","",{"$f":"IF(AJ42=\"OUI\",RELEVE_COTES!$N$16,\"\")","v":""},null,{"$f":"VLOOKUP(RELEVE_COTES!$O$11,TabOptUsSerr[],2,FALSE)","v":"Usinage, fourniture et pose"},{"$f":"IF(RELEVE_COTES!$K$15<>\"SANS\",RELEVE_COTES!$L$15&\" \"&RELEVE_COTES!$K$15,\"\")&IF(RELEVE_COTES!$N$15<>\"SANS\",\" / PMR: \"&RELEVE_COTES!$O$15&\" \"&RELEVE_COTES!$N$15,\"SANS\")","v":"SANS"},{"$f":"IF(RELEVE_COTES!$K$14 <> \"SANS\",RELEVE_COTES!$O$14&\" \"&RELEVE_COTES!$K$14,\"\")","v":"U+F "},{"$f":"IF(RELEVE_COTES!$K$13 <> \"SANS\",RELEVE_COTES!$O$13&\" \"&RELEVE_COTES!$K$13,\"SANS\")","v":"U+F "},{"$f":"IF(RELEVE_COTES!$I$20 = \"Huisserie Bois\",RELEVE_COTES!$R90,IF(RELEVE_COTES!$I$20 = \"Huisserie Banchée\",RELEVE_COTES!$M90,IF(RELEVE_COTES!$I$20 = \"Bâti Scellé\",RELEVE_COTES!$O90,\"\")))","v":""},{"$f":"RELEVE_COTES!$E$12&\" / \"&RELEVE_COTES!$E$13","v":" SANS /  SANS"},"INT","VERINS + VERINS","NON",{"$f":"VLOOKUP(RELEVE_COTES!$K$11,TabSerrureRef[],3,FALSE)","v":{"$error":"#N/A"}},{"$f":"VLOOKUP(RELEVE_COTES!$K$11,TabSerrureRef[],6,FALSE)","v":{"$error":"#N/A"}}]
[0,0,{"$f":"IF(RELEVE_COTES!$A91<>\"\",SUBSTITUTE(SUBSTITUTE(SUBSTITUTE(SUBSTITUTE(SUBSTITUTE(SUBSTITUTE(SUBSTITUTE(SUBSTITUTE(RELEVE_COTES!$A91,\" \",\"\"),\"-\",\"/\"),\".\",\"/\"),\"\\\",\"/\"),\",\",\"/\"),\"+\",\"_\"),\"&\",\"_\"),\"*\",\"/\"),\"\")","v":""},{"$f":"RELEVE_COTES!$B91","v":0},1,{"$f":"RELEVE_COTES!$C91","v":0},{"$f":"RELEVE_COTES!$D91","v":0},{"$f":"RELEVE_COTES!$E91","v":0},{"$f":"RELEVE_COTES!$F91","v":0},{"$f":"RELEVE_COTES!$G91","v":0},{"$f":"IF($D43=\"GP\",RELEVE_COTES!$I91,RELEVE_COTES!$H91)","v":0},{"$f":"IF($D43=\"GP\",RELEVE_COTES!$H91,RELEVE_COTES!$I91)","v":0},{"$f":"RELEVE_COTES!$J91","v":0},{"$f":"VLOOKUP(RELEVE_COTES!$K91,TabExistantRef1[],2,FALSE)","v":{"$error":"#N/A"}},{"$f":"IF($Y$1=\"BOIS\",RELEVE_COTES!$O91,0)","v":{"$error":"#N/A"}},{"$f":"IF($Y$1=\"BOIS\",RELEVE_COTES!$P91,0)","v":{"$error":"#N/A"}},{"$f":"IF($Y$1=\"BOIS\",RELEVE_COTES!$Q91,0)","v":{"$error":"#N/A"}},{"$error":"#N/A"},{"$f":"IF($Y$1=\"BANCHE\",RELEVE_COTES!$L91,0)","v":{"$error":"#N/A"}},{"$error":"#N/A"},{"$error":"#N/A"},{"$f":"IF($Y$1<>\"BANCHE\",RELEVE_COTES!$L91,0)","v":{"$error":"#N/A"}},{"$f":"IF($Y$1<>\"BANCHE\",RELEVE_COTES!$M91,20)","v":{"$error":"#N/A"}},{"$f":"IF($Y$1<>\"BANCHE\",RELEVE_COTES!$N91,0)","v":{"$error":"#N/A"}},{"$f":"RELEVE_COTES!$I$20","v":0},{"$f":"RELEVE_COTES!$C$11","v":0},{"$f":"RELEVE_COTES!$K$12","v":0},{"$f":"VLOOKUP(AA43,TabSeuilRef[],2,FALSE)","v":{"$error":"#N/A"}},0,{"$f":"\"Paumelles \"&RELEVE_COTES!$E$15","v":"Paumelles "},{"$f":"IF(RELEVE_COTES!$K$16=\"SANS\",RELEVE_COTES!$K$16,IF(RELEVE_COTES!$K$16=\"Intégré\",\"Intégré\",RELEVE_COTES!$K$16&\" / \"&VLOOKUP(RELEVE_COTES!$L$16,TabOptUsSerr[],2,FALSE)))","v":"SANS"},{"$f":"RELEVE_COTES!$K$11","v":0},{"$f":"\"OP: \"&IF(RELEVE_COTES!$E$12=\"Pr.Peint\",\"PP\",RELEVE_COTES!$G$12)&\"/FP: \"&IF(RELEVE_COTES!$E$13=\"Pr.Peint\",\"PP\",RELEVE_COTES!$G$13)","v":"OP: /FP: "},{"$f":"IF(RELEVE_COTES!$E$14=\"Pr.Peint\",\"PP\",VLOOKUP(RELEVE_COTES!$G$14,TabNuancHM[],2,FALSE))","v":"PP"},{"$error":"#N/A"},{"$f":"IF(RELEVE_COTES!$C$11 =\"R32S-R02\",\"OUI\",\"NON\")","v":"NON"},"NON","",{"$f":"IF(AJ43=\"OUI\",RELEVE_COTES!$N$16,\"\")","v":""},null,{"$f":"VLOOKUP(RELEVE_COTES!$O$11,TabOptUsSerr[],2,FALSE)","v":"Usinage, fourniture et pose"},{"$f":"IF(RELEVE_COTES!$K$15<>\"SANS\",RELEVE_COTES!$L$15&\" \"&RELEVE_COTES!$K$15,\"\")&IF(RELEVE_COTES!$N$15<>\"SANS\",\" / PMR: \"&RELEVE_COTES!$O$15&\" \"&RELEVE_COTES!$N$15,\"SANS\")","v":"SANS"},{"$f":"IF(RELEVE_COTES!$K$14 <> \"SANS\",RELEVE_COTES!$O$14&\" \"&RELEVE_COTES!$K$14,\"\")","v":"U+F "},{"$f":"IF(RELEVE_COTES!$K$13 <> \"SANS\",RELEVE_COTES!$O$13&\" \"&RELEVE_COTES!$K$13,\"SANS\")","v":"U+F "},{"$f":"IF(RELEVE_COTES!$I$20 = \"Huisserie Bois\",RELEVE_COTES!$R91,IF(RELEVE_COTES!$I$20 = \"Huisserie Banchée\",RELEVE_COTES!$M91,IF(RELEVE_COTES!$I$20 = \"Bâti Scellé\",RELEVE_COTES!$O91,\"\")))","v":""},{"$f":"RELEVE_COTES!$E$12&\" / \"&RELEVE_COTES!$E$13","v":" SANS /  SANS"},"INT","VERINS + VERINS","NON",{"$f":"VLOOKUP(RELEVE_COTES!$K$11,TabSerrureRef[],3,FALSE)","v":{"$error":"#N/A"}},{"$f":"VLOOKUP(RELEVE_COTES!$K$11,TabSerrureRef[],6,FALSE)","v":{"$error":"#N/A"}}]
[0,0,{"$f":"IF(RELEVE_COTES!$A92<>\"\",SUBSTITUTE(SUBSTITUTE(SUBSTITUTE(SUBSTITUTE(SUBSTITUTE(SUBSTITUTE(SUBSTITUTE(SUBSTITUTE(RELEVE_COTES!$A92,\" \",\"\"),\"-\",\"/\"),\".\",\"/\"),\"\\\",\"/\"),\",\",\"/\"),\"+\",\"_\"),\"&\",\"_\"),\"*\",\"/\"),\"\")","v":""},{"$f":"RELEVE_COTES!$B92","v":0},1,{"$f":"RELEVE_COTES!$C92","v":0},{"$f":"RELEVE_COTES!$D92","v":0},{"$f":"RELEVE_COTES!$E92","v":0},{"$f":"RELEVE_COTES!$F92","v":0},{"$f":"RELEVE_COTES!$G92","v":0},{"$f":"IF($D44=\"GP\",RELEVE_COTES!$I92,RELEVE_COTES!$H92)","v":0},{"$f":"IF($D44=\"GP\",RELEVE_COTES!$H92,RELEVE_COTES!$I92)","v":0},{"$f":"RELEVE_COTES!$J92","v":0},{"$f":"VLOOKUP(RELEVE_COTES!$K92,TabExistantRef1[],2,FALSE)","v":{"$error":"#N/A"}},{"$f":"IF($Y$1=\"BOIS\",RELEVE_COTES!$O92,0)","v":{"$error":"#N/A"}},{"$f":"IF($Y$1=\"BOIS\",RELEVE_COTES!$P92,0)","v":{"$error":"#N/A"}},{"$f":"IF($Y$1=\"BOIS\",RELEVE_COTES!$Q92,0)","v":{"$error":"#N/A"}},{"$error":"#N/A"},{"$f":"IF($Y$1=\"BANCHE\",RELEVE_COTES!$L92,0)","v":{"$error":"#N/A"}},{"$error":"#N/A"},{"$error":"#N/A"},{"$f":"IF($Y$1<>\"BANCHE\",RELEVE_COTES!$L92,0)","v":{"$error":"#N/A"}},{"$f":"IF($Y$1<>\"BANCHE\",RELEVE_COTES!$M92,20)","v":{"$error":"#N/A"}},{"$f":"IF($Y$1<>\"BANCHE\",RELEVE_COTES!$N92,0)","v":{"$error":"#N/A"}},{"$f":"RELEVE_COTES!$I$20","v":0},{"$f":"RELEVE_COTES!$C$11","v":0},{"$f":"RELEVE_COTES!$K$12","v":0},{"$f":"VLOOKUP(AA44,TabSeuilRef[],2,FALSE)","v":{"$error":"#N/A"}},0,{"$f":"\"Paumelles \"&RELEVE_COTES!$E$15","v":"Paumelles "},{"$f":"IF(RELEVE_COTES!$K$16=\"SANS\",RELEVE_COTES!$K$16,IF(RELEVE_COTES!$K$16=\"Intégré\",\"Intégré\",RELEVE_COTES!$K$16&\" / \"&VLOOKUP(RELEVE_COTES!$L$16,TabOptUsSerr[],2,FALSE)))","v":"SANS"},{"$f":"RELEVE_COTES!$K$11","v":0},{"$f":"\"OP: \"&IF(RELEVE_COTES!$E$12=\"Pr.Peint\",\"PP\",RELEVE_COTES!$G$12)&\"/FP: \"&IF(RELEVE_COTES!$E$13=\"Pr.Peint\",\"PP\",RELEVE_COTES!$G$13)","v":"OP: /FP: "},{"$f":"IF(RELEVE_COTES!$E$14=\"Pr.Peint\",\"PP\",VLOOKUP(RELEVE_COTES!$G$14,TabNuancHM[],2,FALSE))","v":"PP"},{"$error":"#N/A"},{"$f":"IF(RELEVE_COTES!$C$11 =\"R32S-R02\",\"OUI\",\"NON\")","v":"NON"},"NON","",{"$f":"IF(AJ44=\"OUI\",RELEVE_COTES!$N$16,\"\")","v":""},null,{"$f":"VLOOKUP(RELEVE_COTES!$O$11,TabOptUsSerr[],2,FALSE)","v":"Usinage, fourniture et pose"},{"$f":"IF(RELEVE_COTES!$K$15<>\"SANS\",RELEVE_COTES!$L$15&\" \"&RELEVE_COTES!$K$15,\"\")&IF(RELEVE_COTES!$N$15<>\"SANS\",\" / PMR: \"&RELEVE_COTES!$O$15&\" \"&RELEVE_COTES!$N$15,\"SANS\")","v":"SANS"},{"$f":"IF(RELEVE_COTES!$K$14 <> \"SANS\",RELEVE_COTES!$O$14&\" \"&RELEVE_COTES!$K$14,\"\")","v":"U+F "},{"$f":"IF(RELEVE_COTES!$K$13 <> \"SANS\",RELEVE_COTES!$O$13&\" \"&RELEVE_COTES!$K$13,\"SANS\")","v":"U+F "},{"$f":"IF(RELEVE_COTES!$I$20 = \"Huisserie Bois\",RELEVE_COTES!$R92,IF(RELEVE_COTES!$I$20 = \"Huisserie Banchée\",RELEVE_COTES!$M92,IF(RELEVE_COTES!$I$20 = \"Bâti Scellé\",RELEVE_COTES!$O92,\"\")))","v":""},{"$f":"RELEVE_COTES!$E$12&\" / \"&RELEVE_COTES!$E$13","v":" SANS /  SANS"},"INT","VERINS + VERINS","NON",{"$f":"VLOOKUP(RELEVE_COTES!$K$11,TabSerrureRef[],3,FALSE)","v":{"$error":"#N/A"}},{"$f":"VLOOKUP(RELEVE_COTES!$K$11,TabSerrureRef[],6,FALSE)","v":{"$error":"#N/A"}}]
[0,0,{"$f":"IF(RELEVE_COTES!$A93<>\"\",SUBSTITUTE(SUBSTITUTE(SUBSTITUTE(SUBSTITUTE(SUBSTITUTE(SUBSTITUTE(SUBSTITUTE(SUBSTITUTE(RELEVE_COTES!$A93,\" \",\"\"),\"-\",\"/\"),\".\",\"/\"),\"\\\",\"/\"),\",\",\"/\"),\"+\",\"_\"),\"&\",\"_\"),\"*\",\"/\"),\"\")","v":""},{"$f":"RELEVE_COTES!$B93","v":0},1,{"$f":"RELEVE_COTES!$C93","v":0},{"$f":"RELEVE_COTES!$D93","v":0},{"$f":"RELEVE_COTES!$E93","v":0},{"$f":"RELEVE_COTES!$F93","v":0},{"$f":"RELEVE_COTES!$G93","v":0},{"$f":"IF($D45=\"GP\",RELEVE_COTES!$I93,RELEVE_COTES!$H93)","v":0},{"$f":"IF($D45=\"GP\",RELEVE_COTES!$H93,RELEVE_COTES!$I93)","v":0},{"$f":"RELEVE_COTES!$J93","v":0},{"$f":"VLOOKUP(RELEVE_COTES!$K93,TabExistantRef1[],2,FALSE)","v":{"$error":"#N/A"}},{"$f":"IF($Y$1=\"BOIS\",RELEVE_COTES!$O93,0)","v":{"$error":"#N/A"}},{"$f":"IF($Y$1=\"BOIS\",RELEVE_COTES!$P93,0)","v":{"$error":"#N/A"}},{"$f":"IF($Y$1=\"BOIS\",RELEVE_COTES!$Q93,0)","v":{"$error":"#N/A"}},{"$error":"#N/A"},{"$f":"IF($Y$1=\"BANCHE\",RELEVE_COTES!$L93,0)","v":{"$error":"#N/A"}},{"$error":"#N/A"},{"$error":"#N/A"},{"$f":"IF($Y$1<>\"BANCHE\",RELEVE_COTES!$L93,0)","v":{"$error":"#N/A"}},{"$f":"IF($Y$1<>\"BANCHE\",RELEVE_COTES!$M93,20)","v":{"$error":"#N/A"}},{"$f":"IF($Y$1<>\"BANCHE\",RELEVE_COTES!$N93,0)","v":{"$error":"#N/A"}},{"$f":"RELEVE_COTES!$I$20","v":0},{"$f":"RELEVE_COTES!$C$11","v":0},{"$f":"RELEVE_COTES!$K$12","v":0},{"$f":"VLOOKUP(AA45,TabSeuilRef[],2,FALSE)","v":{"$error":"#N/A"}},0,{"$f":"\"Paumelles \"&RELEVE_COTES!$E$15","v":"Paumelles "},{"$f":"IF(RELEVE_COTES!$K$16=\"SANS\",RELEVE_COTES!$K$16,IF(RELEVE_COTES!$K$16=\"Intégré\",\"Intégré\",RELEVE_COTES!$K$16&\" / \"&VLOOKUP(RELEVE_COTES!$L$16,TabOptUsSerr[],2,FALSE)))","v":"SANS"},{"$f":"RELEVE_COTES!$K$11","v":0},{"$f":"\"OP: \"&IF(RELEVE_COTES!$E$12=\"Pr.Peint\",\"PP\",RELEVE_COTES!$G$12)&\"/FP: \"&IF(RELEVE_COTES!$E$13=\"Pr.Peint\",\"PP\",RELEVE_COTES!$G$13)","v":"OP: /FP: "},{"$f":"IF(RELEVE_COTES!$E$14=\"Pr.Peint\",\"PP\",VLOOKUP(RELEVE_COTES!$G$14,TabNuancHM[],2,FALSE))","v":"PP"},{"$error":"#N/A"},{"$f":"IF(RELEVE_COTES!$C$11 =\"R32S-R02\",\"OUI\",\"NON\")","v":"NON"},"NON","",{"$f":"IF(AJ45=\"OUI\",RELEVE_COTES!$N$16,\"\")","v":""},null,{"$f":"VLOOKUP(RELEVE_COTES!$O$11,TabOptUsSerr[],2,FALSE)","v":"Usinage, fourniture et pose"},{"$f":"IF(RELEVE_COTES!$K$15<>\"SANS\",RELEVE_COTES!$L$15&\" \"&RELEVE_COTES!$K$15,\"\")&IF(RELEVE_COTES!$N$15<>\"SANS\",\" / PMR: \"&RELEVE_COTES!$O$15&\" \"&RELEVE_COTES!$N$15,\"SANS\")","v":"SANS"},{"$f":"IF(RELEVE_COTES!$K$14 <> \"SANS\",RELEVE_COTES!$O$14&\" \"&RELEVE_COTES!$K$14,\"\")","v":"U+F "},{"$f":"IF(RELEVE_COTES!$K$13 <> \"SANS\",RELEVE_COTES!$O$13&\" \"&RELEVE_COTES!$K$13,\"SANS\")","v":"U+F "},{"$f":"IF(RELEVE_COTES!$I$20 = \"Huisserie Bois\",RELEVE_COTES!$R93,IF(RELEVE_COTES!$I$20 = \"Huisserie Banchée\",RELEVE_COTES!$M93,IF(RELEVE_COTES!$I$20 = \"Bâti Scellé\",RELEVE_COTES!$O93,\"\")))","v":""},{"$f":"RELEVE_COTES!$E$12&\" / \"&RELEVE_COTES!$E$13","v":" SANS /  SANS"},"INT","VERINS + VERINS","NON",{"$f":"VLOOKUP(RELEVE_COTES!$K$11,TabSerrureRef[],3,FALSE)","v":{"$error":"#N/A"}},{"$f":"VLOOKUP(RELEVE_COTES!$K$11,TabSerrureRef[],6,FALSE)","v":{"$error":"#N/A"}}]
[0,0,{"$f":"IF(RELEVE_COTES!$A94<>\"\",SUBSTITUTE(SUBSTITUTE(SUBSTITUTE(SUBSTITUTE(SUBSTITUTE(SUBSTITUTE(SUBSTITUTE(SUBSTITUTE(RELEVE_COTES!$A94,\" \",\"\"),\"-\",\"/\"),\".\",\"/\"),\"\\\",\"/\"),\",\",\"/\"),\"+\",\"_\"),\"&\",\"_\"),\"*\",\"/\"),\"\")","v":""},{"$f":"RELEVE_COTES!$B94","v":0},1,{"$f":"RELEVE_COTES!$C94","v":0},{"$f":"RELEVE_COTES!$D94","v":0},{"$f":"RELEVE_COTES!$E94","v":0},{"$f":"RELEVE_COTES!$F94","v":0},{"$f":"RELEVE_COTES!$G94","v":0},{"$f":"IF($D46=\"GP\",RELEVE_COTES!$I94,RELEVE_COTES!$H94)","v":0},{"$f":"IF($D46=\"GP\",RELEVE_COTES!$H94,RELEVE_COTES!$I94)","v":0},{"$f":"RELEVE_COTES!$J94","v":0},{"$f":"VLOOKUP(RELEVE_COTES!$K94,TabExistantRef1[],2,FALSE)","v":{"$error":"#N/A"}},{"$f":"IF($Y$1=\"BOIS\",RELEVE_COTES!$O94,0)","v":{"$error":"#N/A"}},{"$f":"IF($Y$1=\"BOIS\",RELEVE_COTES!$P94,0)","v":{"$error":"#N/A"}},{"$f":"IF($Y$1=\"BOIS\",RELEVE_COTES!$Q94,0)","v":{"$error":"#N/A"}},{"$error":"#N/A"},{"$f":"IF($Y$1=\"BANCHE\",RELEVE_COTES!$L94,0)","v":{"$error":"#N/A"}},{"$error":"#N/A"},{"$error":"#N/A"},{"$f":"IF($Y$1<>\"BANCHE\",RELEVE_COTES!$L94,0)","v":{"$error":"#N/A"}},{"$f":"IF($Y$1<>\"BANCHE\",RELEVE_COTES!$M94,20)","v":{"$error":"#N/A"}},{"$f":"IF($Y$1<>\"BANCHE\",RELEVE_COTES!$N94,0)","v":{"$error":"#N/A"}},{"$f":"RELEVE_COTES!$I$20","v":0},{"$f":"RELEVE_COTES!$C$11","v":0},{"$f":"RELEVE_COTES!$K$12","v":0},{"$f":"VLOOKUP(AA46,TabSeuilRef[],2,FALSE)","v":{"$error":"#N/A"}},0,{"$f":"\"Paumelles \"&RELEVE_COTES!$E$15","v":"Paumelles "},{"$f":"IF(RELEVE_COTES!$K$16=\"SANS\",RELEVE_COTES!$K$16,IF(RELEVE_COTES!$K$16=\"Intégré\",\"Intégré\",RELEVE_COTES!$K$16&\" / \"&VLOOKUP(RELEVE_COTES!$L$16,TabOptUsSerr[],2,FALSE)))","v":"SANS"},{"$f":"RELEVE_COTES!$K$11","v":0},{"$f":"\"OP: \"&IF(RELEVE_COTES!$E$12=\"Pr.Peint\",\"PP\",RELEVE_COTES!$G$12)&\"/FP: \"&IF(RELEVE_COTES!$E$13=\"Pr.Peint\",\"PP\",RELEVE_COTES!$G$13)","v":"OP: /FP: "},{"$f":"IF(RELEVE_COTES!$E$14=\"Pr.Peint\",\"PP\",VLOOKUP(RELEVE_COTES!$G$14,TabNuancHM[],2,FALSE))","v":"PP"},{"$error":"#N/A"},{"$f":"IF(RELEVE_COTES!$C$11 =\"R32S-R02\",\"OUI\",\"NON\")","v":"NON"},"NON","",{"$f":"IF(AJ46=\"OUI\",RELEVE_COTES!$N$16,\"\")","v":""},null,{"$f":"VLOOKUP(RELEVE_COTES!$O$11,TabOptUsSerr[],2,FALSE)","v":"Usinage, fourniture et pose"},{"$f":"IF(RELEVE_COTES!$K$15<>\"SANS\",RELEVE_COTES!$L$15&\" \"&RELEVE_COTES!$K$15,\"\")&IF(RELEVE_COTES!$N$15<>\"SANS\",\" / PMR: \"&RELEVE_COTES!$O$15&\" \"&RELEVE_COTES!$N$15,\"SANS\")","v":"SANS"},{"$f":"IF(RELEVE_COTES!$K$14 <> \"SANS\",RELEVE_COTES!$O$14&\" \"&RELEVE_COTES!$K$14,\"\")","v":"U+F "},{"$f":"IF(RELEVE_COTES!$K$13 <> \"SANS\",RELEVE_COTES!$O$13&\" \"&RELEVE_COTES!$K$13,\"SANS\")","v":"U+F "},{"$f":"IF(RELEVE_COTES!$I$20 = \"Huisserie Bois\",RELEVE_COTES!$R94,IF(RELEVE_COTES!$I$20 = \"Huisserie Banchée\",RELEVE_COTES!$M94,IF(RELEVE_COTES!$I$20 = \"Bâti Scellé\",RELEVE_COTES!$O94,\"\")))","v":""},{"$f":"RELEVE_COTES!$E$12&\" / \"&RELEVE_COTES!$E$13","v":" SANS /  SANS"},"INT","VERINS + VERINS","NON",{"$f":"VLOOKUP(RELEVE_COTES!$K$11,TabSerrureRef[],3,FALSE)","v":{"$error":"#N/A"}},{"$f":"VLOOKUP(RELEVE_COTES!$K$11,TabSerrureRef[],6,FALSE)","v":{"$error":"#N/A"}}]
[0,0,{"$f":"IF(RELEVE_COTES!$A95<>\"\",SUBSTITUTE(SUBSTITUTE(SUBSTITUTE(SUBSTITUTE(SUBSTITUTE(SUBSTITUTE(SUBSTITUTE(SUBSTITUTE(RELEVE_COTES!$A95,\" \",\"\"),\"-\",\"/\"),\".\",\"/\"),\"\\\",\"/\"),\",\",\"/\"),\"+\",\"_\"),\"&\",\"_\"),\"*\",\"/\"),\"\")","v":""},{"$f":"RELEVE_COTES!$B95","v":0},1,{"$f":"RELEVE_COTES!$C95","v":0},{"$f":"RELEVE_COTES!$D95","v":0},{"$f":"RELEVE_COTES!$E95","v":0},{"$f":"RELEVE_COTES!$F95","v":0},{"$f":"RELEVE_COTES!$G95","v":0},{"$f":"IF($D47=\"GP\",RELEVE_COTES!$I95,RELEVE_COTES!$H95)","v":0},{"$f":"IF($D47=\"GP\",RELEVE_COTES!$H95,RELEVE_COTES!$I95)","v":0},{"$f":"RELEVE_COTES!$J95","v":0},{"$f":"VLOOKUP(RELEVE_COTES!$K95,TabExistantRef1[],2,FALSE)","v":{"$error":"#N/A"}},{"$f":"IF($Y$1=\"BOIS\",RELEVE_COTES!$O95,0)","v":{"$error":"#N/A"}},{"$f":"IF($Y$1=\"BOIS\",RELEVE_COTES!$P95,0)","v":{"$error":"#N/A"}},{"$f":"IF($Y$1=\"BOIS\",RELEVE_COTES!$Q95,0)","v":{"$error":"#N/A"}},{"$error":"#N/A"},{"$f":"IF($Y$1=\"BANCHE\",RELEVE_COTES!$L95,0)","v":{"$error":"#N/A"}},{"$error":"#N/A"},{"$error":"#N/A"},{"$f":"IF($Y$1<>\"BANCHE\",RELEVE_COTES!$L95,0)","v":{"$error":"#N/A"}},{"$f":"IF($Y$1<>\"BANCHE\",RELEVE_COTES!$M95,20)","v":{"$error":"#N/A"}},{"$f":"IF($Y$1<>\"BANCHE\",RELEVE_COTES!$N95,0)","v":{"$error":"#N/A"}},{"$f":"RELEVE_COTES!$I$20","v":0},{"$f":"RELEVE_COTES!$C$11","v":0},{"$f":"RELEVE_COTES!$K$12","v":0},{"$f":"VLOOKUP(AA47,TabSeuilRef[],2,FALSE)","v":{"$error":"#N/A"}},0,{"$f":"\"Paumelles \"&RELEVE_COTES!$E$15","v":"Paumelles "},{"$f":"IF(RELEVE_COTES!$K$16=\"SANS\",RELEVE_COTES!$K$16,IF(RELEVE_COTES!$K$16=\"Intégré\",\"Intégré\",RELEVE_COTES!$K$16&\" / \"&VLOOKUP(RELEVE_COTES!$L$16,TabOptUsSerr[],2,FALSE)))","v":"SANS"},{"$f":"RELEVE_COTES!$K$11","v":0},{"$f":"\"OP: \"&IF(RELEVE_COTES!$E$12=\"Pr.Peint\",\"PP\",RELEVE_COTES!$G$12)&\"/FP: \"&IF(RELEVE_COTES!$E$13=\"Pr.Peint\",\"PP\",RELEVE_COTES!$G$13)","v":"OP: /FP: "},{"$f":"IF(RELEVE_COTES!$E$14=\"Pr.Peint\",\"PP\",VLOOKUP(RELEVE_COTES!$G$14,TabNuancHM[],2,FALSE))","v":"PP"},{"$error":"#N/A"},{"$f":"IF(RELEVE_COTES!$C$11 =\"R32S-R02\",\"OUI\",\"NON\")","v":"NON"},"NON","",{"$f":"IF(AJ47=\"OUI\",RELEVE_COTES!$N$16,\"\")","v":""},null,{"$f":"VLOOKUP(RELEVE_COTES!$O$11,TabOptUsSerr[],2,FALSE)","v":"Usinage, fourniture et pose"},{"$f":"IF(RELEVE_COTES!$K$15<>\"SANS\",RELEVE_COTES!$L$15&\" \"&RELEVE_COTES!$K$15,\"\")&IF(RELEVE_COTES!$N$15<>\"SANS\",\" / PMR: \"&RELEVE_COTES!$O$15&\" \"&RELEVE_COTES!$N$15,\"SANS\")","v":"SANS"},{"$f":"IF(RELEVE_COTES!$K$14 <> \"SANS\",RELEVE_COTES!$O$14&\" \"&RELEVE_COTES!$K$14,\"\")","v":"U+F "},{"$f":"IF(RELEVE_COTES!$K$13 <> \"SANS\",RELEVE_COTES!$O$13&\" \"&RELEVE_COTES!$K$13,\"SANS\")","v":"U+F "},{"$f":"IF(RELEVE_COTES!$I$20 = \"Huisserie Bois\",RELEVE_COTES!$R95,IF(RELEVE_COTES!$I$20 = \"Huisserie Banchée\",RELEVE_COTES!$M95,IF(RELEVE_COTES!$I$20 = \"Bâti Scellé\",RELEVE_COTES!$O95,\"\")))","v":""},{"$f":"RELEVE_COTES!$E$12&\" / \"&RELEVE_COTES!$E$13","v":" SANS /  SANS"},"INT","VERINS + VERINS","NON",{"$f":"VLOOKUP(RELEVE_COTES!$K$11,TabSerrureRef[],3,FALSE)","v":{"$error":"#N/A"}},{"$f":"VLOOKUP(RELEVE_COTES!$K$11,TabSerrureRef[],6,FALSE)","v":{"$error":"#N/A"}}]
[0,0,{"$f":"IF(RELEVE_COTES!$A96<>\"\",SUBSTITUTE(SUBSTITUTE(SUBSTITUTE(SUBSTITUTE(SUBSTITUTE(SUBSTITUTE(SUBSTITUTE(SUBSTITUTE(RELEVE_COTES!$A96,\" \",\"\"),\"-\",\"/\"),\".\",\"/\"),\"\\\",\"/\"),\",\",\"/\"),\"+\",\"_\"),\"&\",\"_\"),\"*\",\"/\"),\"\")","v":""},{"$f":"RELEVE_COTES!$B96","v":0},1,{"$f":"RELEVE_COTES!$C96","v":0},{"$f":"RELEVE_COTES!$D96","v":0},{"$f":"RELEVE_COTES!$E96","v":0},{"$f":"RELEVE_COTES!$F96","v":0},{"$f":"RELEVE_COTES!$G96","v":0},{"$f":"IF($D48=\"GP\",RELEVE_COTES!$I96,RELEVE_COTES!$H96)","v":0},{"$f":"IF($D48=\"GP\",RELEVE_COTES!$H96,RELEVE_COTES!$I96)","v":0},{"$f":"RELEVE_COTES!$J96","v":0},{"$f":"VLOOKUP(RELEVE_COTES!$K96,TabExistantRef1[],2,FALSE)","v":{"$error":"#N/A"}},{"$f":"IF($Y$1=\"BOIS\",RELEVE_COTES!$O96,0)","v":{"$error":"#N/A"}},{"$f":"IF($Y$1=\"BOIS\",RELEVE_COTES!$P96,0)","v":{"$error":"#N/A"}},{"$f":"IF($Y$1=\"BOIS\",RELEVE_COTES!$Q96,0)","v":{"$error":"#N/A"}},{"$error":"#N/A"},{"$f":"IF($Y$1=\"BANCHE\",RELEVE_COTES!$L96,0)","v":{"$error":"#N/A"}},{"$error":"#N/A"},{"$error":"#N/A"},{"$f":"IF($Y$1<>\"BANCHE\",RELEVE_COTES!$L96,0)","v":{"$error":"#N/A"}},{"$f":"IF($Y$1<>\"BANCHE\",RELEVE_COTES!$M96,20)","v":{"$error":"#N/A"}},{"$f":"IF($Y$1<>\"BANCHE\",RELEVE_COTES!$N96,0)","v":{"$error":"#N/A"}},{"$f":"RELEVE_COTES!$I$20","v":0},{"$f":"RELEVE_COTES!$C$11","v":0},{"$f":"RELEVE_COTES!$K$12","v":0},{"$f":"VLOOKUP(AA48,TabSeuilRef[],2,FALSE)","v":{"$error":"#N/A"}},0,{"$f":"\"Paumelles \"&RELEVE_COTES!$E$15","v":"Paumelles "},{"$f":"IF(RELEVE_COTES!$K$16=\"SANS\",RELEVE_COTES!$K$16,IF(RELEVE_COTES!$K$16=\"Intégré\",\"Intégré\",RELEVE_COTES!$K$16&\" / \"&VLOOKUP(RELEVE_COTES!$L$16,TabOptUsSerr[],2,FALSE)))","v":"SANS"},{"$f":"RELEVE_COTES!$K$11","v":0},{"$f":"\"OP: \"&IF(RELEVE_COTES!$E$12=\"Pr.Peint\",\"PP\",RELEVE_COTES!$G$12)&\"/FP: \"&IF(RELEVE_COTES!$E$13=\"Pr.Peint\",\"PP\",RELEVE_COTES!$G$13)","v":"OP: /FP: "},{"$f":"IF(RELEVE_COTES!$E$14=\"Pr.Peint\",\"PP\",VLOOKUP(RELEVE_COTES!$G$14,TabNuancHM[],2,FALSE))","v":"PP"},{"$error":"#N/A"},{"$f":"IF(RELEVE_COTES!$C$11 =\"R32S-R02\",\"OUI\",\"NON\")","v":"NON"},"NON","",{"$f":"IF(AJ48=\"OUI\",RELEVE_COTES!$N$16,\"\")","v":""},null,{"$f":"VLOOKUP(RELEVE_COTES!$O$11,TabOptUsSerr[],2,FALSE)","v":"Usinage, fourniture et pose"},{"$f":"IF(RELEVE_COTES!$K$15<>\"SANS\",RELEVE_COTES!$L$15&\" \"&RELEVE_COTES!$K$15,\"\")&IF(RELEVE_COTES!$N$15<>\"SANS\",\" / PMR: \"&RELEVE_COTES!$O$15&\" \"&RELEVE_COTES!$N$15,\"SANS\")","v":"SANS"},{"$f":"IF(RELEVE_COTES!$K$14 <> \"SANS\",RELEVE_COTES!$O$14&\" \"&RELEVE_COTES!$K$14,\"\")","v":"U+F "},{"$f":"IF(RELEVE_COTES!$K$13 <> \"SANS\",RELEVE_COTES!$O$13&\" \"&RELEVE_COTES!$K$13,\"SANS\")","v":"U+F "},{"$f":"IF(RELEVE_COTES!$I$20 = \"Huisserie Bois\",RELEVE_COTES!$R96,IF(RELEVE_COTES!$I$20 = \"Huisserie Banchée\",RELEVE_COTES!$M96,IF(RELEVE_COTES!$I$20 = \"Bâti Scellé\",RELEVE_COTES!$O96,\"\")))","v":""},{"$f":"RELEVE_COTES!$E$12&\" / \"&RELEVE_COTES!$E$13","v":" SANS /  SANS"},"INT","VERINS + VERINS","NON",{"$f":"VLOOKUP(RELEVE_COTES!$K$11,TabSerrureRef[],3,FALSE)","v":{"$error":"#N/A"}},{"$f":"VLOOKUP(RELEVE_COTES!$K$11,TabSerrureRef[],6,FALSE)","v":{"$error":"#N/A"}}]
[0,0,{"$f":"IF(RELEVE_COTES!$A97<>\"\",SUBSTITUTE(SUBSTITUTE(SUBSTITUTE(SUBSTITUTE(SUBSTITUTE(SUBSTITUTE(SUBSTITUTE(SUBSTITUTE(RELEVE_COTES!$A97,\" \",\"\"),\"-\",\"/\"),\".\",\"/\"),\"\\\",\"/\"),\",\",\"/\"),\"+\",\"_\"),\"&\",\"_\"),\"*\",\"/\"),\"\")","v":""},{"$f":"RELEVE_COTES!$B97","v":0},1,{"$f":"RELEVE_COTES!$C97","v":0},{"$f":"RELEVE_COTES!$D97","v":0},{"$f":"RELEVE_COTES!$E97","v":0},{"$f":"RELEVE_COTES!$F97","v":0},{"$f":"RELEVE_COTES!$G97","v":0},{"$f":"IF($D49=\"GP\",RELEVE_COTES!$I97,RELEVE_COTES!$H97)","v":0},{"$f":"IF($D49=\"GP\",RELEVE_COTES!$H97,RELEVE_COTES!$I97)","v":0},{"$f":"RELEVE_COTES!$J97","v":0},{"$f":"VLOOKUP(RELEVE_COTES!$K97,TabExistantRef1[],2,FALSE)","v":{"$error":"#N/A"}},{"$f":"IF($Y$1=\"BOIS\",RELEVE_COTES!$O97,0)","v":{"$error":"#N/A"}},{"$f":"IF($Y$1=\"BOIS\",RELEVE_COTES!$P97,0)","v":{"$error":"#N/A"}},{"$f":"IF($Y$1=\"BOIS\",RELEVE_COTES!$Q97,0)","v":{"$error":"#N/A"}},{"$error":"#N/A"},{"$f":"IF($Y$1=\"BANCHE\",RELEVE_COTES!$L97,0)","v":{"$error":"#N/A"}},{"$error":"#N/A"},{"$error":"#N/A"},{"$f":"IF($Y$1<>\"BANCHE\",RELEVE_COTES!$L97,0)","v":{"$error":"#N/A"}},{"$f":"IF($Y$1<>\"BANCHE\",RELEVE_COTES!$M97,20)","v":{"$error":"#N/A"}},{"$f":"IF($Y$1<>\"BANCHE\",RELEVE_COTES!$N97,0)","v":{"$error":"#N/A"}},{"$f":"RELEVE_COTES!$I$20","v":0},{"$f":"RELEVE_COTES!$C$11","v":0},{"$f":"RELEVE_COTES!$K$12","v":0},{"$f":"VLOOKUP(AA49,TabSeuilRef[],2,FALSE)","v":{"$error":"#N/A"}},0,{"$f":"\"Paumelles \"&RELEVE_COTES!$E$15","v":"Paumelles "},{"$f":"IF(RELEVE_COTES!$K$16=\"SANS\",RELEVE_COTES!$K$16,IF(RELEVE_COTES!$K$16=\"Intégré\",\"Intégré\",RELEVE_COTES!$K$16&\" / \"&VLOOKUP(RELEVE_COTES!$L$16,TabOptUsSerr[],2,FALSE)))","v":"SANS"},{"$f":"RELEVE_COTES!$K$11","v":0},{"$f":"\"OP: \"&IF(RELEVE_COTES!$E$12=\"Pr.Peint\",\"PP\",RELEVE_COTES!$G$12)&\"/FP: \"&IF(RELEVE_COTES!$E$13=\"Pr.Peint\",\"PP\",RELEVE_COTES!$G$13)","v":"OP: /FP: "},{"$f":"IF(RELEVE_COTES!$E$14=\"Pr.Peint\",\"PP\",VLOOKUP(RELEVE_COTES!$G$14,TabNuancHM[],2,FALSE))","v":"PP"},{"$error":"#N/A"},{"$f":"IF(RELEVE_COTES!$C$11 =\"R32S-R02\",\"OUI\",\"NON\")","v":"NON"},"NON","",{"$f":"IF(AJ49=\"OUI\",RELEVE_COTES!$N$16,\"\")","v":""},null,{"$f":"VLOOKUP(RELEVE_COTES!$O$11,TabOptUsSerr[],2,FALSE)","v":"Usinage, fourniture et pose"},{"$f":"IF(RELEVE_COTES!$K$15<>\"SANS\",RELEVE_COTES!$L$15&\" \"&RELEVE_COTES!$K$15,\"\")&IF(RELEVE_COTES!$N$15<>\"SANS\",\" / PMR: \"&RELEVE_COTES!$O$15&\" \"&RELEVE_COTES!$N$15,\"SANS\")","v":"SANS"},{"$f":"IF(RELEVE_COTES!$K$14 <> \"SANS\",RELEVE_COTES!$O$14&\" \"&RELEVE_COTES!$K$14,\"\")","v":"U+F "},{"$f":"IF(RELEVE_COTES!$K$13 <> \"SANS\",RELEVE_COTES!$O$13&\" \"&RELEVE_COTES!$K$13,\"SANS\")","v":"U+F "},{"$f":"IF(RELEVE_COTES!$I$20 = \"Huisserie Bois\",RELEVE_COTES!$R97,IF(RELEVE_COTES!$I$20 = \"Huisserie Banchée\",RELEVE_COTES!$M97,IF(RELEVE_COTES!$I$20 = \"Bâti Scellé\",RELEVE_COTES!$O97,\"\")))","v":""},{"$f":"RELEVE_COTES!$E$12&\" / \"&RELEVE_COTES!$E$13","v":" SANS /  SANS"},"INT","VERINS + VERINS","NON",{"$f":"VLOOKUP(RELEVE_COTES!$K$11,TabSerrureRef[],3,FALSE)","v":{"$error":"#N/A"}},{"$f":"VLOOKUP(RELEVE_COTES!$K$11,TabSerrureRef[],6,FALSE)","v":{"$error":"#N/A"}}]
[0,0,{"$f":"IF(RELEVE_COTES!$A98<>\"\",SUBSTITUTE(SUBSTITUTE(SUBSTITUTE(SUBSTITUTE(SUBSTITUTE(SUBSTITUTE(SUBSTITUTE(SUBSTITUTE(RELEVE_COTES!$A98,\" \",\"\"),\"-\",\"/\"),\".\",\"/\"),\"\\\",\"/\"),\",\",\"/\"),\"+\",\"_\"),\"&\",\"_\"),\"*\",\"/\"),\"\")","v":""},{"$f":"RELEVE_COTES!$B98","v":0},1,{"$f":"RELEVE_COTES!$C98","v":0},{"$f":"RELEVE_COTES!$D98","v":0},{"$f":"RELEVE_COTES!$E98","v":0},{"$f":"RELEVE_COTES!$F98","v":0},{"$f":"RELEVE_COTES!$G98","v":0},{"$f":"IF($D50=\"GP\",RELEVE_COTES!$I98,RELEVE_COTES!$H98)","v":0},{"$f":"IF($D50=\"GP\",RELEVE_COTES!$H98,RELEVE_COTES!$I98)","v":0},{"$f":"RELEVE_COTES!$J98","v":0},{"$f":"VLOOKUP(RELEVE_COTES!$K98,TabExistantRef1[],2,FALSE)","v":{"$error":"#N/A"}},{"$f":"IF($Y$1=\"BOIS\",RELEVE_COTES!$O98,0)","v":{"$error":"#N/A"}},{"$f":"IF($Y$1=\"BOIS\",RELEVE_COTES!$P98,0)","v":{"$error":"#N/A"}},{"$f":"IF($Y$1=\"BOIS\",RELEVE_COTES!$Q98,0)","v":{"$error":"#N/A"}},{"$error":"#N/A"},{"$f":"IF($Y$1=\"BANCHE\",RELEVE_COTES!$L98,0)","v":{"$error":"#N/A"}},{"$error":"#N/A"},{"$error":"#N/A"},{"$f":"IF($Y$1<>\"BANCHE\",RELEVE_COTES!$L98,0)","v":{"$error":"#N/A"}},{"$f":"IF($Y$1<>\"BANCHE\",RELEVE_COTES!$M98,20)","v":{"$error":"#N/A"}},{"$f":"IF($Y$1<>\"BANCHE\",RELEVE_COTES!$N98,0)","v":{"$error":"#N/A"}},{"$f":"RELEVE_COTES!$I$20","v":0},{"$f":"RELEVE_COTES!$C$11","v":0},{"$f":"RELEVE_COTES!$K$12","v":0},{"$f":"VLOOKUP(AA50,TabSeuilRef[],2,FALSE)","v":{"$error":"#N/A"}},0,{"$f":"\"Paumelles \"&RELEVE_COTES!$E$15","v":"Paumelles "},{"$f":"IF(RELEVE_COTES!$K$16=\"SANS\",RELEVE_COTES!$K$16,IF(RELEVE_COTES!$K$16=\"Intégré\",\"Intégré\",RELEVE_COTES!$K$16&\" / \"&VLOOKUP(RELEVE_COTES!$L$16,TabOptUsSerr[],2,FALSE)))","v":"SANS"},{"$f":"RELEVE_COTES!$K$11","v":0},{"$f":"\"OP: \"&IF(RELEVE_COTES!$E$12=\"Pr.Peint\",\"PP\",RELEVE_COTES!$G$12)&\"/FP: \"&IF(RELEVE_COTES!$E$13=\"Pr.Peint\",\"PP\",RELEVE_COTES!$G$13)","v":"OP: /FP: "},{"$f":"IF(RELEVE_COTES!$E$14=\"Pr.Peint\",\"PP\",VLOOKUP(RELEVE_COTES!$G$14,TabNuancHM[],2,FALSE))","v":"PP"},{"$error":"#N/A"},{"$f":"IF(RELEVE_COTES!$C$11 =\"R32S-R02\",\"OUI\",\"NON\")","v":"NON"},"NON","",{"$f":"IF(AJ50=\"OUI\",RELEVE_COTES!$N$16,\"\")","v":""},null,{"$f":"VLOOKUP(RELEVE_COTES!$O$11,TabOptUsSerr[],2,FALSE)","v":"Usinage, fourniture et pose"},{"$f":"IF(RELEVE_COTES!$K$15<>\"SANS\",RELEVE_COTES!$L$15&\" \"&RELEVE_COTES!$K$15,\"\")&IF(RELEVE_COTES!$N$15<>\"SANS\",\" / PMR: \"&RELEVE_COTES!$O$15&\" \"&RELEVE_COTES!$N$15,\"SANS\")","v":"SANS"},{"$f":"IF(RELEVE_COTES!$K$14 <> \"SANS\",RELEVE_COTES!$O$14&\" \"&RELEVE_COTES!$K$14,\"\")","v":"U+F "},{"$f":"IF(RELEVE_COTES!$K$13 <> \"SANS\",RELEVE_COTES!$O$13&\" \"&RELEVE_COTES!$K$13,\"SANS\")","v":"U+F "},{"$f":"IF(RELEVE_COTES!$I$20 = \"Huisserie Bois\",RELEVE_COTES!$R98,IF(RELEVE_COTES!$I$20 = \"Huisserie Banchée\",RELEVE_COTES!$M98,IF(RELEVE_COTES!$I$20 = \"Bâti Scellé\",RELEVE_COTES!$O98,\"\")))","v":""},{"$f":"RELEVE_COTES!$E$12&\" / \"&RELEVE_COTES!$E$13","v":" SANS /  SANS"},"INT","VERINS + VERINS","NON",{"$f":"VLOOKUP(RELEVE_COTES!$K$11,TabSerrureRef[],3,FALSE)","v":{"$error":"#N/A"}},{"$f":"VLOOKUP(RELEVE_COTES!$K$11,TabSerrureRef[],6,FALSE)","v":{"$error":"#N/A"}}]
[0,0,{"$f":"IF(RELEVE_COTES!$A99<>\"\",SUBSTITUTE(SUBSTITUTE(SUBSTITUTE(SUBSTITUTE(SUBSTITUTE(SUBSTITUTE(SUBSTITUTE(SUBSTITUTE(RELEVE_COTES!$A99,\" \",\"\"),\"-\",\"/\"),\".\",\"/\"),\"\\\",\"/\"),\",\",\"/\"),\"+\",\"_\"),\"&\",\"_\"),\"*\",\"/\"),\"\")","v":""},{"$f":"RELEVE_COTES!$B99","v":0},1,{"$f":"RELEVE_COTES!$C99","v":0},{"$f":"RELEVE_COTES!$D99","v":0},{"$f":"RELEVE_COTES!$E99","v":0},{"$f":"RELEVE_COTES!$F99","v":0},{"$f":"RELEVE_COTES!$G99","v":0},{"$f":"IF($D51=\"GP\",RELEVE_COTES!$I99,RELEVE_COTES!$H99)","v":0},{"$f":"IF($D51=\"GP\",RELEVE_COTES!$H99,RELEVE_COTES!$I99)","v":0},{"$f":"RELEVE_COTES!$J99","v":0},{"$f":"VLOOKUP(RELEVE_COTES!$K99,TabExistantRef1[],2,FALSE)","v":{"$error":"#N/A"}},{"$f":"IF($Y$1=\"BOIS\",RELEVE_COTES!$O99,0)","v":{"$error":"#N/A"}},{"$f":"IF($Y$1=\"BOIS\",RELEVE_COTES!$P99,0)","v":{"$error":"#N/A"}},{"$f":"IF($Y$1=\"BOIS\",RELEVE_COTES!$Q99,0)","v":{"$error":"#N/A"}},{"$error":"#N/A"},{"$f":"IF($Y$1=\"BANCHE\",RELEVE_COTES!$L99,0)","v":{"$error":"#N/A"}},{"$error":"#N/A"},{"$error":"#N/A"},{"$f":"IF($Y$1<>\"BANCHE\",RELEVE_COTES!$L99,0)","v":{"$error":"#N/A"}},{"$f":"IF($Y$1<>\"BANCHE\",RELEVE_COTES!$M99,20)","v":{"$error":"#N/A"}},{"$f":"IF($Y$1<>\"BANCHE\",RELEVE_COTES!$N99,0)","v":{"$error":"#N/A"}},{"$f":"RELEVE_COTES!$I$20","v":0},{"$f":"RELEVE_COTES!$C$11","v":0},{"$f":"RELEVE_COTES!$K$12","v":0},{"$f":"VLOOKUP(AA51,TabSeuilRef[],2,FALSE)","v":{"$error":"#N/A"}},0,{"$f":"\"Paumelles \"&RELEVE_COTES!$E$15","v":"Paumelles "},{"$f":"IF(RELEVE_COTES!$K$16=\"SANS\",RELEVE_COTES!$K$16,IF(RELEVE_COTES!$K$16=\"Intégré\",\"Intégré\",RELEVE_COTES!$K$16&\" / \"&VLOOKUP(RELEVE_COTES!$L$16,TabOptUsSerr[],2,FALSE)))","v":"SANS"},{"$f":"RELEVE_COTES!$K$11","v":0},{"$f":"\"OP: \"&IF(RELEVE_COTES!$E$12=\"Pr.Peint\",\"PP\",RELEVE_COTES!$G$12)&\"/FP: \"&IF(RELEVE_COTES!$E$13=\"Pr.Peint\",\"PP\",RELEVE_COTES!$G$13)","v":"OP: /FP: "},{"$f":"IF(RELEVE_COTES!$E$14=\"Pr.Peint\",\"PP\",VLOOKUP(RELEVE_COTES!$G$14,TabNuancHM[],2,FALSE))","v":"PP"},{"$error":"#N/A"},{"$f":"IF(RELEVE_COTES!$C$11 =\"R32S-R02\",\"OUI\",\"NON\")","v":"NON"},"NON","",{"$f":"IF(AJ51=\"OUI\",RELEVE_COTES!$N$16,\"\")","v":""},null,{"$f":"VLOOKUP(RELEVE_COTES!$O$11,TabOptUsSerr[],2,FALSE)","v":"Usinage, fourniture et pose"},{"$f":"IF(RELEVE_COTES!$K$15<>\"SANS\",RELEVE_COTES!$L$15&\" \"&RELEVE_COTES!$K$15,\"\")&IF(RELEVE_COTES!$N$15<>\"SANS\",\" / PMR: \"&RELEVE_COTES!$O$15&\" \"&RELEVE_COTES!$N$15,\"SANS\")","v":"SANS"},{"$f":"IF(RELEVE_COTES!$K$14 <> \"SANS\",RELEVE_COTES!$O$14&\" \"&RELEVE_COTES!$K$14,\"\")","v":"U+F "},{"$f":"IF(RELEVE_COTES!$K$13 <> \"SANS\",RELEVE_COTES!$O$13&\" \"&RELEVE_COTES!$K$13,\"SANS\")","v":"U+F "},{"$f":"IF(RELEVE_COTES!$I$20 = \"Huisserie Bois\",RELEVE_COTES!$R99,IF(RELEVE_COTES!$I$20 = \"Huisserie Banchée\",RELEVE_COTES!$M99,IF(RELEVE_COTES!$I$20 = \"Bâti Scellé\",RELEVE_COTES!$O99,\"\")))","v":""},{"$f":"RELEVE_COTES!$E$12&\" / \"&RELEVE_COTES!$E$13","v":" SANS /  SANS"},"INT","VERINS + VERINS","NON",{"$f":"VLOOKUP(RELEVE_COTES!$K$11,TabSerrureRef[],3,FALSE)","v":{"$error":"#N/A"}},{"$f":"VLOOKUP(RELEVE_COTES!$K$11,TabSerrureRef[],6,FALSE)","v":{"$error":"#N/A"}}]
[0,0,{"$f":"IF(RELEVE_COTES!$A100<>\"\",SUBSTITUTE(SUBSTITUTE(SUBSTITUTE(SUBSTITUTE(SUBSTITUTE(SUBSTITUTE(SUBSTITUTE(SUBSTITUTE(RELEVE_COTES!$A100,\" \",\"\"),\"-\",\"/\"),\".\",\"/\"),\"\\\",\"/\"),\",\",\"/\"),\"+\",\"_\"),\"&\",\"_\"),\"*\",\"/\"),\"\")","v":""},{"$f":"RELEVE_COTES!$B100","v":0},1,{"$f":"RELEVE_COTES!$C100","v":0},{"$f":"RELEVE_COTES!$D100","v":0},{"$f":"RELEVE_COTES!$E100","v":0},{"$f":"RELEVE_COTES!$F100","v":0},{"$f":"RELEVE_COTES!$G100","v":0},{"$f":"IF($D52=\"GP\",RELEVE_COTES!$I100,RELEVE_COTES!$H100)","v":0},{"$f":"IF($D52=\"GP\",RELEVE_COTES!$H100,RELEVE_COTES!$I100)","v":0},{"$f":"RELEVE_COTES!$J100","v":0},{"$f":"VLOOKUP(RELEVE_COTES!$K100,TabExistantRef1[],2,FALSE)","v":{"$error":"#N/A"}},{"$f":"IF($Y$1=\"BOIS\",RELEVE_COTES!$O100,0)","v":{"$error":"#N/A"}},{"$f":"IF($Y$1=\"BOIS\",RELEVE_COTES!$P100,0)","v":{"$error":"#N/A"}},{"$f":"IF($Y$1=\"BOIS\",RELEVE_COTES!$Q100,0)","v":{"$error":"#N/A"}},{"$error":"#N/A"},{"$f":"IF($Y$1=\"BANCHE\",RELEVE_COTES!$L100,0)","v":{"$error":"#N/A"}},{"$error":"#N/A"},{"$error":"#N/A"},{"$f":"IF($Y$1<>\"BANCHE\",RELEVE_COTES!$L100,0)","v":{"$error":"#N/A"}},{"$f":"IF($Y$1<>\"BANCHE\",RELEVE_COTES!$M100,20)","v":{"$error":"#N/A"}},{"$f":"IF($Y$1<>\"BANCHE\",RELEVE_COTES!$N100,0)","v":{"$error":"#N/A"}},{"$f":"RELEVE_COTES!$I$20","v":0},{"$f":"RELEVE_COTES!$C$11","v":0},{"$f":"RELEVE_COTES!$K$12","v":0},{"$f":"VLOOKUP(AA52,TabSeuilRef[],2,FALSE)","v":{"$error":"#N/A"}},0,{"$f":"\"Paumelles \"&RELEVE_COTES!$E$15","v":"Paumelles "},{"$f":"IF(RELEVE_COTES!$K$16=\"SANS\",RELEVE_COTES!$K$16,IF(RELEVE_COTES!$K$16=\"Intégré\",\"Intégré\",RELEVE_COTES!$K$16&\" / \"&VLOOKUP(RELEVE_COTES!$L$16,TabOptUsSerr[],2,FALSE)))","v":"SANS"},{"$f":"RELEVE_COTES!$K$11","v":0},{"$f":"\"OP: \"&IF(RELEVE_COTES!$E$12=\"Pr.Peint\",\"PP\",RELEVE_COTES!$G$12)&\"/FP: \"&IF(RELEVE_COTES!$E$13=\"Pr.Peint\",\"PP\",RELEVE_COTES!$G$13)","v":"OP: /FP: "},{"$f":"IF(RELEVE_COTES!$E$14=\"Pr.Peint\",\"PP\",VLOOKUP(RELEVE_COTES!$G$14,TabNuancHM[],2,FALSE))","v":"PP"},{"$error":"#N/A"},{"$f":"IF(RELEVE_COTES!$C$11 =\"R32S-R02\",\"OUI\",\"NON\")","v":"NON"},"NON","",{"$f":"IF(AJ52=\"OUI\",RELEVE_COTES!$N$16,\"\")","v":""},null,{"$f":"VLOOKUP(RELEVE_COTES!$O$11,TabOptUsSerr[],2,FALSE)","v":"Usinage, fourniture et pose"},{"$f":"IF(RELEVE_COTES!$K$15<>\"SANS\",RELEVE_COTES!$L$15&\" \"&RELEVE_COTES!$K$15,\"\")&IF(RELEVE_COTES!$N$15<>\"SANS\",\" / PMR: \"&RELEVE_COTES!$O$15&\" \"&RELEVE_COTES!$N$15,\"SANS\")","v":"SANS"},{"$f":"IF(RELEVE_COTES!$K$14 <> \"SANS\",RELEVE_COTES!$O$14&\" \"&RELEVE_COTES!$K$14,\"\")","v":"U+F "},{"$f":"IF(RELEVE_COTES!$K$13 <> \"SANS\",RELEVE_COTES!$O$13&\" \"&RELEVE_COTES!$K$13,\"SANS\")","v":"U+F "},{"$f":"IF(RELEVE_COTES!$I$20 = \"Huisserie Bois\",RELEVE_COTES!$R100,IF(RELEVE_COTES!$I$20 = \"Huisserie Banchée\",RELEVE_COTES!$M100,IF(RELEVE_COTES!$I$20 = \"Bâti Scellé\",RELEVE_COTES!$O100,\"\")))","v":""},{"$f":"RELEVE_COTES!$E$12&\" / \"&RELEVE_COTES!$E$13","v":" SANS /  SANS"},"INT","VERINS + VERINS","NON",{"$f":"VLOOKUP(RELEVE_COTES!$K$11,TabSerrureRef[],3,FALSE)","v":{"$error":"#N/A"}},{"$f":"VLOOKUP(RELEVE_COTES!$K$11,TabSerrureRef[],6,FALSE)","v":{"$error":"#N/A"}}]
[0,0,{"$f":"IF(RELEVE_COTES!$A101<>\"\",SUBSTITUTE(SUBSTITUTE(SUBSTITUTE(SUBSTITUTE(SUBSTITUTE(SUBSTITUTE(SUBSTITUTE(SUBSTITUTE(RELEVE_COTES!$A101,\" \",\"\"),\"-\",\"/\"),\".\",\"/\"),\"\\\",\"/\"),\",\",\"/\"),\"+\",\"_\"),\"&\",\"_\"),\"*\",\"/\"),\"\")","v":""},{"$f":"RELEVE_COTES!$B101","v":0},1,{"$f":"RELEVE_COTES!$C101","v":0},{"$f":"RELEVE_COTES!$D101","v":0},{"$f":"RELEVE_COTES!$E101","v":0},{"$f":"RELEVE_COTES!$F101","v":0},{"$f":"RELEVE_COTES!$G101","v":0},{"$f":"IF($D53=\"GP\",RELEVE_COTES!$I101,RELEVE_COTES!$H101)","v":0},{"$f":"IF($D53=\"GP\",RELEVE_COTES!$H101,RELEVE_COTES!$I101)","v":0},{"$f":"RELEVE_COTES!$J101","v":0},{"$f":"VLOOKUP(RELEVE_COTES!$K101,TabExistantRef1[],2,FALSE)","v":{"$error":"#N/A"}},{"$f":"IF($Y$1=\"BOIS\",RELEVE_COTES!$O101,0)","v":{"$error":"#N/A"}},{"$f":"IF($Y$1=\"BOIS\",RELEVE_COTES!$P101,0)","v":{"$error":"#N/A"}},{"$f":"IF($Y$1=\"BOIS\",RELEVE_COTES!$Q101,0)","v":{"$error":"#N/A"}},{"$error":"#N/A"},{"$f":"IF($Y$1=\"BANCHE\",RELEVE_COTES!$L101,0)","v":{"$error":"#N/A"}},{"$error":"#N/A"},{"$error":"#N/A"},{"$f":"IF($Y$1<>\"BANCHE\",RELEVE_COTES!$L101,0)","v":{"$error":"#N/A"}},{"$f":"IF($Y$1<>\"BANCHE\",RELEVE_COTES!$M101,20)","v":{"$error":"#N/A"}},{"$f":"IF($Y$1<>\"BANCHE\",RELEVE_COTES!$N101,0)","v":{"$error":"#N/A"}},{"$f":"RELEVE_COTES!$I$20","v":0},{"$f":"RELEVE_COTES!$C$11","v":0},{"$f":"RELEVE_COTES!$K$12","v":0},{"$f":"VLOOKUP(AA53,TabSeuilRef[],2,FALSE)","v":{"$error":"#N/A"}},0,{"$f":"\"Paumelles \"&RELEVE_COTES!$E$15","v":"Paumelles "},{"$f":"IF(RELEVE_COTES!$K$16=\"SANS\",RELEVE_COTES!$K$16,IF(RELEVE_COTES!$K$16=\"Intégré\",\"Intégré\",RELEVE_COTES!$K$16&\" / \"&VLOOKUP(RELEVE_COTES!$L$16,TabOptUsSerr[],2,FALSE)))","v":"SANS"},{"$f":"RELEVE_COTES!$K$11","v":0},{"$f":"\"OP: \"&IF(RELEVE_COTES!$E$12=\"Pr.Peint\",\"PP\",RELEVE_COTES!$G$12)&\"/FP: \"&IF(RELEVE_COTES!$E$13=\"Pr.Peint\",\"PP\",RELEVE_COTES!$G$13)","v":"OP: /FP: "},{"$f":"IF(RELEVE_COTES!$E$14=\"Pr.Peint\",\"PP\",VLOOKUP(RELEVE_COTES!$G$14,TabNuancHM[],2,FALSE))","v":"PP"},{"$error":"#N/A"},{"$f":"IF(RELEVE_COTES!$C$11 =\"R32S-R02\",\"OUI\",\"NON\")","v":"NON"},"NON","",{"$f":"IF(AJ53=\"OUI\",RELEVE_COTES!$N$16,\"\")","v":""},null,{"$f":"VLOOKUP(RELEVE_COTES!$O$11,TabOptUsSerr[],2,FALSE)","v":"Usinage, fourniture et pose"},{"$f":"IF(RELEVE_COTES!$K$15<>\"SANS\",RELEVE_COTES!$L$15&\" \"&RELEVE_COTES!$K$15,\"\")&IF(RELEVE_COTES!$N$15<>\"SANS\",\" / PMR: \"&RELEVE_COTES!$O$15&\" \"&RELEVE_COTES!$N$15,\"SANS\")","v":"SANS"},{"$f":"IF(RELEVE_COTES!$K$14 <> \"SANS\",RELEVE_COTES!$O$14&\" \"&RELEVE_COTES!$K$14,\"\")","v":"U+F "},{"$f":"IF(RELEVE_COTES!$K$13 <> \"SANS\",RELEVE_COTES!$O$13&\" \"&RELEVE_COTES!$K$13,\"SANS\")","v":"U+F "},{"$f":"IF(RELEVE_COTES!$I$20 = \"Huisserie Bois\",RELEVE_COTES!$R101,IF(RELEVE_COTES!$I$20 = \"Huisserie Banchée\",RELEVE_COTES!$M101,IF(RELEVE_COTES!$I$20 = \"Bâti Scellé\",RELEVE_COTES!$O101,\"\")))","v":""},{"$f":"RELEVE_COTES!$E$12&\" / \"&RELEVE_COTES!$E$13","v":" SANS /  SANS"},"INT","VERINS + VERINS","NON",{"$f":"VLOOKUP(RELEVE_COTES!$K$11,TabSerrureRef[],3,FALSE)","v":{"$error":"#N/A"}},{"$f":"VLOOKUP(RELEVE_COTES!$K$11,TabSerrureRef[],6,FALSE)","v":{"$error":"#N/A"}}]
[0,0,{"$f":"IF(RELEVE_COTES!$A102<>\"\",SUBSTITUTE(SUBSTITUTE(SUBSTITUTE(SUBSTITUTE(SUBSTITUTE(SUBSTITUTE(SUBSTITUTE(SUBSTITUTE(RELEVE_COTES!$A102,\" \",\"\"),\"-\",\"/\"),\".\",\"/\"),\"\\\",\"/\"),\",\",\"/\"),\"+\",\"_\"),\"&\",\"_\"),\"*\",\"/\"),\"\")","v":""},{"$f":"RELEVE_COTES!$B102","v":0},1,{"$f":"RELEVE_COTES!$C102","v":0},{"$f":"RELEVE_COTES!$D102","v":0},{"$f":"RELEVE_COTES!$E102","v":0},{"$f":"RELEVE_COTES!$F102","v":0},{"$f":"RELEVE_COTES!$G102","v":0},{"$f":"IF($D54=\"GP\",RELEVE_COTES!$I102,RELEVE_COTES!$H102)","v":0},{"$f":"IF($D54=\"GP\",RELEVE_COTES!$H102,RELEVE_COTES!$I102)","v":0},{"$f":"RELEVE_COTES!$J102","v":0},{"$f":"VLOOKUP(RELEVE_COTES!$K102,TabExistantRef1[],2,FALSE)","v":{"$error":"#N/A"}},{"$f":"IF($Y$1=\"BOIS\",RELEVE_COTES!$O102,0)","v":{"$error":"#N/A"}},{"$f":"IF($Y$1=\"BOIS\",RELEVE_COTES!$P102,0)","v":{"$error":"#N/A"}},{"$f":"IF($Y$1=\"BOIS\",RELEVE_COTES!$Q102,0)","v":{"$error":"#N/A"}},{"$error":"#N/A"},{"$f":"IF($Y$1=\"BANCHE\",RELEVE_COTES!$L102,0)","v":{"$error":"#N/A"}},{"$error":"#N/A"},{"$error":"#N/A"},{"$f":"IF($Y$1<>\"BANCHE\",RELEVE_COTES!$L102,0)","v":{"$error":"#N/A"}},{"$f":"IF($Y$1<>\"BANCHE\",RELEVE_COTES!$M102,20)","v":{"$error":"#N/A"}},{"$f":"IF($Y$1<>\"BANCHE\",RELEVE_COTES!$N102,0)","v":{"$error":"#N/A"}},{"$f":"RELEVE_COTES!$I$20","v":0},{"$f":"RELEVE_COTES!$C$11","v":0},{"$f":"RELEVE_COTES!$K$12","v":0},{"$f":"VLOOKUP(AA54,TabSeuilRef[],2,FALSE)","v":{"$error":"#N/A"}},0,{"$f":"\"Paumelles \"&RELEVE_COTES!$E$15","v":"Paumelles "},{"$f":"IF(RELEVE_COTES!$K$16=\"SANS\",RELEVE_COTES!$K$16,IF(RELEVE_COTES!$K$16=\"Intégré\",\"Intégré\",RELEVE_COTES!$K$16&\" / \"&VLOOKUP(RELEVE_COTES!$L$16,TabOptUsSerr[],2,FALSE)))","v":"SANS"},{"$f":"RELEVE_COTES!$K$11","v":0},{"$f":"\"OP: \"&IF(RELEVE_COTES!$E$12=\"Pr.Peint\",\"PP\",RELEVE_COTES!$G$12)&\"/FP: \"&IF(RELEVE_COTES!$E$13=\"Pr.Peint\",\"PP\",RELEVE_COTES!$G$13)","v":"OP: /FP: "},{"$f":"IF(RELEVE_COTES!$E$14=\"Pr.Peint\",\"PP\",VLOOKUP(RELEVE_COTES!$G$14,TabNuancHM[],2,FALSE))","v":"PP"},{"$error":"#N/A"},{"$f":"IF(RELEVE_COTES!$C$11 =\"R32S-R02\",\"OUI\",\"NON\")","v":"NON"},"NON","",{"$f":"IF(AJ54=\"OUI\",RELEVE_COTES!$N$16,\"\")","v":""},null,{"$f":"VLOOKUP(RELEVE_COTES!$O$11,TabOptUsSerr[],2,FALSE)","v":"Usinage, fourniture et pose"},{"$f":"IF(RELEVE_COTES!$K$15<>\"SANS\",RELEVE_COTES!$L$15&\" \"&RELEVE_COTES!$K$15,\"\")&IF(RELEVE_COTES!$N$15<>\"SANS\",\" / PMR: \"&RELEVE_COTES!$O$15&\" \"&RELEVE_COTES!$N$15,\"SANS\")","v":"SANS"},{"$f":"IF(RELEVE_COTES!$K$14 <> \"SANS\",RELEVE_COTES!$O$14&\" \"&RELEVE_COTES!$K$14,\"\")","v":"U+F "},{"$f":"IF(RELEVE_COTES!$K$13 <> \"SANS\",RELEVE_COTES!$O$13&\" \"&RELEVE_COTES!$K$13,\"SANS\")","v":"U+F "},{"$f":"IF(RELEVE_COTES!$I$20 = \"Huisserie Bois\",RELEVE_COTES!$R102,IF(RELEVE_COTES!$I$20 = \"Huisserie Banchée\",RELEVE_COTES!$M102,IF(RELEVE_COTES!$I$20 = \"Bâti Scellé\",RELEVE_COTES!$O102,\"\")))","v":""},{"$f":"RELEVE_COTES!$E$12&\" / \"&RELEVE_COTES!$E$13","v":" SANS /  SANS"},"INT","VERINS + VERINS","NON",{"$f":"VLOOKUP(RELEVE_COTES!$K$11,TabSerrureRef[],3,FALSE)","v":{"$error":"#N/A"}},{"$f":"VLOOKUP(RELEVE_COTES!$K$11,TabSerrureRef[],6,FALSE)","v":{"$error":"#N/A"}}]
[0,0,{"$f":"IF(RELEVE_COTES!$A103<>\"\",SUBSTITUTE(SUBSTITUTE(SUBSTITUTE(SUBSTITUTE(SUBSTITUTE(SUBSTITUTE(SUBSTITUTE(SUBSTITUTE(RELEVE_COTES!$A103,\" \",\"\"),\"-\",\"/\"),\".\",\"/\"),\"\\\",\"/\"),\",\",\"/\"),\"+\",\"_\"),\"&\",\"_\"),\"*\",\"/\"),\"\")","v":""},{"$f":"RELEVE_COTES!$B103","v":0},1,{"$f":"RELEVE_COTES!$C103","v":0},{"$f":"RELEVE_COTES!$D103","v":0},{"$f":"RELEVE_COTES!$E103","v":0},{"$f":"RELEVE_COTES!$F103","v":0},{"$f":"RELEVE_COTES!$G103","v":0},{"$f":"IF($D55=\"GP\",RELEVE_COTES!$I103,RELEVE_COTES!$H103)","v":0},{"$f":"IF($D55=\"GP\",RELEVE_COTES!$H103,RELEVE_COTES!$I103)","v":0},{"$f":"RELEVE_COTES!$J103","v":0},{"$f":"VLOOKUP(RELEVE_COTES!$K103,TabExistantRef1[],2,FALSE)","v":{"$error":"#N/A"}},{"$f":"IF($Y$1=\"BOIS\",RELEVE_COTES!$O103,0)","v":{"$error":"#N/A"}},{"$f":"IF($Y$1=\"BOIS\",RELEVE_COTES!$P103,0)","v":{"$error":"#N/A"}},{"$f":"IF($Y$1=\"BOIS\",RELEVE_COTES!$Q103,0)","v":{"$error":"#N/A"}},{"$error":"#N/A"},{"$f":"IF($Y$1=\"BANCHE\",RELEVE_COTES!$L103,0)","v":{"$error":"#N/A"}},{"$error":"#N/A"},{"$error":"#N/A"},{"$f":"IF($Y$1<>\"BANCHE\",RELEVE_COTES!$L103,0)","v":{"$error":"#N/A"}},{"$f":"IF($Y$1<>\"BANCHE\",RELEVE_COTES!$M103,20)","v":{"$error":"#N/A"}},{"$f":"IF($Y$1<>\"BANCHE\",RELEVE_COTES!$N103,0)","v":{"$error":"#N/A"}},{"$f":"RELEVE_COTES!$I$20","v":0},{"$f":"RELEVE_COTES!$C$11","v":0},{"$f":"RELEVE_COTES!$K$12","v":0},{"$f":"VLOOKUP(AA55,TabSeuilRef[],2,FALSE)","v":{"$error":"#N/A"}},0,{"$f":"\"Paumelles \"&RELEVE_COTES!$E$15","v":"Paumelles "},{"$f":"IF(RELEVE_COTES!$K$16=\"SANS\",RELEVE_COTES!$K$16,IF(RELEVE_COTES!$K$16=\"Intégré\",\"Intégré\",RELEVE_COTES!$K$16&\" / \"&VLOOKUP(RELEVE_COTES!$L$16,TabOptUsSerr[],2,FALSE)))","v":"SANS"},{"$f":"RELEVE_COTES!$K$11","v":0},{"$f":"\"OP: \"&IF(RELEVE_COTES!$E$12=\"Pr.Peint\",\"PP\",RELEVE_COTES!$G$12)&\"/FP: \"&IF(RELEVE_COTES!$E$13=\"Pr.Peint\",\"PP\",RELEVE_COTES!$G$13)","v":"OP: /FP: "},{"$f":"IF(RELEVE_COTES!$E$14=\"Pr.Peint\",\"PP\",VLOOKUP(RELEVE_COTES!$G$14,TabNuancHM[],2,FALSE))","v":"PP"},{"$error":"#N/A"},{"$f":"IF(RELEVE_COTES!$C$11 =\"R32S-R02\",\"OUI\",\"NON\")","v":"NON"},"NON","",{"$f":"IF(AJ55=\"OUI\",RELEVE_COTES!$N$16,\"\")","v":""},null,{"$f":"VLOOKUP(RELEVE_COTES!$O$11,TabOptUsSerr[],2,FALSE)","v":"Usinage, fourniture et pose"},{"$f":"IF(RELEVE_COTES!$K$15<>\"SANS\",RELEVE_COTES!$L$15&\" \"&RELEVE_COTES!$K$15,\"\")&IF(RELEVE_COTES!$N$15<>\"SANS\",\" / PMR: \"&RELEVE_COTES!$O$15&\" \"&RELEVE_COTES!$N$15,\"SANS\")","v":"SANS"},{"$f":"IF(RELEVE_COTES!$K$14 <> \"SANS\",RELEVE_COTES!$O$14&\" \"&RELEVE_COTES!$K$14,\"\")","v":"U+F "},{"$f":"IF(RELEVE_COTES!$K$13 <> \"SANS\",RELEVE_COTES!$O$13&\" \"&RELEVE_COTES!$K$13,\"SANS\")","v":"U+F "},{"$f":"IF(RELEVE_COTES!$I$20 = \"Huisserie Bois\",RELEVE_COTES!$R103,IF(RELEVE_COTES!$I$20 = \"Huisserie Banchée\",RELEVE_COTES!$M103,IF(RELEVE_COTES!$I$20 = \"Bâti Scellé\",RELEVE_COTES!$O103,\"\")))","v":""},{"$f":"RELEVE_COTES!$E$12&\" / \"&RELEVE_COTES!$E$13","v":" SANS /  SANS"},"INT","VERINS + VERINS","NON",{"$f":"VLOOKUP(RELEVE_COTES!$K$11,TabSerrureRef[],3,FALSE)","v":{"$error":"#N/A"}},{"$f":"VLOOKUP(RELEVE_COTES!$K$11,TabSerrureRef[],6,FALSE)","v":{"$error":"#N/A"}}]
[0,0,{"$f":"IF(RELEVE_COTES!$A104<>\"\",SUBSTITUTE(SUBSTITUTE(SUBSTITUTE(SUBSTITUTE(SUBSTITUTE(SUBSTITUTE(SUBSTITUTE(SUBSTITUTE(RELEVE_COTES!$A104,\" \",\"\"),\"-\",\"/\"),\".\",\"/\"),\"\\\",\"/\"),\",\",\"/\"),\"+\",\"_\"),\"&\",\"_\"),\"*\",\"/\"),\"\")","v":""},{"$f":"RELEVE_COTES!$B104","v":0},1,{"$f":"RELEVE_COTES!$C104","v":0},{"$f":"RELEVE_COTES!$D104","v":0},{"$f":"RELEVE_COTES!$E104","v":0},{"$f":"RELEVE_COTES!$F104","v":0},{"$f":"RELEVE_COTES!$G104","v":0},{"$f":"IF($D56=\"GP\",RELEVE_COTES!$I104,RELEVE_COTES!$H104)","v":0},{"$f":"IF($D56=\"GP\",RELEVE_COTES!$H104,RELEVE_COTES!$I104)","v":0},{"$f":"RELEVE_COTES!$J104","v":0},{"$f":"VLOOKUP(RELEVE_COTES!$K104,TabExistantRef1[],2,FALSE)","v":{"$error":"#N/A"}},{"$f":"IF($Y$1=\"BOIS\",RELEVE_COTES!$O104,0)","v":{"$error":"#N/A"}},{"$f":"IF($Y$1=\"BOIS\",RELEVE_COTES!$P104,0)","v":{"$error":"#N/A"}},{"$f":"IF($Y$1=\"BOIS\",RELEVE_COTES!$Q104,0)","v":{"$error":"#N/A"}},{"$error":"#N/A"},{"$f":"IF($Y$1=\"BANCHE\",RELEVE_COTES!$L104,0)","v":{"$error":"#N/A"}},{"$error":"#N/A"},{"$error":"#N/A"},{"$f":"IF($Y$1<>\"BANCHE\",RELEVE_COTES!$L104,0)","v":{"$error":"#N/A"}},{"$f":"IF($Y$1<>\"BANCHE\",RELEVE_COTES!$M104,20)","v":{"$error":"#N/A"}},{"$f":"IF($Y$1<>\"BANCHE\",RELEVE_COTES!$N104,0)","v":{"$error":"#N/A"}},{"$f":"RELEVE_COTES!$I$20","v":0},{"$f":"RELEVE_COTES!$C$11","v":0},{"$f":"RELEVE_COTES!$K$12","v":0},{"$f":"VLOOKUP(AA56,TabSeuilRef[],2,FALSE)","v":{"$error":"#N/A"}},0,{"$f":"\"Paumelles \"&RELEVE_COTES!$E$15","v":"Paumelles "},{"$f":"IF(RELEVE_COTES!$K$16=\"SANS\",RELEVE_COTES!$K$16,IF(RELEVE_COTES!$K$16=\"Intégré\",\"Intégré\",RELEVE_COTES!$K$16&\" / \"&VLOOKUP(RELEVE_COTES!$L$16,TabOptUsSerr[],2,FALSE)))","v":"SANS"},{"$f":"RELEVE_COTES!$K$11","v":0},{"$f":"\"OP: \"&IF(RELEVE_COTES!$E$12=\"Pr.Peint\",\"PP\",RELEVE_COTES!$G$12)&\"/FP: \"&IF(RELEVE_COTES!$E$13=\"Pr.Peint\",\"PP\",RELEVE_COTES!$G$13)","v":"OP: /FP: "},{"$f":"IF(RELEVE_COTES!$E$14=\"Pr.Peint\",\"PP\",VLOOKUP(RELEVE_COTES!$G$14,TabNuancHM[],2,FALSE))","v":"PP"},{"$error":"#N/A"},{"$f":"IF(RELEVE_COTES!$C$11 =\"R32S-R02\",\"OUI\",\"NON\")","v":"NON"},"NON","",{"$f":"IF(AJ56=\"OUI\",RELEVE_COTES!$N$16,\"\")","v":""},null,{"$f":"VLOOKUP(RELEVE_COTES!$O$11,TabOptUsSerr[],2,FALSE)","v":"Usinage, fourniture et pose"},{"$f":"IF(RELEVE_COTES!$K$15<>\"SANS\",RELEVE_COTES!$L$15&\" \"&RELEVE_COTES!$K$15,\"\")&IF(RELEVE_COTES!$N$15<>\"SANS\",\" / PMR: \"&RELEVE_COTES!$O$15&\" \"&RELEVE_COTES!$N$15,\"SANS\")","v":"SANS"},{"$f":"IF(RELEVE_COTES!$K$14 <> \"SANS\",RELEVE_COTES!$O$14&\" \"&RELEVE_COTES!$K$14,\"\")","v":"U+F "},{"$f":"IF(RELEVE_COTES!$K$13 <> \"SANS\",RELEVE_COTES!$O$13&\" \"&RELEVE_COTES!$K$13,\"SANS\")","v":"U+F "},{"$f":"IF(RELEVE_COTES!$I$20 = \"Huisserie Bois\",RELEVE_COTES!$R104,IF(RELEVE_COTES!$I$20 = \"Huisserie Banchée\",RELEVE_COTES!$M104,IF(RELEVE_COTES!$I$20 = \"Bâti Scellé\",RELEVE_COTES!$O104,\"\")))","v":""},{"$f":"RELEVE_COTES!$E$12&\" / \"&RELEVE_COTES!$E$13","v":" SANS /  SANS"},"INT","VERINS + VERINS","NON",{"$f":"VLOOKUP(RELEVE_COTES!$K$11,TabSerrureRef[],3,FALSE)","v":{"$error":"#N/A"}},{"$f":"VLOOKUP(RELEVE_COTES!$K$11,TabSerrureRef[],6,FALSE)","v":{"$error":"#N/A"}}]
[0,0,{"$f":"IF(RELEVE_COTES!$A105<>\"\",SUBSTITUTE(SUBSTITUTE(SUBSTITUTE(SUBSTITUTE(SUBSTITUTE(SUBSTITUTE(SUBSTITUTE(SUBSTITUTE(RELEVE_COTES!$A105,\" \",\"\"),\"-\",\"/\"),\".\",\"/\"),\"\\\",\"/\"),\",\",\"/\"),\"+\",\"_\"),\"&\",\"_\"),\"*\",\"/\"),\"\")","v":""},{"$f":"RELEVE_COTES!$B105","v":0},1,{"$f":"RELEVE_COTES!$C105","v":0},{"$f":"RELEVE_COTES!$D105","v":0},{"$f":"RELEVE_COTES!$E105","v":0},{"$f":"RELEVE_COTES!$F105","v":0},{"$f":"RELEVE_COTES!$G105","v":0},{"$f":"IF($D57=\"GP\",RELEVE_COTES!$I105,RELEVE_COTES!$H105)","v":0},{"$f":"IF($D57=\"GP\",RELEVE_COTES!$H105,RELEVE_COTES!$I105)","v":0},{"$f":"RELEVE_COTES!$J105","v":0},{"$f":"VLOOKUP(RELEVE_COTES!$K105,TabExistantRef1[],2,FALSE)","v":{"$error":"#N/A"}},{"$f":"IF($Y$1=\"BOIS\",RELEVE_COTES!$O105,0)","v":{"$error":"#N/A"}},{"$f":"IF($Y$1=\"BOIS\",RELEVE_COTES!$P105,0)","v":{"$error":"#N/A"}},{"$f":"IF($Y$1=\"BOIS\",RELEVE_COTES!$Q105,0)","v":{"$error":"#N/A"}},{"$error":"#N/A"},{"$f":"IF($Y$1=\"BANCHE\",RELEVE_COTES!$L105,0)","v":{"$error":"#N/A"}},{"$error":"#N/A"},{"$error":"#N/A"},{"$f":"IF($Y$1<>\"BANCHE\",RELEVE_COTES!$L105,0)","v":{"$error":"#N/A"}},{"$f":"IF($Y$1<>\"BANCHE\",RELEVE_COTES!$M105,20)","v":{"$error":"#N/A"}},{"$f":"IF($Y$1<>\"BANCHE\",RELEVE_COTES!$N105,0)","v":{"$error":"#N/A"}},{"$f":"RELEVE_COTES!$I$20","v":0},{"$f":"RELEVE_COTES!$C$11","v":0},{"$f":"RELEVE_COTES!$K$12","v":0},{"$f":"VLOOKUP(AA57,TabSeuilRef[],2,FALSE)","v":{"$error":"#N/A"}},0,{"$f":"\"Paumelles \"&RELEVE_COTES!$E$15","v":"Paumelles "},{"$f":"IF(RELEVE_COTES!$K$16=\"SANS\",RELEVE_COTES!$K$16,IF(RELEVE_COTES!$K$16=\"Intégré\",\"Intégré\",RELEVE_COTES!$K$16&\" / \"&VLOOKUP(RELEVE_COTES!$L$16,TabOptUsSerr[],2,FALSE)))","v":"SANS"},{"$f":"RELEVE_COTES!$K$11","v":0},{"$f":"\"OP: \"&IF(RELEVE_COTES!$E$12=\"Pr.Peint\",\"PP\",RELEVE_COTES!$G$12)&\"/FP: \"&IF(RELEVE_COTES!$E$13=\"Pr.Peint\",\"PP\",RELEVE_COTES!$G$13)","v":"OP: /FP: "},{"$f":"IF(RELEVE_COTES!$E$14=\"Pr.Peint\",\"PP\",VLOOKUP(RELEVE_COTES!$G$14,TabNuancHM[],2,FALSE))","v":"PP"},{"$error":"#N/A"},{"$f":"IF(RELEVE_COTES!$C$11 =\"R32S-R02\",\"OUI\",\"NON\")","v":"NON"},"NON","",{"$f":"IF(AJ57=\"OUI\",RELEVE_COTES!$N$16,\"\")","v":""},null,{"$f":"VLOOKUP(RELEVE_COTES!$O$11,TabOptUsSerr[],2,FALSE)","v":"Usinage, fourniture et pose"},{"$f":"IF(RELEVE_COTES!$K$15<>\"SANS\",RELEVE_COTES!$L$15&\" \"&RELEVE_COTES!$K$15,\"\")&IF(RELEVE_COTES!$N$15<>\"SANS\",\" / PMR: \"&RELEVE_COTES!$O$15&\" \"&RELEVE_COTES!$N$15,\"SANS\")","v":"SANS"},{"$f":"IF(RELEVE_COTES!$K$14 <> \"SANS\",RELEVE_COTES!$O$14&\" \"&RELEVE_COTES!$K$14,\"\")","v":"U+F "},{"$f":"IF(RELEVE_COTES!$K$13 <> \"SANS\",RELEVE_COTES!$O$13&\" \"&RELEVE_COTES!$K$13,\"SANS\")","v":"U+F "},{"$f":"IF(RELEVE_COTES!$I$20 = \"Huisserie Bois\",RELEVE_COTES!$R105,IF(RELEVE_COTES!$I$20 = \"Huisserie Banchée\",RELEVE_COTES!$M105,IF(RELEVE_COTES!$I$20 = \"Bâti Scellé\",RELEVE_COTES!$O105,\"\")))","v":""},{"$f":"RELEVE_COTES!$E$12&\" / \"&RELEVE_COTES!$E$13","v":" SANS /  SANS"},"INT","VERINS + VERINS","NON",{"$f":"VLOOKUP(RELEVE_COTES!$K$11,TabSerrureRef[],3,FALSE)","v":{"$error":"#N/A"}},{"$f":"VLOOKUP(RELEVE_COTES!$K$11,TabSerrureRef[],6,FALSE)","v":{"$error":"#N/A"}}]
[0,0,{"$f":"IF(RELEVE_COTES!$A106<>\"\",SUBSTITUTE(SUBSTITUTE(SUBSTITUTE(SUBSTITUTE(SUBSTITUTE(SUBSTITUTE(SUBSTITUTE(SUBSTITUTE(RELEVE_COTES!$A106,\" \",\"\"),\"-\",\"/\"),\".\",\"/\"),\"\\\",\"/\"),\",\",\"/\"),\"+\",\"_\"),\"&\",\"_\"),\"*\",\"/\"),\"\")","v":""},{"$f":"RELEVE_COTES!$B106","v":0},1,{"$f":"RELEVE_COTES!$C106","v":0},{"$f":"RELEVE_COTES!$D106","v":0},{"$f":"RELEVE_COTES!$E106","v":0},{"$f":"RELEVE_COTES!$F106","v":0},{"$f":"RELEVE_COTES!$G106","v":0},{"$f":"IF($D58=\"GP\",RELEVE_COTES!$I106,RELEVE_COTES!$H106)","v":0},{"$f":"IF($D58=\"GP\",RELEVE_COTES!$H106,RELEVE_COTES!$I106)","v":0},{"$f":"RELEVE_COTES!$J106","v":0},{"$f":"VLOOKUP(RELEVE_COTES!$K106,TabExistantRef1[],2,FALSE)","v":{"$error":"#N/A"}},{"$f":"IF($Y$1=\"BOIS\",RELEVE_COTES!$O106,0)","v":{"$error":"#N/A"}},{"$f":"IF($Y$1=\"BOIS\",RELEVE_COTES!$P106,0)","v":{"$error":"#N/A"}},{"$f":"IF($Y$1=\"BOIS\",RELEVE_COTES!$Q106,0)","v":{"$error":"#N/A"}},{"$error":"#N/A"},{"$f":"IF($Y$1=\"BANCHE\",RELEVE_COTES!$L106,0)","v":{"$error":"#N/A"}},{"$error":"#N/A"},{"$error":"#N/A"},{"$f":"IF($Y$1<>\"BANCHE\",RELEVE_COTES!$L106,0)","v":{"$error":"#N/A"}},{"$f":"IF($Y$1<>\"BANCHE\",RELEVE_COTES!$M106,20)","v":{"$error":"#N/A"}},{"$f":"IF($Y$1<>\"BANCHE\",RELEVE_COTES!$N106,0)","v":{"$error":"#N/A"}},{"$f":"RELEVE_COTES!$I$20","v":0},{"$f":"RELEVE_COTES!$C$11","v":0},{"$f":"RELEVE_COTES!$K$12","v":0},{"$f":"VLOOKUP(AA58,TabSeuilRef[],2,FALSE)","v":{"$error":"#N/A"}},0,{"$f":"\"Paumelles \"&RELEVE_COTES!$E$15","v":"Paumelles "},{"$f":"IF(RELEVE_COTES!$K$16=\"SANS\",RELEVE_COTES!$K$16,IF(RELEVE_COTES!$K$16=\"Intégré\",\"Intégré\",RELEVE_COTES!$K$16&\" / \"&VLOOKUP(RELEVE_COTES!$L$16,TabOptUsSerr[],2,FALSE)))","v":"SANS"},{"$f":"RELEVE_COTES!$K$11","v":0},{"$f":"\"OP: \"&IF(RELEVE_COTES!$E$12=\"Pr.Peint\",\"PP\",RELEVE_COTES!$G$12)&\"/FP: \"&IF(RELEVE_COTES!$E$13=\"Pr.Peint\",\"PP\",RELEVE_COTES!$G$13)","v":"OP: /FP: "},{"$f":"IF(RELEVE_COTES!$E$14=\"Pr.Peint\",\"PP\",VLOOKUP(RELEVE_COTES!$G$14,TabNuancHM[],2,FALSE))","v":"PP"},{"$error":"#N/A"},{"$f":"IF(RELEVE_COTES!$C$11 =\"R32S-R02\",\"OUI\",\"NON\")","v":"NON"},"NON","",{"$f":"IF(AJ58=\"OUI\",RELEVE_COTES!$N$16,\"\")","v":""},null,{"$f":"VLOOKUP(RELEVE_COTES!$O$11,TabOptUsSerr[],2,FALSE)","v":"Usinage, fourniture et pose"},{"$f":"IF(RELEVE_COTES!$K$15<>\"SANS\",RELEVE_COTES!$L$15&\" \"&RELEVE_COTES!$K$15,\"\")&IF(RELEVE_COTES!$N$15<>\"SANS\",\" / PMR: \"&RELEVE_COTES!$O$15&\" \"&RELEVE_COTES!$N$15,\"SANS\")","v":"SANS"},{"$f":"IF(RELEVE_COTES!$K$14 <> \"SANS\",RELEVE_COTES!$O$14&\" \"&RELEVE_COTES!$K$14,\"\")","v":"U+F "},{"$f":"IF(RELEVE_COTES!$K$13 <> \"SANS\",RELEVE_COTES!$O$13&\" \"&RELEVE_COTES!$K$13,\"SANS\")","v":"U+F "},{"$f":"IF(RELEVE_COTES!$I$20 = \"Huisserie Bois\",RELEVE_COTES!$R106,IF(RELEVE_COTES!$I$20 = \"Huisserie Banchée\",RELEVE_COTES!$M106,IF(RELEVE_COTES!$I$20 = \"Bâti Scellé\",RELEVE_COTES!$O106,\"\")))","v":""},{"$f":"RELEVE_COTES!$E$12&\" / \"&RELEVE_COTES!$E$13","v":" SANS /  SANS"},"INT","VERINS + VERINS","NON",{"$f":"VLOOKUP(RELEVE_COTES!$K$11,TabSerrureRef[],3,FALSE)","v":{"$error":"#N/A"}},{"$f":"VLOOKUP(RELEVE_COTES!$K$11,TabSerrureRef[],6,FALSE)","v":{"$error":"#N/A"}}]
[0,0,{"$f":"IF(RELEVE_COTES!$A107<>\"\",SUBSTITUTE(SUBSTITUTE(SUBSTITUTE(SUBSTITUTE(SUBSTITUTE(SUBSTITUTE(SUBSTITUTE(SUBSTITUTE(RELEVE_COTES!$A107,\" \",\"\"),\"-\",\"/\"),\".\",\"/\"),\"\\\",\"/\"),\",\",\"/\"),\"+\",\"_\"),\"&\",\"_\"),\"*\",\"/\"),\"\")","v":""},{"$f":"RELEVE_COTES!$B107","v":0},1,{"$f":"RELEVE_COTES!$C107","v":0},{"$f":"RELEVE_COTES!$D107","v":0},{"$f":"RELEVE_COTES!$E107","v":0},{"$f":"RELEVE_COTES!$F107","v":0},{"$f":"RELEVE_COTES!$G107","v":0},{"$f":"IF($D59=\"GP\",RELEVE_COTES!$I107,RELEVE_COTES!$H107)","v":0},{"$f":"IF($D59=\"GP\",RELEVE_COTES!$H107,RELEVE_COTES!$I107)","v":0},{"$f":"RELEVE_COTES!$J107","v":0},{"$f":"VLOOKUP(RELEVE_COTES!$K107,TabExistantRef1[],2,FALSE)","v":{"$error":"#N/A"}},{"$f":"IF($Y$1=\"BOIS\",RELEVE_COTES!$O107,0)","v":{"$error":"#N/A"}},{"$f":"IF($Y$1=\"BOIS\",RELEVE_COTES!$P107,0)","v":{"$error":"#N/A"}},{"$f":"IF($Y$1=\"BOIS\",RELEVE_COTES!$Q107,0)","v":{"$error":"#N/A"}},{"$error":"#N/A"},{"$f":"IF($Y$1=\"BANCHE\",RELEVE_COTES!$L107,0)","v":{"$error":"#N/A"}},{"$error":"#N/A"},{"$error":"#N/A"},{"$f":"IF($Y$1<>\"BANCHE\",RELEVE_COTES!$L107,0)","v":{"$error":"#N/A"}},{"$f":"IF($Y$1<>\"BANCHE\",RELEVE_COTES!$M107,20)","v":{"$error":"#N/A"}},{"$f":"IF($Y$1<>\"BANCHE\",RELEVE_COTES!$N107,0)","v":{"$error":"#N/A"}},{"$f":"RELEVE_COTES!$I$20","v":0},{"$f":"RELEVE_COTES!$C$11","v":0},{"$f":"RELEVE_COTES!$K$12","v":0},{"$f":"VLOOKUP(AA59,TabSeuilRef[],2,FALSE)","v":{"$error":"#N/A"}},0,{"$f":"\"Paumelles \"&RELEVE_COTES!$E$15","v":"Paumelles "},{"$f":"IF(RELEVE_COTES!$K$16=\"SANS\",RELEVE_COTES!$K$16,IF(RELEVE_COTES!$K$16=\"Intégré\",\"Intégré\",RELEVE_COTES!$K$16&\" / \"&VLOOKUP(RELEVE_COTES!$L$16,TabOptUsSerr[],2,FALSE)))","v":"SANS"},{"$f":"RELEVE_COTES!$K$11","v":0},{"$f":"\"OP: \"&IF(RELEVE_COTES!$E$12=\"Pr.Peint\",\"PP\",RELEVE_COTES!$G$12)&\"/FP: \"&IF(RELEVE_COTES!$E$13=\"Pr.Peint\",\"PP\",RELEVE_COTES!$G$13)","v":"OP: /FP: "},{"$f":"IF(RELEVE_COTES!$E$14=\"Pr.Peint\",\"PP\",VLOOKUP(RELEVE_COTES!$G$14,TabNuancHM[],2,FALSE))","v":"PP"},{"$error":"#N/A"},{"$f":"IF(RELEVE_COTES!$C$11 =\"R32S-R02\",\"OUI\",\"NON\")","v":"NON"},"NON","",{"$f":"IF(AJ59=\"OUI\",RELEVE_COTES!$N$16,\"\")","v":""},null,{"$f":"VLOOKUP(RELEVE_COTES!$O$11,TabOptUsSerr[],2,FALSE)","v":"Usinage, fourniture et pose"},{"$f":"IF(RELEVE_COTES!$K$15<>\"SANS\",RELEVE_COTES!$L$15&\" \"&RELEVE_COTES!$K$15,\"\")&IF(RELEVE_COTES!$N$15<>\"SANS\",\" / PMR: \"&RELEVE_COTES!$O$15&\" \"&RELEVE_COTES!$N$15,\"SANS\")","v":"SANS"},{"$f":"IF(RELEVE_COTES!$K$14 <> \"SANS\",RELEVE_COTES!$O$14&\" \"&RELEVE_COTES!$K$14,\"\")","v":"U+F "},{"$f":"IF(RELEVE_COTES!$K$13 <> \"SANS\",RELEVE_COTES!$O$13&\" \"&RELEVE_COTES!$K$13,\"SANS\")","v":"U+F "},{"$f":"IF(RELEVE_COTES!$I$20 = \"Huisserie Bois\",RELEVE_COTES!$R107,IF(RELEVE_COTES!$I$20 = \"Huisserie Banchée\",RELEVE_COTES!$M107,IF(RELEVE_COTES!$I$20 = \"Bâti Scellé\",RELEVE_COTES!$O107,\"\")))","v":""},{"$f":"RELEVE_COTES!$E$12&\" / \"&RELEVE_COTES!$E$13","v":" SANS /  SANS"},"INT","VERINS + VERINS","NON",{"$f":"VLOOKUP(RELEVE_COTES!$K$11,TabSerrureRef[],3,FALSE)","v":{"$error":"#N/A"}},{"$f":"VLOOKUP(RELEVE_COTES!$K$11,TabSerrureRef[],6,FALSE)","v":{"$error":"#N/A"}}]
[0,0,{"$f":"IF(RELEVE_COTES!$A108<>\"\",SUBSTITUTE(SUBSTITUTE(SUBSTITUTE(SUBSTITUTE(SUBSTITUTE(SUBSTITUTE(SUBSTITUTE(SUBSTITUTE(RELEVE_COTES!$A108,\" \",\"\"),\"-\",\"/\"),\".\",\"/\"),\"\\\",\"/\"),\",\",\"/\"),\"+\",\"_\"),\"&\",\"_\"),\"*\",\"/\"),\"\")","v":""},{"$f":"RELEVE_COTES!$B108","v":0},1,{"$f":"RELEVE_COTES!$C108","v":0},{"$f":"RELEVE_COTES!$D108","v":0},{"$f":"RELEVE_COTES!$E108","v":0},{"$f":"RELEVE_COTES!$F108","v":0},{"$f":"RELEVE_COTES!$G108","v":0},{"$f":"IF($D60=\"GP\",RELEVE_COTES!$I108,RELEVE_COTES!$H108)","v":0},{"$f":"IF($D60=\"GP\",RELEVE_COTES!$H108,RELEVE_COTES!$I108)","v":0},{"$f":"RELEVE_COTES!$J108","v":0},{"$f":"VLOOKUP(RELEVE_COTES!$K108,TabExistantRef1[],2,FALSE)","v":{"$error":"#N/A"}},{"$f":"IF($Y$1=\"BOIS\",RELEVE_COTES!$O108,0)","v":{"$error":"#N/A"}},{"$f":"IF($Y$1=\"BOIS\",RELEVE_COTES!$P108,0)","v":{"$error":"#N/A"}},{"$f":"IF($Y$1=\"BOIS\",RELEVE_COTES!$Q108,0)","v":{"$error":"#N/A"}},{"$error":"#N/A"},{"$f":"IF($Y$1=\"BANCHE\",RELEVE_COTES!$L108,0)","v":{"$error":"#N/A"}},{"$error":"#N/A"},{"$error":"#N/A"},{"$f":"IF($Y$1<>\"BANCHE\",RELEVE_COTES!$L108,0)","v":{"$error":"#N/A"}},{"$f":"IF($Y$1<>\"BANCHE\",RELEVE_COTES!$M108,20)","v":{"$error":"#N/A"}},{"$f":"IF($Y$1<>\"BANCHE\",RELEVE_COTES!$N108,0)","v":{"$error":"#N/A"}},{"$f":"RELEVE_COTES!$I$20","v":0},{"$f":"RELEVE_COTES!$C$11","v":0},{"$f":"RELEVE_COTES!$K$12","v":0},{"$f":"VLOOKUP(AA60,TabSeuilRef[],2,FALSE)","v":{"$error":"#N/A"}},0,{"$f":"\"Paumelles \"&RELEVE_COTES!$E$15","v":"Paumelles "},{"$f":"IF(RELEVE_COTES!$K$16=\"SANS\",RELEVE_COTES!$K$16,IF(RELEVE_COTES!$K$16=\"Intégré\",\"Intégré\",RELEVE_COTES!$K$16&\" / \"&VLOOKUP(RELEVE_COTES!$L$16,TabOptUsSerr[],2,FALSE)))","v":"SANS"},{"$f":"RELEVE_COTES!$K$11","v":0},{"$f":"\"OP: \"&IF(RELEVE_COTES!$E$12=\"Pr.Peint\",\"PP\",RELEVE_COTES!$G$12)&\"/FP: \"&IF(RELEVE_COTES!$E$13=\"Pr.Peint\",\"PP\",RELEVE_COTES!$G$13)","v":"OP: /FP: "},{"$f":"IF(RELEVE_COTES!$E$14=\"Pr.Peint\",\"PP\",VLOOKUP(RELEVE_COTES!$G$14,TabNuancHM[],2,FALSE))","v":"PP"},{"$error":"#N/A"},{"$f":"IF(RELEVE_COTES!$C$11 =\"R32S-R02\",\"OUI\",\"NON\")","v":"NON"},"NON","",{"$f":"IF(AJ60=\"OUI\",RELEVE_COTES!$N$16,\"\")","v":""},null,{"$f":"VLOOKUP(RELEVE_COTES!$O$11,TabOptUsSerr[],2,FALSE)","v":"Usinage, fourniture et pose"},{"$f":"IF(RELEVE_COTES!$K$15<>\"SANS\",RELEVE_COTES!$L$15&\" \"&RELEVE_COTES!$K$15,\"\")&IF(RELEVE_COTES!$N$15<>\"SANS\",\" / PMR: \"&RELEVE_COTES!$O$15&\" \"&RELEVE_COTES!$N$15,\"SANS\")","v":"SANS"},{"$f":"IF(RELEVE_COTES!$K$14 <> \"SANS\",RELEVE_COTES!$O$14&\" \"&RELEVE_COTES!$K$14,\"\")","v":"U+F "},{"$f":"IF(RELEVE_COTES!$K$13 <> \"SANS\",RELEVE_COTES!$O$13&\" \"&RELEVE_COTES!$K$13,\"SANS\")","v":"U+F "},{"$f":"IF(RELEVE_COTES!$I$20 = \"Huisserie Bois\",RELEVE_COTES!$R108,IF(RELEVE_COTES!$I$20 = \"Huisserie Banchée\",RELEVE_COTES!$M108,IF(RELEVE_COTES!$I$20 = \"Bâti Scellé\",RELEVE_COTES!$O108,\"\")))","v":""},{"$f":"RELEVE_COTES!$E$12&\" / \"&RELEVE_COTES!$E$13","v":" SANS /  SANS"},"INT","VERINS + VERINS","NON",{"$f":"VLOOKUP(RELEVE_COTES!$K$11,TabSerrureRef[],3,FALSE)","v":{"$error":"#N/A"}},{"$f":"VLOOKUP(RELEVE_COTES!$K$11,TabSerrureRef[],6,FALSE)","v":{"$error":"#N/A"}}]
[0,0,{"$f":"IF(RELEVE_COTES!$A109<>\"\",SUBSTITUTE(SUBSTITUTE(SUBSTITUTE(SUBSTITUTE(SUBSTITUTE(SUBSTITUTE(SUBSTITUTE(SUBSTITUTE(RELEVE_COTES!$A109,\" \",\"\"),\"-\",\"/\"),\".\",\"/\"),\"\\\",\"/\"),\",\",\"/\"),\"+\",\"_\"),\"&\",\"_\"),\"*\",\"/\"),\"\")","v":""},{"$f":"RELEVE_COTES!$B109","v":0},1,{"$f":"RELEVE_COTES!$C109","v":0},{"$f":"RELEVE_COTES!$D109","v":0},{"$f":"RELEVE_COTES!$E109","v":0},{"$f":"RELEVE_COTES!$F109","v":0},{"$f":"RELEVE_COTES!$G109","v":0},{"$f":"IF($D61=\"GP\",RELEVE_COTES!$I109,RELEVE_COTES!$H109)","v":0},{"$f":"IF($D61=\"GP\",RELEVE_COTES!$H109,RELEVE_COTES!$I109)","v":0},{"$f":"RELEVE_COTES!$J109","v":0},{"$f":"VLOOKUP(RELEVE_COTES!$K109,TabExistantRef1[],2,FALSE)","v":{"$error":"#N/A"}},{"$f":"IF($Y$1=\"BOIS\",RELEVE_COTES!$O109,0)","v":{"$error":"#N/A"}},{"$f":"IF($Y$1=\"BOIS\",RELEVE_COTES!$P109,0)","v":{"$error":"#N/A"}},{"$f":"IF($Y$1=\"BOIS\",RELEVE_COTES!$Q109,0)","v":{"$error":"#N/A"}},{"$error":"#N/A"},{"$f":"IF($Y$1=\"BANCHE\",RELEVE_COTES!$L109,0)","v":{"$error":"#N/A"}},{"$error":"#N/A"},{"$error":"#N/A"},{"$f":"IF($Y$1<>\"BANCHE\",RELEVE_COTES!$L109,0)","v":{"$error":"#N/A"}},{"$f":"IF($Y$1<>\"BANCHE\",RELEVE_COTES!$M109,20)","v":{"$error":"#N/A"}},{"$f":"IF($Y$1<>\"BANCHE\",RELEVE_COTES!$N109,0)","v":{"$error":"#N/A"}},{"$f":"RELEVE_COTES!$I$20","v":0},{"$f":"RELEVE_COTES!$C$11","v":0},{"$f":"RELEVE_COTES!$K$12","v":0},{"$f":"VLOOKUP(AA61,TabSeuilRef[],2,FALSE)","v":{"$error":"#N/A"}},0,{"$f":"\"Paumelles \"&RELEVE_COTES!$E$15","v":"Paumelles "},{"$f":"IF(RELEVE_COTES!$K$16=\"SANS\",RELEVE_COTES!$K$16,IF(RELEVE_COTES!$K$16=\"Intégré\",\"Intégré\",RELEVE_COTES!$K$16&\" / \"&VLOOKUP(RELEVE_COTES!$L$16,TabOptUsSerr[],2,FALSE)))","v":"SANS"},{"$f":"RELEVE_COTES!$K$11","v":0},{"$f":"\"OP: \"&IF(RELEVE_COTES!$E$12=\"Pr.Peint\",\"PP\",RELEVE_COTES!$G$12)&\"/FP: \"&IF(RELEVE_COTES!$E$13=\"Pr.Peint\",\"PP\",RELEVE_COTES!$G$13)","v":"OP: /FP: "},{"$f":"IF(RELEVE_COTES!$E$14=\"Pr.Peint\",\"PP\",VLOOKUP(RELEVE_COTES!$G$14,TabNuancHM[],2,FALSE))","v":"PP"},{"$f":"N61","v":{"$error":"#N/A"}},{"$f":"IF(RELEVE_COTES!$C$11 =\"R32S-R02\",\"OUI\",\"NON\")","v":"NON"},"NON",{"$f":"IF(AJ61=\"OUI\",\"SEMI FIXE\",\"\")","v":""},{"$f":"IF(AJ61=\"OUI\",RELEVE_COTES!$N$16,\"\")","v":""},null,{"$f":"VLOOKUP(RELEVE_COTES!$O$11,TabOptUsSerr[],2,FALSE)","v":"Usinage, fourniture et pose"},{"$f":"IF(RELEVE_COTES!$K$15<>\"SANS\",RELEVE_COTES!$L$15&\" \"&RELEVE_COTES!$K$15,\"\")&IF(RELEVE_COTES!$N$15<>\"SANS\",\" / PMR: \"&RELEVE_COTES!$O$15&\" \"&RELEVE_COTES!$N$15,\"SANS\")","v":"SANS"},{"$f":"IF(RELEVE_COTES!$K$14 <> \"SANS\",RELEVE_COTES!$O$14&\" \"&RELEVE_COTES!$K$14,\"\")","v":"U+F "},{"$f":"IF(RELEVE_COTES!$K$13 <> \"SANS\",RELEVE_COTES!$O$13&\" \"&RELEVE_COTES!$K$13,\"SANS\")","v":"U+F "},{"$f":"IF(RELEVE_COTES!$I$20 = \"Huisserie Bois\",RELEVE_COTES!$R109,IF(RELEVE_COTES!$I$20 = \"Huisserie Banchée\",RELEVE_COTES!$M109,IF(RELEVE_COTES!$I$20 = \"Bâti Scellé\",RELEVE_COTES!$O109,\"\")))","v":""},{"$f":"RELEVE_COTES!$E$12&\" / \"&RELEVE_COTES!$E$13","v":" SANS /  SANS"},"INT","VERINS + VERINS","NON",{"$f":"VLOOKUP(RELEVE_COTES!$K$11,TabSerrureRef[],3,FALSE)","v":{"$error":"#N/A"}},{"$f":"VLOOKUP(RELEVE_COTES!$K$11,TabSerrureRef[],6,FALSE)","v":{"$error":"#N/A"}}]
[0,0,{"$f":"IF(RELEVE_COTES!$A110<>\"\",SUBSTITUTE(SUBSTITUTE(SUBSTITUTE(SUBSTITUTE(SUBSTITUTE(SUBSTITUTE(SUBSTITUTE(SUBSTITUTE(RELEVE_COTES!$A110,\" \",\"\"),\"-\",\"/\"),\".\",\"/\"),\"\\\",\"/\"),\",\",\"/\"),\"+\",\"_\"),\"&\",\"_\"),\"*\",\"/\"),\"\")","v":""},{"$f":"RELEVE_COTES!$B110","v":0},1,{"$f":"RELEVE_COTES!$C110","v":0},{"$f":"RELEVE_COTES!$D110","v":0},{"$f":"RELEVE_COTES!$E110","v":0},{"$f":"RELEVE_COTES!$F110","v":0},{"$f":"RELEVE_COTES!$G110","v":0},{"$f":"IF($D62=\"GP\",RELEVE_COTES!$I110,RELEVE_COTES!$H110)","v":0},{"$f":"IF($D62=\"GP\",RELEVE_COTES!$H110,RELEVE_COTES!$I110)","v":0},{"$f":"RELEVE_COTES!$J110","v":0},{"$f":"VLOOKUP(RELEVE_COTES!$K110,TabExistantRef1[],2,FALSE)","v":{"$error":"#N/A"}},{"$f":"IF($Y$1=\"BOIS\",RELEVE_COTES!$O110,0)","v":{"$error":"#N/A"}},{"$f":"IF($Y$1=\"BOIS\",RELEVE_COTES!$P110,0)","v":{"$error":"#N/A"}},{"$f":"IF($Y$1=\"BOIS\",RELEVE_COTES!$Q110,0)","v":{"$error":"#N/A"}},{"$error":"#N/A"},{"$f":"IF($Y$1=\"BANCHE\",RELEVE_COTES!$L110,0)","v":{"$error":"#N/A"}},{"$error":"#N/A"},{"$error":"#N/A"},{"$f":"IF($Y$1<>\"BANCHE\",RELEVE_COTES!$L110,0)","v":{"$error":"#N/A"}},{"$f":"IF($Y$1<>\"BANCHE\",RELEVE_COTES!$M110,20)","v":{"$error":"#N/A"}},{"$f":"IF($Y$1<>\"BANCHE\",RELEVE_COTES!$N110,0)","v":{"$error":"#N/A"}},{"$f":"RELEVE_COTES!$I$20","v":0},{"$f":"RELEVE_COTES!$C$11","v":0},{"$f":"RELEVE_COTES!$K$12","v":0},{"$f":"VLOOKUP(AA62,TabSeuilRef[],2,FALSE)","v":{"$error":"#N/A"}},0,{"$f":"\"Paumelles \"&RELEVE_COTES!$E$15","v":"Paumelles "},{"$f":"IF(RELEVE_COTES!$K$16=\"SANS\",RELEVE_COTES!$K$16,IF(RELEVE_COTES!$K$16=\"Intégré\",\"Intégré\",RELEVE_COTES!$K$16&\" / \"&VLOOKUP(RELEVE_COTES!$L$16,TabOptUsSerr[],2,FALSE)))","v":"SANS"},{"$f":"RELEVE_COTES!$K$11","v":0},{"$f":"\"OP: \"&IF(RELEVE_COTES!$E$12=\"Pr.Peint\",\"PP\",RELEVE_COTES!$G$12)&\"/FP: \"&IF(RELEVE_COTES!$E$13=\"Pr.Peint\",\"PP\",RELEVE_COTES!$G$13)","v":"OP: /FP: "},{"$f":"IF(RELEVE_COTES!$E$14=\"Pr.Peint\",\"PP\",VLOOKUP(RELEVE_COTES!$G$14,TabNuancHM[],2,FALSE))","v":"PP"},{"$error":"#N/A"},{"$f":"IF(RELEVE_COTES!$C$11 =\"R32S-R02\",\"OUI\",\"NON\")","v":"NON"},"NON","",{"$f":"IF(AJ62=\"OUI\",RELEVE_COTES!$N$16,\"\")","v":""},null,{"$f":"VLOOKUP(RELEVE_COTES!$O$11,TabOptUsSerr[],2,FALSE)","v":"Usinage, fourniture et pose"},{"$f":"IF(RELEVE_COTES!$K$15<>\"SANS\",RELEVE_COTES!$L$15&\" \"&RELEVE_COTES!$K$15,\"\")&IF(RELEVE_COTES!$N$15<>\"SANS\",\" / PMR: \"&RELEVE_COTES!$O$15&\" \"&RELEVE_COTES!$N$15,\"SANS\")","v":"SANS"},{"$f":"IF(RELEVE_COTES!$K$14 <> \"SANS\",RELEVE_COTES!$O$14&\" \"&RELEVE_COTES!$K$14,\"\")","v":"U+F "},{"$f":"IF(RELEVE_COTES!$K$13 <> \"SANS\",RELEVE_COTES!$O$13&\" \"&RELEVE_COTES!$K$13,\"SANS\")","v":"U+F "},{"$f":"IF(RELEVE_COTES!$I$20 = \"Huisserie Bois\",RELEVE_COTES!$R110,IF(RELEVE_COTES!$I$20 = \"Huisserie Banchée\",RELEVE_COTES!$M110,IF(RELEVE_COTES!$I$20 = \"Bâti Scellé\",RELEVE_COTES!$O110,\"\")))","v":""},{"$f":"RELEVE_COTES!$E$12&\" / \"&RELEVE_COTES!$E$13","v":" SANS /  SANS"},"INT","VERINS + VERINS","NON",{"$f":"VLOOKUP(RELEVE_COTES!$K$11,TabSerrureRef[],3,FALSE)","v":{"$error":"#N/A"}},{"$f":"VLOOKUP(RELEVE_COTES!$K$11,TabSerrureRef[],6,FALSE)","v":{"$error":"#N/A"}}]
[0,0,{"$f":"IF(RELEVE_COTES!$A111<>\"\",SUBSTITUTE(SUBSTITUTE(SUBSTITUTE(SUBSTITUTE(SUBSTITUTE(SUBSTITUTE(SUBSTITUTE(SUBSTITUTE(RELEVE_COTES!$A111,\" \",\"\"),\"-\",\"/\"),\".\",\"/\"),\"\\\",\"/\"),\",\",\"/\"),\"+\",\"_\"),\"&\",\"_\"),\"*\",\"/\"),\"\")","v":""},{"$f":"RELEVE_COTES!$B111","v":0},1,{"$f":"RELEVE_COTES!$C111","v":0},{"$f":"RELEVE_COTES!$D111","v":0},{"$f":"RELEVE_COTES!$E111","v":0},{"$f":"RELEVE_COTES!$F111","v":0},{"$f":"RELEVE_COTES!$G111","v":0},{"$f":"IF($D63=\"GP\",RELEVE_COTES!$I111,RELEVE_COTES!$H111)","v":0},{"$f":"IF($D63=\"GP\",RELEVE_COTES!$H111,RELEVE_COTES!$I111)","v":0},{"$f":"RELEVE_COTES!$J111","v":0},{"$f":"VLOOKUP(RELEVE_COTES!$K111,TabExistantRef1[],2,FALSE)","v":{"$error":"#N/A"}},{"$f":"IF($Y$1=\"BOIS\",RELEVE_COTES!$O111,0)","v":{"$error":"#N/A"}},{"$f":"IF($Y$1=\"BOIS\",RELEVE_COTES!$P111,0)","v":{"$error":"#N/A"}},{"$f":"IF($Y$1=\"BOIS\",RELEVE_COTES!$Q111,0)","v":{"$error":"#N/A"}},{"$error":"#N/A"},{"$f":"IF($Y$1=\"BANCHE\",RELEVE_COTES!$L111,0)","v":{"$error":"#N/A"}},{"$error":"#N/A"},{"$error":"#N/A"},{"$f":"IF($Y$1<>\"BANCHE\",RELEVE_COTES!$L111,0)","v":{"$error":"#N/A"}},{"$f":"IF($Y$1<>\"BANCHE\",RELEVE_COTES!$M111,20)","v":{"$error":"#N/A"}},{"$f":"IF($Y$1<>\"BANCHE\",RELEVE_COTES!$N111,0)","v":{"$error":"#N/A"}},{"$f":"RELEVE_COTES!$I$20","v":0},{"$f":"RELEVE_COTES!$C$11","v":0},{"$f":"RELEVE_COTES!$K$12","v":0},{"$f":"VLOOKUP(AA63,TabSeuilRef[],2,FALSE)","v":{"$error":"#N/A"}},0,{"$f":"\"Paumelles \"&RELEVE_COTES!$E$15","v":"Paumelles "},{"$f":"IF(RELEVE_COTES!$K$16=\"SANS\",RELEVE_COTES!$K$16,IF(RELEVE_COTES!$K$16=\"Intégré\",\"Intégré\",RELEVE_COTES!$K$16&\" / \"&VLOOKUP(RELEVE_COTES!$L$16,TabOptUsSerr[],2,FALSE)))","v":"SANS"},{"$f":"RELEVE_COTES!$K$11","v":0},{"$f":"\"OP: \"&IF(RELEVE_COTES!$E$12=\"Pr.Peint\",\"PP\",RELEVE_COTES!$G$12)&\"/FP: \"&IF(RELEVE_COTES!$E$13=\"Pr.Peint\",\"PP\",RELEVE_COTES!$G$13)","v":"OP: /FP: "},{"$f":"IF(RELEVE_COTES!$E$14=\"Pr.Peint\",\"PP\",VLOOKUP(RELEVE_COTES!$G$14,TabNuancHM[],2,FALSE))","v":"PP"},{"$error":"#N/A"},{"$f":"IF(RELEVE_COTES!$C$11 =\"R32S-R02\",\"OUI\",\"NON\")","v":"NON"},"NON","",{"$f":"IF(AJ63=\"OUI\",RELEVE_COTES!$N$16,\"\")","v":""},null,{"$f":"VLOOKUP(RELEVE_COTES!$O$11,TabOptUsSerr[],2,FALSE)","v":"Usinage, fourniture et pose"},{"$f":"IF(RELEVE_COTES!$K$15<>\"SANS\",RELEVE_COTES!$L$15&\" \"&RELEVE_COTES!$K$15,\"\")&IF(RELEVE_COTES!$N$15<>\"SANS\",\" / PMR: \"&RELEVE_COTES!$O$15&\" \"&RELEVE_COTES!$N$15,\"SANS\")","v":"SANS"},{"$f":"IF(RELEVE_COTES!$K$14 <> \"SANS\",RELEVE_COTES!$O$14&\" \"&RELEVE_COTES!$K$14,\"\")","v":"U+F "},{"$f":"IF(RELEVE_COTES!$K$13 <> \"SANS\",RELEVE_COTES!$O$13&\" \"&RELEVE_COTES!$K$13,\"SANS\")","v":"U+F "},{"$f":"IF(RELEVE_COTES!$I$20 = \"Huisserie Bois\",RELEVE_COTES!$R111,IF(RELEVE_COTES!$I$20 = \"Huisserie Banchée\",RELEVE_COTES!$M111,IF(RELEVE_COTES!$I$20 = \"Bâti Scellé\",RELEVE_COTES!$O111,\"\")))","v":""},{"$f":"RELEVE_COTES!$E$12&\" / \"&RELEVE_COTES!$E$13","v":" SANS /  SANS"},"INT","VERINS + VERINS","NON",{"$f":"VLOOKUP(RELEVE_COTES!$K$11,TabSerrureRef[],3,FALSE)","v":{"$error":"#N/A"}},{"$f":"VLOOKUP(RELEVE_COTES!$K$11,TabSerrureRef[],6,FALSE)","v":{"$error":"#N/A"}}]
[0,0,{"$f":"IF(RELEVE_COTES!$A112<>\"\",SUBSTITUTE(SUBSTITUTE(SUBSTITUTE(SUBSTITUTE(SUBSTITUTE(SUBSTITUTE(SUBSTITUTE(SUBSTITUTE(RELEVE_COTES!$A112,\" \",\"\"),\"-\",\"/\"),\".\",\"/\"),\"\\\",\"/\"),\",\",\"/\"),\"+\",\"_\"),\"&\",\"_\"),\"*\",\"/\"),\"\")","v":""},{"$f":"RELEVE_COTES!$B112","v":0},1,{"$f":"RELEVE_COTES!$C112","v":0},{"$f":"RELEVE_COTES!$D112","v":0},{"$f":"RELEVE_COTES!$E112","v":0},{"$f":"RELEVE_COTES!$F112","v":0},{"$f":"RELEVE_COTES!$G112","v":0},{"$f":"IF($D64=\"GP\",RELEVE_COTES!$I112,RELEVE_COTES!$H112)","v":0},{"$f":"IF($D64=\"GP\",RELEVE_COTES!$H112,RELEVE_COTES!$I112)","v":0},{"$f":"RELEVE_COTES!$J112","v":0},{"$f":"VLOOKUP(RELEVE_COTES!$K112,TabExistantRef1[],2,FALSE)","v":{"$error":"#N/A"}},{"$f":"IF($Y$1=\"BOIS\",RELEVE_COTES!$O112,0)","v":{"$error":"#N/A"}},{"$f":"IF($Y$1=\"BOIS\",RELEVE_COTES!$P112,0)","v":{"$error":"#N/A"}},{"$f":"IF($Y$1=\"BOIS\",RELEVE_COTES!$Q112,0)","v":{"$error":"#N/A"}},{"$error":"#N/A"},{"$f":"IF($Y$1=\"BANCHE\",RELEVE_COTES!$L112,0)","v":{"$error":"#N/A"}},{"$error":"#N/A"},{"$error":"#N/A"},{"$f":"IF($Y$1<>\"BANCHE\",RELEVE_COTES!$L112,0)","v":{"$error":"#N/A"}},{"$f":"IF($Y$1<>\"BANCHE\",RELEVE_COTES!$M112,20)","v":{"$error":"#N/A"}},{"$f":"IF($Y$1<>\"BANCHE\",RELEVE_COTES!$N112,0)","v":{"$error":"#N/A"}},{"$f":"RELEVE_COTES!$I$20","v":0},{"$f":"RELEVE_COTES!$C$11","v":0},{"$f":"RELEVE_COTES!$K$12","v":0},{"$f":"VLOOKUP(AA64,TabSeuilRef[],2,FALSE)","v":{"$error":"#N/A"}},0,{"$f":"\"Paumelles \"&RELEVE_COTES!$E$15","v":"Paumelles "},{"$f":"IF(RELEVE_COTES!$K$16=\"SANS\",RELEVE_COTES!$K$16,IF(RELEVE_COTES!$K$16=\"Intégré\",\"Intégré\",RELEVE_COTES!$K$16&\" / \"&VLOOKUP(RELEVE_COTES!$L$16,TabOptUsSerr[],2,FALSE)))","v":"SANS"},{"$f":"RELEVE_COTES!$K$11","v":0},{"$f":"\"OP: \"&IF(RELEVE_COTES!$E$12=\"Pr.Peint\",\"PP\",RELEVE_COTES!$G$12)&\"/FP: \"&IF(RELEVE_COTES!$E$13=\"Pr.Peint\",\"PP\",RELEVE_COTES!$G$13)","v":"OP: /FP: "},{"$f":"IF(RELEVE_COTES!$E$14=\"Pr.Peint\",\"PP\",VLOOKUP(RELEVE_COTES!$G$14,TabNuancHM[],2,FALSE))","v":"PP"},{"$error":"#N/A"},{"$f":"IF(RELEVE_COTES!$C$11 =\"R32S-R02\",\"OUI\",\"NON\")","v":"NON"},"NON","",{"$f":"IF(AJ64=\"OUI\",RELEVE_COTES!$N$16,\"\")","v":""},null,{"$f":"VLOOKUP(RELEVE_COTES!$O$11,TabOptUsSerr[],2,FALSE)","v":"Usinage, fourniture et pose"},{"$f":"IF(RELEVE_COTES!$K$15<>\"SANS\",RELEVE_COTES!$L$15&\" \"&RELEVE_COTES!$K$15,\"\")&IF(RELEVE_COTES!$N$15<>\"SANS\",\" / PMR: \"&RELEVE_COTES!$O$15&\" \"&RELEVE_COTES!$N$15,\"SANS\")","v":"SANS"},{"$f":"IF(RELEVE_COTES!$K$14 <> \"SANS\",RELEVE_COTES!$O$14&\" \"&RELEVE_COTES!$K$14,\"\")","v":"U+F "},{"$f":"IF(RELEVE_COTES!$K$13 <> \"SANS\",RELEVE_COTES!$O$13&\" \"&RELEVE_COTES!$K$13,\"SANS\")","v":"U+F "},{"$f":"IF(RELEVE_COTES!$I$20 = \"Huisserie Bois\",RELEVE_COTES!$R112,IF(RELEVE_COTES!$I$20 = \"Huisserie Banchée\",RELEVE_COTES!$M112,IF(RELEVE_COTES!$I$20 = \"Bâti Scellé\",RELEVE_COTES!$O112,\"\")))","v":""},{"$f":"RELEVE_COTES!$E$12&\" / \"&RELEVE_COTES!$E$13","v":" SANS /  SANS"},"INT","VERINS + VERINS","NON",{"$f":"VLOOKUP(RELEVE_COTES!$K$11,TabSerrureRef[],3,FALSE)","v":{"$error":"#N/A"}},{"$f":"VLOOKUP(RELEVE_COTES!$K$11,TabSerrureRef[],6,FALSE)","v":{"$error":"#N/A"}}]
[0,0,{"$f":"IF(RELEVE_COTES!$A113<>\"\",SUBSTITUTE(SUBSTITUTE(SUBSTITUTE(SUBSTITUTE(SUBSTITUTE(SUBSTITUTE(SUBSTITUTE(SUBSTITUTE(RELEVE_COTES!$A113,\" \",\"\"),\"-\",\"/\"),\".\",\"/\"),\"\\\",\"/\"),\",\",\"/\"),\"+\",\"_\"),\"&\",\"_\"),\"*\",\"/\"),\"\")","v":""},{"$f":"RELEVE_COTES!$B113","v":0},1,{"$f":"RELEVE_COTES!$C113","v":0},{"$f":"RELEVE_COTES!$D113","v":0},{"$f":"RELEVE_COTES!$E113","v":0},{"$f":"RELEVE_COTES!$F113","v":0},{"$f":"RELEVE_COTES!$G113","v":0},{"$f":"IF($D65=\"GP\",RELEVE_COTES!$I113,RELEVE_COTES!$H113)","v":0},{"$f":"IF($D65=\"GP\",RELEVE_COTES!$H113,RELEVE_COTES!$I113)","v":0},{"$f":"RELEVE_COTES!$J113","v":0},{"$f":"VLOOKUP(RELEVE_COTES!$K113,TabExistantRef1[],2,FALSE)","v":{"$error":"#N/A"}},{"$f":"IF($Y$1=\"BOIS\",RELEVE_COTES!$O113,0)","v":{"$error":"#N/A"}},{"$f":"IF($Y$1=\"BOIS\",RELEVE_COTES!$P113,0)","v":{"$error":"#N/A"}},{"$f":"IF($Y$1=\"BOIS\",RELEVE_COTES!$Q113,0)","v":{"$error":"#N/A"}},{"$error":"#N/A"},{"$f":"IF($Y$1=\"BANCHE\",RELEVE_COTES!$L113,0)","v":{"$error":"#N/A"}},{"$error":"#N/A"},{"$error":"#N/A"},{"$f":"IF($Y$1<>\"BANCHE\",RELEVE_COTES!$L113,0)","v":{"$error":"#N/A"}},{"$f":"IF($Y$1<>\"BANCHE\",RELEVE_COTES!$M113,20)","v":{"$error":"#N/A"}},{"$f":"IF($Y$1<>\"BANCHE\",RELEVE_COTES!$N113,0)","v":{"$error":"#N/A"}},{"$f":"RELEVE_COTES!$I$20","v":0},{"$f":"RELEVE_COTES!$C$11","v":0},{"$f":"RELEVE_COTES!$K$12","v":0},{"$f":"VLOOKUP(AA65,TabSeuilRef[],2,FALSE)","v":{"$error":"#N/A"}},0,{"$f":"\"Paumelles \"&RELEVE_COTES!$E$15","v":"Paumelles "},{"$f":"IF(RELEVE_COTES!$K$16=\"SANS\",RELEVE_COTES!$K$16,IF(RELEVE_COTES!$K$16=\"Intégré\",\"Intégré\",RELEVE_COTES!$K$16&\" / \"&VLOOKUP(RELEVE_COTES!$L$16,TabOptUsSerr[],2,FALSE)))","v":"SANS"},{"$f":"RELEVE_COTES!$K$11","v":0},{"$f":"\"OP: \"&IF(RELEVE_COTES!$E$12=\"Pr.Peint\",\"PP\",RELEVE_COTES!$G$12)&\"/FP: \"&IF(RELEVE_COTES!$E$13=\"Pr.Peint\",\"PP\",RELEVE_COTES!$G$13)","v":"OP: /FP: "},{"$f":"IF(RELEVE_COTES!$E$14=\"Pr.Peint\",\"PP\",VLOOKUP(RELEVE_COTES!$G$14,TabNuancHM[],2,FALSE))","v":"PP"},{"$error":"#N/A"},{"$f":"IF(RELEVE_COTES!$C$11 =\"R32S-R02\",\"OUI\",\"NON\")","v":"NON"},"NON","",{"$f":"IF(AJ65=\"OUI\",RELEVE_COTES!$N$16,\"\")","v":""},null,{"$f":"VLOOKUP(RELEVE_COTES!$O$11,TabOptUsSerr[],2,FALSE)","v":"Usinage, fourniture et pose"},{"$f":"IF(RELEVE_COTES!$K$15<>\"SANS\",RELEVE_COTES!$L$15&\" \"&RELEVE_COTES!$K$15,\"\")&IF(RELEVE_COTES!$N$15<>\"SANS\",\" / PMR: \"&RELEVE_COTES!$O$15&\" \"&RELEVE_COTES!$N$15,\"SANS\")","v":"SANS"},{"$f":"IF(RELEVE_COTES!$K$14 <> \"SANS\",RELEVE_COTES!$O$14&\" \"&RELEVE_COTES!$K$14,\"\")","v":"U+F "},{"$f":"IF(RELEVE_COTES!$K$13 <> \"SANS\",RELEVE_COTES!$O$13&\" \"&RELEVE_COTES!$K$13,\"SANS\")","v":"U+F "},{"$f":"IF(RELEVE_COTES!$I$20 = \"Huisserie Bois\",RELEVE_COTES!$R113,IF(RELEVE_COTES!$I$20 = \"Huisserie Banchée\",RELEVE_COTES!$M113,IF(RELEVE_COTES!$I$20 = \"Bâti Scellé\",RELEVE_COTES!$O113,\"\")))","v":""},{"$f":"RELEVE_COTES!$E$12&\" / \"&RELEVE_COTES!$E$13","v":" SANS /  SANS"},"INT","VERINS + VERINS","NON",{"$f":"VLOOKUP(RELEVE_COTES!$K$11,TabSerrureRef[],3,FALSE)","v":{"$error":"#N/A"}},{"$f":"VLOOKUP(RELEVE_COTES!$K$11,TabSerrureRef[],6,FALSE)","v":{"$error":"#N/A"}}]
[0,0,{"$f":"IF(RELEVE_COTES!$A114<>\"\",SUBSTITUTE(SUBSTITUTE(SUBSTITUTE(SUBSTITUTE(SUBSTITUTE(SUBSTITUTE(SUBSTITUTE(SUBSTITUTE(RELEVE_COTES!$A114,\" \",\"\"),\"-\",\"/\"),\".\",\"/\"),\"\\\",\"/\"),\",\",\"/\"),\"+\",\"_\"),\"&\",\"_\"),\"*\",\"/\"),\"\")","v":""},{"$f":"RELEVE_COTES!$B114","v":0},1,{"$f":"RELEVE_COTES!$C114","v":0},{"$f":"RELEVE_COTES!$D114","v":0},{"$f":"RELEVE_COTES!$E114","v":0},{"$f":"RELEVE_COTES!$F114","v":0},{"$f":"RELEVE_COTES!$G114","v":0},{"$f":"IF($D66=\"GP\",RELEVE_COTES!$I114,RELEVE_COTES!$H114)","v":0},{"$f":"IF($D66=\"GP\",RELEVE_COTES!$H114,RELEVE_COTES!$I114)","v":0},{"$f":"RELEVE_COTES!$J114","v":0},{"$f":"VLOOKUP(RELEVE_COTES!$K114,TabExistantRef1[],2,FALSE)","v":{"$error":"#N/A"}},{"$f":"IF($Y$1=\"BOIS\",RELEVE_COTES!$O114,0)","v":{"$error":"#N/A"}},{"$f":"IF($Y$1=\"BOIS\",RELEVE_COTES!$P114,0)","v":{"$error":"#N/A"}},{"$f":"IF($Y$1=\"BOIS\",RELEVE_COTES!$Q114,0)","v":{"$error":"#N/A"}},{"$error":"#N/A"},{"$f":"IF($Y$1=\"BANCHE\",RELEVE_COTES!$L114,0)","v":{"$error":"#N/A"}},{"$error":"#N/A"},{"$error":"#N/A"},{"$f":"IF($Y$1<>\"BANCHE\",RELEVE_COTES!$L114,0)","v":{"$error":"#N/A"}},{"$f":"IF($Y$1<>\"BANCHE\",RELEVE_COTES!$M114,20)","v":{"$error":"#N/A"}},{"$f":"IF($Y$1<>\"BANCHE\",RELEVE_COTES!$N114,0)","v":{"$error":"#N/A"}},{"$f":"RELEVE_COTES!$I$20","v":0},{"$f":"RELEVE_COTES!$C$11","v":0},{"$f":"RELEVE_COTES!$K$12","v":0},{"$f":"VLOOKUP(AA66,TabSeuilRef[],2,FALSE)","v":{"$error":"#N/A"}},0,{"$f":"\"Paumelles \"&RELEVE_COTES!$E$15","v":"Paumelles "},{"$f":"IF(RELEVE_COTES!$K$16=\"SANS\",RELEVE_COTES!$K$16,IF(RELEVE_COTES!$K$16=\"Intégré\",\"Intégré\",RELEVE_COTES!$K$16&\" / \"&VLOOKUP(RELEVE_COTES!$L$16,TabOptUsSerr[],2,FALSE)))","v":"SANS"},{"$f":"RELEVE_COTES!$K$11","v":0},{"$f":"\"OP: \"&IF(RELEVE_COTES!$E$12=\"Pr.Peint\",\"PP\",RELEVE_COTES!$G$12)&\"/FP: \"&IF(RELEVE_COTES!$E$13=\"Pr.Peint\",\"PP\",RELEVE_COTES!$G$13)","v":"OP: /FP: "},{"$f":"IF(RELEVE_COTES!$E$14=\"Pr.Peint\",\"PP\",VLOOKUP(RELEVE_COTES!$G$14,TabNuancHM[],2,FALSE))","v":"PP"},{"$error":"#N/A"},{"$f":"IF(RELEVE_COTES!$C$11 =\"R32S-R02\",\"OUI\",\"NON\")","v":"NON"},"NON","",{"$f":"IF(AJ66=\"OUI\",RELEVE_COTES!$N$16,\"\")","v":""},null,{"$f":"VLOOKUP(RELEVE_COTES!$O$11,TabOptUsSerr[],2,FALSE)","v":"Usinage, fourniture et pose"},{"$f":"IF(RELEVE_COTES!$K$15<>\"SANS\",RELEVE_COTES!$L$15&\" \"&RELEVE_COTES!$K$15,\"\")&IF(RELEVE_COTES!$N$15<>\"SANS\",\" / PMR: \"&RELEVE_COTES!$O$15&\" \"&RELEVE_COTES!$N$15,\"SANS\")","v":"SANS"},{"$f":"IF(RELEVE_COTES!$K$14 <> \"SANS\",RELEVE_COTES!$O$14&\" \"&RELEVE_COTES!$K$14,\"\")","v":"U+F "},{"$f":"IF(RELEVE_COTES!$K$13 <> \"SANS\",RELEVE_COTES!$O$13&\" \"&RELEVE_COTES!$K$13,\"SANS\")","v":"U+F "},{"$f":"IF(RELEVE_COTES!$I$20 = \"Huisserie Bois\",RELEVE_COTES!$R114,IF(RELEVE_COTES!$I$20 = \"Huisserie Banchée\",RELEVE_COTES!$M114,IF(RELEVE_COTES!$I$20 = \"Bâti Scellé\",RELEVE_COTES!$O114,\"\")))","v":""},{"$f":"RELEVE_COTES!$E$12&\" / \"&RELEVE_COTES!$E$13","v":" SANS /  SANS"},"INT","VERINS + VERINS","NON",{"$f":"VLOOKUP(RELEVE_COTES!$K$11,TabSerrureRef[],3,FALSE)","v":{"$error":"#N/A"}},{"$f":"VLOOKUP(RELEVE_COTES!$K$11,TabSerrureRef[],6,FALSE)","v":{"$error":"#N/A"}}]
[0,0,{"$f":"IF(RELEVE_COTES!$A115<>\"\",SUBSTITUTE(SUBSTITUTE(SUBSTITUTE(SUBSTITUTE(SUBSTITUTE(SUBSTITUTE(SUBSTITUTE(SUBSTITUTE(RELEVE_COTES!$A115,\" \",\"\"),\"-\",\"/\"),\".\",\"/\"),\"\\\",\"/\"),\",\",\"/\"),\"+\",\"_\"),\"&\",\"_\"),\"*\",\"/\"),\"\")","v":""},{"$f":"RELEVE_COTES!$B115","v":0},1,{"$f":"RELEVE_COTES!$C115","v":0},{"$f":"RELEVE_COTES!$D115","v":0},{"$f":"RELEVE_COTES!$E115","v":0},{"$f":"RELEVE_COTES!$F115","v":0},{"$f":"RELEVE_COTES!$G115","v":0},{"$f":"IF($D67=\"GP\",RELEVE_COTES!$I115,RELEVE_COTES!$H115)","v":0},{"$f":"IF($D67=\"GP\",RELEVE_COTES!$H115,RELEVE_COTES!$I115)","v":0},{"$f":"RELEVE_COTES!$J115","v":0},{"$f":"VLOOKUP(RELEVE_COTES!$K115,TabExistantRef1[],2,FALSE)","v":{"$error":"#N/A"}},{"$f":"IF($Y$1=\"BOIS\",RELEVE_COTES!$O115,0)","v":{"$error":"#N/A"}},{"$f":"IF($Y$1=\"BOIS\",RELEVE_COTES!$P115,0)","v":{"$error":"#N/A"}},{"$f":"IF($Y$1=\"BOIS\",RELEVE_COTES!$Q115,0)","v":{"$error":"#N/A"}},{"$error":"#N/A"},{"$f":"IF($Y$1=\"BANCHE\",RELEVE_COTES!$L115,0)","v":{"$error":"#N/A"}},{"$error":"#N/A"},{"$error":"#N/A"},{"$f":"IF($Y$1<>\"BANCHE\",RELEVE_COTES!$L115,0)","v":{"$error":"#N/A"}},{"$f":"IF($Y$1<>\"BANCHE\",RELEVE_COTES!$M115,20)","v":{"$error":"#N/A"}},{"$f":"IF($Y$1<>\"BANCHE\",RELEVE_COTES!$N115,0)","v":{"$error":"#N/A"}},{"$f":"RELEVE_COTES!$I$20","v":0},{"$f":"RELEVE_COTES!$C$11","v":0},{"$f":"RELEVE_COTES!$K$12","v":0},{"$f":"VLOOKUP(AA67,TabSeuilRef[],2,FALSE)","v":{"$error":"#N/A"}},0,{"$f":"\"Paumelles \"&RELEVE_COTES!$E$15","v":"Paumelles "},{"$f":"IF(RELEVE_COTES!$K$16=\"SANS\",RELEVE_COTES!$K$16,IF(RELEVE_COTES!$K$16=\"Intégré\",\"Intégré\",RELEVE_COTES!$K$16&\" / \"&VLOOKUP(RELEVE_COTES!$L$16,TabOptUsSerr[],2,FALSE)))","v":"SANS"},{"$f":"RELEVE_COTES!$K$11","v":0},{"$f":"\"OP: \"&IF(RELEVE_COTES!$E$12=\"Pr.Peint\",\"PP\",RELEVE_COTES!$G$12)&\"/FP: \"&IF(RELEVE_COTES!$E$13=\"Pr.Peint\",\"PP\",RELEVE_COTES!$G$13)","v":"OP: /FP: "},{"$f":"IF(RELEVE_COTES!$E$14=\"Pr.Peint\",\"PP\",VLOOKUP(RELEVE_COTES!$G$14,TabNuancHM[],2,FALSE))","v":"PP"},{"$error":"#N/A"},{"$f":"IF(RELEVE_COTES!$C$11 =\"R32S-R02\",\"OUI\",\"NON\")","v":"NON"},"NON","",{"$f":"IF(AJ67=\"OUI\",RELEVE_COTES!$N$16,\"\")","v":""},null,{"$f":"VLOOKUP(RELEVE_COTES!$O$11,TabOptUsSerr[],2,FALSE)","v":"Usinage, fourniture et pose"},{"$f":"IF(RELEVE_COTES!$K$15<>\"SANS\",RELEVE_COTES!$L$15&\" \"&RELEVE_COTES!$K$15,\"\")&IF(RELEVE_COTES!$N$15<>\"SANS\",\" / PMR: \"&RELEVE_COTES!$O$15&\" \"&RELEVE_COTES!$N$15,\"SANS\")","v":"SANS"},{"$f":"IF(RELEVE_COTES!$K$14 <> \"SANS\",RELEVE_COTES!$O$14&\" \"&RELEVE_COTES!$K$14,\"\")","v":"U+F "},{"$f":"IF(RELEVE_COTES!$K$13 <> \"SANS\",RELEVE_COTES!$O$13&\" \"&RELEVE_COTES!$K$13,\"SANS\")","v":"U+F "},{"$f":"IF(RELEVE_COTES!$I$20 = \"Huisserie Bois\",RELEVE_COTES!$R115,IF(RELEVE_COTES!$I$20 = \"Huisserie Banchée\",RELEVE_COTES!$M115,IF(RELEVE_COTES!$I$20 = \"Bâti Scellé\",RELEVE_COTES!$O115,\"\")))","v":""},{"$f":"RELEVE_COTES!$E$12&\" / \"&RELEVE_COTES!$E$13","v":" SANS /  SANS"},"INT","VERINS + VERINS","NON",{"$f":"VLOOKUP(RELEVE_COTES!$K$11,TabSerrureRef[],3,FALSE)","v":{"$error":"#N/A"}},{"$f":"VLOOKUP(RELEVE_COTES!$K$11,TabSerrureRef[],6,FALSE)","v":{"$error":"#N/A"}}]
[0,0,{"$f":"IF(RELEVE_COTES!$A116<>\"\",SUBSTITUTE(SUBSTITUTE(SUBSTITUTE(SUBSTITUTE(SUBSTITUTE(SUBSTITUTE(SUBSTITUTE(SUBSTITUTE(RELEVE_COTES!$A116,\" \",\"\"),\"-\",\"/\"),\".\",\"/\"),\"\\\",\"/\"),\",\",\"/\"),\"+\",\"_\"),\"&\",\"_\"),\"*\",\"/\"),\"\")","v":""},{"$f":"RELEVE_COTES!$B116","v":0},1,{"$f":"RELEVE_COTES!$C116","v":0},{"$f":"RELEVE_COTES!$D116","v":0},{"$f":"RELEVE_COTES!$E116","v":0},{"$f":"RELEVE_COTES!$F116","v":0},{"$f":"RELEVE_COTES!$G116","v":0},{"$f":"IF($D68=\"GP\",RELEVE_COTES!$I116,RELEVE_COTES!$H116)","v":0},{"$f":"IF($D68=\"GP\",RELEVE_COTES!$H116,RELEVE_COTES!$I116)","v":0},{"$f":"RELEVE_COTES!$J116","v":0},{"$f":"VLOOKUP(RELEVE_COTES!$K116,TabExistantRef1[],2,FALSE)","v":{"$error":"#N/A"}},{"$f":"IF($Y$1=\"BOIS\",RELEVE_COTES!$O116,0)","v":{"$error":"#N/A"}},{"$f":"IF($Y$1=\"BOIS\",RELEVE_COTES!$P116,0)","v":{"$error":"#N/A"}},{"$f":"IF($Y$1=\"BOIS\",RELEVE_COTES!$Q116,0)","v":{"$error":"#N/A"}},{"$error":"#N/A"},{"$f":"IF($Y$1=\"BANCHE\",RELEVE_COTES!$L116,0)","v":{"$error":"#N/A"}},{"$error":"#N/A"},{"$error":"#N/A"},{"$f":"IF($Y$1<>\"BANCHE\",RELEVE_COTES!$L116,0)","v":{"$error":"#N/A"}},{"$f":"IF($Y$1<>\"BANCHE\",RELEVE_COTES!$M116,20)","v":{"$error":"#N/A"}},{"$f":"IF($Y$1<>\"BANCHE\",RELEVE_COTES!$N116,0)","v":{"$error":"#N/A"}},{"$f":"RELEVE_COTES!$I$20","v":0},{"$f":"RELEVE_COTES!$C$11","v":0},{"$f":"RELEVE_COTES!$K$12","v":0},{"$f":"VLOOKUP(AA68,TabSeuilRef[],2,FALSE)","v":{"$error":"#N/A"}},0,{"$f":"\"Paumelles \"&RELEVE_COTES!$E$15","v":"Paumelles "},{"$f":"IF(RELEVE_COTES!$K$16=\"SANS\",RELEVE_COTES!$K$16,IF(RELEVE_COTES!$K$16=\"Intégré\",\"Intégré\",RELEVE_COTES!$K$16&\" / \"&VLOOKUP(RELEVE_COTES!$L$16,TabOptUsSerr[],2,FALSE)))","v":"SANS"},{"$f":"RELEVE_COTES!$K$11","v":0},{"$f":"\"OP: \"&IF(RELEVE_COTES!$E$12=\"Pr.Peint\",\"PP\",RELEVE_COTES!$G$12)&\"/FP: \"&IF(RELEVE_COTES!$E$13=\"Pr.Peint\",\"PP\",RELEVE_COTES!$G$13)","v":"OP: /FP: "},{"$f":"IF(RELEVE_COTES!$E$14=\"Pr.Peint\",\"PP\",VLOOKUP(RELEVE_COTES!$G$14,TabNuancHM[],2,FALSE))","v":"PP"},{"$error":"#N/A"},{"$f":"IF(RELEVE_COTES!$C$11 =\"R32S-R02\",\"OUI\",\"NON\")","v":"NON"},"NON","",{"$f":"IF(AJ68=\"OUI\",RELEVE_COTES!$N$16,\"\")","v":""},null,{"$f":"VLOOKUP(RELEVE_COTES!$O$11,TabOptUsSerr[],2,FALSE)","v":"Usinage, fourniture et pose"},{"$f":"IF(RELEVE_COTES!$K$15<>\"SANS\",RELEVE_COTES!$L$15&\" \"&RELEVE_COTES!$K$15,\"\")&IF(RELEVE_COTES!$N$15<>\"SANS\",\" / PMR: \"&RELEVE_COTES!$O$15&\" \"&RELEVE_COTES!$N$15,\"SANS\")","v":"SANS"},{"$f":"IF(RELEVE_COTES!$K$14 <> \"SANS\",RELEVE_COTES!$O$14&\" \"&RELEVE_COTES!$K$14,\"\")","v":"U+F "},{"$f":"IF(RELEVE_COTES!$K$13 <> \"SANS\",RELEVE_COTES!$O$13&\" \"&RELEVE_COTES!$K$13,\"SANS\")","v":"U+F "},{"$f":"IF(RELEVE_COTES!$I$20 = \"Huisserie Bois\",RELEVE_COTES!$R116,IF(RELEVE_COTES!$I$20 = \"Huisserie Banchée\",RELEVE_COTES!$M116,IF(RELEVE_COTES!$I$20 = \"Bâti Scellé\",RELEVE_COTES!$O116,\"\")))","v":""},{"$f":"RELEVE_COTES!$E$12&\" / \"&RELEVE_COTES!$E$13","v":" SANS /  SANS"},"INT","VERINS + VERINS","NON",{"$f":"VLOOKUP(RELEVE_COTES!$K$11,TabSerrureRef[],3,FALSE)","v":{"$error":"#N/A"}},{"$f":"VLOOKUP(RELEVE_COTES!$K$11,TabSerrureRef[],6,FALSE)","v":{"$error":"#N/A"}}]
[0,0,{"$f":"IF(RELEVE_COTES!$A117<>\"\",SUBSTITUTE(SUBSTITUTE(SUBSTITUTE(SUBSTITUTE(SUBSTITUTE(SUBSTITUTE(SUBSTITUTE(SUBSTITUTE(RELEVE_COTES!$A117,\" \",\"\"),\"-\",\"/\"),\".\",\"/\"),\"\\\",\"/\"),\",\",\"/\"),\"+\",\"_\"),\"&\",\"_\"),\"*\",\"/\"),\"\")","v":""},{"$f":"RELEVE_COTES!$B117","v":0},1,{"$f":"RELEVE_COTES!$C117","v":0},{"$f":"RELEVE_COTES!$D117","v":0},{"$f":"RELEVE_COTES!$E117","v":0},{"$f":"RELEVE_COTES!$F117","v":0},{"$f":"RELEVE_COTES!$G117","v":0},{"$f":"IF($D69=\"GP\",RELEVE_COTES!$I117,RELEVE_COTES!$H117)","v":0},{"$f":"IF($D69=\"GP\",RELEVE_COTES!$H117,RELEVE_COTES!$I117)","v":0},{"$f":"RELEVE_COTES!$J117","v":0},{"$f":"VLOOKUP(RELEVE_COTES!$K117,TabExistantRef1[],2,FALSE)","v":{"$error":"#N/A"}},{"$f":"IF($Y$1=\"BOIS\",RELEVE_COTES!$O117,0)","v":{"$error":"#N/A"}},{"$f":"IF($Y$1=\"BOIS\",RELEVE_COTES!$P117,0)","v":{"$error":"#N/A"}},{"$f":"IF($Y$1=\"BOIS\",RELEVE_COTES!$Q117,0)","v":{"$error":"#N/A"}},{"$error":"#N/A"},{"$f":"IF($Y$1=\"BANCHE\",RELEVE_COTES!$L117,0)","v":{"$error":"#N/A"}},{"$error":"#N/A"},{"$error":"#N/A"},{"$f":"IF($Y$1<>\"BANCHE\",RELEVE_COTES!$L117,0)","v":{"$error":"#N/A"}},{"$f":"IF($Y$1<>\"BANCHE\",RELEVE_COTES!$M117,20)","v":{"$error":"#N/A"}},{"$f":"IF($Y$1<>\"BANCHE\",RELEVE_COTES!$N117,0)","v":{"$error":"#N/A"}},{"$f":"RELEVE_COTES!$I$20","v":0},{"$f":"RELEVE_COTES!$C$11","v":0},{"$f":"RELEVE_COTES!$K$12","v":0},{"$f":"VLOOKUP(AA69,TabSeuilRef[],2,FALSE)","v":{"$error":"#N/A"}},0,{"$f":"\"Paumelles \"&RELEVE_COTES!$E$15","v":"Paumelles "},{"$f":"IF(RELEVE_COTES!$K$16=\"SANS\",RELEVE_COTES!$K$16,IF(RELEVE_COTES!$K$16=\"Intégré\",\"Intégré\",RELEVE_COTES!$K$16&\" / \"&VLOOKUP(RELEVE_COTES!$L$16,TabOptUsSerr[],2,FALSE)))","v":"SANS"},{"$f":"RELEVE_COTES!$K$11","v":0},{"$f":"\"OP: \"&IF(RELEVE_COTES!$E$12=\"Pr.Peint\",\"PP\",RELEVE_COTES!$G$12)&\"/FP: \"&IF(RELEVE_COTES!$E$13=\"Pr.Peint\",\"PP\",RELEVE_COTES!$G$13)","v":"OP: /FP: "},{"$f":"IF(RELEVE_COTES!$E$14=\"Pr.Peint\",\"PP\",VLOOKUP(RELEVE_COTES!$G$14,TabNuancHM[],2,FALSE))","v":"PP"},{"$error":"#N/A"},{"$f":"IF(RELEVE_COTES!$C$11 =\"R32S-R02\",\"OUI\",\"NON\")","v":"NON"},"NON","",{"$f":"IF(AJ69=\"OUI\",RELEVE_COTES!$N$16,\"\")","v":""},null,{"$f":"VLOOKUP(RELEVE_COTES!$O$11,TabOptUsSerr[],2,FALSE)","v":"Usinage, fourniture et pose"},{"$f":"IF(RELEVE_COTES!$K$15<>\"SANS\",RELEVE_COTES!$L$15&\" \"&RELEVE_COTES!$K$15,\"\")&IF(RELEVE_COTES!$N$15<>\"SANS\",\" / PMR: \"&RELEVE_COTES!$O$15&\" \"&RELEVE_COTES!$N$15,\"SANS\")","v":"SANS"},{"$f":"IF(RELEVE_COTES!$K$14 <> \"SANS\",RELEVE_COTES!$O$14&\" \"&RELEVE_COTES!$K$14,\"\")","v":"U+F "},{"$f":"IF(RELEVE_COTES!$K$13 <> \"SANS\",RELEVE_COTES!$O$13&\" \"&RELEVE_COTES!$K$13,\"SANS\")","v":"U+F "},{"$f":"IF(RELEVE_COTES!$I$20 = \"Huisserie Bois\",RELEVE_COTES!$R117,IF(RELEVE_COTES!$I$20 = \"Huisserie Banchée\",RELEVE_COTES!$M117,IF(RELEVE_COTES!$I$20 = \"Bâti Scellé\",RELEVE_COTES!$O117,\"\")))","v":""},{"$f":"RELEVE_COTES!$E$12&\" / \"&RELEVE_COTES!$E$13","v":" SANS /  SANS"},"INT","VERINS + VERINS","NON",{"$f":"VLOOKUP(RELEVE_COTES!$K$11,TabSerrureRef[],3,FALSE)","v":{"$error":"#N/A"}},{"$f":"VLOOKUP(RELEVE_COTES!$K$11,TabSerrureRef[],6,FALSE)","v":{"$error":"#N/A"}}]
[0,0,{"$f":"IF(RELEVE_COTES!$A118<>\"\",SUBSTITUTE(SUBSTITUTE(SUBSTITUTE(SUBSTITUTE(SUBSTITUTE(SUBSTITUTE(SUBSTITUTE(SUBSTITUTE(RELEVE_COTES!$A118,\" \",\"\"),\"-\",\"/\"),\".\",\"/\"),\"\\\",\"/\"),\",\",\"/\"),\"+\",\"_\"),\"&\",\"_\"),\"*\",\"/\"),\"\")","v":""},{"$f":"RELEVE_COTES!$B118","v":0},1,{"$f":"RELEVE_COTES!$C118","v":0},{"$f":"RELEVE_COTES!$D118","v":0},{"$f":"RELEVE_COTES!$E118","v":0},{"$f":"RELEVE_COTES!$F118","v":0},{"$f":"RELEVE_COTES!$G118","v":0},{"$f":"IF($D70=\"GP\",RELEVE_COTES!$I118,RELEVE_COTES!$H118)","v":0},{"$f":"IF($D70=\"GP\",RELEVE_COTES!$H118,RELEVE_COTES!$I118)","v":0},{"$f":"RELEVE_COTES!$J118","v":0},{"$f":"VLOOKUP(RELEVE_COTES!$K118,TabExistantRef1[],2,FALSE)","v":{"$error":"#N/A"}},{"$f":"IF($Y$1=\"BOIS\",RELEVE_COTES!$O118,0)","v":{"$error":"#N/A"}},{"$f":"IF($Y$1=\"BOIS\",RELEVE_COTES!$P118,0)","v":{"$error":"#N/A"}},{"$f":"IF($Y$1=\"BOIS\",RELEVE_COTES!$Q118,0)","v":{"$error":"#N/A"}},{"$error":"#N/A"},{"$f":"IF($Y$1=\"BANCHE\",RELEVE_COTES!$L118,0)","v":{"$error":"#N/A"}},{"$error":"#N/A"},{"$error":"#N/A"},{"$f":"IF($Y$1<>\"BANCHE\",RELEVE_COTES!$L118,0)","v":{"$error":"#N/A"}},{"$f":"IF($Y$1<>\"BANCHE\",RELEVE_COTES!$M118,20)","v":{"$error":"#N/A"}},{"$f":"IF($Y$1<>\"BANCHE\",RELEVE_COTES!$N118,0)","v":{"$error":"#N/A"}},{"$f":"RELEVE_COTES!$I$20","v":0},{"$f":"RELEVE_COTES!$C$11","v":0},{"$f":"RELEVE_COTES!$K$12","v":0},{"$f":"VLOOKUP(AA70,TabSeuilRef[],2,FALSE)","v":{"$error":"#N/A"}},0,{"$f":"\"Paumelles \"&RELEVE_COTES!$E$15","v":"Paumelles "},{"$f":"IF(RELEVE_COTES!$K$16=\"SANS\",RELEVE_COTES!$K$16,IF(RELEVE_COTES!$K$16=\"Intégré\",\"Intégré\",RELEVE_COTES!$K$16&\" / \"&VLOOKUP(RELEVE_COTES!$L$16,TabOptUsSerr[],2,FALSE)))","v":"SANS"},{"$f":"RELEVE_COTES!$K$11","v":0},{"$f":"\"OP: \"&IF(RELEVE_COTES!$E$12=\"Pr.Peint\",\"PP\",RELEVE_COTES!$G$12)&\"/FP: \"&IF(RELEVE_COTES!$E$13=\"Pr.Peint\",\"PP\",RELEVE_COTES!$G$13)","v":"OP: /FP: "},{"$f":"IF(RELEVE_COTES!$E$14=\"Pr.Peint\",\"PP\",VLOOKUP(RELEVE_COTES!$G$14,TabNuancHM[],2,FALSE))","v":"PP"},{"$error":"#N/A"},{"$f":"IF(RELEVE_COTES!$C$11 =\"R32S-R02\",\"OUI\",\"NON\")","v":"NON"},"NON","",{"$f":"IF(AJ70=\"OUI\",RELEVE_COTES!$N$16,\"\")","v":""},null,{"$f":"VLOOKUP(RELEVE_COTES!$O$11,TabOptUsSerr[],2,FALSE)","v":"Usinage, fourniture et pose"},{"$f":"IF(RELEVE_COTES!$K$15<>\"SANS\",RELEVE_COTES!$L$15&\" \"&RELEVE_COTES!$K$15,\"\")&IF(RELEVE_COTES!$N$15<>\"SANS\",\" / PMR: \"&RELEVE_COTES!$O$15&\" \"&RELEVE_COTES!$N$15,\"SANS\")","v":"SANS"},{"$f":"IF(RELEVE_COTES!$K$14 <> \"SANS\",RELEVE_COTES!$O$14&\" \"&RELEVE_COTES!$K$14,\"\")","v":"U+F "},{"$f":"IF(RELEVE_COTES!$K$13 <> \"SANS\",RELEVE_COTES!$O$13&\" \"&RELEVE_COTES!$K$13,\"SANS\")","v":"U+F "},{"$f":"IF(RELEVE_COTES!$I$20 = \"Huisserie Bois\",RELEVE_COTES!$R118,IF(RELEVE_COTES!$I$20 = \"Huisserie Banchée\",RELEVE_COTES!$M118,IF(RELEVE_COTES!$I$20 = \"Bâti Scellé\",RELEVE_COTES!$O118,\"\")))","v":""},{"$f":"RELEVE_COTES!$E$12&\" / \"&RELEVE_COTES!$E$13","v":" SANS /  SANS"},"INT","VERINS + VERINS","NON",{"$f":"VLOOKUP(RELEVE_COTES!$K$11,TabSerrureRef[],3,FALSE)","v":{"$error":"#N/A"}},{"$f":"VLOOKUP(RELEVE_COTES!$K$11,TabSerrureRef[],6,FALSE)","v":{"$error":"#N/A"}}]
[0,0,{"$f":"IF(RELEVE_COTES!$A119<>\"\",SUBSTITUTE(SUBSTITUTE(SUBSTITUTE(SUBSTITUTE(SUBSTITUTE(SUBSTITUTE(SUBSTITUTE(SUBSTITUTE(RELEVE_COTES!$A119,\" \",\"\"),\"-\",\"/\"),\".\",\"/\"),\"\\\",\"/\"),\",\",\"/\"),\"+\",\"_\"),\"&\",\"_\"),\"*\",\"/\"),\"\")","v":""},{"$f":"RELEVE_COTES!$B119","v":0},1,{"$f":"RELEVE_COTES!$C119","v":0},{"$f":"RELEVE_COTES!$D119","v":0},{"$f":"RELEVE_COTES!$E119","v":0},{"$f":"RELEVE_COTES!$F119","v":0},{"$f":"RELEVE_COTES!$G119","v":0},{"$f":"IF($D71=\"GP\",RELEVE_COTES!$I119,RELEVE_COTES!$H119)","v":0},{"$f":"IF($D71=\"GP\",RELEVE_COTES!$H119,RELEVE_COTES!$I119)","v":0},{"$f":"RELEVE_COTES!$J119","v":0},{"$f":"VLOOKUP(RELEVE_COTES!$K119,TabExistantRef1[],2,FALSE)","v":{"$error":"#N/A"}},{"$f":"IF($Y$1=\"BOIS\",RELEVE_COTES!$O119,0)","v":{"$error":"#N/A"}},{"$f":"IF($Y$1=\"BOIS\",RELEVE_COTES!$P119,0)","v":{"$error":"#N/A"}},{"$f":"IF($Y$1=\"BOIS\",RELEVE_COTES!$Q119,0)","v":{"$error":"#N/A"}},{"$error":"#N/A"},{"$f":"IF($Y$1=\"BANCHE\",RELEVE_COTES!$L119,0)","v":{"$error":"#N/A"}},{"$error":"#N/A"},{"$error":"#N/A"},{"$f":"IF($Y$1<>\"BANCHE\",RELEVE_COTES!$L119,0)","v":{"$error":"#N/A"}},{"$f":"IF($Y$1<>\"BANCHE\",RELEVE_COTES!$M119,20)","v":{"$error":"#N/A"}},{"$f":"IF($Y$1<>\"BANCHE\",RELEVE_COTES!$N119,0)","v":{"$error":"#N/A"}},{"$f":"RELEVE_COTES!$I$20","v":0},{"$f":"RELEVE_COTES!$C$11","v":0},{"$f":"RELEVE_COTES!$K$12","v":0},{"$f":"VLOOKUP(AA71,TabSeuilRef[],2,FALSE)","v":{"$error":"#N/A"}},0,{"$f":"\"Paumelles \"&RELEVE_COTES!$E$15","v":"Paumelles "},{"$f":"IF(RELEVE_COTES!$K$16=\"SANS\",RELEVE_COTES!$K$16,IF(RELEVE_COTES!$K$16=\"Intégré\",\"Intégré\",RELEVE_COTES!$K$16&\" / \"&VLOOKUP(RELEVE_COTES!$L$16,TabOptUsSerr[],2,FALSE)))","v":"SANS"},{"$f":"RELEVE_COTES!$K$11","v":0},{"$f":"\"OP: \"&IF(RELEVE_COTES!$E$12=\"Pr.Peint\",\"PP\",RELEVE_COTES!$G$12)&\"/FP: \"&IF(RELEVE_COTES!$E$13=\"Pr.Peint\",\"PP\",RELEVE_COTES!$G$13)","v":"OP: /FP: "},{"$f":"IF(RELEVE_COTES!$E$14=\"Pr.Peint\",\"PP\",VLOOKUP(RELEVE_COTES!$G$14,TabNuancHM[],2,FALSE))","v":"PP"},{"$error":"#N/A"},{"$f":"IF(RELEVE_COTES!$C$11 =\"R32S-R02\",\"OUI\",\"NON\")","v":"NON"},"NON","",{"$f":"IF(AJ71=\"OUI\",RELEVE_COTES!$N$16,\"\")","v":""},null,{"$f":"VLOOKUP(RELEVE_COTES!$O$11,TabOptUsSerr[],2,FALSE)","v":"Usinage, fourniture et pose"},{"$f":"IF(RELEVE_COTES!$K$15<>\"SANS\",RELEVE_COTES!$L$15&\" \"&RELEVE_COTES!$K$15,\"\")&IF(RELEVE_COTES!$N$15<>\"SANS\",\" / PMR: \"&RELEVE_COTES!$O$15&\" \"&RELEVE_COTES!$N$15,\"SANS\")","v":"SANS"},{"$f":"IF(RELEVE_COTES!$K$14 <> \"SANS\",RELEVE_COTES!$O$14&\" \"&RELEVE_COTES!$K$14,\"\")","v":"U+F "},{"$f":"IF(RELEVE_COTES!$K$13 <> \"SANS\",RELEVE_COTES!$O$13&\" \"&RELEVE_COTES!$K$13,\"SANS\")","v":"U+F "},{"$f":"IF(RELEVE_COTES!$I$20 = \"Huisserie Bois\",RELEVE_COTES!$R119,IF(RELEVE_COTES!$I$20 = \"Huisserie Banchée\",RELEVE_COTES!$M119,IF(RELEVE_COTES!$I$20 = \"Bâti Scellé\",RELEVE_COTES!$O119,\"\")))","v":""},{"$f":"RELEVE_COTES!$E$12&\" / \"&RELEVE_COTES!$E$13","v":" SANS /  SANS"},"INT","VERINS + VERINS","NON",{"$f":"VLOOKUP(RELEVE_COTES!$K$11,TabSerrureRef[],3,FALSE)","v":{"$error":"#N/A"}},{"$f":"VLOOKUP(RELEVE_COTES!$K$11,TabSerrureRef[],6,FALSE)","v":{"$error":"#N/A"}}]
[0,0,{"$f":"IF(RELEVE_COTES!$A120<>\"\",SUBSTITUTE(SUBSTITUTE(SUBSTITUTE(SUBSTITUTE(SUBSTITUTE(SUBSTITUTE(SUBSTITUTE(SUBSTITUTE(RELEVE_COTES!$A120,\" \",\"\"),\"-\",\"/\"),\".\",\"/\"),\"\\\",\"/\"),\",\",\"/\"),\"+\",\"_\"),\"&\",\"_\"),\"*\",\"/\"),\"\")","v":""},{"$f":"RELEVE_COTES!$B120","v":0},1,{"$f":"RELEVE_COTES!$C120","v":0},{"$f":"RELEVE_COTES!$D120","v":0},{"$f":"RELEVE_COTES!$E120","v":0},{"$f":"RELEVE_COTES!$F120","v":0},{"$f":"RELEVE_COTES!$G120","v":0},{"$f":"IF($D72=\"GP\",RELEVE_COTES!$I120,RELEVE_COTES!$H120)","v":0},{"$f":"IF($D72=\"GP\",RELEVE_COTES!$H120,RELEVE_COTES!$I120)","v":0},{"$f":"RELEVE_COTES!$J120","v":0},{"$f":"VLOOKUP(RELEVE_COTES!$K120,TabExistantRef1[],2,FALSE)","v":{"$error":"#N/A"}},{"$f":"IF($Y$1=\"BOIS\",RELEVE_COTES!$O120,0)","v":{"$error":"#N/A"}},{"$f":"IF($Y$1=\"BOIS\",RELEVE_COTES!$P120,0)","v":{"$error":"#N/A"}},{"$f":"IF($Y$1=\"BOIS\",RELEVE_COTES!$Q120,0)","v":{"$error":"#N/A"}},{"$error":"#N/A"},{"$f":"IF($Y$1=\"BANCHE\",RELEVE_COTES!$L120,0)","v":{"$error":"#N/A"}},{"$error":"#N/A"},{"$error":"#N/A"},{"$f":"IF($Y$1<>\"BANCHE\",RELEVE_COTES!$L120,0)","v":{"$error":"#N/A"}},{"$f":"IF($Y$1<>\"BANCHE\",RELEVE_COTES!$M120,20)","v":{"$error":"#N/A"}},{"$f":"IF($Y$1<>\"BANCHE\",RELEVE_COTES!$N120,0)","v":{"$error":"#N/A"}},{"$f":"RELEVE_COTES!$I$20","v":0},{"$f":"RELEVE_COTES!$C$11","v":0},{"$f":"RELEVE_COTES!$K$12","v":0},{"$f":"VLOOKUP(AA72,TabSeuilRef[],2,FALSE)","v":{"$error":"#N/A"}},0,{"$f":"\"Paumelles \"&RELEVE_COTES!$E$15","v":"Paumelles "},{"$f":"IF(RELEVE_COTES!$K$16=\"SANS\",RELEVE_COTES!$K$16,IF(RELEVE_COTES!$K$16=\"Intégré\",\"Intégré\",RELEVE_COTES!$K$16&\" / \"&VLOOKUP(RELEVE_COTES!$L$16,TabOptUsSerr[],2,FALSE)))","v":"SANS"},{"$f":"RELEVE_COTES!$K$11","v":0},{"$f":"\"OP: \"&IF(RELEVE_COTES!$E$12=\"Pr.Peint\",\"PP\",RELEVE_COTES!$G$12)&\"/FP: \"&IF(RELEVE_COTES!$E$13=\"Pr.Peint\",\"PP\",RELEVE_COTES!$G$13)","v":"OP: /FP: "},{"$f":"IF(RELEVE_COTES!$E$14=\"Pr.Peint\",\"PP\",VLOOKUP(RELEVE_COTES!$G$14,TabNuancHM[],2,FALSE))","v":"PP"},{"$error":"#N/A"},{"$f":"IF(RELEVE_COTES!$C$11 =\"R32S-R02\",\"OUI\",\"NON\")","v":"NON"},"NON","",{"$f":"IF(AJ72=\"OUI\",RELEVE_COTES!$N$16,\"\")","v":""},null,{"$f":"VLOOKUP(RELEVE_COTES!$O$11,TabOptUsSerr[],2,FALSE)","v":"Usinage, fourniture et pose"},{"$f":"IF(RELEVE_COTES!$K$15<>\"SANS\",RELEVE_COTES!$L$15&\" \"&RELEVE_COTES!$K$15,\"\")&IF(RELEVE_COTES!$N$15<>\"SANS\",\" / PMR: \"&RELEVE_COTES!$O$15&\" \"&RELEVE_COTES!$N$15,\"SANS\")","v":"SANS"},{"$f":"IF(RELEVE_COTES!$K$14 <> \"SANS\",RELEVE_COTES!$O$14&\" \"&RELEVE_COTES!$K$14,\"\")","v":"U+F "},{"$f":"IF(RELEVE_COTES!$K$13 <> \"SANS\",RELEVE_COTES!$O$13&\" \"&RELEVE_COTES!$K$13,\"SANS\")","v":"U+F "},{"$f":"IF(RELEVE_COTES!$I$20 = \"Huisserie Bois\",RELEVE_COTES!$R120,IF(RELEVE_COTES!$I$20 = \"Huisserie Banchée\",RELEVE_COTES!$M120,IF(RELEVE_COTES!$I$20 = \"Bâti Scellé\",RELEVE_COTES!$O120,\"\")))","v":""},{"$f":"RELEVE_COTES!$E$12&\" / \"&RELEVE_COTES!$E$13","v":" SANS /  SANS"},"INT","VERINS + VERINS","NON",{"$f":"VLOOKUP(RELEVE_COTES!$K$11,TabSerrureRef[],3,FALSE)","v":{"$error":"#N/A"}},{"$f":"VLOOKUP(RELEVE_COTES!$K$11,TabSerrureRef[],6,FALSE)","v":{"$error":"#N/A"}}]
[0,0,{"$f":"IF(RELEVE_COTES!$A121<>\"\",SUBSTITUTE(SUBSTITUTE(SUBSTITUTE(SUBSTITUTE(SUBSTITUTE(SUBSTITUTE(SUBSTITUTE(SUBSTITUTE(RELEVE_COTES!$A121,\" \",\"\"),\"-\",\"/\"),\".\",\"/\"),\"\\\",\"/\"),\",\",\"/\"),\"+\",\"_\"),\"&\",\"_\"),\"*\",\"/\"),\"\")","v":""},{"$f":"RELEVE_COTES!$B121","v":0},1,{"$f":"RELEVE_COTES!$C121","v":0},{"$f":"RELEVE_COTES!$D121","v":0},{"$f":"RELEVE_COTES!$E121","v":0},{"$f":"RELEVE_COTES!$F121","v":0},{"$f":"RELEVE_COTES!$G121","v":0},{"$f":"IF($D73=\"GP\",RELEVE_COTES!$I121,RELEVE_COTES!$H121)","v":0},{"$f":"IF($D73=\"GP\",RELEVE_COTES!$H121,RELEVE_COTES!$I121)","v":0},{"$f":"RELEVE_COTES!$J121","v":0},{"$f":"VLOOKUP(RELEVE_COTES!$K121,TabExistantRef1[],2,FALSE)","v":{"$error":"#N/A"}},{"$f":"IF($Y$1=\"BOIS\",RELEVE_COTES!$O121,0)","v":{"$error":"#N/A"}},{"$f":"IF($Y$1=\"BOIS\",RELEVE_COTES!$P121,0)","v":{"$error":"#N/A"}},{"$f":"IF($Y$1=\"BOIS\",RELEVE_COTES!$Q121,0)","v":{"$error":"#N/A"}},{"$error":"#N/A"},{"$f":"IF($Y$1=\"BANCHE\",RELEVE_COTES!$L121,0)","v":{"$error":"#N/A"}},{"$error":"#N/A"},{"$error":"#N/A"},{"$f":"IF($Y$1<>\"BANCHE\",RELEVE_COTES!$L121,0)","v":{"$error":"#N/A"}},{"$f":"IF($Y$1<>\"BANCHE\",RELEVE_COTES!$M121,20)","v":{"$error":"#N/A"}},{"$f":"IF($Y$1<>\"BANCHE\",RELEVE_COTES!$N121,0)","v":{"$error":"#N/A"}},{"$f":"RELEVE_COTES!$I$20","v":0},{"$f":"RELEVE_COTES!$C$11","v":0},{"$f":"RELEVE_COTES!$K$12","v":0},{"$f":"VLOOKUP(AA73,TabSeuilRef[],2,FALSE)","v":{"$error":"#N/A"}},0,{"$f":"\"Paumelles \"&RELEVE_COTES!$E$15","v":"Paumelles "},{"$f":"IF(RELEVE_COTES!$K$16=\"SANS\",RELEVE_COTES!$K$16,IF(RELEVE_COTES!$K$16=\"Intégré\",\"Intégré\",RELEVE_COTES!$K$16&\" / \"&VLOOKUP(RELEVE_COTES!$L$16,TabOptUsSerr[],2,FALSE)))","v":"SANS"},{"$f":"RELEVE_COTES!$K$11","v":0},{"$f":"\"OP: \"&IF(RELEVE_COTES!$E$12=\"Pr.Peint\",\"PP\",RELEVE_COTES!$G$12)&\"/FP: \"&IF(RELEVE_COTES!$E$13=\"Pr.Peint\",\"PP\",RELEVE_COTES!$G$13)","v":"OP: /FP: "},{"$f":"IF(RELEVE_COTES!$E$14=\"Pr.Peint\",\"PP\",VLOOKUP(RELEVE_COTES!$G$14,TabNuancHM[],2,FALSE))","v":"PP"},{"$error":"#N/A"},{"$f":"IF(RELEVE_COTES!$C$11 =\"R32S-R02\",\"OUI\",\"NON\")","v":"NON"},"NON","",{"$f":"IF(AJ73=\"OUI\",RELEVE_COTES!$N$16,\"\")","v":""},null,{"$f":"VLOOKUP(RELEVE_COTES!$O$11,TabOptUsSerr[],2,FALSE)","v":"Usinage, fourniture et pose"},{"$f":"IF(RELEVE_COTES!$K$15<>\"SANS\",RELEVE_COTES!$L$15&\" \"&RELEVE_COTES!$K$15,\"\")&IF(RELEVE_COTES!$N$15<>\"SANS\",\" / PMR: \"&RELEVE_COTES!$O$15&\" \"&RELEVE_COTES!$N$15,\"SANS\")","v":"SANS"},{"$f":"IF(RELEVE_COTES!$K$14 <> \"SANS\",RELEVE_COTES!$O$14&\" \"&RELEVE_COTES!$K$14,\"\")","v":"U+F "},{"$f":"IF(RELEVE_COTES!$K$13 <> \"SANS\",RELEVE_COTES!$O$13&\" \"&RELEVE_COTES!$K$13,\"SANS\")","v":"U+F "},{"$f":"IF(RELEVE_COTES!$I$20 = \"Huisserie Bois\",RELEVE_COTES!$R121,IF(RELEVE_COTES!$I$20 = \"Huisserie Banchée\",RELEVE_COTES!$M121,IF(RELEVE_COTES!$I$20 = \"Bâti Scellé\",RELEVE_COTES!$O121,\"\")))","v":""},{"$f":"RELEVE_COTES!$E$12&\" / \"&RELEVE_COTES!$E$13","v":" SANS /  SANS"},"INT","VERINS + VERINS","NON",{"$f":"VLOOKUP(RELEVE_COTES!$K$11,TabSerrureRef[],3,FALSE)","v":{"$error":"#N/A"}},{"$f":"VLOOKUP(RELEVE_COTES!$K$11,TabSerrureRef[],6,FALSE)","v":{"$error":"#N/A"}}]
[0,0,{"$f":"IF(RELEVE_COTES!$A122<>\"\",SUBSTITUTE(SUBSTITUTE(SUBSTITUTE(SUBSTITUTE(SUBSTITUTE(SUBSTITUTE(SUBSTITUTE(SUBSTITUTE(RELEVE_COTES!$A122,\" \",\"\"),\"-\",\"/\"),\".\",\"/\"),\"\\\",\"/\"),\",\",\"/\"),\"+\",\"_\"),\"&\",\"_\"),\"*\",\"/\"),\"\")","v":""},{"$f":"RELEVE_COTES!$B122","v":0},1,{"$f":"RELEVE_COTES!$C122","v":0},{"$f":"RELEVE_COTES!$D122","v":0},{"$f":"RELEVE_COTES!$E122","v":0},{"$f":"RELEVE_COTES!$F122","v":0},{"$f":"RELEVE_COTES!$G122","v":0},{"$f":"IF($D74=\"GP\",RELEVE_COTES!$I122,RELEVE_COTES!$H122)","v":0},{"$f":"IF($D74=\"GP\",RELEVE_COTES!$H122,RELEVE_COTES!$I122)","v":0},{"$f":"RELEVE_COTES!$J122","v":0},{"$f":"VLOOKUP(RELEVE_COTES!$K122,TabExistantRef1[],2,FALSE)","v":{"$error":"#N/A"}},{"$f":"IF($Y$1=\"BOIS\",RELEVE_COTES!$O122,0)","v":{"$error":"#N/A"}},{"$f":"IF($Y$1=\"BOIS\",RELEVE_COTES!$P122,0)","v":{"$error":"#N/A"}},{"$f":"IF($Y$1=\"BOIS\",RELEVE_COTES!$Q122,0)","v":{"$error":"#N/A"}},{"$error":"#N/A"},{"$f":"IF($Y$1=\"BANCHE\",RELEVE_COTES!$L122,0)","v":{"$error":"#N/A"}},{"$error":"#N/A"},{"$error":"#N/A"},{"$f":"IF($Y$1<>\"BANCHE\",RELEVE_COTES!$L122,0)","v":{"$error":"#N/A"}},{"$f":"IF($Y$1<>\"BANCHE\",RELEVE_COTES!$M122,20)","v":{"$error":"#N/A"}},{"$f":"IF($Y$1<>\"BANCHE\",RELEVE_COTES!$N122,0)","v":{"$error":"#N/A"}},{"$f":"RELEVE_COTES!$I$20","v":0},{"$f":"RELEVE_COTES!$C$11","v":0},{"$f":"RELEVE_COTES!$K$12","v":0},{"$f":"VLOOKUP(AA74,TabSeuilRef[],2,FALSE)","v":{"$error":"#N/A"}},0,{"$f":"\"Paumelles \"&RELEVE_COTES!$E$15","v":"Paumelles "},{"$f":"IF(RELEVE_COTES!$K$16=\"SANS\",RELEVE_COTES!$K$16,IF(RELEVE_COTES!$K$16=\"Intégré\",\"Intégré\",RELEVE_COTES!$K$16&\" / \"&VLOOKUP(RELEVE_COTES!$L$16,TabOptUsSerr[],2,FALSE)))","v":"SANS"},{"$f":"RELEVE_COTES!$K$11","v":0},{"$f":"\"OP: \"&IF(RELEVE_COTES!$E$12=\"Pr.Peint\",\"PP\",RELEVE_COTES!$G$12)&\"/FP: \"&IF(RELEVE_COTES!$E$13=\"Pr.Peint\",\"PP\",RELEVE_COTES!$G$13)","v":"OP: /FP: "},{"$f":"IF(RELEVE_COTES!$E$14=\"Pr.Peint\",\"PP\",VLOOKUP(RELEVE_COTES!$G$14,TabNuancHM[],2,FALSE))","v":"PP"},{"$error":"#N/A"},{"$f":"IF(RELEVE_COTES!$C$11 =\"R32S-R02\",\"OUI\",\"NON\")","v":"NON"},"NON","",{"$f":"IF(AJ74=\"OUI\",RELEVE_COTES!$N$16,\"\")","v":""},null,{"$f":"VLOOKUP(RELEVE_COTES!$O$11,TabOptUsSerr[],2,FALSE)","v":"Usinage, fourniture et pose"},{"$f":"IF(RELEVE_COTES!$K$15<>\"SANS\",RELEVE_COTES!$L$15&\" \"&RELEVE_COTES!$K$15,\"\")&IF(RELEVE_COTES!$N$15<>\"SANS\",\" / PMR: \"&RELEVE_COTES!$O$15&\" \"&RELEVE_COTES!$N$15,\"SANS\")","v":"SANS"},{"$f":"IF(RELEVE_COTES!$K$14 <> \"SANS\",RELEVE_COTES!$O$14&\" \"&RELEVE_COTES!$K$14,\"\")","v":"U+F "},{"$f":"IF(RELEVE_COTES!$K$13 <> \"SANS\",RELEVE_COTES!$O$13&\" \"&RELEVE_COTES!$K$13,\"SANS\")","v":"U+F "},{"$f":"IF(RELEVE_COTES!$I$20 = \"Huisserie Bois\",RELEVE_COTES!$R122,IF(RELEVE_COTES!$I$20 = \"Huisserie Banchée\",RELEVE_COTES!$M122,IF(RELEVE_COTES!$I$20 = \"Bâti Scellé\",RELEVE_COTES!$O122,\"\")))","v":""},{"$f":"RELEVE_COTES!$E$12&\" / \"&RELEVE_COTES!$E$13","v":" SANS /  SANS"},"INT","VERINS + VERINS","NON",{"$f":"VLOOKUP(RELEVE_COTES!$K$11,TabSerrureRef[],3,FALSE)","v":{"$error":"#N/A"}},{"$f":"VLOOKUP(RELEVE_COTES!$K$11,TabSerrureRef[],6,FALSE)","v":{"$error":"#N/A"}}]
[0,0,{"$f":"IF(RELEVE_COTES!$A123<>\"\",SUBSTITUTE(SUBSTITUTE(SUBSTITUTE(SUBSTITUTE(SUBSTITUTE(SUBSTITUTE(SUBSTITUTE(SUBSTITUTE(RELEVE_COTES!$A123,\" \",\"\"),\"-\",\"/\"),\".\",\"/\"),\"\\\",\"/\"),\",\",\"/\"),\"+\",\"_\"),\"&\",\"_\"),\"*\",\"/\"),\"\")","v":""},{"$f":"RELEVE_COTES!$B123","v":0},1,{"$f":"RELEVE_COTES!$C123","v":0},{"$f":"RELEVE_COTES!$D123","v":0},{"$f":"RELEVE_COTES!$E123","v":0},{"$f":"RELEVE_COTES!$F123","v":0},{"$f":"RELEVE_COTES!$G123","v":0},{"$f":"IF($D75=\"GP\",RELEVE_COTES!$I123,RELEVE_COTES!$H123)","v":0},{"$f":"IF($D75=\"GP\",RELEVE_COTES!$H123,RELEVE_COTES!$I123)","v":0},{"$f":"RELEVE_COTES!$J123","v":0},{"$f":"VLOOKUP(RELEVE_COTES!$K123,TabExistantRef1[],2,FALSE)","v":{"$error":"#N/A"}},{"$f":"IF($Y$1=\"BOIS\",RELEVE_COTES!$O123,0)","v":{"$error":"#N/A"}},{"$f":"IF($Y$1=\"BOIS\",RELEVE_COTES!$P123,0)","v":{"$error":"#N/A"}},{"$f":"IF($Y$1=\"BOIS\",RELEVE_COTES!$Q123,0)","v":{"$error":"#N/A"}},{"$error":"#N/A"},{"$f":"IF($Y$1=\"BANCHE\",RELEVE_COTES!$L123,0)","v":{"$error":"#N/A"}},{"$error":"#N/A"},{"$error":"#N/A"},{"$f":"IF($Y$1<>\"BANCHE\",RELEVE_COTES!$L123,0)","v":{"$error":"#N/A"}},{"$f":"IF($Y$1<>\"BANCHE\",RELEVE_COTES!$M123,20)","v":{"$error":"#N/A"}},{"$f":"IF($Y$1<>\"BANCHE\",RELEVE_COTES!$N123,0)","v":{"$error":"#N/A"}},{"$f":"RELEVE_COTES!$I$20","v":0},{"$f":"RELEVE_COTES!$C$11","v":0},{"$f":"RELEVE_COTES!$K$12","v":0},{"$f":"VLOOKUP(AA75,TabSeuilRef[],2,FALSE)","v":{"$error":"#N/A"}},0,{"$f":"\"Paumelles \"&RELEVE_COTES!$E$15","v":"Paumelles "},{"$f":"IF(RELEVE_COTES!$K$16=\"SANS\",RELEVE_COTES!$K$16,IF(RELEVE_COTES!$K$16=\"Intégré\",\"Intégré\",RELEVE_COTES!$K$16&\" / \"&VLOOKUP(RELEVE_COTES!$L$16,TabOptUsSerr[],2,FALSE)))","v":"SANS"},{"$f":"RELEVE_COTES!$K$11","v":0},{"$f":"\"OP: \"&IF(RELEVE_COTES!$E$12=\"Pr.Peint\",\"PP\",RELEVE_COTES!$G$12)&\"/FP: \"&IF(RELEVE_COTES!$E$13=\"Pr.Peint\",\"PP\",RELEVE_COTES!$G$13)","v":"OP: /FP: "},{"$f":"IF(RELEVE_COTES!$E$14=\"Pr.Peint\",\"PP\",VLOOKUP(RELEVE_COTES!$G$14,TabNuancHM[],2,FALSE))","v":"PP"},{"$error":"#N/A"},{"$f":"IF(RELEVE_COTES!$C$11 =\"R32S-R02\",\"OUI\",\"NON\")","v":"NON"},"NON","",{"$f":"IF(AJ75=\"OUI\",RELEVE_COTES!$N$16,\"\")","v":""},null,{"$f":"VLOOKUP(RELEVE_COTES!$O$11,TabOptUsSerr[],2,FALSE)","v":"Usinage, fourniture et pose"},{"$f":"IF(RELEVE_COTES!$K$15<>\"SANS\",RELEVE_COTES!$L$15&\" \"&RELEVE_COTES!$K$15,\"\")&IF(RELEVE_COTES!$N$15<>\"SANS\",\" / PMR: \"&RELEVE_COTES!$O$15&\" \"&RELEVE_COTES!$N$15,\"SANS\")","v":"SANS"},{"$f":"IF(RELEVE_COTES!$K$14 <> \"SANS\",RELEVE_COTES!$O$14&\" \"&RELEVE_COTES!$K$14,\"\")","v":"U+F "},{"$f":"IF(RELEVE_COTES!$K$13 <> \"SANS\",RELEVE_COTES!$O$13&\" \"&RELEVE_COTES!$K$13,\"SANS\")","v":"U+F "},{"$f":"IF(RELEVE_COTES!$I$20 = \"Huisserie Bois\",RELEVE_COTES!$R123,IF(RELEVE_COTES!$I$20 = \"Huisserie Banchée\",RELEVE_COTES!$M123,IF(RELEVE_COTES!$I$20 = \"Bâti Scellé\",RELEVE_COTES!$O123,\"\")))","v":""},{"$f":"RELEVE_COTES!$E$12&\" / \"&RELEVE_COTES!$E$13","v":" SANS /  SANS"},"INT","VERINS + VERINS","NON",{"$f":"VLOOKUP(RELEVE_COTES!$K$11,TabSerrureRef[],3,FALSE)","v":{"$error":"#N/A"}},{"$f":"VLOOKUP(RELEVE_COTES!$K$11,TabSerrureRef[],6,FALSE)","v":{"$error":"#N/A"}}]
[{"$f":"G76+I76","v":0},{"$f":"F76+I76+I76","v":0},{"$f":"IF(RELEVE_COTES!$A124<>\"\",SUBSTITUTE(SUBSTITUTE(SUBSTITUTE(SUBSTITUTE(SUBSTITUTE(SUBSTITUTE(SUBSTITUTE(SUBSTITUTE(RELEVE_COTES!$A124,\" \",\"\"),\"-\",\"/\"),\".\",\"/\"),\"\\\",\"/\"),\",\",\"/\"),\"+\",\"_\"),\"&\",\"_\"),\"*\",\"/\"),\"\")","v":""},{"$f":"RELEVE_COTES!$B124","v":0},1,{"$f":"RELEVE_COTES!$C124","v":0},{"$f":"RELEVE_COTES!$D124","v":0},{"$f":"RELEVE_COTES!$E124","v":0},{"$f":"RELEVE_COTES!$F124","v":0},{"$f":"RELEVE_COTES!$G124","v":0},{"$f":"IF($D76=\"GP\",RELEVE_COTES!$I124,RELEVE_COTES!$H124)","v":0},{"$f":"IF($D76=\"GP\",RELEVE_COTES!$H124,RELEVE_COTES!$I124)","v":0},{"$f":"RELEVE_COTES!$J124","v":0},{"$f":"VLOOKUP(RELEVE_COTES!$K124,TabExistantRef1[],2,FALSE)","v":{"$error":"#N/A"}},{"$f":"IF($Y$1=\"BOIS\",RELEVE_COTES!$O124,0)","v":{"$error":"#N/A"}},{"$f":"IF($Y$1=\"BOIS\",RELEVE_COTES!$P124,0)","v":{"$error":"#N/A"}},{"$f":"IF($Y$1=\"BOIS\",RELEVE_COTES!$Q124,0)","v":{"$error":"#N/A"}},{"$f":"IF($Y$1=\"BANCHE\",$J76,0)","v":{"$error":"#N/A"}},{"$f":"IF($Y$1=\"BANCHE\",RELEVE_COTES!$L124,0)","v":{"$error":"#N/A"}},{"$f":"IF($Y$1=\"BANCHE\",10,0)","v":{"$error":"#N/A"}},{"$f":"IF($Y$1<>\"BANCHE\",$J76,0)","v":{"$error":"#N/A"}},{"$f":"IF($Y$1<>\"BANCHE\",RELEVE_COTES!$L124,0)","v":{"$error":"#N/A"}},{"$f":"IF($Y$1<>\"BANCHE\",RELEVE_COTES!$M124,20)","v":{"$error":"#N/A"}},{"$f":"IF($Y$1<>\"BANCHE\",RELEVE_COTES!$N124,0)","v":{"$error":"#N/A"}},{"$f":"RELEVE_COTES!$I$20","v":0},{"$f":"RELEVE_COTES!$C$11","v":0},{"$f":"RELEVE_COTES!$K$12","v":0},{"$f":"VLOOKUP(AA76,TabSeuilRef[],2,FALSE)","v":{"$error":"#N/A"}},0,{"$f":"\"Paumelles \"&RELEVE_COTES!$E$15","v":"Paumelles "},{"$f":"IF(RELEVE_COTES!$K$16=\"SANS\",RELEVE_COTES!$K$16,IF(RELEVE_COTES!$K$16=\"Intégré\",\"Intégré\",RELEVE_COTES!$K$16&\" / \"&VLOOKUP(RELEVE_COTES!$L$16,TabOptUsSerr[],2,FALSE)))","v":"SANS"},{"$f":"RELEVE_COTES!$K$11","v":0},{"$f":"\"OP: \"&IF(RELEVE_COTES!$E$12=\"Pr.Peint\",\"PP\",RELEVE_COTES!$G$12)&\"/FP: \"&IF(RELEVE_COTES!$E$13=\"Pr.Peint\",\"PP\",RELEVE_COTES!$G$13)","v":"OP: /FP: "},{"$f":"IF(RELEVE_COTES!$E$14=\"Pr.Peint\",\"PP\",VLOOKUP(RELEVE_COTES!$G$14,TabNuancHM[],2,FALSE))","v":"PP"},{"$error":"#N/A"},{"$f":"IF(RELEVE_COTES!$C$11 =\"R32S-R02\",\"OUI\",\"NON\")","v":"NON"},"NON","",{"$f":"IF(AJ76=\"OUI\",RELEVE_COTES!$N$16,\"\")","v":""},null,{"$f":"VLOOKUP(RELEVE_COTES!$O$11,TabOptUsSerr[],2,FALSE)","v":"Usinage, fourniture et pose"},{"$f":"IF(RELEVE_COTES!$K$15<>\"SANS\",RELEVE_COTES!$L$15&\" \"&RELEVE_COTES!$K$15,\"\")&IF(RELEVE_COTES!$N$15<>\"SANS\",\" / PMR: \"&RELEVE_COTES!$O$15&\" \"&RELEVE_COTES!$N$15,\"SANS\")","v":"SANS"},{"$f":"IF(RELEVE_COTES!$K$14 <> \"SANS\",RELEVE_COTES!$O$14&\" \"&RELEVE_COTES!$K$14,\"\")","v":"U+F "},{"$f":"IF(RELEVE_COTES!$K$13 <> \"SANS\",RELEVE_COTES!$O$13&\" \"&RELEVE_COTES!$K$13,\"SANS\")","v":"U+F "},{"$f":"IF(RELEVE_COTES!$I$20 = \"Huisserie Bois\",RELEVE_COTES!$R124,IF(RELEVE_COTES!$I$20 = \"Huisserie Banchée\",RELEVE_COTES!$M124,IF(RELEVE_COTES!$I$20 = \"Bâti Scellé\",RELEVE_COTES!$O124,\"\")))","v":""},{"$f":"RELEVE_COTES!$E$12&\" / \"&RELEVE_COTES!$E$13","v":" SANS /  SANS"},"INT","VERINS + VERINS","NON",{"$f":"VLOOKUP(RELEVE_COTES!$K$11,TabSerrureRef[],3,FALSE)","v":{"$error":"#N/A"}},{"$f":"VLOOKUP(RELEVE_COTES!$K$11,TabSerrureRef[],6,FALSE)","v":{"$error":"#N/A"}}]
[0,0,{"$f":"IF(RELEVE_COTES!$A125<>\"\",SUBSTITUTE(SUBSTITUTE(SUBSTITUTE(SUBSTITUTE(SUBSTITUTE(SUBSTITUTE(SUBSTITUTE(SUBSTITUTE(RELEVE_COTES!$A125,\" \",\"\"),\"-\",\"/\"),\".\",\"/\"),\"\\\",\"/\"),\",\",\"/\"),\"+\",\"_\"),\"&\",\"_\"),\"*\",\"/\"),\"\")","v":""},{"$f":"RELEVE_COTES!$B125","v":0},1,{"$f":"RELEVE_COTES!$C125","v":0},{"$f":"RELEVE_COTES!$D125","v":0},{"$f":"RELEVE_COTES!$E125","v":0},{"$f":"RELEVE_COTES!$F125","v":0},{"$f":"RELEVE_COTES!$G125","v":0},{"$f":"IF($D77=\"GP\",RELEVE_COTES!$I125,RELEVE_COTES!$H125)","v":0},{"$f":"IF($D77=\"GP\",RELEVE_COTES!$H125,RELEVE_COTES!$I125)","v":0},{"$f":"RELEVE_COTES!$J125","v":0},{"$f":"VLOOKUP(RELEVE_COTES!$K125,TabExistantRef1[],2,FALSE)","v":{"$error":"#N/A"}},{"$f":"IF($Y$1=\"BOIS\",RELEVE_COTES!$O125,0)","v":{"$error":"#N/A"}},{"$f":"IF($Y$1=\"BOIS\",RELEVE_COTES!$P125,0)","v":{"$error":"#N/A"}},{"$f":"IF($Y$1=\"BOIS\",RELEVE_COTES!$Q125,0)","v":{"$error":"#N/A"}},{"$error":"#N/A"},{"$f":"IF($Y$1=\"BANCHE\",RELEVE_COTES!$L125,0)","v":{"$error":"#N/A"}},{"$error":"#N/A"},{"$error":"#N/A"},{"$f":"IF($Y$1<>\"BANCHE\",RELEVE_COTES!$L125,0)","v":{"$error":"#N/A"}},{"$f":"IF($Y$1<>\"BANCHE\",RELEVE_COTES!$M125,20)","v":{"$error":"#N/A"}},{"$f":"IF($Y$1<>\"BANCHE\",RELEVE_COTES!$N125,0)","v":{"$error":"#N/A"}},{"$f":"RELEVE_COTES!$I$20","v":0},{"$f":"RELEVE_COTES!$C$11","v":0},{"$f":"RELEVE_COTES!$K$12","v":0},{"$f":"VLOOKUP(AA77,TabSeuilRef[],2,FALSE)","v":{"$error":"#N/A"}},0,{"$f":"\"Paumelles \"&RELEVE_COTES!$E$15","v":"Paumelles "},{"$f":"IF(RELEVE_COTES!$K$16=\"SANS\",RELEVE_COTES!$K$16,IF(RELEVE_COTES!$K$16=\"Intégré\",\"Intégré\",RELEVE_COTES!$K$16&\" / \"&VLOOKUP(RELEVE_COTES!$L$16,TabOptUsSerr[],2,FALSE)))","v":"SANS"},{"$f":"RELEVE_COTES!$K$11","v":0},{"$f":"\"OP: \"&IF(RELEVE_COTES!$E$12=\"Pr.Peint\",\"PP\",RELEVE_COTES!$G$12)&\"/FP: \"&IF(RELEVE_COTES!$E$13=\"Pr.Peint\",\"PP\",RELEVE_COTES!$G$13)","v":"OP: /FP: "},{"$f":"IF(RELEVE_COTES!$E$14=\"Pr.Peint\",\"PP\",VLOOKUP(RELEVE_COTES!$G$14,TabNuancHM[],2,FALSE))","v":"PP"},{"$error":"#N/A"},{"$f":"IF(RELEVE_COTES!$C$11 =\"R32S-R02\",\"OUI\",\"NON\")","v":"NON"},"NON","",{"$f":"IF(AJ77=\"OUI\",RELEVE_COTES!$N$16,\"\")","v":""},null,{"$f":"VLOOKUP(RELEVE_COTES!$O$11,TabOptUsSerr[],2,FALSE)","v":"Usinage, fourniture et pose"},{"$f":"IF(RELEVE_COTES!$K$15<>\"SANS\",RELEVE_COTES!$L$15&\" \"&RELEVE_COTES!$K$15,\"\")&IF(RELEVE_COTES!$N$15<>\"SANS\",\" / PMR: \"&RELEVE_COTES!$O$15&\" \"&RELEVE_COTES!$N$15,\"SANS\")","v":"SANS"},{"$f":"IF(RELEVE_COTES!$K$14 <> \"SANS\",RELEVE_COTES!$O$14&\" \"&RELEVE_COTES!$K$14,\"\")","v":"U+F "},{"$f":"IF(RELEVE_COTES!$K$13 <> \"SANS\",RELEVE_COTES!$O$13&\" \"&RELEVE_COTES!$K$13,\"SANS\")","v":"U+F "},{"$f":"IF(RELEVE_COTES!$I$20 = \"Huisserie Bois\",RELEVE_COTES!$R125,IF(RELEVE_COTES!$I$20 = \"Huisserie Banchée\",RELEVE_COTES!$M125,IF(RELEVE_COTES!$I$20 = \"Bâti Scellé\",RELEVE_COTES!$O125,\"\")))","v":""},{"$f":"RELEVE_COTES!$E$12&\" / \"&RELEVE_COTES!$E$13","v":" SANS /  SANS"},"INT","VERINS + VERINS","NON",{"$f":"VLOOKUP(RELEVE_COTES!$K$11,TabSerrureRef[],3,FALSE)","v":{"$error":"#N/A"}},{"$f":"VLOOKUP(RELEVE_COTES!$K$11,TabSerrureRef[],6,FALSE)","v":{"$error":"#N/A"}}]
[0,0,{"$f":"IF(RELEVE_COTES!$A126<>\"\",SUBSTITUTE(SUBSTITUTE(SUBSTITUTE(SUBSTITUTE(SUBSTITUTE(SUBSTITUTE(SUBSTITUTE(SUBSTITUTE(RELEVE_COTES!$A126,\" \",\"\"),\"-\",\"/\"),\".\",\"/\"),\"\\\",\"/\"),\",\",\"/\"),\"+\",\"_\"),\"&\",\"_\"),\"*\",\"/\"),\"\")","v":""},{"$f":"RELEVE_COTES!$B126","v":0},1,{"$f":"RELEVE_COTES!$C126","v":0},{"$f":"RELEVE_COTES!$D126","v":0},{"$f":"RELEVE_COTES!$E126","v":0},{"$f":"RELEVE_COTES!$F126","v":0},{"$f":"RELEVE_COTES!$G126","v":0},{"$f":"IF($D78=\"GP\",RELEVE_COTES!$I126,RELEVE_COTES!$H126)","v":0},{"$f":"IF($D78=\"GP\",RELEVE_COTES!$H126,RELEVE_COTES!$I126)","v":0},{"$f":"RELEVE_COTES!$J126","v":0},{"$f":"VLOOKUP(RELEVE_COTES!$K126,TabExistantRef1[],2,FALSE)","v":{"$error":"#N/A"}},{"$f":"IF($Y$1=\"BOIS\",RELEVE_COTES!$O126,0)","v":{"$error":"#N/A"}},{"$f":"IF($Y$1=\"BOIS\",RELEVE_COTES!$P126,0)","v":{"$error":"#N/A"}},{"$f":"IF($Y$1=\"BOIS\",RELEVE_COTES!$Q126,0)","v":{"$error":"#N/A"}},{"$error":"#N/A"},{"$f":"IF($Y$1=\"BANCHE\",RELEVE_COTES!$L126,0)","v":{"$error":"#N/A"}},{"$error":"#N/A"},{"$error":"#N/A"},{"$f":"IF($Y$1<>\"BANCHE\",RELEVE_COTES!$L126,0)","v":{"$error":"#N/A"}},{"$f":"IF($Y$1<>\"BANCHE\",RELEVE_COTES!$M126,20)","v":{"$error":"#N/A"}},{"$f":"IF($Y$1<>\"BANCHE\",RELEVE_COTES!$N126,0)","v":{"$error":"#N/A"}},{"$f":"RELEVE_COTES!$I$20","v":0},{"$f":"RELEVE_COTES!$C$11","v":0},{"$f":"RELEVE_COTES!$K$12","v":0},{"$f":"VLOOKUP(AA78,TabSeuilRef[],2,FALSE)","v":{"$error":"#N/A"}},0,{"$f":"\"Paumelles \"&RELEVE_COTES!$E$15","v":"Paumelles "},{"$f":"IF(RELEVE_COTES!$K$16=\"SANS\",RELEVE_COTES!$K$16,IF(RELEVE_COTES!$K$16=\"Intégré\",\"Intégré\",RELEVE_COTES!$K$16&\" / \"&VLOOKUP(RELEVE_COTES!$L$16,TabOptUsSerr[],2,FALSE)))","v":"SANS"},{"$f":"RELEVE_COTES!$K$11","v":0},{"$f":"\"OP: \"&IF(RELEVE_COTES!$E$12=\"Pr.Peint\",\"PP\",RELEVE_COTES!$G$12)&\"/FP: \"&IF(RELEVE_COTES!$E$13=\"Pr.Peint\",\"PP\",RELEVE_COTES!$G$13)","v":"OP: /FP: "},{"$f":"IF(RELEVE_COTES!$E$14=\"Pr.Peint\",\"PP\",VLOOKUP(RELEVE_COTES!$G$14,TabNuancHM[],2,FALSE))","v":"PP"},{"$error":"#N/A"},{"$f":"IF(RELEVE_COTES!$C$11 =\"R32S-R02\",\"OUI\",\"NON\")","v":"NON"},"NON","",{"$f":"IF(AJ78=\"OUI\",RELEVE_COTES!$N$16,\"\")","v":""},null,{"$f":"VLOOKUP(RELEVE_COTES!$O$11,TabOptUsSerr[],2,FALSE)","v":"Usinage, fourniture et pose"},{"$f":"IF(RELEVE_COTES!$K$15<>\"SANS\",RELEVE_COTES!$L$15&\" \"&RELEVE_COTES!$K$15,\"\")&IF(RELEVE_COTES!$N$15<>\"SANS\",\" / PMR: \"&RELEVE_COTES!$O$15&\" \"&RELEVE_COTES!$N$15,\"SANS\")","v":"SANS"},{"$f":"IF(RELEVE_COTES!$K$14 <> \"SANS\",RELEVE_COTES!$O$14&\" \"&RELEVE_COTES!$K$14,\"\")","v":"U+F "},{"$f":"IF(RELEVE_COTES!$K$13 <> \"SANS\",RELEVE_COTES!$O$13&\" \"&RELEVE_COTES!$K$13,\"SANS\")","v":"U+F "},{"$f":"IF(RELEVE_COTES!$I$20 = \"Huisserie Bois\",RELEVE_COTES!$R126,IF(RELEVE_COTES!$I$20 = \"Huisserie Banchée\",RELEVE_COTES!$M126,IF(RELEVE_COTES!$I$20 = \"Bâti Scellé\",RELEVE_COTES!$O126,\"\")))","v":""},{"$f":"RELEVE_COTES!$E$12&\" / \"&RELEVE_COTES!$E$13","v":" SANS /  SANS"},"INT","VERINS + VERINS","NON",{"$f":"VLOOKUP(RELEVE_COTES!$K$11,TabSerrureRef[],3,FALSE)","v":{"$error":"#N/A"}},{"$f":"VLOOKUP(RELEVE_COTES!$K$11,TabSerrureRef[],6,FALSE)","v":{"$error":"#N/A"}}]
[0,0,{"$f":"IF(RELEVE_COTES!$A127<>\"\",SUBSTITUTE(SUBSTITUTE(SUBSTITUTE(SUBSTITUTE(SUBSTITUTE(SUBSTITUTE(SUBSTITUTE(SUBSTITUTE(RELEVE_COTES!$A127,\" \",\"\"),\"-\",\"/\"),\".\",\"/\"),\"\\\",\"/\"),\",\",\"/\"),\"+\",\"_\"),\"&\",\"_\"),\"*\",\"/\"),\"\")","v":""},{"$f":"RELEVE_COTES!$B127","v":0},1,{"$f":"RELEVE_COTES!$C127","v":0},{"$f":"RELEVE_COTES!$D127","v":0},{"$f":"RELEVE_COTES!$E127","v":0},{"$f":"RELEVE_COTES!$F127","v":0},{"$f":"RELEVE_COTES!$G127","v":0},{"$f":"IF($D79=\"GP\",RELEVE_COTES!$I127,RELEVE_COTES!$H127)","v":0},{"$f":"IF($D79=\"GP\",RELEVE_COTES!$H127,RELEVE_COTES!$I127)","v":0},{"$f":"RELEVE_COTES!$J127","v":0},{"$f":"VLOOKUP(RELEVE_COTES!$K127,TabExistantRef1[],2,FALSE)","v":{"$error":"#N/A"}},{"$f":"IF($Y$1=\"BOIS\",RELEVE_COTES!$O127,0)","v":{"$error":"#N/A"}},{"$f":"IF($Y$1=\"BOIS\",RELEVE_COTES!$P127,0)","v":{"$error":"#N/A"}},{"$f":"IF($Y$1=\"BOIS\",RELEVE_COTES!$Q127,0)","v":{"$error":"#N/A"}},{"$error":"#N/A"},{"$f":"IF($Y$1=\"BANCHE\",RELEVE_COTES!$L127,0)","v":{"$error":"#N/A"}},{"$error":"#N/A"},{"$error":"#N/A"},{"$f":"IF($Y$1<>\"BANCHE\",RELEVE_COTES!$L127,0)","v":{"$error":"#N/A"}},{"$f":"IF($Y$1<>\"BANCHE\",RELEVE_COTES!$M127,20)","v":{"$error":"#N/A"}},{"$f":"IF($Y$1<>\"BANCHE\",RELEVE_COTES!$N127,0)","v":{"$error":"#N/A"}},{"$f":"RELEVE_COTES!$I$20","v":0},{"$f":"RELEVE_COTES!$C$11","v":0},{"$f":"RELEVE_COTES!$K$12","v":0},{"$f":"VLOOKUP(AA79,TabSeuilRef[],2,FALSE)","v":{"$error":"#N/A"}},0,{"$f":"\"Paumelles \"&RELEVE_COTES!$E$15","v":"Paumelles "},{"$f":"IF(RELEVE_COTES!$K$16=\"SANS\",RELEVE_COTES!$K$16,IF(RELEVE_COTES!$K$16=\"Intégré\",\"Intégré\",RELEVE_COTES!$K$16&\" / \"&VLOOKUP(RELEVE_COTES!$L$16,TabOptUsSerr[],2,FALSE)))","v":"SANS"},{"$f":"RELEVE_COTES!$K$11","v":0},{"$f":"\"OP: \"&IF(RELEVE_COTES!$E$12=\"Pr.Peint\",\"PP\",RELEVE_COTES!$G$12)&\"/FP: \"&IF(RELEVE_COTES!$E$13=\"Pr.Peint\",\"PP\",RELEVE_COTES!$G$13)","v":"OP: /FP: "},{"$f":"IF(RELEVE_COTES!$E$14=\"Pr.Peint\",\"PP\",VLOOKUP(RELEVE_COTES!$G$14,TabNuancHM[],2,FALSE))","v":"PP"},{"$error":"#N/A"},{"$f":"IF(RELEVE_COTES!$C$11 =\"R32S-R02\",\"OUI\",\"NON\")","v":"NON"},"NON","",{"$f":"IF(AJ79=\"OUI\",RELEVE_COTES!$N$16,\"\")","v":""},null,{"$f":"VLOOKUP(RELEVE_COTES!$O$11,TabOptUsSerr[],2,FALSE)","v":"Usinage, fourniture et pose"},{"$f":"IF(RELEVE_COTES!$K$15<>\"SANS\",RELEVE_COTES!$L$15&\" \"&RELEVE_COTES!$K$15,\"\")&IF(RELEVE_COTES!$N$15<>\"SANS\",\" / PMR: \"&RELEVE_COTES!$O$15&\" \"&RELEVE_COTES!$N$15,\"SANS\")","v":"SANS"},{"$f":"IF(RELEVE_COTES!$K$14 <> \"SANS\",RELEVE_COTES!$O$14&\" \"&RELEVE_COTES!$K$14,\"\")","v":"U+F "},{"$f":"IF(RELEVE_COTES!$K$13 <> \"SANS\",RELEVE_COTES!$O$13&\" \"&RELEVE_COTES!$K$13,\"SANS\")","v":"U+F "},{"$f":"IF(RELEVE_COTES!$I$20 = \"Huisserie Bois\",RELEVE_COTES!$R127,IF(RELEVE_COTES!$I$20 = \"Huisserie Banchée\",RELEVE_COTES!$M127,IF(RELEVE_COTES!$I$20 = \"Bâti Scellé\",RELEVE_COTES!$O127,\"\")))","v":""},{"$f":"RELEVE_COTES!$E$12&\" / \"&RELEVE_COTES!$E$13","v":" SANS /  SANS"},"INT","VERINS + VERINS","NON",{"$f":"VLOOKUP(RELEVE_COTES!$K$11,TabSerrureRef[],3,FALSE)","v":{"$error":"#N/A"}},{"$f":"VLOOKUP(RELEVE_COTES!$K$11,TabSerrureRef[],6,FALSE)","v":{"$error":"#N/A"}}]
[0,0,{"$f":"IF(RELEVE_COTES!$A128<>\"\",SUBSTITUTE(SUBSTITUTE(SUBSTITUTE(SUBSTITUTE(SUBSTITUTE(SUBSTITUTE(SUBSTITUTE(SUBSTITUTE(RELEVE_COTES!$A128,\" \",\"\"),\"-\",\"/\"),\".\",\"/\"),\"\\\",\"/\"),\",\",\"/\"),\"+\",\"_\"),\"&\",\"_\"),\"*\",\"/\"),\"\")","v":""},{"$f":"RELEVE_COTES!$B128","v":0},1,{"$f":"RELEVE_COTES!$C128","v":0},{"$f":"RELEVE_COTES!$D128","v":0},{"$f":"RELEVE_COTES!$E128","v":0},{"$f":"RELEVE_COTES!$F128","v":0},{"$f":"RELEVE_COTES!$G128","v":0},{"$f":"IF($D80=\"GP\",RELEVE_COTES!$I128,RELEVE_COTES!$H128)","v":0},{"$f":"IF($D80=\"GP\",RELEVE_COTES!$H128,RELEVE_COTES!$I128)","v":0},{"$f":"RELEVE_COTES!$J128","v":0},{"$f":"VLOOKUP(RELEVE_COTES!$K128,TabExistantRef1[],2,FALSE)","v":{"$error":"#N/A"}},{"$f":"IF($Y$1=\"BOIS\",RELEVE_COTES!$O128,0)","v":{"$error":"#N/A"}},{"$f":"IF($Y$1=\"BOIS\",RELEVE_COTES!$P128,0)","v":{"$error":"#N/A"}},{"$f":"IF($Y$1=\"BOIS\",RELEVE_COTES!$Q128,0)","v":{"$error":"#N/A"}},{"$error":"#N/A"},{"$f":"IF($Y$1=\"BANCHE\",RELEVE_COTES!$L128,0)","v":{"$error":"#N/A"}},{"$error":"#N/A"},{"$error":"#N/A"},{"$f":"IF($Y$1<>\"BANCHE\",RELEVE_COTES!$L128,0)","v":{"$error":"#N/A"}},{"$f":"IF($Y$1<>\"BANCHE\",RELEVE_COTES!$M128,20)","v":{"$error":"#N/A"}},{"$f":"IF($Y$1<>\"BANCHE\",RELEVE_COTES!$N128,0)","v":{"$error":"#N/A"}},{"$f":"RELEVE_COTES!$I$20","v":0},{"$f":"RELEVE_COTES!$C$11","v":0},{"$f":"RELEVE_COTES!$K$12","v":0},{"$f":"VLOOKUP(AA80,TabSeuilRef[],2,FALSE)","v":{"$error":"#N/A"}},0,{"$f":"\"Paumelles \"&RELEVE_COTES!$E$15","v":"Paumelles "},{"$f":"IF(RELEVE_COTES!$K$16=\"SANS\",RELEVE_COTES!$K$16,IF(RELEVE_COTES!$K$16=\"Intégré\",\"Intégré\",RELEVE_COTES!$K$16&\" / \"&VLOOKUP(RELEVE_COTES!$L$16,TabOptUsSerr[],2,FALSE)))","v":"SANS"},{"$f":"RELEVE_COTES!$K$11","v":0},{"$f":"\"OP: \"&IF(RELEVE_COTES!$E$12=\"Pr.Peint\",\"PP\",RELEVE_COTES!$G$12)&\"/FP: \"&IF(RELEVE_COTES!$E$13=\"Pr.Peint\",\"PP\",RELEVE_COTES!$G$13)","v":"OP: /FP: "},{"$f":"IF(RELEVE_COTES!$E$14=\"Pr.Peint\",\"PP\",VLOOKUP(RELEVE_COTES!$G$14,TabNuancHM[],2,FALSE))","v":"PP"},{"$error":"#N/A"},{"$f":"IF(RELEVE_COTES!$C$11 =\"R32S-R02\",\"OUI\",\"NON\")","v":"NON"},"NON","",{"$f":"IF(AJ80=\"OUI\",RELEVE_COTES!$N$16,\"\")","v":""},null,{"$f":"VLOOKUP(RELEVE_COTES!$O$11,TabOptUsSerr[],2,FALSE)","v":"Usinage, fourniture et pose"},{"$f":"IF(RELEVE_COTES!$K$15<>\"SANS\",RELEVE_COTES!$L$15&\" \"&RELEVE_COTES!$K$15,\"\")&IF(RELEVE_COTES!$N$15<>\"SANS\",\" / PMR: \"&RELEVE_COTES!$O$15&\" \"&RELEVE_COTES!$N$15,\"SANS\")","v":"SANS"},{"$f":"IF(RELEVE_COTES!$K$14 <> \"SANS\",RELEVE_COTES!$O$14&\" \"&RELEVE_COTES!$K$14,\"\")","v":"U+F "},{"$f":"IF(RELEVE_COTES!$K$13 <> \"SANS\",RELEVE_COTES!$O$13&\" \"&RELEVE_COTES!$K$13,\"SANS\")","v":"U+F "},{"$f":"IF(RELEVE_COTES!$I$20 = \"Huisserie Bois\",RELEVE_COTES!$R128,IF(RELEVE_COTES!$I$20 = \"Huisserie Banchée\",RELEVE_COTES!$M128,IF(RELEVE_COTES!$I$20 = \"Bâti Scellé\",RELEVE_COTES!$O128,\"\")))","v":""},{"$f":"RELEVE_COTES!$E$12&\" / \"&RELEVE_COTES!$E$13","v":" SANS /  SANS"},"INT","VERINS + VERINS","NON",{"$f":"VLOOKUP(RELEVE_COTES!$K$11,TabSerrureRef[],3,FALSE)","v":{"$error":"#N/A"}},{"$f":"VLOOKUP(RELEVE_COTES!$K$11,TabSerrureRef[],6,FALSE)","v":{"$error":"#N/A"}}]
[0,0,{"$f":"IF(RELEVE_COTES!$A129<>\"\",SUBSTITUTE(SUBSTITUTE(SUBSTITUTE(SUBSTITUTE(SUBSTITUTE(SUBSTITUTE(SUBSTITUTE(SUBSTITUTE(RELEVE_COTES!$A129,\" \",\"\"),\"-\",\"/\"),\".\",\"/\"),\"\\\",\"/\"),\",\",\"/\"),\"+\",\"_\"),\"&\",\"_\"),\"*\",\"/\"),\"\")","v":""},{"$f":"RELEVE_COTES!$B129","v":0},1,{"$f":"RELEVE_COTES!$C129","v":0},{"$f":"RELEVE_COTES!$D129","v":0},{"$f":"RELEVE_COTES!$E129","v":0},{"$f":"RELEVE_COTES!$F129","v":0},{"$f":"RELEVE_COTES!$G129","v":0},{"$f":"IF($D81=\"GP\",RELEVE_COTES!$I129,RELEVE_COTES!$H129)","v":0},{"$f":"IF($D81=\"GP\",RELEVE_COTES!$H129,RELEVE_COTES!$I129)","v":0},{"$f":"RELEVE_COTES!$J129","v":0},{"$f":"VLOOKUP(RELEVE_COTES!$K129,TabExistantRef1[],2,FALSE)","v":{"$error":"#N/A"}},{"$f":"IF($Y$1=\"BOIS\",RELEVE_COTES!$O129,0)","v":{"$error":"#N/A"}},{"$f":"IF($Y$1=\"BOIS\",RELEVE_COTES!$P129,0)","v":{"$error":"#N/A"}},{"$f":"IF($Y$1=\"BOIS\",RELEVE_COTES!$Q129,0)","v":{"$error":"#N/A"}},{"$error":"#N/A"},{"$f":"IF($Y$1=\"BANCHE\",RELEVE_COTES!$L129,0)","v":{"$error":"#N/A"}},{"$error":"#N/A"},{"$error":"#N/A"},{"$f":"IF($Y$1<>\"BANCHE\",RELEVE_COTES!$L129,0)","v":{"$error":"#N/A"}},{"$f":"IF($Y$1<>\"BANCHE\",RELEVE_COTES!$M129,20)","v":{"$error":"#N/A"}},{"$f":"IF($Y$1<>\"BANCHE\",RELEVE_COTES!$N129,0)","v":{"$error":"#N/A"}},{"$f":"RELEVE_COTES!$I$20","v":0},{"$f":"RELEVE_COTES!$C$11","v":0},{"$f":"RELEVE_COTES!$K$12","v":0},{"$f":"VLOOKUP(AA81,TabSeuilRef[],2,FALSE)","v":{"$error":"#N/A"}},0,{"$f":"\"Paumelles \"&RELEVE_COTES!$E$15","v":"Paumelles "},{"$f":"IF(RELEVE_COTES!$K$16=\"SANS\",RELEVE_COTES!$K$16,IF(RELEVE_COTES!$K$16=\"Intégré\",\"Intégré\",RELEVE_COTES!$K$16&\" / \"&VLOOKUP(RELEVE_COTES!$L$16,TabOptUsSerr[],2,FALSE)))","v":"SANS"},{"$f":"RELEVE_COTES!$K$11","v":0},{"$f":"\"OP: \"&IF(RELEVE_COTES!$E$12=\"Pr.Peint\",\"PP\",RELEVE_COTES!$G$12)&\"/FP: \"&IF(RELEVE_COTES!$E$13=\"Pr.Peint\",\"PP\",RELEVE_COTES!$G$13)","v":"OP: /FP: "},{"$f":"IF(RELEVE_COTES!$E$14=\"Pr.Peint\",\"PP\",VLOOKUP(RELEVE_COTES!$G$14,TabNuancHM[],2,FALSE))","v":"PP"},{"$error":"#N/A"},{"$f":"IF(RELEVE_COTES!$C$11 =\"R32S-R02\",\"OUI\",\"NON\")","v":"NON"},"NON","",{"$f":"IF(AJ81=\"OUI\",RELEVE_COTES!$N$16,\"\")","v":""},null,{"$f":"VLOOKUP(RELEVE_COTES!$O$11,TabOptUsSerr[],2,FALSE)","v":"Usinage, fourniture et pose"},{"$f":"IF(RELEVE_COTES!$K$15<>\"SANS\",RELEVE_COTES!$L$15&\" \"&RELEVE_COTES!$K$15,\"\")&IF(RELEVE_COTES!$N$15<>\"SANS\",\" / PMR: \"&RELEVE_COTES!$O$15&\" \"&RELEVE_COTES!$N$15,\"SANS\")","v":"SANS"},{"$f":"IF(RELEVE_COTES!$K$14 <> \"SANS\",RELEVE_COTES!$O$14&\" \"&RELEVE_COTES!$K$14,\"\")","v":"U+F "},{"$f":"IF(RELEVE_COTES!$K$13 <> \"SANS\",RELEVE_COTES!$O$13&\" \"&RELEVE_COTES!$K$13,\"SANS\")","v":"U+F "},{"$f":"IF(RELEVE_COTES!$I$20 = \"Huisserie Bois\",RELEVE_COTES!$R129,IF(RELEVE_COTES!$I$20 = \"Huisserie Banchée\",RELEVE_COTES!$M129,IF(RELEVE_COTES!$I$20 = \"Bâti Scellé\",RELEVE_COTES!$O129,\"\")))","v":""},{"$f":"RELEVE_COTES!$E$12&\" / \"&RELEVE_COTES!$E$13","v":" SANS /  SANS"},"INT","VERINS + VERINS","NON",{"$f":"VLOOKUP(RELEVE_COTES!$K$11,TabSerrureRef[],3,FALSE)","v":{"$error":"#N/A"}},{"$f":"VLOOKUP(RELEVE_COTES!$K$11,TabSerrureRef[],6,FALSE)","v":{"$error":"#N/A"}}]
[0,0,{"$f":"IF(RELEVE_COTES!$A130<>\"\",SUBSTITUTE(SUBSTITUTE(SUBSTITUTE(SUBSTITUTE(SUBSTITUTE(SUBSTITUTE(SUBSTITUTE(SUBSTITUTE(RELEVE_COTES!$A130,\" \",\"\"),\"-\",\"/\"),\".\",\"/\"),\"\\\",\"/\"),\",\",\"/\"),\"+\",\"_\"),\"&\",\"_\"),\"*\",\"/\"),\"\")","v":""},{"$f":"RELEVE_COTES!$B130","v":0},1,{"$f":"RELEVE_COTES!$C130","v":0},{"$f":"RELEVE_COTES!$D130","v":0},{"$f":"RELEVE_COTES!$E130","v":0},{"$f":"RELEVE_COTES!$F130","v":0},{"$f":"RELEVE_COTES!$G130","v":0},{"$f":"IF($D82=\"GP\",RELEVE_COTES!$I130,RELEVE_COTES!$H130)","v":0},{"$f":"IF($D82=\"GP\",RELEVE_COTES!$H130,RELEVE_COTES!$I130)","v":0},{"$f":"RELEVE_COTES!$J130","v":0},{"$f":"VLOOKUP(RELEVE_COTES!$K130,TabExistantRef1[],2,FALSE)","v":{"$error":"#N/A"}},{"$f":"IF($Y$1=\"BOIS\",RELEVE_COTES!$O130,0)","v":{"$error":"#N/A"}},{"$f":"IF($Y$1=\"BOIS\",RELEVE_COTES!$P130,0)","v":{"$error":"#N/A"}},{"$f":"IF($Y$1=\"BOIS\",RELEVE_COTES!$Q130,0)","v":{"$error":"#N/A"}},{"$error":"#N/A"},{"$f":"IF($Y$1=\"BANCHE\",RELEVE_COTES!$L130,0)","v":{"$error":"#N/A"}},{"$error":"#N/A"},{"$error":"#N/A"},{"$f":"IF($Y$1<>\"BANCHE\",RELEVE_COTES!$L130,0)","v":{"$error":"#N/A"}},{"$f":"IF($Y$1<>\"BANCHE\",RELEVE_COTES!$M130,20)","v":{"$error":"#N/A"}},{"$f":"IF($Y$1<>\"BANCHE\",RELEVE_COTES!$N130,0)","v":{"$error":"#N/A"}},{"$f":"RELEVE_COTES!$I$20","v":0},{"$f":"RELEVE_COTES!$C$11","v":0},{"$f":"RELEVE_COTES!$K$12","v":0},{"$f":"VLOOKUP(AA82,TabSeuilRef[],2,FALSE)","v":{"$error":"#N/A"}},0,{"$f":"\"Paumelles \"&RELEVE_COTES!$E$15","v":"Paumelles "},{"$f":"IF(RELEVE_COTES!$K$16=\"SANS\",RELEVE_COTES!$K$16,IF(RELEVE_COTES!$K$16=\"Intégré\",\"Intégré\",RELEVE_COTES!$K$16&\" / \"&VLOOKUP(RELEVE_COTES!$L$16,TabOptUsSerr[],2,FALSE)))","v":"SANS"},{"$f":"RELEVE_COTES!$K$11","v":0},{"$f":"\"OP: \"&IF(RELEVE_COTES!$E$12=\"Pr.Peint\",\"PP\",RELEVE_COTES!$G$12)&\"/FP: \"&IF(RELEVE_COTES!$E$13=\"Pr.Peint\",\"PP\",RELEVE_COTES!$G$13)","v":"OP: /FP: "},{"$f":"IF(RELEVE_COTES!$E$14=\"Pr.Peint\",\"PP\",VLOOKUP(RELEVE_COTES!$G$14,TabNuancHM[],2,FALSE))","v":"PP"},{"$error":"#N/A"},{"$f":"IF(RELEVE_COTES!$C$11 =\"R32S-R02\",\"OUI\",\"NON\")","v":"NON"},"NON","",{"$f":"IF(AJ82=\"OUI\",RELEVE_COTES!$N$16,\"\")","v":""},null,{"$f":"VLOOKUP(RELEVE_COTES!$O$11,TabOptUsSerr[],2,FALSE)","v":"Usinage, fourniture et pose"},{"$f":"IF(RELEVE_COTES!$K$15<>\"SANS\",RELEVE_COTES!$L$15&\" \"&RELEVE_COTES!$K$15,\"\")&IF(RELEVE_COTES!$N$15<>\"SANS\",\" / PMR: \"&RELEVE_COTES!$O$15&\" \"&RELEVE_COTES!$N$15,\"SANS\")","v":"SANS"},{"$f":"IF(RELEVE_COTES!$K$14 <> \"SANS\",RELEVE_COTES!$O$14&\" \"&RELEVE_COTES!$K$14,\"\")","v":"U+F "},{"$f":"IF(RELEVE_COTES!$K$13 <> \"SANS\",RELEVE_COTES!$O$13&\" \"&RELEVE_COTES!$K$13,\"SANS\")","v":"U+F "},{"$f":"IF(RELEVE_COTES!$I$20 = \"Huisserie Bois\",RELEVE_COTES!$R130,IF(RELEVE_COTES!$I$20 = \"Huisserie Banchée\",RELEVE_COTES!$M130,IF(RELEVE_COTES!$I$20 = \"Bâti Scellé\",RELEVE_COTES!$O130,\"\")))","v":""},{"$f":"RELEVE_COTES!$E$12&\" / \"&RELEVE_COTES!$E$13","v":" SANS /  SANS"},"INT","VERINS + VERINS","NON",{"$f":"VLOOKUP(RELEVE_COTES!$K$11,TabSerrureRef[],3,FALSE)","v":{"$error":"#N/A"}},{"$f":"VLOOKUP(RELEVE_COTES!$K$11,TabSerrureRef[],6,FALSE)","v":{"$error":"#N/A"}}]
[0,0,{"$f":"IF(RELEVE_COTES!$A131<>\"\",SUBSTITUTE(SUBSTITUTE(SUBSTITUTE(SUBSTITUTE(SUBSTITUTE(SUBSTITUTE(SUBSTITUTE(SUBSTITUTE(RELEVE_COTES!$A131,\" \",\"\"),\"-\",\"/\"),\".\",\"/\"),\"\\\",\"/\"),\",\",\"/\"),\"+\",\"_\"),\"&\",\"_\"),\"*\",\"/\"),\"\")","v":""},{"$f":"RELEVE_COTES!$B131","v":0},1,{"$f":"RELEVE_COTES!$C131","v":0},{"$f":"RELEVE_COTES!$D131","v":0},{"$f":"RELEVE_COTES!$E131","v":0},{"$f":"RELEVE_COTES!$F131","v":0},{"$f":"RELEVE_COTES!$G131","v":0},{"$f":"IF($D83=\"GP\",RELEVE_COTES!$I131,RELEVE_COTES!$H131)","v":0},{"$f":"IF($D83=\"GP\",RELEVE_COTES!$H131,RELEVE_COTES!$I131)","v":0},{"$f":"RELEVE_COTES!$J131","v":0},{"$f":"VLOOKUP(RELEVE_COTES!$K131,TabExistantRef1[],2,FALSE)","v":{"$error":"#N/A"}},{"$f":"IF($Y$1=\"BOIS\",RELEVE_COTES!$O131,0)","v":{"$error":"#N/A"}},{"$f":"IF($Y$1=\"BOIS\",RELEVE_COTES!$P131,0)","v":{"$error":"#N/A"}},{"$f":"IF($Y$1=\"BOIS\",RELEVE_COTES!$Q131,0)","v":{"$error":"#N/A"}},{"$error":"#N/A"},{"$f":"IF($Y$1=\"BANCHE\",RELEVE_COTES!$L131,0)","v":{"$error":"#N/A"}},{"$error":"#N/A"},{"$error":"#N/A"},{"$f":"IF($Y$1<>\"BANCHE\",RELEVE_COTES!$L131,0)","v":{"$error":"#N/A"}},{"$f":"IF($Y$1<>\"BANCHE\",RELEVE_COTES!$M131,20)","v":{"$error":"#N/A"}},{"$f":"IF($Y$1<>\"BANCHE\",RELEVE_COTES!$N131,0)","v":{"$error":"#N/A"}},{"$f":"RELEVE_COTES!$I$20","v":0},{"$f":"RELEVE_COTES!$C$11","v":0},{"$f":"RELEVE_COTES!$K$12","v":0},{"$f":"VLOOKUP(AA83,TabSeuilRef[],2,FALSE)","v":{"$error":"#N/A"}},0,{"$f":"\"Paumelles \"&RELEVE_COTES!$E$15","v":"Paumelles "},{"$f":"IF(RELEVE_COTES!$K$16=\"SANS\",RELEVE_COTES!$K$16,IF(RELEVE_COTES!$K$16=\"Intégré\",\"Intégré\",RELEVE_COTES!$K$16&\" / \"&VLOOKUP(RELEVE_COTES!$L$16,TabOptUsSerr[],2,FALSE)))","v":"SANS"},{"$f":"RELEVE_COTES!$K$11","v":0},{"$f":"\"OP: \"&IF(RELEVE_COTES!$E$12=\"Pr.Peint\",\"PP\",RELEVE_COTES!$G$12)&\"/FP: \"&IF(RELEVE_COTES!$E$13=\"Pr.Peint\",\"PP\",RELEVE_COTES!$G$13)","v":"OP: /FP: "},{"$f":"IF(RELEVE_COTES!$E$14=\"Pr.Peint\",\"PP\",VLOOKUP(RELEVE_COTES!$G$14,TabNuancHM[],2,FALSE))","v":"PP"},{"$error":"#N/A"},{"$f":"IF(RELEVE_COTES!$C$11 =\"R32S-R02\",\"OUI\",\"NON\")","v":"NON"},"NON","",{"$f":"IF(AJ83=\"OUI\",RELEVE_COTES!$N$16,\"\")","v":""},null,{"$f":"VLOOKUP(RELEVE_COTES!$O$11,TabOptUsSerr[],2,FALSE)","v":"Usinage, fourniture et pose"},{"$f":"IF(RELEVE_COTES!$K$15<>\"SANS\",RELEVE_COTES!$L$15&\" \"&RELEVE_COTES!$K$15,\"\")&IF(RELEVE_COTES!$N$15<>\"SANS\",\" / PMR: \"&RELEVE_COTES!$O$15&\" \"&RELEVE_COTES!$N$15,\"SANS\")","v":"SANS"},{"$f":"IF(RELEVE_COTES!$K$14 <> \"SANS\",RELEVE_COTES!$O$14&\" \"&RELEVE_COTES!$K$14,\"\")","v":"U+F "},{"$f":"IF(RELEVE_COTES!$K$13 <> \"SANS\",RELEVE_COTES!$O$13&\" \"&RELEVE_COTES!$K$13,\"SANS\")","v":"U+F "},{"$f":"IF(RELEVE_COTES!$I$20 = \"Huisserie Bois\",RELEVE_COTES!$R131,IF(RELEVE_COTES!$I$20 = \"Huisserie Banchée\",RELEVE_COTES!$M131,IF(RELEVE_COTES!$I$20 = \"Bâti Scellé\",RELEVE_COTES!$O131,\"\")))","v":""},{"$f":"RELEVE_COTES!$E$12&\" / \"&RELEVE_COTES!$E$13","v":" SANS /  SANS"},"INT","VERINS + VERINS","NON",{"$f":"VLOOKUP(RELEVE_COTES!$K$11,TabSerrureRef[],3,FALSE)","v":{"$error":"#N/A"}},{"$f":"VLOOKUP(RELEVE_COTES!$K$11,TabSerrureRef[],6,FALSE)","v":{"$error":"#N/A"}}]
[0,0,{"$f":"IF(RELEVE_COTES!$A132<>\"\",SUBSTITUTE(SUBSTITUTE(SUBSTITUTE(SUBSTITUTE(SUBSTITUTE(SUBSTITUTE(SUBSTITUTE(SUBSTITUTE(RELEVE_COTES!$A132,\" \",\"\"),\"-\",\"/\"),\".\",\"/\"),\"\\\",\"/\"),\",\",\"/\"),\"+\",\"_\"),\"&\",\"_\"),\"*\",\"/\"),\"\")","v":""},{"$f":"RELEVE_COTES!$B132","v":0},1,{"$f":"RELEVE_COTES!$C132","v":0},{"$f":"RELEVE_COTES!$D132","v":0},{"$f":"RELEVE_COTES!$E132","v":0},{"$f":"RELEVE_COTES!$F132","v":0},{"$f":"RELEVE_COTES!$G132","v":0},{"$f":"IF($D84=\"GP\",RELEVE_COTES!$I132,RELEVE_COTES!$H132)","v":0},{"$f":"IF($D84=\"GP\",RELEVE_COTES!$H132,RELEVE_COTES!$I132)","v":0},{"$f":"RELEVE_COTES!$J132","v":0},{"$f":"VLOOKUP(RELEVE_COTES!$K132,TabExistantRef1[],2,FALSE)","v":{"$error":"#N/A"}},{"$f":"IF($Y$1=\"BOIS\",RELEVE_COTES!$O132,0)","v":{"$error":"#N/A"}},{"$f":"IF($Y$1=\"BOIS\",RELEVE_COTES!$P132,0)","v":{"$error":"#N/A"}},{"$f":"IF($Y$1=\"BOIS\",RELEVE_COTES!$Q132,0)","v":{"$error":"#N/A"}},{"$error":"#N/A"},{"$f":"IF($Y$1=\"BANCHE\",RELEVE_COTES!$L132,0)","v":{"$error":"#N/A"}},{"$error":"#N/A"},{"$error":"#N/A"},{"$f":"IF($Y$1<>\"BANCHE\",RELEVE_COTES!$L132,0)","v":{"$error":"#N/A"}},{"$f":"IF($Y$1<>\"BANCHE\",RELEVE_COTES!$M132,20)","v":{"$error":"#N/A"}},{"$f":"IF($Y$1<>\"BANCHE\",RELEVE_COTES!$N132,0)","v":{"$error":"#N/A"}},{"$f":"RELEVE_COTES!$I$20","v":0},{"$f":"RELEVE_COTES!$C$11","v":0},{"$f":"RELEVE_COTES!$K$12","v":0},{"$f":"VLOOKUP(AA84,TabSeuilRef[],2,FALSE)","v":{"$error":"#N/A"}},0,{"$f":"\"Paumelles \"&RELEVE_COTES!$E$15","v":"Paumelles "},{"$f":"IF(RELEVE_COTES!$K$16=\"SANS\",RELEVE_COTES!$K$16,IF(RELEVE_COTES!$K$16=\"Intégré\",\"Intégré\",RELEVE_COTES!$K$16&\" / \"&VLOOKUP(RELEVE_COTES!$L$16,TabOptUsSerr[],2,FALSE)))","v":"SANS"},{"$f":"RELEVE_COTES!$K$11","v":0},{"$f":"\"OP: \"&IF(RELEVE_COTES!$E$12=\"Pr.Peint\",\"PP\",RELEVE_COTES!$G$12)&\"/FP: \"&IF(RELEVE_COTES!$E$13=\"Pr.Peint\",\"PP\",RELEVE_COTES!$G$13)","v":"OP: /FP: "},{"$f":"IF(RELEVE_COTES!$E$14=\"Pr.Peint\",\"PP\",VLOOKUP(RELEVE_COTES!$G$14,TabNuancHM[],2,FALSE))","v":"PP"},{"$error":"#N/A"},{"$f":"IF(RELEVE_COTES!$C$11 =\"R32S-R02\",\"OUI\",\"NON\")","v":"NON"},"NON","",{"$f":"IF(AJ84=\"OUI\",RELEVE_COTES!$N$16,\"\")","v":""},null,{"$f":"VLOOKUP(RELEVE_COTES!$O$11,TabOptUsSerr[],2,FALSE)","v":"Usinage, fourniture et pose"},{"$f":"IF(RELEVE_COTES!$K$15<>\"SANS\",RELEVE_COTES!$L$15&\" \"&RELEVE_COTES!$K$15,\"\")&IF(RELEVE_COTES!$N$15<>\"SANS\",\" / PMR: \"&RELEVE_COTES!$O$15&\" \"&RELEVE_COTES!$N$15,\"SANS\")","v":"SANS"},{"$f":"IF(RELEVE_COTES!$K$14 <> \"SANS\",RELEVE_COTES!$O$14&\" \"&RELEVE_COTES!$K$14,\"\")","v":"U+F "},{"$f":"IF(RELEVE_COTES!$K$13 <> \"SANS\",RELEVE_COTES!$O$13&\" \"&RELEVE_COTES!$K$13,\"SANS\")","v":"U+F "},{"$f":"IF(RELEVE_COTES!$I$20 = \"Huisserie Bois\",RELEVE_COTES!$R132,IF(RELEVE_COTES!$I$20 = \"Huisserie Banchée\",RELEVE_COTES!$M132,IF(RELEVE_COTES!$I$20 = \"Bâti Scellé\",RELEVE_COTES!$O132,\"\")))","v":""},{"$f":"RELEVE_COTES!$E$12&\" / \"&RELEVE_COTES!$E$13","v":" SANS /  SANS"},"INT","VERINS + VERINS","NON",{"$f":"VLOOKUP(RELEVE_COTES!$K$11,TabSerrureRef[],3,FALSE)","v":{"$error":"#N/A"}},{"$f":"VLOOKUP(RELEVE_COTES!$K$11,TabSerrureRef[],6,FALSE)","v":{"$error":"#N/A"}}]
[0,0,{"$f":"IF(RELEVE_COTES!$A133<>\"\",SUBSTITUTE(SUBSTITUTE(SUBSTITUTE(SUBSTITUTE(SUBSTITUTE(SUBSTITUTE(SUBSTITUTE(SUBSTITUTE(RELEVE_COTES!$A133,\" \",\"\"),\"-\",\"/\"),\".\",\"/\"),\"\\\",\"/\"),\",\",\"/\"),\"+\",\"_\"),\"&\",\"_\"),\"*\",\"/\"),\"\")","v":""},{"$f":"RELEVE_COTES!$B133","v":0},1,{"$f":"RELEVE_COTES!$C133","v":0},{"$f":"RELEVE_COTES!$D133","v":0},{"$f":"RELEVE_COTES!$E133","v":0},{"$f":"RELEVE_COTES!$F133","v":0},{"$f":"RELEVE_COTES!$G133","v":0},{"$f":"IF($D85=\"GP\",RELEVE_COTES!$I133,RELEVE_COTES!$H133)","v":0},{"$f":"IF($D85=\"GP\",RELEVE_COTES!$H133,RELEVE_COTES!$I133)","v":0},{"$f":"RELEVE_COTES!$J133","v":0},{"$f":"VLOOKUP(RELEVE_COTES!$K133,TabExistantRef1[],2,FALSE)","v":{"$error":"#N/A"}},{"$f":"IF($Y$1=\"BOIS\",RELEVE_COTES!$O133,0)","v":{"$error":"#N/A"}},{"$f":"IF($Y$1=\"BOIS\",RELEVE_COTES!$P133,0)","v":{"$error":"#N/A"}},{"$f":"IF($Y$1=\"BOIS\",RELEVE_COTES!$Q133,0)","v":{"$error":"#N/A"}},{"$error":"#N/A"},{"$f":"IF($Y$1=\"BANCHE\",RELEVE_COTES!$L133,0)","v":{"$error":"#N/A"}},{"$error":"#N/A"},{"$error":"#N/A"},{"$f":"IF($Y$1<>\"BANCHE\",RELEVE_COTES!$L133,0)","v":{"$error":"#N/A"}},{"$f":"IF($Y$1<>\"BANCHE\",RELEVE_COTES!$M133,20)","v":{"$error":"#N/A"}},{"$f":"IF($Y$1<>\"BANCHE\",RELEVE_COTES!$N133,0)","v":{"$error":"#N/A"}},{"$f":"RELEVE_COTES!$I$20","v":0},{"$f":"RELEVE_COTES!$C$11","v":0},{"$f":"RELEVE_COTES!$K$12","v":0},{"$f":"VLOOKUP(AA85,TabSeuilRef[],2,FALSE)","v":{"$error":"#N/A"}},0,{"$f":"\"Paumelles \"&RELEVE_COTES!$E$15","v":"Paumelles "},{"$f":"IF(RELEVE_COTES!$K$16=\"SANS\",RELEVE_COTES!$K$16,IF(RELEVE_COTES!$K$16=\"Intégré\",\"Intégré\",RELEVE_COTES!$K$16&\" / \"&VLOOKUP(RELEVE_COTES!$L$16,TabOptUsSerr[],2,FALSE)))","v":"SANS"},{"$f":"RELEVE_COTES!$K$11","v":0},{"$f":"\"OP: \"&IF(RELEVE_COTES!$E$12=\"Pr.Peint\",\"PP\",RELEVE_COTES!$G$12)&\"/FP: \"&IF(RELEVE_COTES!$E$13=\"Pr.Peint\",\"PP\",RELEVE_COTES!$G$13)","v":"OP: /FP: "},{"$f":"IF(RELEVE_COTES!$E$14=\"Pr.Peint\",\"PP\",VLOOKUP(RELEVE_COTES!$G$14,TabNuancHM[],2,FALSE))","v":"PP"},{"$error":"#N/A"},{"$f":"IF(RELEVE_COTES!$C$11 =\"R32S-R02\",\"OUI\",\"NON\")","v":"NON"},"NON","",{"$f":"IF(AJ85=\"OUI\",RELEVE_COTES!$N$16,\"\")","v":""},null,{"$f":"VLOOKUP(RELEVE_COTES!$O$11,TabOptUsSerr[],2,FALSE)","v":"Usinage, fourniture et pose"},{"$f":"IF(RELEVE_COTES!$K$15<>\"SANS\",RELEVE_COTES!$L$15&\" \"&RELEVE_COTES!$K$15,\"\")&IF(RELEVE_COTES!$N$15<>\"SANS\",\" / PMR: \"&RELEVE_COTES!$O$15&\" \"&RELEVE_COTES!$N$15,\"SANS\")","v":"SANS"},{"$f":"IF(RELEVE_COTES!$K$14 <> \"SANS\",RELEVE_COTES!$O$14&\" \"&RELEVE_COTES!$K$14,\"\")","v":"U+F "},{"$f":"IF(RELEVE_COTES!$K$13 <> \"SANS\",RELEVE_COTES!$O$13&\" \"&RELEVE_COTES!$K$13,\"SANS\")","v":"U+F "},{"$f":"IF(RELEVE_COTES!$I$20 = \"Huisserie Bois\",RELEVE_COTES!$R133,IF(RELEVE_COTES!$I$20 = \"Huisserie Banchée\",RELEVE_COTES!$M133,IF(RELEVE_COTES!$I$20 = \"Bâti Scellé\",RELEVE_COTES!$O133,\"\")))","v":""},{"$f":"RELEVE_COTES!$E$12&\" / \"&RELEVE_COTES!$E$13","v":" SANS /  SANS"},"INT","VERINS + VERINS","NON",{"$f":"VLOOKUP(RELEVE_COTES!$K$11,TabSerrureRef[],3,FALSE)","v":{"$error":"#N/A"}},{"$f":"VLOOKUP(RELEVE_COTES!$K$11,TabSerrureRef[],6,FALSE)","v":{"$error":"#N/A"}}]
[0,0,{"$f":"IF(RELEVE_COTES!$A134<>\"\",SUBSTITUTE(SUBSTITUTE(SUBSTITUTE(SUBSTITUTE(SUBSTITUTE(SUBSTITUTE(SUBSTITUTE(SUBSTITUTE(RELEVE_COTES!$A134,\" \",\"\"),\"-\",\"/\"),\".\",\"/\"),\"\\\",\"/\"),\",\",\"/\"),\"+\",\"_\"),\"&\",\"_\"),\"*\",\"/\"),\"\")","v":""},{"$f":"RELEVE_COTES!$B134","v":0},1,{"$f":"RELEVE_COTES!$C134","v":0},{"$f":"RELEVE_COTES!$D134","v":0},{"$f":"RELEVE_COTES!$E134","v":0},{"$f":"RELEVE_COTES!$F134","v":0},{"$f":"RELEVE_COTES!$G134","v":0},{"$f":"IF($D86=\"GP\",RELEVE_COTES!$I134,RELEVE_COTES!$H134)","v":0},{"$f":"IF($D86=\"GP\",RELEVE_COTES!$H134,RELEVE_COTES!$I134)","v":0},{"$f":"RELEVE_COTES!$J134","v":0},{"$f":"VLOOKUP(RELEVE_COTES!$K134,TabExistantRef1[],2,FALSE)","v":{"$error":"#N/A"}},{"$f":"IF($Y$1=\"BOIS\",RELEVE_COTES!$O134,0)","v":{"$error":"#N/A"}},{"$f":"IF($Y$1=\"BOIS\",RELEVE_COTES!$P134,0)","v":{"$error":"#N/A"}},{"$f":"IF($Y$1=\"BOIS\",RELEVE_COTES!$Q134,0)","v":{"$error":"#N/A"}},{"$error":"#N/A"},{"$f":"IF($Y$1=\"BANCHE\",RELEVE_COTES!$L134,0)","v":{"$error":"#N/A"}},{"$error":"#N/A"},{"$error":"#N/A"},{"$f":"IF($Y$1<>\"BANCHE\",RELEVE_COTES!$L134,0)","v":{"$error":"#N/A"}},{"$f":"IF($Y$1<>\"BANCHE\",RELEVE_COTES!$M134,20)","v":{"$error":"#N/A"}},{"$f":"IF($Y$1<>\"BANCHE\",RELEVE_COTES!$N134,0)","v":{"$error":"#N/A"}},{"$f":"RELEVE_COTES!$I$20","v":0},{"$f":"RELEVE_COTES!$C$11","v":0},{"$f":"RELEVE_COTES!$K$12","v":0},{"$f":"VLOOKUP(AA86,TabSeuilRef[],2,FALSE)","v":{"$error":"#N/A"}},0,{"$f":"\"Paumelles \"&RELEVE_COTES!$E$15","v":"Paumelles "},{"$f":"IF(RELEVE_COTES!$K$16=\"SANS\",RELEVE_COTES!$K$16,IF(RELEVE_COTES!$K$16=\"Intégré\",\"Intégré\",RELEVE_COTES!$K$16&\" / \"&VLOOKUP(RELEVE_COTES!$L$16,TabOptUsSerr[],2,FALSE)))","v":"SANS"},{"$f":"RELEVE_COTES!$K$11","v":0},{"$f":"\"OP: \"&IF(RELEVE_COTES!$E$12=\"Pr.Peint\",\"PP\",RELEVE_COTES!$G$12)&\"/FP: \"&IF(RELEVE_COTES!$E$13=\"Pr.Peint\",\"PP\",RELEVE_COTES!$G$13)","v":"OP: /FP: "},{"$f":"IF(RELEVE_COTES!$E$14=\"Pr.Peint\",\"PP\",VLOOKUP(RELEVE_COTES!$G$14,TabNuancHM[],2,FALSE))","v":"PP"},{"$error":"#N/A"},{"$f":"IF(RELEVE_COTES!$C$11 =\"R32S-R02\",\"OUI\",\"NON\")","v":"NON"},"NON","",{"$f":"IF(AJ86=\"OUI\",RELEVE_COTES!$N$16,\"\")","v":""},null,{"$f":"VLOOKUP(RELEVE_COTES!$O$11,TabOptUsSerr[],2,FALSE)","v":"Usinage, fourniture et pose"},{"$f":"IF(RELEVE_COTES!$K$15<>\"SANS\",RELEVE_COTES!$L$15&\" \"&RELEVE_COTES!$K$15,\"\")&IF(RELEVE_COTES!$N$15<>\"SANS\",\" / PMR: \"&RELEVE_COTES!$O$15&\" \"&RELEVE_COTES!$N$15,\"SANS\")","v":"SANS"},{"$f":"IF(RELEVE_COTES!$K$14 <> \"SANS\",RELEVE_COTES!$O$14&\" \"&RELEVE_COTES!$K$14,\"\")","v":"U+F "},{"$f":"IF(RELEVE_COTES!$K$13 <> \"SANS\",RELEVE_COTES!$O$13&\" \"&RELEVE_COTES!$K$13,\"SANS\")","v":"U+F "},{"$f":"IF(RELEVE_COTES!$I$20 = \"Huisserie Bois\",RELEVE_COTES!$R134,IF(RELEVE_COTES!$I$20 = \"Huisserie Banchée\",RELEVE_COTES!$M134,IF(RELEVE_COTES!$I$20 = \"Bâti Scellé\",RELEVE_COTES!$O134,\"\")))","v":""},{"$f":"RELEVE_COTES!$E$12&\" / \"&RELEVE_COTES!$E$13","v":" SANS /  SANS"},"INT","VERINS + VERINS","NON",{"$f":"VLOOKUP(RELEVE_COTES!$K$11,TabSerrureRef[],3,FALSE)","v":{"$error":"#N/A"}},{"$f":"VLOOKUP(RELEVE_COTES!$K$11,TabSerrureRef[],6,FALSE)","v":{"$error":"#N/A"}}]
[0,0,{"$f":"IF(RELEVE_COTES!$A135<>\"\",SUBSTITUTE(SUBSTITUTE(SUBSTITUTE(SUBSTITUTE(SUBSTITUTE(SUBSTITUTE(SUBSTITUTE(SUBSTITUTE(RELEVE_COTES!$A135,\" \",\"\"),\"-\",\"/\"),\".\",\"/\"),\"\\\",\"/\"),\",\",\"/\"),\"+\",\"_\"),\"&\",\"_\"),\"*\",\"/\"),\"\")","v":""},{"$f":"RELEVE_COTES!$B135","v":0},1,{"$f":"RELEVE_COTES!$C135","v":0},{"$f":"RELEVE_COTES!$D135","v":0},{"$f":"RELEVE_COTES!$E135","v":0},{"$f":"RELEVE_COTES!$F135","v":0},{"$f":"RELEVE_COTES!$G135","v":0},{"$f":"IF($D87=\"GP\",RELEVE_COTES!$I135,RELEVE_COTES!$H135)","v":0},{"$f":"IF($D87=\"GP\",RELEVE_COTES!$H135,RELEVE_COTES!$I135)","v":0},{"$f":"RELEVE_COTES!$J135","v":0},{"$f":"VLOOKUP(RELEVE_COTES!$K135,TabExistantRef1[],2,FALSE)","v":{"$error":"#N/A"}},{"$f":"IF($Y$1=\"BOIS\",RELEVE_COTES!$O135,0)","v":{"$error":"#N/A"}},{"$f":"IF($Y$1=\"BOIS\",RELEVE_COTES!$P135,0)","v":{"$error":"#N/A"}},{"$f":"IF($Y$1=\"BOIS\",RELEVE_COTES!$Q135,0)","v":{"$error":"#N/A"}},{"$error":"#N/A"},{"$f":"IF($Y$1=\"BANCHE\",RELEVE_COTES!$L135,0)","v":{"$error":"#N/A"}},{"$error":"#N/A"},{"$error":"#N/A"},{"$f":"IF($Y$1<>\"BANCHE\",RELEVE_COTES!$L135,0)","v":{"$error":"#N/A"}},{"$f":"IF($Y$1<>\"BANCHE\",RELEVE_COTES!$M135,20)","v":{"$error":"#N/A"}},{"$f":"IF($Y$1<>\"BANCHE\",RELEVE_COTES!$N135,0)","v":{"$error":"#N/A"}},{"$f":"RELEVE_COTES!$I$20","v":0},{"$f":"RELEVE_COTES!$C$11","v":0},{"$f":"RELEVE_COTES!$K$12","v":0},{"$f":"VLOOKUP(AA87,TabSeuilRef[],2,FALSE)","v":{"$error":"#N/A"}},0,{"$f":"\"Paumelles \"&RELEVE_COTES!$E$15","v":"Paumelles "},{"$f":"IF(RELEVE_COTES!$K$16=\"SANS\",RELEVE_COTES!$K$16,IF(RELEVE_COTES!$K$16=\"Intégré\",\"Intégré\",RELEVE_COTES!$K$16&\" / \"&VLOOKUP(RELEVE_COTES!$L$16,TabOptUsSerr[],2,FALSE)))","v":"SANS"},{"$f":"RELEVE_COTES!$K$11","v":0},{"$f":"\"OP: \"&IF(RELEVE_COTES!$E$12=\"Pr.Peint\",\"PP\",RELEVE_COTES!$G$12)&\"/FP: \"&IF(RELEVE_COTES!$E$13=\"Pr.Peint\",\"PP\",RELEVE_COTES!$G$13)","v":"OP: /FP: "},{"$f":"IF(RELEVE_COTES!$E$14=\"Pr.Peint\",\"PP\",VLOOKUP(RELEVE_COTES!$G$14,TabNuancHM[],2,FALSE))","v":"PP"},{"$error":"#N/A"},{"$f":"IF(RELEVE_COTES!$C$11 =\"R32S-R02\",\"OUI\",\"NON\")","v":"NON"},"NON","",{"$f":"IF(AJ87=\"OUI\",RELEVE_COTES!$N$16,\"\")","v":""},null,{"$f":"VLOOKUP(RELEVE_COTES!$O$11,TabOptUsSerr[],2,FALSE)","v":"Usinage, fourniture et pose"},{"$f":"IF(RELEVE_COTES!$K$15<>\"SANS\",RELEVE_COTES!$L$15&\" \"&RELEVE_COTES!$K$15,\"\")&IF(RELEVE_COTES!$N$15<>\"SANS\",\" / PMR: \"&RELEVE_COTES!$O$15&\" \"&RELEVE_COTES!$N$15,\"SANS\")","v":"SANS"},{"$f":"IF(RELEVE_COTES!$K$14 <> \"SANS\",RELEVE_COTES!$O$14&\" \"&RELEVE_COTES!$K$14,\"\")","v":"U+F "},{"$f":"IF(RELEVE_COTES!$K$13 <> \"SANS\",RELEVE_COTES!$O$13&\" \"&RELEVE_COTES!$K$13,\"SANS\")","v":"U+F "},{"$f":"IF(RELEVE_COTES!$I$20 = \"Huisserie Bois\",RELEVE_COTES!$R135,IF(RELEVE_COTES!$I$20 = \"Huisserie Banchée\",RELEVE_COTES!$M135,IF(RELEVE_COTES!$I$20 = \"Bâti Scellé\",RELEVE_COTES!$O135,\"\")))","v":""},{"$f":"RELEVE_COTES!$E$12&\" / \"&RELEVE_COTES!$E$13","v":" SANS /  SANS"},"INT","VERINS + VERINS","NON",{"$f":"VLOOKUP(RELEVE_COTES!$K$11,TabSerrureRef[],3,FALSE)","v":{"$error":"#N/A"}},{"$f":"VLOOKUP(RELEVE_COTES!$K$11,TabSerrureRef[],6,FALSE)","v":{"$error":"#N/A"}}]
[0,0,{"$f":"IF(RELEVE_COTES!$A136<>\"\",SUBSTITUTE(SUBSTITUTE(SUBSTITUTE(SUBSTITUTE(SUBSTITUTE(SUBSTITUTE(SUBSTITUTE(SUBSTITUTE(RELEVE_COTES!$A136,\" \",\"\"),\"-\",\"/\"),\".\",\"/\"),\"\\\",\"/\"),\",\",\"/\"),\"+\",\"_\"),\"&\",\"_\"),\"*\",\"/\"),\"\")","v":""},{"$f":"RELEVE_COTES!$B136","v":0},1,{"$f":"RELEVE_COTES!$C136","v":0},{"$f":"RELEVE_COTES!$D136","v":0},{"$f":"RELEVE_COTES!$E136","v":0},{"$f":"RELEVE_COTES!$F136","v":0},{"$f":"RELEVE_COTES!$G136","v":0},{"$f":"IF($D88=\"GP\",RELEVE_COTES!$I136,RELEVE_COTES!$H136)","v":0},{"$f":"IF($D88=\"GP\",RELEVE_COTES!$H136,RELEVE_COTES!$I136)","v":0},{"$f":"RELEVE_COTES!$J136","v":0},{"$f":"VLOOKUP(RELEVE_COTES!$K136,TabExistantRef1[],2,FALSE)","v":{"$error":"#N/A"}},{"$f":"IF($Y$1=\"BOIS\",RELEVE_COTES!$O136,0)","v":{"$error":"#N/A"}},{"$f":"IF($Y$1=\"BOIS\",RELEVE_COTES!$P136,0)","v":{"$error":"#N/A"}},{"$f":"IF($Y$1=\"BOIS\",RELEVE_COTES!$Q136,0)","v":{"$error":"#N/A"}},{"$error":"#N/A"},{"$f":"IF($Y$1=\"BANCHE\",RELEVE_COTES!$L136,0)","v":{"$error":"#N/A"}},{"$error":"#N/A"},{"$error":"#N/A"},{"$f":"IF($Y$1<>\"BANCHE\",RELEVE_COTES!$L136,0)","v":{"$error":"#N/A"}},{"$f":"IF($Y$1<>\"BANCHE\",RELEVE_COTES!$M136,20)","v":{"$error":"#N/A"}},{"$f":"IF($Y$1<>\"BANCHE\",RELEVE_COTES!$N136,0)","v":{"$error":"#N/A"}},{"$f":"RELEVE_COTES!$I$20","v":0},{"$f":"RELEVE_COTES!$C$11","v":0},{"$f":"RELEVE_COTES!$K$12","v":0},{"$f":"VLOOKUP(AA88,TabSeuilRef[],2,FALSE)","v":{"$error":"#N/A"}},0,{"$f":"\"Paumelles \"&RELEVE_COTES!$E$15","v":"Paumelles "},{"$f":"IF(RELEVE_COTES!$K$16=\"SANS\",RELEVE_COTES!$K$16,IF(RELEVE_COTES!$K$16=\"Intégré\",\"Intégré\",RELEVE_COTES!$K$16&\" / \"&VLOOKUP(RELEVE_COTES!$L$16,TabOptUsSerr[],2,FALSE)))","v":"SANS"},{"$f":"RELEVE_COTES!$K$11","v":0},{"$f":"\"OP: \"&IF(RELEVE_COTES!$E$12=\"Pr.Peint\",\"PP\",RELEVE_COTES!$G$12)&\"/FP: \"&IF(RELEVE_COTES!$E$13=\"Pr.Peint\",\"PP\",RELEVE_COTES!$G$13)","v":"OP: /FP: "},{"$f":"IF(RELEVE_COTES!$E$14=\"Pr.Peint\",\"PP\",VLOOKUP(RELEVE_COTES!$G$14,TabNuancHM[],2,FALSE))","v":"PP"},{"$error":"#N/A"},{"$f":"IF(RELEVE_COTES!$C$11 =\"R32S-R02\",\"OUI\",\"NON\")","v":"NON"},"NON","",{"$f":"IF(AJ88=\"OUI\",RELEVE_COTES!$N$16,\"\")","v":""},null,{"$f":"VLOOKUP(RELEVE_COTES!$O$11,TabOptUsSerr[],2,FALSE)","v":"Usinage, fourniture et pose"},{"$f":"IF(RELEVE_COTES!$K$15<>\"SANS\",RELEVE_COTES!$L$15&\" \"&RELEVE_COTES!$K$15,\"\")&IF(RELEVE_COTES!$N$15<>\"SANS\",\" / PMR: \"&RELEVE_COTES!$O$15&\" \"&RELEVE_COTES!$N$15,\"SANS\")","v":"SANS"},{"$f":"IF(RELEVE_COTES!$K$14 <> \"SANS\",RELEVE_COTES!$O$14&\" \"&RELEVE_COTES!$K$14,\"\")","v":"U+F "},{"$f":"IF(RELEVE_COTES!$K$13 <> \"SANS\",RELEVE_COTES!$O$13&\" \"&RELEVE_COTES!$K$13,\"SANS\")","v":"U+F "},{"$f":"IF(RELEVE_COTES!$I$20 = \"Huisserie Bois\",RELEVE_COTES!$R136,IF(RELEVE_COTES!$I$20 = \"Huisserie Banchée\",RELEVE_COTES!$M136,IF(RELEVE_COTES!$I$20 = \"Bâti Scellé\",RELEVE_COTES!$O136,\"\")))","v":""},{"$f":"RELEVE_COTES!$E$12&\" / \"&RELEVE_COTES!$E$13","v":" SANS /  SANS"},"INT","VERINS + VERINS","NON",{"$f":"VLOOKUP(RELEVE_COTES!$K$11,TabSerrureRef[],3,FALSE)","v":{"$error":"#N/A"}},{"$f":"VLOOKUP(RELEVE_COTES!$K$11,TabSerrureRef[],6,FALSE)","v":{"$error":"#N/A"}}]
[0,0,{"$f":"IF(RELEVE_COTES!$A137<>\"\",SUBSTITUTE(SUBSTITUTE(SUBSTITUTE(SUBSTITUTE(SUBSTITUTE(SUBSTITUTE(SUBSTITUTE(SUBSTITUTE(RELEVE_COTES!$A137,\" \",\"\"),\"-\",\"/\"),\".\",\"/\"),\"\\\",\"/\"),\",\",\"/\"),\"+\",\"_\"),\"&\",\"_\"),\"*\",\"/\"),\"\")","v":""},{"$f":"RELEVE_COTES!$B137","v":0},1,{"$f":"RELEVE_COTES!$C137","v":0},{"$f":"RELEVE_COTES!$D137","v":0},{"$f":"RELEVE_COTES!$E137","v":0},{"$f":"RELEVE_COTES!$F137","v":0},{"$f":"RELEVE_COTES!$G137","v":0},{"$f":"IF($D89=\"GP\",RELEVE_COTES!$I137,RELEVE_COTES!$H137)","v":0},{"$f":"IF($D89=\"GP\",RELEVE_COTES!$H137,RELEVE_COTES!$I137)","v":0},{"$f":"RELEVE_COTES!$J137","v":0},{"$f":"VLOOKUP(RELEVE_COTES!$K137,TabExistantRef1[],2,FALSE)","v":{"$error":"#N/A"}},{"$f":"IF($Y$1=\"BOIS\",RELEVE_COTES!$O137,0)","v":{"$error":"#N/A"}},{"$f":"IF($Y$1=\"BOIS\",RELEVE_COTES!$P137,0)","v":{"$error":"#N/A"}},{"$f":"IF($Y$1=\"BOIS\",RELEVE_COTES!$Q137,0)","v":{"$error":"#N/A"}},{"$error":"#N/A"},{"$f":"IF($Y$1=\"BANCHE\",RELEVE_COTES!$L137,0)","v":{"$error":"#N/A"}},{"$error":"#N/A"},{"$error":"#N/A"},{"$f":"IF($Y$1<>\"BANCHE\",RELEVE_COTES!$L137,0)","v":{"$error":"#N/A"}},{"$f":"IF($Y$1<>\"BANCHE\",RELEVE_COTES!$M137,20)","v":{"$error":"#N/A"}},{"$f":"IF($Y$1<>\"BANCHE\",RELEVE_COTES!$N137,0)","v":{"$error":"#N/A"}},{"$f":"RELEVE_COTES!$I$20","v":0},{"$f":"RELEVE_COTES!$C$11","v":0},{"$f":"RELEVE_COTES!$K$12","v":0},{"$f":"VLOOKUP(AA89,TabSeuilRef[],2,FALSE)","v":{"$error":"#N/A"}},0,{"$f":"\"Paumelles \"&RELEVE_COTES!$E$15","v":"Paumelles "},{"$f":"IF(RELEVE_COTES!$K$16=\"SANS\",RELEVE_COTES!$K$16,IF(RELEVE_COTES!$K$16=\"Intégré\",\"Intégré\",RELEVE_COTES!$K$16&\" / \"&VLOOKUP(RELEVE_COTES!$L$16,TabOptUsSerr[],2,FALSE)))","v":"SANS"},{"$f":"RELEVE_COTES!$K$11","v":0},{"$f":"\"OP: \"&IF(RELEVE_COTES!$E$12=\"Pr.Peint\",\"PP\",RELEVE_COTES!$G$12)&\"/FP: \"&IF(RELEVE_COTES!$E$13=\"Pr.Peint\",\"PP\",RELEVE_COTES!$G$13)","v":"OP: /FP: "},{"$f":"IF(RELEVE_COTES!$E$14=\"Pr.Peint\",\"PP\",VLOOKUP(RELEVE_COTES!$G$14,TabNuancHM[],2,FALSE))","v":"PP"},{"$error":"#N/A"},{"$f":"IF(RELEVE_COTES!$C$11 =\"R32S-R02\",\"OUI\",\"NON\")","v":"NON"},"NON","",{"$f":"IF(AJ89=\"OUI\",RELEVE_COTES!$N$16,\"\")","v":""},null,{"$f":"VLOOKUP(RELEVE_COTES!$O$11,TabOptUsSerr[],2,FALSE)","v":"Usinage, fourniture et pose"},{"$f":"IF(RELEVE_COTES!$K$15<>\"SANS\",RELEVE_COTES!$L$15&\" \"&RELEVE_COTES!$K$15,\"\")&IF(RELEVE_COTES!$N$15<>\"SANS\",\" / PMR: \"&RELEVE_COTES!$O$15&\" \"&RELEVE_COTES!$N$15,\"SANS\")","v":"SANS"},{"$f":"IF(RELEVE_COTES!$K$14 <> \"SANS\",RELEVE_COTES!$O$14&\" \"&RELEVE_COTES!$K$14,\"\")","v":"U+F "},{"$f":"IF(RELEVE_COTES!$K$13 <> \"SANS\",RELEVE_COTES!$O$13&\" \"&RELEVE_COTES!$K$13,\"SANS\")","v":"U+F "},{"$f":"IF(RELEVE_COTES!$I$20 = \"Huisserie Bois\",RELEVE_COTES!$R137,IF(RELEVE_COTES!$I$20 = \"Huisserie Banchée\",RELEVE_COTES!$M137,IF(RELEVE_COTES!$I$20 = \"Bâti Scellé\",RELEVE_COTES!$O137,\"\")))","v":""},{"$f":"RELEVE_COTES!$E$12&\" / \"&RELEVE_COTES!$E$13","v":" SANS /  SANS"},"INT","VERINS + VERINS","NON",{"$f":"VLOOKUP(RELEVE_COTES!$K$11,TabSerrureRef[],3,FALSE)","v":{"$error":"#N/A"}},{"$f":"VLOOKUP(RELEVE_COTES!$K$11,TabSerrureRef[],6,FALSE)","v":{"$error":"#N/A"}}]
[0,0,{"$f":"IF(RELEVE_COTES!$A138<>\"\",SUBSTITUTE(SUBSTITUTE(SUBSTITUTE(SUBSTITUTE(SUBSTITUTE(SUBSTITUTE(SUBSTITUTE(SUBSTITUTE(RELEVE_COTES!$A138,\" \",\"\"),\"-\",\"/\"),\".\",\"/\"),\"\\\",\"/\"),\",\",\"/\"),\"+\",\"_\"),\"&\",\"_\"),\"*\",\"/\"),\"\")","v":""},{"$f":"RELEVE_COTES!$B138","v":0},1,{"$f":"RELEVE_COTES!$C138","v":0},{"$f":"RELEVE_COTES!$D138","v":0},{"$f":"RELEVE_COTES!$E138","v":0},{"$f":"RELEVE_COTES!$F138","v":0},{"$f":"RELEVE_COTES!$G138","v":0},{"$f":"IF($D90=\"GP\",RELEVE_COTES!$I138,RELEVE_COTES!$H138)","v":0},{"$f":"IF($D90=\"GP\",RELEVE_COTES!$H138,RELEVE_COTES!$I138)","v":0},{"$f":"RELEVE_COTES!$J138","v":0},{"$f":"VLOOKUP(RELEVE_COTES!$K138,TabExistantRef1[],2,FALSE)","v":{"$error":"#N/A"}},{"$f":"IF($Y$1=\"BOIS\",RELEVE_COTES!$O138,0)","v":{"$error":"#N/A"}},{"$f":"IF($Y$1=\"BOIS\",RELEVE_COTES!$P138,0)","v":{"$error":"#N/A"}},{"$f":"IF($Y$1=\"BOIS\",RELEVE_COTES!$Q138,0)","v":{"$error":"#N/A"}},{"$error":"#N/A"},{"$f":"IF($Y$1=\"BANCHE\",RELEVE_COTES!$L138,0)","v":{"$error":"#N/A"}},{"$error":"#N/A"},{"$error":"#N/A"},{"$f":"IF($Y$1<>\"BANCHE\",RELEVE_COTES!$L138,0)","v":{"$error":"#N/A"}},{"$f":"IF($Y$1<>\"BANCHE\",RELEVE_COTES!$M138,20)","v":{"$error":"#N/A"}},{"$f":"IF($Y$1<>\"BANCHE\",RELEVE_COTES!$N138,0)","v":{"$error":"#N/A"}},{"$f":"RELEVE_COTES!$I$20","v":0},{"$f":"RELEVE_COTES!$C$11","v":0},{"$f":"RELEVE_COTES!$K$12","v":0},{"$f":"VLOOKUP(AA90,TabSeuilRef[],2,FALSE)","v":{"$error":"#N/A"}},0,{"$f":"\"Paumelles \"&RELEVE_COTES!$E$15","v":"Paumelles "},{"$f":"IF(RELEVE_COTES!$K$16=\"SANS\",RELEVE_COTES!$K$16,IF(RELEVE_COTES!$K$16=\"Intégré\",\"Intégré\",RELEVE_COTES!$K$16&\" / \"&VLOOKUP(RELEVE_COTES!$L$16,TabOptUsSerr[],2,FALSE)))","v":"SANS"},{"$f":"RELEVE_COTES!$K$11","v":0},{"$f":"\"OP: \"&IF(RELEVE_COTES!$E$12=\"Pr.Peint\",\"PP\",RELEVE_COTES!$G$12)&\"/FP: \"&IF(RELEVE_COTES!$E$13=\"Pr.Peint\",\"PP\",RELEVE_COTES!$G$13)","v":"OP: /FP: "},{"$f":"IF(RELEVE_COTES!$E$14=\"Pr.Peint\",\"PP\",VLOOKUP(RELEVE_COTES!$G$14,TabNuancHM[],2,FALSE))","v":"PP"},{"$error":"#N/A"},{"$f":"IF(RELEVE_COTES!$C$11 =\"R32S-R02\",\"OUI\",\"NON\")","v":"NON"},"NON","",{"$f":"IF(AJ90=\"OUI\",RELEVE_COTES!$N$16,\"\")","v":""},null,{"$f":"VLOOKUP(RELEVE_COTES!$O$11,TabOptUsSerr[],2,FALSE)","v":"Usinage, fourniture et pose"},{"$f":"IF(RELEVE_COTES!$K$15<>\"SANS\",RELEVE_COTES!$L$15&\" \"&RELEVE_COTES!$K$15,\"\")&IF(RELEVE_COTES!$N$15<>\"SANS\",\" / PMR: \"&RELEVE_COTES!$O$15&\" \"&RELEVE_COTES!$N$15,\"SANS\")","v":"SANS"},{"$f":"IF(RELEVE_COTES!$K$14 <> \"SANS\",RELEVE_COTES!$O$14&\" \"&RELEVE_COTES!$K$14,\"\")","v":"U+F "},{"$f":"IF(RELEVE_COTES!$K$13 <> \"SANS\",RELEVE_COTES!$O$13&\" \"&RELEVE_COTES!$K$13,\"SANS\")","v":"U+F "},{"$f":"IF(RELEVE_COTES!$I$20 = \"Huisserie Bois\",RELEVE_COTES!$R138,IF(RELEVE_COTES!$I$20 = \"Huisserie Banchée\",RELEVE_COTES!$M138,IF(RELEVE_COTES!$I$20 = \"Bâti Scellé\",RELEVE_COTES!$O138,\"\")))","v":""},{"$f":"RELEVE_COTES!$E$12&\" / \"&RELEVE_COTES!$E$13","v":" SANS /  SANS"},"INT","VERINS + VERINS","NON",{"$f":"VLOOKUP(RELEVE_COTES!$K$11,TabSerrureRef[],3,FALSE)","v":{"$error":"#N/A"}},{"$f":"VLOOKUP(RELEVE_COTES!$K$11,TabSerrureRef[],6,FALSE)","v":{"$error":"#N/A"}}]
[0,0,{"$f":"IF(RELEVE_COTES!$A139<>\"\",SUBSTITUTE(SUBSTITUTE(SUBSTITUTE(SUBSTITUTE(SUBSTITUTE(SUBSTITUTE(SUBSTITUTE(SUBSTITUTE(RELEVE_COTES!$A139,\" \",\"\"),\"-\",\"/\"),\".\",\"/\"),\"\\\",\"/\"),\",\",\"/\"),\"+\",\"_\"),\"&\",\"_\"),\"*\",\"/\"),\"\")","v":""},{"$f":"RELEVE_COTES!$B139","v":0},1,{"$f":"RELEVE_COTES!$C139","v":0},{"$f":"RELEVE_COTES!$D139","v":0},{"$f":"RELEVE_COTES!$E139","v":0},{"$f":"RELEVE_COTES!$F139","v":0},{"$f":"RELEVE_COTES!$G139","v":0},{"$f":"IF($D91=\"GP\",RELEVE_COTES!$I139,RELEVE_COTES!$H139)","v":0},{"$f":"IF($D91=\"GP\",RELEVE_COTES!$H139,RELEVE_COTES!$I139)","v":0},{"$f":"RELEVE_COTES!$J139","v":0},{"$f":"VLOOKUP(RELEVE_COTES!$K139,TabExistantRef1[],2,FALSE)","v":{"$error":"#N/A"}},{"$f":"IF($Y$1=\"BOIS\",RELEVE_COTES!$O139,0)","v":{"$error":"#N/A"}},{"$f":"IF($Y$1=\"BOIS\",RELEVE_COTES!$P139,0)","v":{"$error":"#N/A"}},{"$f":"IF($Y$1=\"BOIS\",RELEVE_COTES!$Q139,0)","v":{"$error":"#N/A"}},{"$error":"#N/A"},{"$f":"IF($Y$1=\"BANCHE\",RELEVE_COTES!$L139,0)","v":{"$error":"#N/A"}},{"$error":"#N/A"},{"$error":"#N/A"},{"$f":"IF($Y$1<>\"BANCHE\",RELEVE_COTES!$L139,0)","v":{"$error":"#N/A"}},{"$f":"IF($Y$1<>\"BANCHE\",RELEVE_COTES!$M139,20)","v":{"$error":"#N/A"}},{"$f":"IF($Y$1<>\"BANCHE\",RELEVE_COTES!$N139,0)","v":{"$error":"#N/A"}},{"$f":"RELEVE_COTES!$I$20","v":0},{"$f":"RELEVE_COTES!$C$11","v":0},{"$f":"RELEVE_COTES!$K$12","v":0},{"$f":"VLOOKUP(AA91,TabSeuilRef[],2,FALSE)","v":{"$error":"#N/A"}},0,{"$f":"\"Paumelles \"&RELEVE_COTES!$E$15","v":"Paumelles "},{"$f":"IF(RELEVE_COTES!$K$16=\"SANS\",RELEVE_COTES!$K$16,IF(RELEVE_COTES!$K$16=\"Intégré\",\"Intégré\",RELEVE_COTES!$K$16&\" / \"&VLOOKUP(RELEVE_COTES!$L$16,TabOptUsSerr[],2,FALSE)))","v":"SANS"},{"$f":"RELEVE_COTES!$K$11","v":0},{"$f":"\"OP: \"&IF(RELEVE_COTES!$E$12=\"Pr.Peint\",\"PP\",RELEVE_COTES!$G$12)&\"/FP: \"&IF(RELEVE_COTES!$E$13=\"Pr.Peint\",\"PP\",RELEVE_COTES!$G$13)","v":"OP: /FP: "},{"$f":"IF(RELEVE_COTES!$E$14=\"Pr.Peint\",\"PP\",VLOOKUP(RELEVE_COTES!$G$14,TabNuancHM[],2,FALSE))","v":"PP"},{"$error":"#N/A"},{"$f":"IF(RELEVE_COTES!$C$11 =\"R32S-R02\",\"OUI\",\"NON\")","v":"NON"},"NON","",{"$f":"IF(AJ91=\"OUI\",RELEVE_COTES!$N$16,\"\")","v":""},null,{"$f":"VLOOKUP(RELEVE_COTES!$O$11,TabOptUsSerr[],2,FALSE)","v":"Usinage, fourniture et pose"},{"$f":"IF(RELEVE_COTES!$K$15<>\"SANS\",RELEVE_COTES!$L$15&\" \"&RELEVE_COTES!$K$15,\"\")&IF(RELEVE_COTES!$N$15<>\"SANS\",\" / PMR: \"&RELEVE_COTES!$O$15&\" \"&RELEVE_COTES!$N$15,\"SANS\")","v":"SANS"},{"$f":"IF(RELEVE_COTES!$K$14 <> \"SANS\",RELEVE_COTES!$O$14&\" \"&RELEVE_COTES!$K$14,\"\")","v":"U+F "},{"$f":"IF(RELEVE_COTES!$K$13 <> \"SANS\",RELEVE_COTES!$O$13&\" \"&RELEVE_COTES!$K$13,\"SANS\")","v":"U+F "},{"$f":"IF(RELEVE_COTES!$I$20 = \"Huisserie Bois\",RELEVE_COTES!$R139,IF(RELEVE_COTES!$I$20 = \"Huisserie Banchée\",RELEVE_COTES!$M139,IF(RELEVE_COTES!$I$20 = \"Bâti Scellé\",RELEVE_COTES!$O139,\"\")))","v":""},{"$f":"RELEVE_COTES!$E$12&\" / \"&RELEVE_COTES!$E$13","v":" SANS /  SANS"},"INT","VERINS + VERINS","NON",{"$f":"VLOOKUP(RELEVE_COTES!$K$11,TabSerrureRef[],3,FALSE)","v":{"$error":"#N/A"}},{"$f":"VLOOKUP(RELEVE_COTES!$K$11,TabSerrureRef[],6,FALSE)","v":{"$error":"#N/A"}}]
[0,0,{"$f":"IF(RELEVE_COTES!$A140<>\"\",SUBSTITUTE(SUBSTITUTE(SUBSTITUTE(SUBSTITUTE(SUBSTITUTE(SUBSTITUTE(SUBSTITUTE(SUBSTITUTE(RELEVE_COTES!$A140,\" \",\"\"),\"-\",\"/\"),\".\",\"/\"),\"\\\",\"/\"),\",\",\"/\"),\"+\",\"_\"),\"&\",\"_\"),\"*\",\"/\"),\"\")","v":""},{"$f":"RELEVE_COTES!$B140","v":0},1,{"$f":"RELEVE_COTES!$C140","v":0},{"$f":"RELEVE_COTES!$D140","v":0},{"$f":"RELEVE_COTES!$E140","v":0},{"$f":"RELEVE_COTES!$F140","v":0},{"$f":"RELEVE_COTES!$G140","v":0},{"$f":"IF($D92=\"GP\",RELEVE_COTES!$I140,RELEVE_COTES!$H140)","v":0},{"$f":"IF($D92=\"GP\",RELEVE_COTES!$H140,RELEVE_COTES!$I140)","v":0},{"$f":"RELEVE_COTES!$J140","v":0},{"$f":"VLOOKUP(RELEVE_COTES!$K140,TabExistantRef1[],2,FALSE)","v":{"$error":"#N/A"}},{"$f":"IF($Y$1=\"BOIS\",RELEVE_COTES!$O140,0)","v":{"$error":"#N/A"}},{"$f":"IF($Y$1=\"BOIS\",RELEVE_COTES!$P140,0)","v":{"$error":"#N/A"}},{"$f":"IF($Y$1=\"BOIS\",RELEVE_COTES!$Q140,0)","v":{"$error":"#N/A"}},{"$error":"#N/A"},{"$f":"IF($Y$1=\"BANCHE\",RELEVE_COTES!$L140,0)","v":{"$error":"#N/A"}},{"$error":"#N/A"},{"$error":"#N/A"},{"$f":"IF($Y$1<>\"BANCHE\",RELEVE_COTES!$L140,0)","v":{"$error":"#N/A"}},{"$f":"IF($Y$1<>\"BANCHE\",RELEVE_COTES!$M140,20)","v":{"$error":"#N/A"}},{"$f":"IF($Y$1<>\"BANCHE\",RELEVE_COTES!$N140,0)","v":{"$error":"#N/A"}},{"$f":"RELEVE_COTES!$I$20","v":0},{"$f":"RELEVE_COTES!$C$11","v":0},{"$f":"RELEVE_COTES!$K$12","v":0},{"$f":"VLOOKUP(AA92,TabSeuilRef[],2,FALSE)","v":{"$error":"#N/A"}},0,{"$f":"\"Paumelles \"&RELEVE_COTES!$E$15","v":"Paumelles "},{"$f":"IF(RELEVE_COTES!$K$16=\"SANS\",RELEVE_COTES!$K$16,IF(RELEVE_COTES!$K$16=\"Intégré\",\"Intégré\",RELEVE_COTES!$K$16&\" / \"&VLOOKUP(RELEVE_COTES!$L$16,TabOptUsSerr[],2,FALSE)))","v":"SANS"},{"$f":"RELEVE_COTES!$K$11","v":0},{"$f":"\"OP: \"&IF(RELEVE_COTES!$E$12=\"Pr.Peint\",\"PP\",RELEVE_COTES!$G$12)&\"/FP: \"&IF(RELEVE_COTES!$E$13=\"Pr.Peint\",\"PP\",RELEVE_COTES!$G$13)","v":"OP: /FP: "},{"$f":"IF(RELEVE_COTES!$E$14=\"Pr.Peint\",\"PP\",VLOOKUP(RELEVE_COTES!$G$14,TabNuancHM[],2,FALSE))","v":"PP"},{"$error":"#N/A"},{"$f":"IF(RELEVE_COTES!$C$11 =\"R32S-R02\",\"OUI\",\"NON\")","v":"NON"},"NON","",{"$f":"IF(AJ92=\"OUI\",RELEVE_COTES!$N$16,\"\")","v":""},null,{"$f":"VLOOKUP(RELEVE_COTES!$O$11,TabOptUsSerr[],2,FALSE)","v":"Usinage, fourniture et pose"},{"$f":"IF(RELEVE_COTES!$K$15<>\"SANS\",RELEVE_COTES!$L$15&\" \"&RELEVE_COTES!$K$15,\"\")&IF(RELEVE_COTES!$N$15<>\"SANS\",\" / PMR: \"&RELEVE_COTES!$O$15&\" \"&RELEVE_COTES!$N$15,\"SANS\")","v":"SANS"},{"$f":"IF(RELEVE_COTES!$K$14 <> \"SANS\",RELEVE_COTES!$O$14&\" \"&RELEVE_COTES!$K$14,\"\")","v":"U+F "},{"$f":"IF(RELEVE_COTES!$K$13 <> \"SANS\",RELEVE_COTES!$O$13&\" \"&RELEVE_COTES!$K$13,\"SANS\")","v":"U+F "},{"$f":"IF(RELEVE_COTES!$I$20 = \"Huisserie Bois\",RELEVE_COTES!$R140,IF(RELEVE_COTES!$I$20 = \"Huisserie Banchée\",RELEVE_COTES!$M140,IF(RELEVE_COTES!$I$20 = \"Bâti Scellé\",RELEVE_COTES!$O140,\"\")))","v":""},{"$f":"RELEVE_COTES!$E$12&\" / \"&RELEVE_COTES!$E$13","v":" SANS /  SANS"},"INT","VERINS + VERINS","NON",{"$f":"VLOOKUP(RELEVE_COTES!$K$11,TabSerrureRef[],3,FALSE)","v":{"$error":"#N/A"}},{"$f":"VLOOKUP(RELEVE_COTES!$K$11,TabSerrureRef[],6,FALSE)","v":{"$error":"#N/A"}}]
[0,0,{"$f":"IF(RELEVE_COTES!$A141<>\"\",SUBSTITUTE(SUBSTITUTE(SUBSTITUTE(SUBSTITUTE(SUBSTITUTE(SUBSTITUTE(SUBSTITUTE(SUBSTITUTE(RELEVE_COTES!$A141,\" \",\"\"),\"-\",\"/\"),\".\",\"/\"),\"\\\",\"/\"),\",\",\"/\"),\"+\",\"_\"),\"&\",\"_\"),\"*\",\"/\"),\"\")","v":""},{"$f":"RELEVE_COTES!$B141","v":0},1,{"$f":"RELEVE_COTES!$C141","v":0},{"$f":"RELEVE_COTES!$D141","v":0},{"$f":"RELEVE_COTES!$E141","v":0},{"$f":"RELEVE_COTES!$F141","v":0},{"$f":"RELEVE_COTES!$G141","v":0},{"$f":"IF($D93=\"GP\",RELEVE_COTES!$I141,RELEVE_COTES!$H141)","v":0},{"$f":"IF($D93=\"GP\",RELEVE_COTES!$H141,RELEVE_COTES!$I141)","v":0},{"$f":"RELEVE_COTES!$J141","v":0},{"$f":"VLOOKUP(RELEVE_COTES!$K141,TabExistantRef1[],2,FALSE)","v":{"$error":"#N/A"}},{"$f":"IF($Y$1=\"BOIS\",RELEVE_COTES!$O141,0)","v":{"$error":"#N/A"}},{"$f":"IF($Y$1=\"BOIS\",RELEVE_COTES!$P141,0)","v":{"$error":"#N/A"}},{"$f":"IF($Y$1=\"BOIS\",RELEVE_COTES!$Q141,0)","v":{"$error":"#N/A"}},{"$error":"#N/A"},{"$f":"IF($Y$1=\"BANCHE\",RELEVE_COTES!$L141,0)","v":{"$error":"#N/A"}},{"$error":"#N/A"},{"$error":"#N/A"},{"$f":"IF($Y$1<>\"BANCHE\",RELEVE_COTES!$L141,0)","v":{"$error":"#N/A"}},{"$f":"IF($Y$1<>\"BANCHE\",RELEVE_COTES!$M141,20)","v":{"$error":"#N/A"}},{"$f":"IF($Y$1<>\"BANCHE\",RELEVE_COTES!$N141,0)","v":{"$error":"#N/A"}},{"$f":"RELEVE_COTES!$I$20","v":0},{"$f":"RELEVE_COTES!$C$11","v":0},{"$f":"RELEVE_COTES!$K$12","v":0},{"$f":"VLOOKUP(AA93,TabSeuilRef[],2,FALSE)","v":{"$error":"#N/A"}},0,{"$f":"\"Paumelles \"&RELEVE_COTES!$E$15","v":"Paumelles "},{"$f":"IF(RELEVE_COTES!$K$16=\"SANS\",RELEVE_COTES!$K$16,IF(RELEVE_COTES!$K$16=\"Intégré\",\"Intégré\",RELEVE_COTES!$K$16&\" / \"&VLOOKUP(RELEVE_COTES!$L$16,TabOptUsSerr[],2,FALSE)))","v":"SANS"},{"$f":"RELEVE_COTES!$K$11","v":0},{"$f":"\"OP: \"&IF(RELEVE_COTES!$E$12=\"Pr.Peint\",\"PP\",RELEVE_COTES!$G$12)&\"/FP: \"&IF(RELEVE_COTES!$E$13=\"Pr.Peint\",\"PP\",RELEVE_COTES!$G$13)","v":"OP: /FP: "},{"$f":"IF(RELEVE_COTES!$E$14=\"Pr.Peint\",\"PP\",VLOOKUP(RELEVE_COTES!$G$14,TabNuancHM[],2,FALSE))","v":"PP"},{"$error":"#N/A"},{"$f":"IF(RELEVE_COTES!$C$11 =\"R32S-R02\",\"OUI\",\"NON\")","v":"NON"},"NON","",{"$f":"IF(AJ93=\"OUI\",RELEVE_COTES!$N$16,\"\")","v":""},null,{"$f":"VLOOKUP(RELEVE_COTES!$O$11,TabOptUsSerr[],2,FALSE)","v":"Usinage, fourniture et pose"},{"$f":"IF(RELEVE_COTES!$K$15<>\"SANS\",RELEVE_COTES!$L$15&\" \"&RELEVE_COTES!$K$15,\"\")&IF(RELEVE_COTES!$N$15<>\"SANS\",\" / PMR: \"&RELEVE_COTES!$O$15&\" \"&RELEVE_COTES!$N$15,\"SANS\")","v":"SANS"},{"$f":"IF(RELEVE_COTES!$K$14 <> \"SANS\",RELEVE_COTES!$O$14&\" \"&RELEVE_COTES!$K$14,\"\")","v":"U+F "},{"$f":"IF(RELEVE_COTES!$K$13 <> \"SANS\",RELEVE_COTES!$O$13&\" \"&RELEVE_COTES!$K$13,\"SANS\")","v":"U+F "},{"$f":"IF(RELEVE_COTES!$I$20 = \"Huisserie Bois\",RELEVE_COTES!$R141,IF(RELEVE_COTES!$I$20 = \"Huisserie Banchée\",RELEVE_COTES!$M141,IF(RELEVE_COTES!$I$20 = \"Bâti Scellé\",RELEVE_COTES!$O141,\"\")))","v":""},{"$f":"RELEVE_COTES!$E$12&\" / \"&RELEVE_COTES!$E$13","v":" SANS /  SANS"},"INT","VERINS + VERINS","NON",{"$f":"VLOOKUP(RELEVE_COTES!$K$11,TabSerrureRef[],3,FALSE)","v":{"$error":"#N/A"}},{"$f":"VLOOKUP(RELEVE_COTES!$K$11,TabSerrureRef[],6,FALSE)","v":{"$error":"#N/A"}}]
[0,0,{"$f":"IF(RELEVE_COTES!$A142<>\"\",SUBSTITUTE(SUBSTITUTE(SUBSTITUTE(SUBSTITUTE(SUBSTITUTE(SUBSTITUTE(SUBSTITUTE(SUBSTITUTE(RELEVE_COTES!$A142,\" \",\"\"),\"-\",\"/\"),\".\",\"/\"),\"\\\",\"/\"),\",\",\"/\"),\"+\",\"_\"),\"&\",\"_\"),\"*\",\"/\"),\"\")","v":""},{"$f":"RELEVE_COTES!$B142","v":0},1,{"$f":"RELEVE_COTES!$C142","v":0},{"$f":"RELEVE_COTES!$D142","v":0},{"$f":"RELEVE_COTES!$E142","v":0},{"$f":"RELEVE_COTES!$F142","v":0},{"$f":"RELEVE_COTES!$G142","v":0},{"$f":"IF($D94=\"GP\",RELEVE_COTES!$I142,RELEVE_COTES!$H142)","v":0},{"$f":"IF($D94=\"GP\",RELEVE_COTES!$H142,RELEVE_COTES!$I142)","v":0},{"$f":"RELEVE_COTES!$J142","v":0},{"$f":"VLOOKUP(RELEVE_COTES!$K142,TabExistantRef1[],2,FALSE)","v":{"$error":"#N/A"}},{"$f":"IF($Y$1=\"BOIS\",RELEVE_COTES!$O142,0)","v":{"$error":"#N/A"}},{"$f":"IF($Y$1=\"BOIS\",RELEVE_COTES!$P142,0)","v":{"$error":"#N/A"}},{"$f":"IF($Y$1=\"BOIS\",RELEVE_COTES!$Q142,0)","v":{"$error":"#N/A"}},{"$error":"#N/A"},{"$f":"IF($Y$1=\"BANCHE\",RELEVE_COTES!$L142,0)","v":{"$error":"#N/A"}},{"$error":"#N/A"},{"$error":"#N/A"},{"$f":"IF($Y$1<>\"BANCHE\",RELEVE_COTES!$L142,0)","v":{"$error":"#N/A"}},{"$f":"IF($Y$1<>\"BANCHE\",RELEVE_COTES!$M142,20)","v":{"$error":"#N/A"}},{"$f":"IF($Y$1<>\"BANCHE\",RELEVE_COTES!$N142,0)","v":{"$error":"#N/A"}},{"$f":"RELEVE_COTES!$I$20","v":0},{"$f":"RELEVE_COTES!$C$11","v":0},{"$f":"RELEVE_COTES!$K$12","v":0},{"$f":"VLOOKUP(AA94,TabSeuilRef[],2,FALSE)","v":{"$error":"#N/A"}},0,{"$f":"\"Paumelles \"&RELEVE_COTES!$E$15","v":"Paumelles "},{"$f":"IF(RELEVE_COTES!$K$16=\"SANS\",RELEVE_COTES!$K$16,IF(RELEVE_COTES!$K$16=\"Intégré\",\"Intégré\",RELEVE_COTES!$K$16&\" / \"&VLOOKUP(RELEVE_COTES!$L$16,TabOptUsSerr[],2,FALSE)))","v":"SANS"},{"$f":"RELEVE_COTES!$K$11","v":0},{"$f":"\"OP: \"&IF(RELEVE_COTES!$E$12=\"Pr.Peint\",\"PP\",RELEVE_COTES!$G$12)&\"/FP: \"&IF(RELEVE_COTES!$E$13=\"Pr.Peint\",\"PP\",RELEVE_COTES!$G$13)","v":"OP: /FP: "},{"$f":"IF(RELEVE_COTES!$E$14=\"Pr.Peint\",\"PP\",VLOOKUP(RELEVE_COTES!$G$14,TabNuancHM[],2,FALSE))","v":"PP"},{"$error":"#N/A"},{"$f":"IF(RELEVE_COTES!$C$11 =\"R32S-R02\",\"OUI\",\"NON\")","v":"NON"},"NON","",{"$f":"IF(AJ94=\"OUI\",RELEVE_COTES!$N$16,\"\")","v":""},null,{"$f":"VLOOKUP(RELEVE_COTES!$O$11,TabOptUsSerr[],2,FALSE)","v":"Usinage, fourniture et pose"},{"$f":"IF(RELEVE_COTES!$K$15<>\"SANS\",RELEVE_COTES!$L$15&\" \"&RELEVE_COTES!$K$15,\"\")&IF(RELEVE_COTES!$N$15<>\"SANS\",\" / PMR: \"&RELEVE_COTES!$O$15&\" \"&RELEVE_COTES!$N$15,\"SANS\")","v":"SANS"},{"$f":"IF(RELEVE_COTES!$K$14 <> \"SANS\",RELEVE_COTES!$O$14&\" \"&RELEVE_COTES!$K$14,\"\")","v":"U+F "},{"$f":"IF(RELEVE_COTES!$K$13 <> \"SANS\",RELEVE_COTES!$O$13&\" \"&RELEVE_COTES!$K$13,\"SANS\")","v":"U+F "},{"$f":"IF(RELEVE_COTES!$I$20 = \"Huisserie Bois\",RELEVE_COTES!$R142,IF(RELEVE_COTES!$I$20 = \"Huisserie Banchée\",RELEVE_COTES!$M142,IF(RELEVE_COTES!$I$20 = \"Bâti Scellé\",RELEVE_COTES!$O142,\"\")))","v":""},{"$f":"RELEVE_COTES!$E$12&\" / \"&RELEVE_COTES!$E$13","v":" SANS /  SANS"},"INT","VERINS + VERINS","NON",{"$f":"VLOOKUP(RELEVE_COTES!$K$11,TabSerrureRef[],3,FALSE)","v":{"$error":"#N/A"}},{"$f":"VLOOKUP(RELEVE_COTES!$K$11,TabSerrureRef[],6,FALSE)","v":{"$error":"#N/A"}}]
[0,0,{"$f":"IF(RELEVE_COTES!$A143<>\"\",SUBSTITUTE(SUBSTITUTE(SUBSTITUTE(SUBSTITUTE(SUBSTITUTE(SUBSTITUTE(SUBSTITUTE(SUBSTITUTE(RELEVE_COTES!$A143,\" \",\"\"),\"-\",\"/\"),\".\",\"/\"),\"\\\",\"/\"),\",\",\"/\"),\"+\",\"_\"),\"&\",\"_\"),\"*\",\"/\"),\"\")","v":""},{"$f":"RELEVE_COTES!$B143","v":0},1,{"$f":"RELEVE_COTES!$C143","v":0},{"$f":"RELEVE_COTES!$D143","v":0},{"$f":"RELEVE_COTES!$E143","v":0},{"$f":"RELEVE_COTES!$F143","v":0},{"$f":"RELEVE_COTES!$G143","v":0},{"$f":"IF($D95=\"GP\",RELEVE_COTES!$I143,RELEVE_COTES!$H143)","v":0},{"$f":"IF($D95=\"GP\",RELEVE_COTES!$H143,RELEVE_COTES!$I143)","v":0},{"$f":"RELEVE_COTES!$J143","v":0},{"$f":"VLOOKUP(RELEVE_COTES!$K143,TabExistantRef1[],2,FALSE)","v":{"$error":"#N/A"}},{"$f":"IF($Y$1=\"BOIS\",RELEVE_COTES!$O143,0)","v":{"$error":"#N/A"}},{"$f":"IF($Y$1=\"BOIS\",RELEVE_COTES!$P143,0)","v":{"$error":"#N/A"}},{"$f":"IF($Y$1=\"BOIS\",RELEVE_COTES!$Q143,0)","v":{"$error":"#N/A"}},{"$error":"#N/A"},{"$f":"IF($Y$1=\"BANCHE\",RELEVE_COTES!$L143,0)","v":{"$error":"#N/A"}},{"$error":"#N/A"},{"$error":"#N/A"},{"$f":"IF($Y$1<>\"BANCHE\",RELEVE_COTES!$L143,0)","v":{"$error":"#N/A"}},{"$f":"IF($Y$1<>\"BANCHE\",RELEVE_COTES!$M143,20)","v":{"$error":"#N/A"}},{"$f":"IF($Y$1<>\"BANCHE\",RELEVE_COTES!$N143,0)","v":{"$error":"#N/A"}},{"$f":"RELEVE_COTES!$I$20","v":0},{"$f":"RELEVE_COTES!$C$11","v":0},{"$f":"RELEVE_COTES!$K$12","v":0},{"$f":"VLOOKUP(AA95,TabSeuilRef[],2,FALSE)","v":{"$error":"#N/A"}},0,{"$f":"\"Paumelles \"&RELEVE_COTES!$E$15","v":"Paumelles "},{"$f":"IF(RELEVE_COTES!$K$16=\"SANS\",RELEVE_COTES!$K$16,IF(RELEVE_COTES!$K$16=\"Intégré\",\"Intégré\",RELEVE_COTES!$K$16&\" / \"&VLOOKUP(RELEVE_COTES!$L$16,TabOptUsSerr[],2,FALSE)))","v":"SANS"},{"$f":"RELEVE_COTES!$K$11","v":0},{"$f":"\"OP: \"&IF(RELEVE_COTES!$E$12=\"Pr.Peint\",\"PP\",RELEVE_COTES!$G$12)&\"/FP: \"&IF(RELEVE_COTES!$E$13=\"Pr.Peint\",\"PP\",RELEVE_COTES!$G$13)","v":"OP: /FP: "},{"$f":"IF(RELEVE_COTES!$E$14=\"Pr.Peint\",\"PP\",VLOOKUP(RELEVE_COTES!$G$14,TabNuancHM[],2,FALSE))","v":"PP"},{"$error":"#N/A"},{"$f":"IF(RELEVE_COTES!$C$11 =\"R32S-R02\",\"OUI\",\"NON\")","v":"NON"},"NON","",{"$f":"IF(AJ95=\"OUI\",RELEVE_COTES!$N$16,\"\")","v":""},null,{"$f":"VLOOKUP(RELEVE_COTES!$O$11,TabOptUsSerr[],2,FALSE)","v":"Usinage, fourniture et pose"},{"$f":"IF(RELEVE_COTES!$K$15<>\"SANS\",RELEVE_COTES!$L$15&\" \"&RELEVE_COTES!$K$15,\"\")&IF(RELEVE_COTES!$N$15<>\"SANS\",\" / PMR: \"&RELEVE_COTES!$O$15&\" \"&RELEVE_COTES!$N$15,\"SANS\")","v":"SANS"},{"$f":"IF(RELEVE_COTES!$K$14 <> \"SANS\",RELEVE_COTES!$O$14&\" \"&RELEVE_COTES!$K$14,\"\")","v":"U+F "},{"$f":"IF(RELEVE_COTES!$K$13 <> \"SANS\",RELEVE_COTES!$O$13&\" \"&RELEVE_COTES!$K$13,\"SANS\")","v":"U+F "},{"$f":"IF(RELEVE_COTES!$I$20 = \"Huisserie Bois\",RELEVE_COTES!$R143,IF(RELEVE_COTES!$I$20 = \"Huisserie Banchée\",RELEVE_COTES!$M143,IF(RELEVE_COTES!$I$20 = \"Bâti Scellé\",RELEVE_COTES!$O143,\"\")))","v":""},{"$f":"RELEVE_COTES!$E$12&\" / \"&RELEVE_COTES!$E$13","v":" SANS /  SANS"},"INT","VERINS + VERINS","NON",{"$f":"VLOOKUP(RELEVE_COTES!$K$11,TabSerrureRef[],3,FALSE)","v":{"$error":"#N/A"}},{"$f":"VLOOKUP(RELEVE_COTES!$K$11,TabSerrureRef[],6,FALSE)","v":{"$error":"#N/A"}}]
[0,0,{"$f":"IF(RELEVE_COTES!$A144<>\"\",SUBSTITUTE(SUBSTITUTE(SUBSTITUTE(SUBSTITUTE(SUBSTITUTE(SUBSTITUTE(SUBSTITUTE(SUBSTITUTE(RELEVE_COTES!$A144,\" \",\"\"),\"-\",\"/\"),\".\",\"/\"),\"\\\",\"/\"),\",\",\"/\"),\"+\",\"_\"),\"&\",\"_\"),\"*\",\"/\"),\"\")","v":""},{"$f":"RELEVE_COTES!$B144","v":0},1,{"$f":"RELEVE_COTES!$C144","v":0},{"$f":"RELEVE_COTES!$D144","v":0},{"$f":"RELEVE_COTES!$E144","v":0},{"$f":"RELEVE_COTES!$F144","v":0},{"$f":"RELEVE_COTES!$G144","v":0},{"$f":"IF($D96=\"GP\",RELEVE_COTES!$I144,RELEVE_COTES!$H144)","v":0},{"$f":"IF($D96=\"GP\",RELEVE_COTES!$H144,RELEVE_COTES!$I144)","v":0},{"$f":"RELEVE_COTES!$J144","v":0},{"$f":"VLOOKUP(RELEVE_COTES!$K144,TabExistantRef1[],2,FALSE)","v":{"$error":"#N/A"}},{"$f":"IF($Y$1=\"BOIS\",RELEVE_COTES!$O144,0)","v":{"$error":"#N/A"}},{"$f":"IF($Y$1=\"BOIS\",RELEVE_COTES!$P144,0)","v":{"$error":"#N/A"}},{"$f":"IF($Y$1=\"BOIS\",RELEVE_COTES!$Q144,0)","v":{"$error":"#N/A"}},{"$error":"#N/A"},{"$f":"IF($Y$1=\"BANCHE\",RELEVE_COTES!$L144,0)","v":{"$error":"#N/A"}},{"$error":"#N/A"},{"$error":"#N/A"},{"$f":"IF($Y$1<>\"BANCHE\",RELEVE_COTES!$L144,0)","v":{"$error":"#N/A"}},{"$f":"IF($Y$1<>\"BANCHE\",RELEVE_COTES!$M144,20)","v":{"$error":"#N/A"}},{"$f":"IF($Y$1<>\"BANCHE\",RELEVE_COTES!$N144,0)","v":{"$error":"#N/A"}},{"$f":"RELEVE_COTES!$I$20","v":0},{"$f":"RELEVE_COTES!$C$11","v":0},{"$f":"RELEVE_COTES!$K$12","v":0},{"$f":"VLOOKUP(AA96,TabSeuilRef[],2,FALSE)","v":{"$error":"#N/A"}},0,{"$f":"\"Paumelles \"&RELEVE_COTES!$E$15","v":"Paumelles "},{"$f":"IF(RELEVE_COTES!$K$16=\"SANS\",RELEVE_COTES!$K$16,IF(RELEVE_COTES!$K$16=\"Intégré\",\"Intégré\",RELEVE_COTES!$K$16&\" / \"&VLOOKUP(RELEVE_COTES!$L$16,TabOptUsSerr[],2,FALSE)))","v":"SANS"},{"$f":"RELEVE_COTES!$K$11","v":0},{"$f":"\"OP: \"&IF(RELEVE_COTES!$E$12=\"Pr.Peint\",\"PP\",RELEVE_COTES!$G$12)&\"/FP: \"&IF(RELEVE_COTES!$E$13=\"Pr.Peint\",\"PP\",RELEVE_COTES!$G$13)","v":"OP: /FP: "},{"$f":"IF(RELEVE_COTES!$E$14=\"Pr.Peint\",\"PP\",VLOOKUP(RELEVE_COTES!$G$14,TabNuancHM[],2,FALSE))","v":"PP"},{"$error":"#N/A"},{"$f":"IF(RELEVE_COTES!$C$11 =\"R32S-R02\",\"OUI\",\"NON\")","v":"NON"},"NON","",{"$f":"IF(AJ96=\"OUI\",RELEVE_COTES!$N$16,\"\")","v":""},null,{"$f":"VLOOKUP(RELEVE_COTES!$O$11,TabOptUsSerr[],2,FALSE)","v":"Usinage, fourniture et pose"},{"$f":"IF(RELEVE_COTES!$K$15<>\"SANS\",RELEVE_COTES!$L$15&\" \"&RELEVE_COTES!$K$15,\"\")&IF(RELEVE_COTES!$N$15<>\"SANS\",\" / PMR: \"&RELEVE_COTES!$O$15&\" \"&RELEVE_COTES!$N$15,\"SANS\")","v":"SANS"},{"$f":"IF(RELEVE_COTES!$K$14 <> \"SANS\",RELEVE_COTES!$O$14&\" \"&RELEVE_COTES!$K$14,\"\")","v":"U+F "},{"$f":"IF(RELEVE_COTES!$K$13 <> \"SANS\",RELEVE_COTES!$O$13&\" \"&RELEVE_COTES!$K$13,\"SANS\")","v":"U+F "},{"$f":"IF(RELEVE_COTES!$I$20 = \"Huisserie Bois\",RELEVE_COTES!$R144,IF(RELEVE_COTES!$I$20 = \"Huisserie Banchée\",RELEVE_COTES!$M144,IF(RELEVE_COTES!$I$20 = \"Bâti Scellé\",RELEVE_COTES!$O144,\"\")))","v":""},{"$f":"RELEVE_COTES!$E$12&\" / \"&RELEVE_COTES!$E$13","v":" SANS /  SANS"},"INT","VERINS + VERINS","NON",{"$f":"VLOOKUP(RELEVE_COTES!$K$11,TabSerrureRef[],3,FALSE)","v":{"$error":"#N/A"}},{"$f":"VLOOKUP(RELEVE_COTES!$K$11,TabSerrureRef[],6,FALSE)","v":{"$error":"#N/A"}}]
[0,0,{"$f":"IF(RELEVE_COTES!$A145<>\"\",SUBSTITUTE(SUBSTITUTE(SUBSTITUTE(SUBSTITUTE(SUBSTITUTE(SUBSTITUTE(SUBSTITUTE(SUBSTITUTE(RELEVE_COTES!$A145,\" \",\"\"),\"-\",\"/\"),\".\",\"/\"),\"\\\",\"/\"),\",\",\"/\"),\"+\",\"_\"),\"&\",\"_\"),\"*\",\"/\"),\"\")","v":""},{"$f":"RELEVE_COTES!$B145","v":0},1,{"$f":"RELEVE_COTES!$C145","v":0},{"$f":"RELEVE_COTES!$D145","v":0},{"$f":"RELEVE_COTES!$E145","v":0},{"$f":"RELEVE_COTES!$F145","v":0},{"$f":"RELEVE_COTES!$G145","v":0},{"$f":"IF($D97=\"GP\",RELEVE_COTES!$I145,RELEVE_COTES!$H145)","v":0},{"$f":"IF($D97=\"GP\",RELEVE_COTES!$H145,RELEVE_COTES!$I145)","v":0},{"$f":"RELEVE_COTES!$J145","v":0},{"$f":"VLOOKUP(RELEVE_COTES!$K145,TabExistantRef1[],2,FALSE)","v":{"$error":"#N/A"}},{"$f":"IF($Y$1=\"BOIS\",RELEVE_COTES!$O145,0)","v":{"$error":"#N/A"}},{"$f":"IF($Y$1=\"BOIS\",RELEVE_COTES!$P145,0)","v":{"$error":"#N/A"}},{"$f":"IF($Y$1=\"BOIS\",RELEVE_COTES!$Q145,0)","v":{"$error":"#N/A"}},{"$error":"#N/A"},{"$f":"IF($Y$1=\"BANCHE\",RELEVE_COTES!$L145,0)","v":{"$error":"#N/A"}},{"$error":"#N/A"},{"$error":"#N/A"},{"$f":"IF($Y$1<>\"BANCHE\",RELEVE_COTES!$L145,0)","v":{"$error":"#N/A"}},{"$f":"IF($Y$1<>\"BANCHE\",RELEVE_COTES!$M145,20)","v":{"$error":"#N/A"}},{"$f":"IF($Y$1<>\"BANCHE\",RELEVE_COTES!$N145,0)","v":{"$error":"#N/A"}},{"$f":"RELEVE_COTES!$I$20","v":0},{"$f":"RELEVE_COTES!$C$11","v":0},{"$f":"RELEVE_COTES!$K$12","v":0},{"$f":"VLOOKUP(AA97,TabSeuilRef[],2,FALSE)","v":{"$error":"#N/A"}},0,{"$f":"\"Paumelles \"&RELEVE_COTES!$E$15","v":"Paumelles "},{"$f":"IF(RELEVE_COTES!$K$16=\"SANS\",RELEVE_COTES!$K$16,IF(RELEVE_COTES!$K$16=\"Intégré\",\"Intégré\",RELEVE_COTES!$K$16&\" / \"&VLOOKUP(RELEVE_COTES!$L$16,TabOptUsSerr[],2,FALSE)))","v":"SANS"},{"$f":"RELEVE_COTES!$K$11","v":0},{"$f":"\"OP: \"&IF(RELEVE_COTES!$E$12=\"Pr.Peint\",\"PP\",RELEVE_COTES!$G$12)&\"/FP: \"&IF(RELEVE_COTES!$E$13=\"Pr.Peint\",\"PP\",RELEVE_COTES!$G$13)","v":"OP: /FP: "},{"$f":"IF(RELEVE_COTES!$E$14=\"Pr.Peint\",\"PP\",VLOOKUP(RELEVE_COTES!$G$14,TabNuancHM[],2,FALSE))","v":"PP"},{"$error":"#N/A"},{"$f":"IF(RELEVE_COTES!$C$11 =\"R32S-R02\",\"OUI\",\"NON\")","v":"NON"},"NON","",{"$f":"IF(AJ97=\"OUI\",RELEVE_COTES!$N$16,\"\")","v":""},null,{"$f":"VLOOKUP(RELEVE_COTES!$O$11,TabOptUsSerr[],2,FALSE)","v":"Usinage, fourniture et pose"},{"$f":"IF(RELEVE_COTES!$K$15<>\"SANS\",RELEVE_COTES!$L$15&\" \"&RELEVE_COTES!$K$15,\"\")&IF(RELEVE_COTES!$N$15<>\"SANS\",\" / PMR: \"&RELEVE_COTES!$O$15&\" \"&RELEVE_COTES!$N$15,\"SANS\")","v":"SANS"},{"$f":"IF(RELEVE_COTES!$K$14 <> \"SANS\",RELEVE_COTES!$O$14&\" \"&RELEVE_COTES!$K$14,\"\")","v":"U+F "},{"$f":"IF(RELEVE_COTES!$K$13 <> \"SANS\",RELEVE_COTES!$O$13&\" \"&RELEVE_COTES!$K$13,\"SANS\")","v":"U+F "},{"$f":"IF(RELEVE_COTES!$I$20 = \"Huisserie Bois\",RELEVE_COTES!$R145,IF(RELEVE_COTES!$I$20 = \"Huisserie Banchée\",RELEVE_COTES!$M145,IF(RELEVE_COTES!$I$20 = \"Bâti Scellé\",RELEVE_COTES!$O145,\"\")))","v":""},{"$f":"RELEVE_COTES!$E$12&\" / \"&RELEVE_COTES!$E$13","v":" SANS /  SANS"},"INT","VERINS + VERINS","NON",{"$f":"VLOOKUP(RELEVE_COTES!$K$11,TabSerrureRef[],3,FALSE)","v":{"$error":"#N/A"}},{"$f":"VLOOKUP(RELEVE_COTES!$K$11,TabSerrureRef[],6,FALSE)","v":{"$error":"#N/A"}}]
[0,0,{"$f":"IF(RELEVE_COTES!$A146<>\"\",SUBSTITUTE(SUBSTITUTE(SUBSTITUTE(SUBSTITUTE(SUBSTITUTE(SUBSTITUTE(SUBSTITUTE(SUBSTITUTE(RELEVE_COTES!$A146,\" \",\"\"),\"-\",\"/\"),\".\",\"/\"),\"\\\",\"/\"),\",\",\"/\"),\"+\",\"_\"),\"&\",\"_\"),\"*\",\"/\"),\"\")","v":""},{"$f":"RELEVE_COTES!$B146","v":0},1,{"$f":"RELEVE_COTES!$C146","v":0},{"$f":"RELEVE_COTES!$D146","v":0},{"$f":"RELEVE_COTES!$E146","v":0},{"$f":"RELEVE_COTES!$F146","v":0},{"$f":"RELEVE_COTES!$G146","v":0},{"$f":"IF($D98=\"GP\",RELEVE_COTES!$I146,RELEVE_COTES!$H146)","v":0},{"$f":"IF($D98=\"GP\",RELEVE_COTES!$H146,RELEVE_COTES!$I146)","v":0},{"$f":"RELEVE_COTES!$J146","v":0},{"$f":"VLOOKUP(RELEVE_COTES!$K146,TabExistantRef1[],2,FALSE)","v":{"$error":"#N/A"}},{"$f":"IF($Y$1=\"BOIS\",RELEVE_COTES!$O146,0)","v":{"$error":"#N/A"}},{"$f":"IF($Y$1=\"BOIS\",RELEVE_COTES!$P146,0)","v":{"$error":"#N/A"}},{"$f":"IF($Y$1=\"BOIS\",RELEVE_COTES!$Q146,0)","v":{"$error":"#N/A"}},{"$error":"#N/A"},{"$f":"IF($Y$1=\"BANCHE\",RELEVE_COTES!$L146,0)","v":{"$error":"#N/A"}},{"$error":"#N/A"},{"$error":"#N/A"},{"$f":"IF($Y$1<>\"BANCHE\",RELEVE_COTES!$L146,0)","v":{"$error":"#N/A"}},{"$f":"IF($Y$1<>\"BANCHE\",RELEVE_COTES!$M146,20)","v":{"$error":"#N/A"}},{"$f":"IF($Y$1<>\"BANCHE\",RELEVE_COTES!$N146,0)","v":{"$error":"#N/A"}},{"$f":"RELEVE_COTES!$I$20","v":0},{"$f":"RELEVE_COTES!$C$11","v":0},{"$f":"RELEVE_COTES!$K$12","v":0},{"$f":"VLOOKUP(AA98,TabSeuilRef[],2,FALSE)","v":{"$error":"#N/A"}},0,{"$f":"\"Paumelles \"&RELEVE_COTES!$E$15","v":"Paumelles "},{"$f":"IF(RELEVE_COTES!$K$16=\"SANS\",RELEVE_COTES!$K$16,IF(RELEVE_COTES!$K$16=\"Intégré\",\"Intégré\",RELEVE_COTES!$K$16&\" / \"&VLOOKUP(RELEVE_COTES!$L$16,TabOptUsSerr[],2,FALSE)))","v":"SANS"},{"$f":"RELEVE_COTES!$K$11","v":0},{"$f":"\"OP: \"&IF(RELEVE_COTES!$E$12=\"Pr.Peint\",\"PP\",RELEVE_COTES!$G$12)&\"/FP: \"&IF(RELEVE_COTES!$E$13=\"Pr.Peint\",\"PP\",RELEVE_COTES!$G$13)","v":"OP: /FP: "},{"$f":"IF(RELEVE_COTES!$E$14=\"Pr.Peint\",\"PP\",VLOOKUP(RELEVE_COTES!$G$14,TabNuancHM[],2,FALSE))","v":"PP"},{"$error":"#N/A"},{"$f":"IF(RELEVE_COTES!$C$11 =\"R32S-R02\",\"OUI\",\"NON\")","v":"NON"},"NON","",{"$f":"IF(AJ98=\"OUI\",RELEVE_COTES!$N$16,\"\")","v":""},null,{"$f":"VLOOKUP(RELEVE_COTES!$O$11,TabOptUsSerr[],2,FALSE)","v":"Usinage, fourniture et pose"},{"$f":"IF(RELEVE_COTES!$K$15<>\"SANS\",RELEVE_COTES!$L$15&\" \"&RELEVE_COTES!$K$15,\"\")&IF(RELEVE_COTES!$N$15<>\"SANS\",\" / PMR: \"&RELEVE_COTES!$O$15&\" \"&RELEVE_COTES!$N$15,\"SANS\")","v":"SANS"},{"$f":"IF(RELEVE_COTES!$K$14 <> \"SANS\",RELEVE_COTES!$O$14&\" \"&RELEVE_COTES!$K$14,\"\")","v":"U+F "},{"$f":"IF(RELEVE_COTES!$K$13 <> \"SANS\",RELEVE_COTES!$O$13&\" \"&RELEVE_COTES!$K$13,\"SANS\")","v":"U+F "},{"$f":"IF(RELEVE_COTES!$I$20 = \"Huisserie Bois\",RELEVE_COTES!$R146,IF(RELEVE_COTES!$I$20 = \"Huisserie Banchée\",RELEVE_COTES!$M146,IF(RELEVE_COTES!$I$20 = \"Bâti Scellé\",RELEVE_COTES!$O146,\"\")))","v":""},{"$f":"RELEVE_COTES!$E$12&\" / \"&RELEVE_COTES!$E$13","v":" SANS /  SANS"},"INT","VERINS + VERINS","NON",{"$f":"VLOOKUP(RELEVE_COTES!$K$11,TabSerrureRef[],3,FALSE)","v":{"$error":"#N/A"}},{"$f":"VLOOKUP(RELEVE_COTES!$K$11,TabSerrureRef[],6,FALSE)","v":{"$error":"#N/A"}}]
[0,0,{"$f":"IF(RELEVE_COTES!$A147<>\"\",SUBSTITUTE(SUBSTITUTE(SUBSTITUTE(SUBSTITUTE(SUBSTITUTE(SUBSTITUTE(SUBSTITUTE(SUBSTITUTE(RELEVE_COTES!$A147,\" \",\"\"),\"-\",\"/\"),\".\",\"/\"),\"\\\",\"/\"),\",\",\"/\"),\"+\",\"_\"),\"&\",\"_\"),\"*\",\"/\"),\"\")","v":""},{"$f":"RELEVE_COTES!$B147","v":0},1,{"$f":"RELEVE_COTES!$C147","v":0},{"$f":"RELEVE_COTES!$D147","v":0},{"$f":"RELEVE_COTES!$E147","v":0},{"$f":"RELEVE_COTES!$F147","v":0},{"$f":"RELEVE_COTES!$G147","v":0},{"$f":"IF($D99=\"GP\",RELEVE_COTES!$I147,RELEVE_COTES!$H147)","v":0},{"$f":"IF($D99=\"GP\",RELEVE_COTES!$H147,RELEVE_COTES!$I147)","v":0},{"$f":"RELEVE_COTES!$J147","v":0},{"$f":"VLOOKUP(RELEVE_COTES!$K147,TabExistantRef1[],2,FALSE)","v":{"$error":"#N/A"}},{"$f":"IF($Y$1=\"BOIS\",RELEVE_COTES!$O147,0)","v":{"$error":"#N/A"}},{"$f":"IF($Y$1=\"BOIS\",RELEVE_COTES!$P147,0)","v":{"$error":"#N/A"}},{"$f":"IF($Y$1=\"BOIS\",RELEVE_COTES!$Q147,0)","v":{"$error":"#N/A"}},{"$error":"#N/A"},{"$f":"IF($Y$1=\"BANCHE\",RELEVE_COTES!$L147,0)","v":{"$error":"#N/A"}},{"$error":"#N/A"},{"$error":"#N/A"},{"$f":"IF($Y$1<>\"BANCHE\",RELEVE_COTES!$L147,0)","v":{"$error":"#N/A"}},{"$f":"IF($Y$1<>\"BANCHE\",RELEVE_COTES!$M147,20)","v":{"$error":"#N/A"}},{"$f":"IF($Y$1<>\"BANCHE\",RELEVE_COTES!$N147,0)","v":{"$error":"#N/A"}},{"$f":"RELEVE_COTES!$I$20","v":0},{"$f":"RELEVE_COTES!$C$11","v":0},{"$f":"RELEVE_COTES!$K$12","v":0},{"$f":"VLOOKUP(AA99,TabSeuilRef[],2,FALSE)","v":{"$error":"#N/A"}},0,{"$f":"\"Paumelles \"&RELEVE_COTES!$E$15","v":"Paumelles "},{"$f":"IF(RELEVE_COTES!$K$16=\"SANS\",RELEVE_COTES!$K$16,IF(RELEVE_COTES!$K$16=\"Intégré\",\"Intégré\",RELEVE_COTES!$K$16&\" / \"&VLOOKUP(RELEVE_COTES!$L$16,TabOptUsSerr[],2,FALSE)))","v":"SANS"},{"$f":"RELEVE_COTES!$K$11","v":0},{"$f":"\"OP: \"&IF(RELEVE_COTES!$E$12=\"Pr.Peint\",\"PP\",RELEVE_COTES!$G$12)&\"/FP: \"&IF(RELEVE_COTES!$E$13=\"Pr.Peint\",\"PP\",RELEVE_COTES!$G$13)","v":"OP: /FP: "},{"$f":"IF(RELEVE_COTES!$E$14=\"Pr.Peint\",\"PP\",VLOOKUP(RELEVE_COTES!$G$14,TabNuancHM[],2,FALSE))","v":"PP"},{"$error":"#N/A"},{"$f":"IF(RELEVE_COTES!$C$11 =\"R32S-R02\",\"OUI\",\"NON\")","v":"NON"},"NON","",{"$f":"IF(AJ99=\"OUI\",RELEVE_COTES!$N$16,\"\")","v":""},null,{"$f":"VLOOKUP(RELEVE_COTES!$O$11,TabOptUsSerr[],2,FALSE)","v":"Usinage, fourniture et pose"},{"$f":"IF(RELEVE_COTES!$K$15<>\"SANS\",RELEVE_COTES!$L$15&\" \"&RELEVE_COTES!$K$15,\"\")&IF(RELEVE_COTES!$N$15<>\"SANS\",\" / PMR: \"&RELEVE_COTES!$O$15&\" \"&RELEVE_COTES!$N$15,\"SANS\")","v":"SANS"},{"$f":"IF(RELEVE_COTES!$K$14 <> \"SANS\",RELEVE_COTES!$O$14&\" \"&RELEVE_COTES!$K$14,\"\")","v":"U+F "},{"$f":"IF(RELEVE_COTES!$K$13 <> \"SANS\",RELEVE_COTES!$O$13&\" \"&RELEVE_COTES!$K$13,\"SANS\")","v":"U+F "},{"$f":"IF(RELEVE_COTES!$I$20 = \"Huisserie Bois\",RELEVE_COTES!$R147,IF(RELEVE_COTES!$I$20 = \"Huisserie Banchée\",RELEVE_COTES!$M147,IF(RELEVE_COTES!$I$20 = \"Bâti Scellé\",RELEVE_COTES!$O147,\"\")))","v":""},{"$f":"RELEVE_COTES!$E$12&\" / \"&RELEVE_COTES!$E$13","v":" SANS /  SANS"},"INT","VERINS + VERINS","NON",{"$f":"VLOOKUP(RELEVE_COTES!$K$11,TabSerrureRef[],3,FALSE)","v":{"$error":"#N/A"}},{"$f":"VLOOKUP(RELEVE_COTES!$K$11,TabSerrureRef[],6,FALSE)","v":{"$error":"#N/A"}}]
[0,0,{"$f":"IF(RELEVE_COTES!$A148<>\"\",SUBSTITUTE(SUBSTITUTE(SUBSTITUTE(SUBSTITUTE(SUBSTITUTE(SUBSTITUTE(SUBSTITUTE(SUBSTITUTE(RELEVE_COTES!$A148,\" \",\"\"),\"-\",\"/\"),\".\",\"/\"),\"\\\",\"/\"),\",\",\"/\"),\"+\",\"_\"),\"&\",\"_\"),\"*\",\"/\"),\"\")","v":""},{"$f":"RELEVE_COTES!$B148","v":0},1,{"$f":"RELEVE_COTES!$C148","v":0},{"$f":"RELEVE_COTES!$D148","v":0},{"$f":"RELEVE_COTES!$E148","v":0},{"$f":"RELEVE_COTES!$F148","v":0},{"$f":"RELEVE_COTES!$G148","v":0},{"$f":"IF($D100=\"GP\",RELEVE_COTES!$I148,RELEVE_COTES!$H148)","v":0},{"$f":"IF($D100=\"GP\",RELEVE_COTES!$H148,RELEVE_COTES!$I148)","v":0},{"$f":"RELEVE_COTES!$J148","v":0},{"$f":"VLOOKUP(RELEVE_COTES!$K148,TabExistantRef1[],2,FALSE)","v":{"$error":"#N/A"}},{"$f":"IF($Y$1=\"BOIS\",RELEVE_COTES!$O148,0)","v":{"$error":"#N/A"}},{"$f":"IF($Y$1=\"BOIS\",RELEVE_COTES!$P148,0)","v":{"$error":"#N/A"}},{"$f":"IF($Y$1=\"BOIS\",RELEVE_COTES!$Q148,0)","v":{"$error":"#N/A"}},{"$error":"#N/A"},{"$f":"IF($Y$1=\"BANCHE\",RELEVE_COTES!$L148,0)","v":{"$error":"#N/A"}},{"$error":"#N/A"},{"$error":"#N/A"},{"$f":"IF($Y$1<>\"BANCHE\",RELEVE_COTES!$L148,0)","v":{"$error":"#N/A"}},{"$f":"IF($Y$1<>\"BANCHE\",RELEVE_COTES!$M148,20)","v":{"$error":"#N/A"}},{"$f":"IF($Y$1<>\"BANCHE\",RELEVE_COTES!$N148,0)","v":{"$error":"#N/A"}},{"$f":"RELEVE_COTES!$I$20","v":0},{"$f":"RELEVE_COTES!$C$11","v":0},{"$f":"RELEVE_COTES!$K$12","v":0},{"$f":"VLOOKUP(AA100,TabSeuilRef[],2,FALSE)","v":{"$error":"#N/A"}},0,{"$f":"\"Paumelles \"&RELEVE_COTES!$E$15","v":"Paumelles "},{"$f":"IF(RELEVE_COTES!$K$16=\"SANS\",RELEVE_COTES!$K$16,IF(RELEVE_COTES!$K$16=\"Intégré\",\"Intégré\",RELEVE_COTES!$K$16&\" / \"&VLOOKUP(RELEVE_COTES!$L$16,TabOptUsSerr[],2,FALSE)))","v":"SANS"},{"$f":"RELEVE_COTES!$K$11","v":0},{"$f":"\"OP: \"&IF(RELEVE_COTES!$E$12=\"Pr.Peint\",\"PP\",RELEVE_COTES!$G$12)&\"/FP: \"&IF(RELEVE_COTES!$E$13=\"Pr.Peint\",\"PP\",RELEVE_COTES!$G$13)","v":"OP: /FP: "},{"$f":"IF(RELEVE_COTES!$E$14=\"Pr.Peint\",\"PP\",VLOOKUP(RELEVE_COTES!$G$14,TabNuancHM[],2,FALSE))","v":"PP"},{"$error":"#N/A"},{"$f":"IF(RELEVE_COTES!$C$11 =\"R32S-R02\",\"OUI\",\"NON\")","v":"NON"},"NON","",{"$f":"IF(AJ100=\"OUI\",RELEVE_COTES!$N$16,\"\")","v":""},null,{"$f":"VLOOKUP(RELEVE_COTES!$O$11,TabOptUsSerr[],2,FALSE)","v":"Usinage, fourniture et pose"},{"$f":"IF(RELEVE_COTES!$K$15<>\"SANS\",RELEVE_COTES!$L$15&\" \"&RELEVE_COTES!$K$15,\"\")&IF(RELEVE_COTES!$N$15<>\"SANS\",\" / PMR: \"&RELEVE_COTES!$O$15&\" \"&RELEVE_COTES!$N$15,\"SANS\")","v":"SANS"},{"$f":"IF(RELEVE_COTES!$K$14 <> \"SANS\",RELEVE_COTES!$O$14&\" \"&RELEVE_COTES!$K$14,\"\")","v":"U+F "},{"$f":"IF(RELEVE_COTES!$K$13 <> \"SANS\",RELEVE_COTES!$O$13&\" \"&RELEVE_COTES!$K$13,\"SANS\")","v":"U+F "},{"$f":"IF(RELEVE_COTES!$I$20 = \"Huisserie Bois\",RELEVE_COTES!$R148,IF(RELEVE_COTES!$I$20 = \"Huisserie Banchée\",RELEVE_COTES!$M148,IF(RELEVE_COTES!$I$20 = \"Bâti Scellé\",RELEVE_COTES!$O148,\"\")))","v":""},{"$f":"RELEVE_COTES!$E$12&\" / \"&RELEVE_COTES!$E$13","v":" SANS /  SANS"},"INT","VERINS + VERINS","NON",{"$f":"VLOOKUP(RELEVE_COTES!$K$11,TabSerrureRef[],3,FALSE)","v":{"$error":"#N/A"}},{"$f":"VLOOKUP(RELEVE_COTES!$K$11,TabSerrureRef[],6,FALSE)","v":{"$error":"#N/A"}}]
[0,0,{"$f":"IF(RELEVE_COTES!$A149<>\"\",SUBSTITUTE(SUBSTITUTE(SUBSTITUTE(SUBSTITUTE(SUBSTITUTE(SUBSTITUTE(SUBSTITUTE(SUBSTITUTE(RELEVE_COTES!$A149,\" \",\"\"),\"-\",\"/\"),\".\",\"/\"),\"\\\",\"/\"),\",\",\"/\"),\"+\",\"_\"),\"&\",\"_\"),\"*\",\"/\"),\"\")","v":""},{"$f":"RELEVE_COTES!$B149","v":0},1,{"$f":"RELEVE_COTES!$C149","v":0},{"$f":"RELEVE_COTES!$D149","v":0},{"$f":"RELEVE_COTES!$E149","v":0},{"$f":"RELEVE_COTES!$F149","v":0},{"$f":"RELEVE_COTES!$G149","v":0},{"$f":"IF($D101=\"GP\",RELEVE_COTES!$I149,RELEVE_COTES!$H149)","v":0},{"$f":"IF($D101=\"GP\",RELEVE_COTES!$H149,RELEVE_COTES!$I149)","v":0},{"$f":"RELEVE_COTES!$J149","v":0},{"$f":"VLOOKUP(RELEVE_COTES!$K149,TabExistantRef1[],2,FALSE)","v":{"$error":"#N/A"}},{"$f":"IF($Y$1=\"BOIS\",RELEVE_COTES!$O149,0)","v":{"$error":"#N/A"}},{"$f":"IF($Y$1=\"BOIS\",RELEVE_COTES!$P149,0)","v":{"$error":"#N/A"}},{"$f":"IF($Y$1=\"BOIS\",RELEVE_COTES!$Q149,0)","v":{"$error":"#N/A"}},{"$error":"#N/A"},{"$f":"IF($Y$1=\"BANCHE\",RELEVE_COTES!$L149,0)","v":{"$error":"#N/A"}},{"$error":"#N/A"},{"$error":"#N/A"},{"$f":"IF($Y$1<>\"BANCHE\",RELEVE_COTES!$L149,0)","v":{"$error":"#N/A"}},{"$f":"IF($Y$1<>\"BANCHE\",RELEVE_COTES!$M149,20)","v":{"$error":"#N/A"}},{"$f":"IF($Y$1<>\"BANCHE\",RELEVE_COTES!$N149,0)","v":{"$error":"#N/A"}},{"$f":"RELEVE_COTES!$I$20","v":0},{"$f":"RELEVE_COTES!$C$11","v":0},{"$f":"RELEVE_COTES!$K$12","v":0},{"$f":"VLOOKUP(AA101,TabSeuilRef[],2,FALSE)","v":{"$error":"#N/A"}},0,{"$f":"\"Paumelles \"&RELEVE_COTES!$E$15","v":"Paumelles "},{"$f":"IF(RELEVE_COTES!$K$16=\"SANS\",RELEVE_COTES!$K$16,IF(RELEVE_COTES!$K$16=\"Intégré\",\"Intégré\",RELEVE_COTES!$K$16&\" / \"&VLOOKUP(RELEVE_COTES!$L$16,TabOptUsSerr[],2,FALSE)))","v":"SANS"},{"$f":"RELEVE_COTES!$K$11","v":0},{"$f":"\"OP: \"&IF(RELEVE_COTES!$E$12=\"Pr.Peint\",\"PP\",RELEVE_COTES!$G$12)&\"/FP: \"&IF(RELEVE_COTES!$E$13=\"Pr.Peint\",\"PP\",RELEVE_COTES!$G$13)","v":"OP: /FP: "},{"$f":"IF(RELEVE_COTES!$E$14=\"Pr.Peint\",\"PP\",VLOOKUP(RELEVE_COTES!$G$14,TabNuancHM[],2,FALSE))","v":"PP"},{"$error":"#N/A"},{"$f":"IF(RELEVE_COTES!$C$11 =\"R32S-R02\",\"OUI\",\"NON\")","v":"NON"},"NON","",{"$f":"IF(AJ101=\"OUI\",RELEVE_COTES!$N$16,\"\")","v":""},null,{"$f":"VLOOKUP(RELEVE_COTES!$O$11,TabOptUsSerr[],2,FALSE)","v":"Usinage, fourniture et pose"},{"$f":"IF(RELEVE_COTES!$K$15<>\"SANS\",RELEVE_COTES!$L$15&\" \"&RELEVE_COTES!$K$15,\"\")&IF(RELEVE_COTES!$N$15<>\"SANS\",\" / PMR: \"&RELEVE_COTES!$O$15&\" \"&RELEVE_COTES!$N$15,\"SANS\")","v":"SANS"},{"$f":"IF(RELEVE_COTES!$K$14 <> \"SANS\",RELEVE_COTES!$O$14&\" \"&RELEVE_COTES!$K$14,\"\")","v":"U+F "},{"$f":"IF(RELEVE_COTES!$K$13 <> \"SANS\",RELEVE_COTES!$O$13&\" \"&RELEVE_COTES!$K$13,\"SANS\")","v":"U+F "},{"$f":"IF(RELEVE_COTES!$I$20 = \"Huisserie Bois\",RELEVE_COTES!$R149,IF(RELEVE_COTES!$I$20 = \"Huisserie Banchée\",RELEVE_COTES!$M149,IF(RELEVE_COTES!$I$20 = \"Bâti Scellé\",RELEVE_COTES!$O149,\"\")))","v":""},{"$f":"RELEVE_COTES!$E$12&\" / \"&RELEVE_COTES!$E$13","v":" SANS /  SANS"},"INT","VERINS + VERINS","NON",{"$f":"VLOOKUP(RELEVE_COTES!$K$11,TabSerrureRef[],3,FALSE)","v":{"$error":"#N/A"}},{"$f":"VLOOKUP(RELEVE_COTES!$K$11,TabSerrureRef[],6,FALSE)","v":{"$error":"#N/A"}}]
[0,0,{"$f":"IF(RELEVE_COTES!$A150<>\"\",SUBSTITUTE(SUBSTITUTE(SUBSTITUTE(SUBSTITUTE(SUBSTITUTE(SUBSTITUTE(SUBSTITUTE(SUBSTITUTE(RELEVE_COTES!$A150,\" \",\"\"),\"-\",\"/\"),\".\",\"/\"),\"\\\",\"/\"),\",\",\"/\"),\"+\",\"_\"),\"&\",\"_\"),\"*\",\"/\"),\"\")","v":""},{"$f":"RELEVE_COTES!$B150","v":0},1,{"$f":"RELEVE_COTES!$C150","v":0},{"$f":"RELEVE_COTES!$D150","v":0},{"$f":"RELEVE_COTES!$E150","v":0},{"$f":"RELEVE_COTES!$F150","v":0},{"$f":"RELEVE_COTES!$G150","v":0},{"$f":"IF($D102=\"GP\",RELEVE_COTES!$I150,RELEVE_COTES!$H150)","v":0},{"$f":"IF($D102=\"GP\",RELEVE_COTES!$H150,RELEVE_COTES!$I150)","v":0},{"$f":"RELEVE_COTES!$J150","v":0},{"$f":"VLOOKUP(RELEVE_COTES!$K150,TabExistantRef1[],2,FALSE)","v":{"$error":"#N/A"}},{"$f":"IF($Y$1=\"BOIS\",RELEVE_COTES!$O150,0)","v":{"$error":"#N/A"}},{"$f":"IF($Y$1=\"BOIS\",RELEVE_COTES!$P150,0)","v":{"$error":"#N/A"}},{"$f":"IF($Y$1=\"BOIS\",RELEVE_COTES!$Q150,0)","v":{"$error":"#N/A"}},{"$error":"#N/A"},{"$f":"IF($Y$1=\"BANCHE\",RELEVE_COTES!$L150,0)","v":{"$error":"#N/A"}},{"$error":"#N/A"},{"$error":"#N/A"},{"$f":"IF($Y$1<>\"BANCHE\",RELEVE_COTES!$L150,0)","v":{"$error":"#N/A"}},{"$f":"IF($Y$1<>\"BANCHE\",RELEVE_COTES!$M150,20)","v":{"$error":"#N/A"}},{"$f":"IF($Y$1<>\"BANCHE\",RELEVE_COTES!$N150,0)","v":{"$error":"#N/A"}},{"$f":"RELEVE_COTES!$I$20","v":0},{"$f":"RELEVE_COTES!$C$11","v":0},{"$f":"RELEVE_COTES!$K$12","v":0},{"$f":"VLOOKUP(AA102,TabSeuilRef[],2,FALSE)","v":{"$error":"#N/A"}},0,{"$f":"\"Paumelles \"&RELEVE_COTES!$E$15","v":"Paumelles "},{"$f":"IF(RELEVE_COTES!$K$16=\"SANS\",RELEVE_COTES!$K$16,IF(RELEVE_COTES!$K$16=\"Intégré\",\"Intégré\",RELEVE_COTES!$K$16&\" / \"&VLOOKUP(RELEVE_COTES!$L$16,TabOptUsSerr[],2,FALSE)))","v":"SANS"},{"$f":"RELEVE_COTES!$K$11","v":0},{"$f":"\"OP: \"&IF(RELEVE_COTES!$E$12=\"Pr.Peint\",\"PP\",RELEVE_COTES!$G$12)&\"/FP: \"&IF(RELEVE_COTES!$E$13=\"Pr.Peint\",\"PP\",RELEVE_COTES!$G$13)","v":"OP: /FP: "},{"$f":"IF(RELEVE_COTES!$E$14=\"Pr.Peint\",\"PP\",VLOOKUP(RELEVE_COTES!$G$14,TabNuancHM[],2,FALSE))","v":"PP"},{"$error":"#N/A"},{"$f":"IF(RELEVE_COTES!$C$11 =\"R32S-R02\",\"OUI\",\"NON\")","v":"NON"},"NON","",{"$f":"IF(AJ102=\"OUI\",RELEVE_COTES!$N$16,\"\")","v":""},null,{"$f":"VLOOKUP(RELEVE_COTES!$O$11,TabOptUsSerr[],2,FALSE)","v":"Usinage, fourniture et pose"},{"$f":"IF(RELEVE_COTES!$K$15<>\"SANS\",RELEVE_COTES!$L$15&\" \"&RELEVE_COTES!$K$15,\"\")&IF(RELEVE_COTES!$N$15<>\"SANS\",\" / PMR: \"&RELEVE_COTES!$O$15&\" \"&RELEVE_COTES!$N$15,\"SANS\")","v":"SANS"},{"$f":"IF(RELEVE_COTES!$K$14 <> \"SANS\",RELEVE_COTES!$O$14&\" \"&RELEVE_COTES!$K$14,\"\")","v":"U+F "},{"$f":"IF(RELEVE_COTES!$K$13 <> \"SANS\",RELEVE_COTES!$O$13&\" \"&RELEVE_COTES!$K$13,\"SANS\")","v":"U+F "},{"$f":"IF(RELEVE_COTES!$I$20 = \"Huisserie Bois\",RELEVE_COTES!$R150,IF(RELEVE_COTES!$I$20 = \"Huisserie Banchée\",RELEVE_COTES!$M150,IF(RELEVE_COTES!$I$20 = \"Bâti Scellé\",RELEVE_COTES!$O150,\"\")))","v":""},{"$f":"RELEVE_COTES!$E$12&\" / \"&RELEVE_COTES!$E$13","v":" SANS /  SANS"},"INT","VERINS + VERINS","NON",{"$f":"VLOOKUP(RELEVE_COTES!$K$11,TabSerrureRef[],3,FALSE)","v":{"$error":"#N/A"}},{"$f":"VLOOKUP(RELEVE_COTES!$K$11,TabSerrureRef[],6,FALSE)","v":{"$error":"#N/A"}}]
[0,0,{"$f":"IF(RELEVE_COTES!$A151<>\"\",SUBSTITUTE(SUBSTITUTE(SUBSTITUTE(SUBSTITUTE(SUBSTITUTE(SUBSTITUTE(SUBSTITUTE(SUBSTITUTE(RELEVE_COTES!$A151,\" \",\"\"),\"-\",\"/\"),\".\",\"/\"),\"\\\",\"/\"),\",\",\"/\"),\"+\",\"_\"),\"&\",\"_\"),\"*\",\"/\"),\"\")","v":""},{"$f":"RELEVE_COTES!$B151","v":0},1,{"$f":"RELEVE_COTES!$C151","v":0},{"$f":"RELEVE_COTES!$D151","v":0},{"$f":"RELEVE_COTES!$E151","v":0},{"$f":"RELEVE_COTES!$F151","v":0},{"$f":"RELEVE_COTES!$G151","v":0},{"$f":"IF($D103=\"GP\",RELEVE_COTES!$I151,RELEVE_COTES!$H151)","v":0},{"$f":"IF($D103=\"GP\",RELEVE_COTES!$H151,RELEVE_COTES!$I151)","v":0},{"$f":"RELEVE_COTES!$J151","v":0},{"$f":"VLOOKUP(RELEVE_COTES!$K151,TabExistantRef1[],2,FALSE)","v":{"$error":"#N/A"}},{"$f":"IF($Y$1=\"BOIS\",RELEVE_COTES!$O151,0)","v":{"$error":"#N/A"}},{"$f":"IF($Y$1=\"BOIS\",RELEVE_COTES!$P151,0)","v":{"$error":"#N/A"}},{"$f":"IF($Y$1=\"BOIS\",RELEVE_COTES!$Q151,0)","v":{"$error":"#N/A"}},{"$error":"#N/A"},{"$f":"IF($Y$1=\"BANCHE\",RELEVE_COTES!$L151,0)","v":{"$error":"#N/A"}},{"$error":"#N/A"},{"$error":"#N/A"},{"$f":"IF($Y$1<>\"BANCHE\",RELEVE_COTES!$L151,0)","v":{"$error":"#N/A"}},{"$f":"IF($Y$1<>\"BANCHE\",RELEVE_COTES!$M151,20)","v":{"$error":"#N/A"}},{"$f":"IF($Y$1<>\"BANCHE\",RELEVE_COTES!$N151,0)","v":{"$error":"#N/A"}},{"$f":"RELEVE_COTES!$I$20","v":0},{"$f":"RELEVE_COTES!$C$11","v":0},{"$f":"RELEVE_COTES!$K$12","v":0},{"$f":"VLOOKUP(AA103,TabSeuilRef[],2,FALSE)","v":{"$error":"#N/A"}},0,{"$f":"\"Paumelles \"&RELEVE_COTES!$E$15","v":"Paumelles "},{"$f":"IF(RELEVE_COTES!$K$16=\"SANS\",RELEVE_COTES!$K$16,IF(RELEVE_COTES!$K$16=\"Intégré\",\"Intégré\",RELEVE_COTES!$K$16&\" / \"&VLOOKUP(RELEVE_COTES!$L$16,TabOptUsSerr[],2,FALSE)))","v":"SANS"},{"$f":"RELEVE_COTES!$K$11","v":0},{"$f":"\"OP: \"&IF(RELEVE_COTES!$E$12=\"Pr.Peint\",\"PP\",RELEVE_COTES!$G$12)&\"/FP: \"&IF(RELEVE_COTES!$E$13=\"Pr.Peint\",\"PP\",RELEVE_COTES!$G$13)","v":"OP: /FP: "},{"$f":"IF(RELEVE_COTES!$E$14=\"Pr.Peint\",\"PP\",VLOOKUP(RELEVE_COTES!$G$14,TabNuancHM[],2,FALSE))","v":"PP"},{"$error":"#N/A"},{"$f":"IF(RELEVE_COTES!$C$11 =\"R32S-R02\",\"OUI\",\"NON\")","v":"NON"},"NON","",{"$f":"IF(AJ103=\"OUI\",RELEVE_COTES!$N$16,\"\")","v":""},null,{"$f":"VLOOKUP(RELEVE_COTES!$O$11,TabOptUsSerr[],2,FALSE)","v":"Usinage, fourniture et pose"},{"$f":"IF(RELEVE_COTES!$K$15<>\"SANS\",RELEVE_COTES!$L$15&\" \"&RELEVE_COTES!$K$15,\"\")&IF(RELEVE_COTES!$N$15<>\"SANS\",\" / PMR: \"&RELEVE_COTES!$O$15&\" \"&RELEVE_COTES!$N$15,\"SANS\")","v":"SANS"},{"$f":"IF(RELEVE_COTES!$K$14 <> \"SANS\",RELEVE_COTES!$O$14&\" \"&RELEVE_COTES!$K$14,\"\")","v":"U+F "},{"$f":"IF(RELEVE_COTES!$K$13 <> \"SANS\",RELEVE_COTES!$O$13&\" \"&RELEVE_COTES!$K$13,\"SANS\")","v":"U+F "},{"$f":"IF(RELEVE_COTES!$I$20 = \"Huisserie Bois\",RELEVE_COTES!$R151,IF(RELEVE_COTES!$I$20 = \"Huisserie Banchée\",RELEVE_COTES!$M151,IF(RELEVE_COTES!$I$20 = \"Bâti Scellé\",RELEVE_COTES!$O151,\"\")))","v":""},{"$f":"RELEVE_COTES!$E$12&\" / \"&RELEVE_COTES!$E$13","v":" SANS /  SANS"},"INT","VERINS + VERINS","NON",{"$f":"VLOOKUP(RELEVE_COTES!$K$11,TabSerrureRef[],3,FALSE)","v":{"$error":"#N/A"}},{"$f":"VLOOKUP(RELEVE_COTES!$K$11,TabSerrureRef[],6,FALSE)","v":{"$error":"#N/A"}}]
[0,0,{"$f":"IF(RELEVE_COTES!$A152<>\"\",SUBSTITUTE(SUBSTITUTE(SUBSTITUTE(SUBSTITUTE(SUBSTITUTE(SUBSTITUTE(SUBSTITUTE(SUBSTITUTE(RELEVE_COTES!$A152,\" \",\"\"),\"-\",\"/\"),\".\",\"/\"),\"\\\",\"/\"),\",\",\"/\"),\"+\",\"_\"),\"&\",\"_\"),\"*\",\"/\"),\"\")","v":""},{"$f":"RELEVE_COTES!$B152","v":0},1,{"$f":"RELEVE_COTES!$C152","v":0},{"$f":"RELEVE_COTES!$D152","v":0},{"$f":"RELEVE_COTES!$E152","v":0},{"$f":"RELEVE_COTES!$F152","v":0},{"$f":"RELEVE_COTES!$G152","v":0},{"$f":"IF($D104=\"GP\",RELEVE_COTES!$I152,RELEVE_COTES!$H152)","v":0},{"$f":"IF($D104=\"GP\",RELEVE_COTES!$H152,RELEVE_COTES!$I152)","v":0},{"$f":"RELEVE_COTES!$J152","v":0},{"$f":"VLOOKUP(RELEVE_COTES!$K152,TabExistantRef1[],2,FALSE)","v":{"$error":"#N/A"}},{"$f":"IF($Y$1=\"BOIS\",RELEVE_COTES!$O152,0)","v":{"$error":"#N/A"}},{"$f":"IF($Y$1=\"BOIS\",RELEVE_COTES!$P152,0)","v":{"$error":"#N/A"}},{"$f":"IF($Y$1=\"BOIS\",RELEVE_COTES!$Q152,0)","v":{"$error":"#N/A"}},{"$error":"#N/A"},{"$f":"IF($Y$1=\"BANCHE\",RELEVE_COTES!$L152,0)","v":{"$error":"#N/A"}},{"$error":"#N/A"},{"$error":"#N/A"},{"$f":"IF($Y$1<>\"BANCHE\",RELEVE_COTES!$L152,0)","v":{"$error":"#N/A"}},{"$f":"IF($Y$1<>\"BANCHE\",RELEVE_COTES!$M152,20)","v":{"$error":"#N/A"}},{"$f":"IF($Y$1<>\"BANCHE\",RELEVE_COTES!$N152,0)","v":{"$error":"#N/A"}},{"$f":"RELEVE_COTES!$I$20","v":0},{"$f":"RELEVE_COTES!$C$11","v":0},{"$f":"RELEVE_COTES!$K$12","v":0},{"$f":"VLOOKUP(AA104,TabSeuilRef[],2,FALSE)","v":{"$error":"#N/A"}},0,{"$f":"\"Paumelles \"&RELEVE_COTES!$E$15","v":"Paumelles "},{"$f":"IF(RELEVE_COTES!$K$16=\"SANS\",RELEVE_COTES!$K$16,IF(RELEVE_COTES!$K$16=\"Intégré\",\"Intégré\",RELEVE_COTES!$K$16&\" / \"&VLOOKUP(RELEVE_COTES!$L$16,TabOptUsSerr[],2,FALSE)))","v":"SANS"},{"$f":"RELEVE_COTES!$K$11","v":0},{"$f":"\"OP: \"&IF(RELEVE_COTES!$E$12=\"Pr.Peint\",\"PP\",RELEVE_COTES!$G$12)&\"/FP: \"&IF(RELEVE_COTES!$E$13=\"Pr.Peint\",\"PP\",RELEVE_COTES!$G$13)","v":"OP: /FP: "},{"$f":"IF(RELEVE_COTES!$E$14=\"Pr.Peint\",\"PP\",VLOOKUP(RELEVE_COTES!$G$14,TabNuancHM[],2,FALSE))","v":"PP"},{"$error":"#N/A"},{"$f":"IF(RELEVE_COTES!$C$11 =\"R32S-R02\",\"OUI\",\"NON\")","v":"NON"},"NON","",{"$f":"IF(AJ104=\"OUI\",RELEVE_COTES!$N$16,\"\")","v":""},null,{"$f":"VLOOKUP(RELEVE_COTES!$O$11,TabOptUsSerr[],2,FALSE)","v":"Usinage, fourniture et pose"},{"$f":"IF(RELEVE_COTES!$K$15<>\"SANS\",RELEVE_COTES!$L$15&\" \"&RELEVE_COTES!$K$15,\"\")&IF(RELEVE_COTES!$N$15<>\"SANS\",\" / PMR: \"&RELEVE_COTES!$O$15&\" \"&RELEVE_COTES!$N$15,\"SANS\")","v":"SANS"},{"$f":"IF(RELEVE_COTES!$K$14 <> \"SANS\",RELEVE_COTES!$O$14&\" \"&RELEVE_COTES!$K$14,\"\")","v":"U+F "},{"$f":"IF(RELEVE_COTES!$K$13 <> \"SANS\",RELEVE_COTES!$O$13&\" \"&RELEVE_COTES!$K$13,\"SANS\")","v":"U+F "},{"$f":"IF(RELEVE_COTES!$I$20 = \"Huisserie Bois\",RELEVE_COTES!$R152,IF(RELEVE_COTES!$I$20 = \"Huisserie Banchée\",RELEVE_COTES!$M152,IF(RELEVE_COTES!$I$20 = \"Bâti Scellé\",RELEVE_COTES!$O152,\"\")))","v":""},{"$f":"RELEVE_COTES!$E$12&\" / \"&RELEVE_COTES!$E$13","v":" SANS /  SANS"},"INT","VERINS + VERINS","NON",{"$f":"VLOOKUP(RELEVE_COTES!$K$11,TabSerrureRef[],3,FALSE)","v":{"$error":"#N/A"}},{"$f":"VLOOKUP(RELEVE_COTES!$K$11,TabSerrureRef[],6,FALSE)","v":{"$error":"#N/A"}}]
[0,0,{"$f":"IF(RELEVE_COTES!$A153<>\"\",SUBSTITUTE(SUBSTITUTE(SUBSTITUTE(SUBSTITUTE(SUBSTITUTE(SUBSTITUTE(SUBSTITUTE(SUBSTITUTE(RELEVE_COTES!$A153,\" \",\"\"),\"-\",\"/\"),\".\",\"/\"),\"\\\",\"/\"),\",\",\"/\"),\"+\",\"_\"),\"&\",\"_\"),\"*\",\"/\"),\"\")","v":""},{"$f":"RELEVE_COTES!$B153","v":0},1,{"$f":"RELEVE_COTES!$C153","v":0},{"$f":"RELEVE_COTES!$D153","v":0},{"$f":"RELEVE_COTES!$E153","v":0},{"$f":"RELEVE_COTES!$F153","v":0},{"$f":"RELEVE_COTES!$G153","v":0},{"$f":"IF($D105=\"GP\",RELEVE_COTES!$I153,RELEVE_COTES!$H153)","v":0},{"$f":"IF($D105=\"GP\",RELEVE_COTES!$H153,RELEVE_COTES!$I153)","v":0},{"$f":"RELEVE_COTES!$J153","v":0},{"$f":"VLOOKUP(RELEVE_COTES!$K153,TabExistantRef1[],2,FALSE)","v":{"$error":"#N/A"}},{"$f":"IF($Y$1=\"BOIS\",RELEVE_COTES!$O153,0)","v":{"$error":"#N/A"}},{"$f":"IF($Y$1=\"BOIS\",RELEVE_COTES!$P153,0)","v":{"$error":"#N/A"}},{"$f":"IF($Y$1=\"BOIS\",RELEVE_COTES!$Q153,0)","v":{"$error":"#N/A"}},{"$error":"#N/A"},{"$f":"IF($Y$1=\"BANCHE\",RELEVE_COTES!$L153,0)","v":{"$error":"#N/A"}},{"$error":"#N/A"},{"$error":"#N/A"},{"$f":"IF($Y$1<>\"BANCHE\",RELEVE_COTES!$L153,0)","v":{"$error":"#N/A"}},{"$f":"IF($Y$1<>\"BANCHE\",RELEVE_COTES!$M153,20)","v":{"$error":"#N/A"}},{"$f":"IF($Y$1<>\"BANCHE\",RELEVE_COTES!$N153,0)","v":{"$error":"#N/A"}},{"$f":"RELEVE_COTES!$I$20","v":0},{"$f":"RELEVE_COTES!$C$11","v":0},{"$f":"RELEVE_COTES!$K$12","v":0},{"$f":"VLOOKUP(AA105,TabSeuilRef[],2,FALSE)","v":{"$error":"#N/A"}},0,{"$f":"\"Paumelles \"&RELEVE_COTES!$E$15","v":"Paumelles "},{"$f":"IF(RELEVE_COTES!$K$16=\"SANS\",RELEVE_COTES!$K$16,IF(RELEVE_COTES!$K$16=\"Intégré\",\"Intégré\",RELEVE_COTES!$K$16&\" / \"&VLOOKUP(RELEVE_COTES!$L$16,TabOptUsSerr[],2,FALSE)))","v":"SANS"},{"$f":"RELEVE_COTES!$K$11","v":0},{"$f":"\"OP: \"&IF(RELEVE_COTES!$E$12=\"Pr.Peint\",\"PP\",RELEVE_COTES!$G$12)&\"/FP: \"&IF(RELEVE_COTES!$E$13=\"Pr.Peint\",\"PP\",RELEVE_COTES!$G$13)","v":"OP: /FP: "},{"$f":"IF(RELEVE_COTES!$E$14=\"Pr.Peint\",\"PP\",VLOOKUP(RELEVE_COTES!$G$14,TabNuancHM[],2,FALSE))","v":"PP"},{"$error":"#N/A"},{"$f":"IF(RELEVE_COTES!$C$11 =\"R32S-R02\",\"OUI\",\"NON\")","v":"NON"},"NON","",{"$f":"IF(AJ105=\"OUI\",RELEVE_COTES!$N$16,\"\")","v":""},null,{"$f":"VLOOKUP(RELEVE_COTES!$O$11,TabOptUsSerr[],2,FALSE)","v":"Usinage, fourniture et pose"},{"$f":"IF(RELEVE_COTES!$K$15<>\"SANS\",RELEVE_COTES!$L$15&\" \"&RELEVE_COTES!$K$15,\"\")&IF(RELEVE_COTES!$N$15<>\"SANS\",\" / PMR: \"&RELEVE_COTES!$O$15&\" \"&RELEVE_COTES!$N$15,\"SANS\")","v":"SANS"},{"$f":"IF(RELEVE_COTES!$K$14 <> \"SANS\",RELEVE_COTES!$O$14&\" \"&RELEVE_COTES!$K$14,\"\")","v":"U+F "},{"$f":"IF(RELEVE_COTES!$K$13 <> \"SANS\",RELEVE_COTES!$O$13&\" \"&RELEVE_COTES!$K$13,\"SANS\")","v":"U+F "},{"$f":"IF(RELEVE_COTES!$I$20 = \"Huisserie Bois\",RELEVE_COTES!$R153,IF(RELEVE_COTES!$I$20 = \"Huisserie Banchée\",RELEVE_COTES!$M153,IF(RELEVE_COTES!$I$20 = \"Bâti Scellé\",RELEVE_COTES!$O153,\"\")))","v":""},{"$f":"RELEVE_COTES!$E$12&\" / \"&RELEVE_COTES!$E$13","v":" SANS /  SANS"},"INT","VERINS + VERINS","NON",{"$f":"VLOOKUP(RELEVE_COTES!$K$11,TabSerrureRef[],3,FALSE)","v":{"$error":"#N/A"}},{"$f":"VLOOKUP(RELEVE_COTES!$K$11,TabSerrureRef[],6,FALSE)","v":{"$error":"#N/A"}}]
[0,0,{"$f":"IF(RELEVE_COTES!$A154<>\"\",SUBSTITUTE(SUBSTITUTE(SUBSTITUTE(SUBSTITUTE(SUBSTITUTE(SUBSTITUTE(SUBSTITUTE(SUBSTITUTE(RELEVE_COTES!$A154,\" \",\"\"),\"-\",\"/\"),\".\",\"/\"),\"\\\",\"/\"),\",\",\"/\"),\"+\",\"_\"),\"&\",\"_\"),\"*\",\"/\"),\"\")","v":""},{"$f":"RELEVE_COTES!$B154","v":0},1,{"$f":"RELEVE_COTES!$C154","v":0},{"$f":"RELEVE_COTES!$D154","v":0},{"$f":"RELEVE_COTES!$E154","v":0},{"$f":"RELEVE_COTES!$F154","v":0},{"$f":"RELEVE_COTES!$G154","v":0},{"$f":"IF($D106=\"GP\",RELEVE_COTES!$I154,RELEVE_COTES!$H154)","v":0},{"$f":"IF($D106=\"GP\",RELEVE_COTES!$H154,RELEVE_COTES!$I154)","v":0},{"$f":"RELEVE_COTES!$J154","v":0},{"$f":"VLOOKUP(RELEVE_COTES!$K154,TabExistantRef1[],2,FALSE)","v":{"$error":"#N/A"}},{"$f":"IF($Y$1=\"BOIS\",RELEVE_COTES!$O154,0)","v":{"$error":"#N/A"}},{"$f":"IF($Y$1=\"BOIS\",RELEVE_COTES!$P154,0)","v":{"$error":"#N/A"}},{"$f":"IF($Y$1=\"BOIS\",RELEVE_COTES!$Q154,0)","v":{"$error":"#N/A"}},{"$error":"#N/A"},{"$f":"IF($Y$1=\"BANCHE\",RELEVE_COTES!$L154,0)","v":{"$error":"#N/A"}},{"$error":"#N/A"},{"$error":"#N/A"},{"$f":"IF($Y$1<>\"BANCHE\",RELEVE_COTES!$L154,0)","v":{"$error":"#N/A"}},{"$f":"IF($Y$1<>\"BANCHE\",RELEVE_COTES!$M154,20)","v":{"$error":"#N/A"}},{"$f":"IF($Y$1<>\"BANCHE\",RELEVE_COTES!$N154,0)","v":{"$error":"#N/A"}},{"$f":"RELEVE_COTES!$I$20","v":0},{"$f":"RELEVE_COTES!$C$11","v":0},{"$f":"RELEVE_COTES!$K$12","v":0},{"$f":"VLOOKUP(AA106,TabSeuilRef[],2,FALSE)","v":{"$error":"#N/A"}},0,{"$f":"\"Paumelles \"&RELEVE_COTES!$E$15","v":"Paumelles "},{"$f":"IF(RELEVE_COTES!$K$16=\"SANS\",RELEVE_COTES!$K$16,IF(RELEVE_COTES!$K$16=\"Intégré\",\"Intégré\",RELEVE_COTES!$K$16&\" / \"&VLOOKUP(RELEVE_COTES!$L$16,TabOptUsSerr[],2,FALSE)))","v":"SANS"},{"$f":"RELEVE_COTES!$K$11","v":0},{"$f":"\"OP: \"&IF(RELEVE_COTES!$E$12=\"Pr.Peint\",\"PP\",RELEVE_COTES!$G$12)&\"/FP: \"&IF(RELEVE_COTES!$E$13=\"Pr.Peint\",\"PP\",RELEVE_COTES!$G$13)","v":"OP: /FP: "},{"$f":"IF(RELEVE_COTES!$E$14=\"Pr.Peint\",\"PP\",VLOOKUP(RELEVE_COTES!$G$14,TabNuancHM[],2,FALSE))","v":"PP"},{"$error":"#N/A"},{"$f":"IF(RELEVE_COTES!$C$11 =\"R32S-R02\",\"OUI\",\"NON\")","v":"NON"},"NON","",{"$f":"IF(AJ106=\"OUI\",RELEVE_COTES!$N$16,\"\")","v":""},null,{"$f":"VLOOKUP(RELEVE_COTES!$O$11,TabOptUsSerr[],2,FALSE)","v":"Usinage, fourniture et pose"},{"$f":"IF(RELEVE_COTES!$K$15<>\"SANS\",RELEVE_COTES!$L$15&\" \"&RELEVE_COTES!$K$15,\"\")&IF(RELEVE_COTES!$N$15<>\"SANS\",\" / PMR: \"&RELEVE_COTES!$O$15&\" \"&RELEVE_COTES!$N$15,\"SANS\")","v":"SANS"},{"$f":"IF(RELEVE_COTES!$K$14 <> \"SANS\",RELEVE_COTES!$O$14&\" \"&RELEVE_COTES!$K$14,\"\")","v":"U+F "},{"$f":"IF(RELEVE_COTES!$K$13 <> \"SANS\",RELEVE_COTES!$O$13&\" \"&RELEVE_COTES!$K$13,\"SANS\")","v":"U+F "},{"$f":"IF(RELEVE_COTES!$I$20 = \"Huisserie Bois\",RELEVE_COTES!$R154,IF(RELEVE_COTES!$I$20 = \"Huisserie Banchée\",RELEVE_COTES!$M154,IF(RELEVE_COTES!$I$20 = \"Bâti Scellé\",RELEVE_COTES!$O154,\"\")))","v":""},{"$f":"RELEVE_COTES!$E$12&\" / \"&RELEVE_COTES!$E$13","v":" SANS /  SANS"},"INT","VERINS + VERINS","NON",{"$f":"VLOOKUP(RELEVE_COTES!$K$11,TabSerrureRef[],3,FALSE)","v":{"$error":"#N/A"}},{"$f":"VLOOKUP(RELEVE_COTES!$K$11,TabSerrureRef[],6,FALSE)","v":{"$error":"#N/A"}}]
[0,0,{"$f":"IF(RELEVE_COTES!$A155<>\"\",SUBSTITUTE(SUBSTITUTE(SUBSTITUTE(SUBSTITUTE(SUBSTITUTE(SUBSTITUTE(SUBSTITUTE(SUBSTITUTE(RELEVE_COTES!$A155,\" \",\"\"),\"-\",\"/\"),\".\",\"/\"),\"\\\",\"/\"),\",\",\"/\"),\"+\",\"_\"),\"&\",\"_\"),\"*\",\"/\"),\"\")","v":""},{"$f":"RELEVE_COTES!$B155","v":0},1,{"$f":"RELEVE_COTES!$C155","v":0},{"$f":"RELEVE_COTES!$D155","v":0},{"$f":"RELEVE_COTES!$E155","v":0},{"$f":"RELEVE_COTES!$F155","v":0},{"$f":"RELEVE_COTES!$G155","v":0},{"$f":"IF($D107=\"GP\",RELEVE_COTES!$I155,RELEVE_COTES!$H155)","v":0},{"$f":"IF($D107=\"GP\",RELEVE_COTES!$H155,RELEVE_COTES!$I155)","v":0},{"$f":"RELEVE_COTES!$J155","v":0},{"$f":"VLOOKUP(RELEVE_COTES!$K155,TabExistantRef1[],2,FALSE)","v":{"$error":"#N/A"}},{"$f":"IF($Y$1=\"BOIS\",RELEVE_COTES!$O155,0)","v":{"$error":"#N/A"}},{"$f":"IF($Y$1=\"BOIS\",RELEVE_COTES!$P155,0)","v":{"$error":"#N/A"}},{"$f":"IF($Y$1=\"BOIS\",RELEVE_COTES!$Q155,0)","v":{"$error":"#N/A"}},{"$error":"#N/A"},{"$f":"IF($Y$1=\"BANCHE\",RELEVE_COTES!$L155,0)","v":{"$error":"#N/A"}},{"$error":"#N/A"},{"$error":"#N/A"},{"$f":"IF($Y$1<>\"BANCHE\",RELEVE_COTES!$L155,0)","v":{"$error":"#N/A"}},{"$f":"IF($Y$1<>\"BANCHE\",RELEVE_COTES!$M155,20)","v":{"$error":"#N/A"}},{"$f":"IF($Y$1<>\"BANCHE\",RELEVE_COTES!$N155,0)","v":{"$error":"#N/A"}},{"$f":"RELEVE_COTES!$I$20","v":0},{"$f":"RELEVE_COTES!$C$11","v":0},{"$f":"RELEVE_COTES!$K$12","v":0},{"$f":"VLOOKUP(AA107,TabSeuilRef[],2,FALSE)","v":{"$error":"#N/A"}},0,{"$f":"\"Paumelles \"&RELEVE_COTES!$E$15","v":"Paumelles "},{"$f":"IF(RELEVE_COTES!$K$16=\"SANS\",RELEVE_COTES!$K$16,IF(RELEVE_COTES!$K$16=\"Intégré\",\"Intégré\",RELEVE_COTES!$K$16&\" / \"&VLOOKUP(RELEVE_COTES!$L$16,TabOptUsSerr[],2,FALSE)))","v":"SANS"},{"$f":"RELEVE_COTES!$K$11","v":0},{"$f":"\"OP: \"&IF(RELEVE_COTES!$E$12=\"Pr.Peint\",\"PP\",RELEVE_COTES!$G$12)&\"/FP: \"&IF(RELEVE_COTES!$E$13=\"Pr.Peint\",\"PP\",RELEVE_COTES!$G$13)","v":"OP: /FP: "},{"$f":"IF(RELEVE_COTES!$E$14=\"Pr.Peint\",\"PP\",VLOOKUP(RELEVE_COTES!$G$14,TabNuancHM[],2,FALSE))","v":"PP"},{"$error":"#N/A"},{"$f":"IF(RELEVE_COTES!$C$11 =\"R32S-R02\",\"OUI\",\"NON\")","v":"NON"},"NON","",{"$f":"IF(AJ107=\"OUI\",RELEVE_COTES!$N$16,\"\")","v":""},null,{"$f":"VLOOKUP(RELEVE_COTES!$O$11,TabOptUsSerr[],2,FALSE)","v":"Usinage, fourniture et pose"},{"$f":"IF(RELEVE_COTES!$K$15<>\"SANS\",RELEVE_COTES!$L$15&\" \"&RELEVE_COTES!$K$15,\"\")&IF(RELEVE_COTES!$N$15<>\"SANS\",\" / PMR: \"&RELEVE_COTES!$O$15&\" \"&RELEVE_COTES!$N$15,\"SANS\")","v":"SANS"},{"$f":"IF(RELEVE_COTES!$K$14 <> \"SANS\",RELEVE_COTES!$O$14&\" \"&RELEVE_COTES!$K$14,\"\")","v":"U+F "},{"$f":"IF(RELEVE_COTES!$K$13 <> \"SANS\",RELEVE_COTES!$O$13&\" \"&RELEVE_COTES!$K$13,\"SANS\")","v":"U+F "},{"$f":"IF(RELEVE_COTES!$I$20 = \"Huisserie Bois\",RELEVE_COTES!$R155,IF(RELEVE_COTES!$I$20 = \"Huisserie Banchée\",RELEVE_COTES!$M155,IF(RELEVE_COTES!$I$20 = \"Bâti Scellé\",RELEVE_COTES!$O155,\"\")))","v":""},{"$f":"RELEVE_COTES!$E$12&\" / \"&RELEVE_COTES!$E$13","v":" SANS /  SANS"},"INT","VERINS + VERINS","NON",{"$f":"VLOOKUP(RELEVE_COTES!$K$11,TabSerrureRef[],3,FALSE)","v":{"$error":"#N/A"}},{"$f":"VLOOKUP(RELEVE_COTES!$K$11,TabSerrureRef[],6,FALSE)","v":{"$error":"#N/A"}}]
[0,0,{"$f":"IF(RELEVE_COTES!$A156<>\"\",SUBSTITUTE(SUBSTITUTE(SUBSTITUTE(SUBSTITUTE(SUBSTITUTE(SUBSTITUTE(SUBSTITUTE(SUBSTITUTE(RELEVE_COTES!$A156,\" \",\"\"),\"-\",\"/\"),\".\",\"/\"),\"\\\",\"/\"),\",\",\"/\"),\"+\",\"_\"),\"&\",\"_\"),\"*\",\"/\"),\"\")","v":""},{"$f":"RELEVE_COTES!$B156","v":0},1,{"$f":"RELEVE_COTES!$C156","v":0},{"$f":"RELEVE_COTES!$D156","v":0},{"$f":"RELEVE_COTES!$E156","v":0},{"$f":"RELEVE_COTES!$F156","v":0},{"$f":"RELEVE_COTES!$G156","v":0},{"$f":"IF($D108=\"GP\",RELEVE_COTES!$I156,RELEVE_COTES!$H156)","v":0},{"$f":"IF($D108=\"GP\",RELEVE_COTES!$H156,RELEVE_COTES!$I156)","v":0},{"$f":"RELEVE_COTES!$J156","v":0},{"$f":"VLOOKUP(RELEVE_COTES!$K156,TabExistantRef1[],2,FALSE)","v":{"$error":"#N/A"}},{"$f":"IF($Y$1=\"BOIS\",RELEVE_COTES!$O156,0)","v":{"$error":"#N/A"}},{"$f":"IF($Y$1=\"BOIS\",RELEVE_COTES!$P156,0)","v":{"$error":"#N/A"}},{"$f":"IF($Y$1=\"BOIS\",RELEVE_COTES!$Q156,0)","v":{"$error":"#N/A"}},{"$error":"#N/A"},{"$f":"IF($Y$1=\"BANCHE\",RELEVE_COTES!$L156,0)","v":{"$error":"#N/A"}},{"$error":"#N/A"},{"$error":"#N/A"},{"$f":"IF($Y$1<>\"BANCHE\",RELEVE_COTES!$L156,0)","v":{"$error":"#N/A"}},{"$f":"IF($Y$1<>\"BANCHE\",RELEVE_COTES!$M156,20)","v":{"$error":"#N/A"}},{"$f":"IF($Y$1<>\"BANCHE\",RELEVE_COTES!$N156,0)","v":{"$error":"#N/A"}},{"$f":"RELEVE_COTES!$I$20","v":0},{"$f":"RELEVE_COTES!$C$11","v":0},{"$f":"RELEVE_COTES!$K$12","v":0},{"$f":"VLOOKUP(AA108,TabSeuilRef[],2,FALSE)","v":{"$error":"#N/A"}},0,{"$f":"\"Paumelles \"&RELEVE_COTES!$E$15","v":"Paumelles "},{"$f":"IF(RELEVE_COTES!$K$16=\"SANS\",RELEVE_COTES!$K$16,IF(RELEVE_COTES!$K$16=\"Intégré\",\"Intégré\",RELEVE_COTES!$K$16&\" / \"&VLOOKUP(RELEVE_COTES!$L$16,TabOptUsSerr[],2,FALSE)))","v":"SANS"},{"$f":"RELEVE_COTES!$K$11","v":0},{"$f":"\"OP: \"&IF(RELEVE_COTES!$E$12=\"Pr.Peint\",\"PP\",RELEVE_COTES!$G$12)&\"/FP: \"&IF(RELEVE_COTES!$E$13=\"Pr.Peint\",\"PP\",RELEVE_COTES!$G$13)","v":"OP: /FP: "},{"$f":"IF(RELEVE_COTES!$E$14=\"Pr.Peint\",\"PP\",VLOOKUP(RELEVE_COTES!$G$14,TabNuancHM[],2,FALSE))","v":"PP"},{"$error":"#N/A"},{"$f":"IF(RELEVE_COTES!$C$11 =\"R32S-R02\",\"OUI\",\"NON\")","v":"NON"},"NON","",{"$f":"IF(AJ108=\"OUI\",RELEVE_COTES!$N$16,\"\")","v":""},null,{"$f":"VLOOKUP(RELEVE_COTES!$O$11,TabOptUsSerr[],2,FALSE)","v":"Usinage, fourniture et pose"},{"$f":"IF(RELEVE_COTES!$K$15<>\"SANS\",RELEVE_COTES!$L$15&\" \"&RELEVE_COTES!$K$15,\"\")&IF(RELEVE_COTES!$N$15<>\"SANS\",\" / PMR: \"&RELEVE_COTES!$O$15&\" \"&RELEVE_COTES!$N$15,\"SANS\")","v":"SANS"},{"$f":"IF(RELEVE_COTES!$K$14 <> \"SANS\",RELEVE_COTES!$O$14&\" \"&RELEVE_COTES!$K$14,\"\")","v":"U+F "},{"$f":"IF(RELEVE_COTES!$K$13 <> \"SANS\",RELEVE_COTES!$O$13&\" \"&RELEVE_COTES!$K$13,\"SANS\")","v":"U+F "},{"$f":"IF(RELEVE_COTES!$I$20 = \"Huisserie Bois\",RELEVE_COTES!$R156,IF(RELEVE_COTES!$I$20 = \"Huisserie Banchée\",RELEVE_COTES!$M156,IF(RELEVE_COTES!$I$20 = \"Bâti Scellé\",RELEVE_COTES!$O156,\"\")))","v":""},{"$f":"RELEVE_COTES!$E$12&\" / \"&RELEVE_COTES!$E$13","v":" SANS /  SANS"},"INT","VERINS + VERINS","NON",{"$f":"VLOOKUP(RELEVE_COTES!$K$11,TabSerrureRef[],3,FALSE)","v":{"$error":"#N/A"}},{"$f":"VLOOKUP(RELEVE_COTES!$K$11,TabSerrureRef[],6,FALSE)","v":{"$error":"#N/A"}}]
[0,0,{"$f":"IF(RELEVE_COTES!$A157<>\"\",SUBSTITUTE(SUBSTITUTE(SUBSTITUTE(SUBSTITUTE(SUBSTITUTE(SUBSTITUTE(SUBSTITUTE(SUBSTITUTE(RELEVE_COTES!$A157,\" \",\"\"),\"-\",\"/\"),\".\",\"/\"),\"\\\",\"/\"),\",\",\"/\"),\"+\",\"_\"),\"&\",\"_\"),\"*\",\"/\"),\"\")","v":""},{"$f":"RELEVE_COTES!$B157","v":0},1,{"$f":"RELEVE_COTES!$C157","v":0},{"$f":"RELEVE_COTES!$D157","v":0},{"$f":"RELEVE_COTES!$E157","v":0},{"$f":"RELEVE_COTES!$F157","v":0},{"$f":"RELEVE_COTES!$G157","v":0},{"$f":"IF($D109=\"GP\",RELEVE_COTES!$I157,RELEVE_COTES!$H157)","v":0},{"$f":"IF($D109=\"GP\",RELEVE_COTES!$H157,RELEVE_COTES!$I157)","v":0},{"$f":"RELEVE_COTES!$J157","v":0},{"$f":"VLOOKUP(RELEVE_COTES!$K157,TabExistantRef1[],2,FALSE)","v":{"$error":"#N/A"}},{"$f":"IF($Y$1=\"BOIS\",RELEVE_COTES!$O157,0)","v":{"$error":"#N/A"}},{"$f":"IF($Y$1=\"BOIS\",RELEVE_COTES!$P157,0)","v":{"$error":"#N/A"}},{"$f":"IF($Y$1=\"BOIS\",RELEVE_COTES!$Q157,0)","v":{"$error":"#N/A"}},{"$error":"#N/A"},{"$f":"IF($Y$1=\"BANCHE\",RELEVE_COTES!$L157,0)","v":{"$error":"#N/A"}},{"$error":"#N/A"},{"$error":"#N/A"},{"$f":"IF($Y$1<>\"BANCHE\",RELEVE_COTES!$L157,0)","v":{"$error":"#N/A"}},{"$f":"IF($Y$1<>\"BANCHE\",RELEVE_COTES!$M157,20)","v":{"$error":"#N/A"}},{"$f":"IF($Y$1<>\"BANCHE\",RELEVE_COTES!$N157,0)","v":{"$error":"#N/A"}},{"$f":"RELEVE_COTES!$I$20","v":0},{"$f":"RELEVE_COTES!$C$11","v":0},{"$f":"RELEVE_COTES!$K$12","v":0},{"$f":"VLOOKUP(AA109,TabSeuilRef[],2,FALSE)","v":{"$error":"#N/A"}},0,{"$f":"\"Paumelles \"&RELEVE_COTES!$E$15","v":"Paumelles "},{"$f":"IF(RELEVE_COTES!$K$16=\"SANS\",RELEVE_COTES!$K$16,IF(RELEVE_COTES!$K$16=\"Intégré\",\"Intégré\",RELEVE_COTES!$K$16&\" / \"&VLOOKUP(RELEVE_COTES!$L$16,TabOptUsSerr[],2,FALSE)))","v":"SANS"},{"$f":"RELEVE_COTES!$K$11","v":0},{"$f":"\"OP: \"&IF(RELEVE_COTES!$E$12=\"Pr.Peint\",\"PP\",RELEVE_COTES!$G$12)&\"/FP: \"&IF(RELEVE_COTES!$E$13=\"Pr.Peint\",\"PP\",RELEVE_COTES!$G$13)","v":"OP: /FP: "},{"$f":"IF(RELEVE_COTES!$E$14=\"Pr.Peint\",\"PP\",VLOOKUP(RELEVE_COTES!$G$14,TabNuancHM[],2,FALSE))","v":"PP"},{"$error":"#N/A"},{"$f":"IF(RELEVE_COTES!$C$11 =\"R32S-R02\",\"OUI\",\"NON\")","v":"NON"},"NON","",{"$f":"IF(AJ109=\"OUI\",RELEVE_COTES!$N$16,\"\")","v":""},null,{"$f":"VLOOKUP(RELEVE_COTES!$O$11,TabOptUsSerr[],2,FALSE)","v":"Usinage, fourniture et pose"},{"$f":"IF(RELEVE_COTES!$K$15<>\"SANS\",RELEVE_COTES!$L$15&\" \"&RELEVE_COTES!$K$15,\"\")&IF(RELEVE_COTES!$N$15<>\"SANS\",\" / PMR: \"&RELEVE_COTES!$O$15&\" \"&RELEVE_COTES!$N$15,\"SANS\")","v":"SANS"},{"$f":"IF(RELEVE_COTES!$K$14 <> \"SANS\",RELEVE_COTES!$O$14&\" \"&RELEVE_COTES!$K$14,\"\")","v":"U+F "},{"$f":"IF(RELEVE_COTES!$K$13 <> \"SANS\",RELEVE_COTES!$O$13&\" \"&RELEVE_COTES!$K$13,\"SANS\")","v":"U+F "},{"$f":"IF(RELEVE_COTES!$I$20 = \"Huisserie Bois\",RELEVE_COTES!$R157,IF(RELEVE_COTES!$I$20 = \"Huisserie Banchée\",RELEVE_COTES!$M157,IF(RELEVE_COTES!$I$20 = \"Bâti Scellé\",RELEVE_COTES!$O157,\"\")))","v":""},{"$f":"RELEVE_COTES!$E$12&\" / \"&RELEVE_COTES!$E$13","v":" SANS /  SANS"},"INT","VERINS + VERINS","NON",{"$f":"VLOOKUP(RELEVE_COTES!$K$11,TabSerrureRef[],3,FALSE)","v":{"$error":"#N/A"}},{"$f":"VLOOKUP(RELEVE_COTES!$K$11,TabSerrureRef[],6,FALSE)","v":{"$error":"#N/A"}}]
[0,0,{"$f":"IF(RELEVE_COTES!$A158<>\"\",SUBSTITUTE(SUBSTITUTE(SUBSTITUTE(SUBSTITUTE(SUBSTITUTE(SUBSTITUTE(SUBSTITUTE(SUBSTITUTE(RELEVE_COTES!$A158,\" \",\"\"),\"-\",\"/\"),\".\",\"/\"),\"\\\",\"/\"),\",\",\"/\"),\"+\",\"_\"),\"&\",\"_\"),\"*\",\"/\"),\"\")","v":""},{"$f":"RELEVE_COTES!$B158","v":0},1,{"$f":"RELEVE_COTES!$C158","v":0},{"$f":"RELEVE_COTES!$D158","v":0},{"$f":"RELEVE_COTES!$E158","v":0},{"$f":"RELEVE_COTES!$F158","v":0},{"$f":"RELEVE_COTES!$G158","v":0},{"$f":"IF($D110=\"GP\",RELEVE_COTES!$I158,RELEVE_COTES!$H158)","v":0},{"$f":"IF($D110=\"GP\",RELEVE_COTES!$H158,RELEVE_COTES!$I158)","v":0},{"$f":"RELEVE_COTES!$J158","v":0},{"$f":"VLOOKUP(RELEVE_COTES!$K158,TabExistantRef1[],2,FALSE)","v":{"$error":"#N/A"}},{"$f":"IF($Y$1=\"BOIS\",RELEVE_COTES!$O158,0)","v":{"$error":"#N/A"}},{"$f":"IF($Y$1=\"BOIS\",RELEVE_COTES!$P158,0)","v":{"$error":"#N/A"}},{"$f":"IF($Y$1=\"BOIS\",RELEVE_COTES!$Q158,0)","v":{"$error":"#N/A"}},{"$error":"#N/A"},{"$f":"IF($Y$1=\"BANCHE\",RELEVE_COTES!$L158,0)","v":{"$error":"#N/A"}},{"$error":"#N/A"},{"$error":"#N/A"},{"$f":"IF($Y$1<>\"BANCHE\",RELEVE_COTES!$L158,0)","v":{"$error":"#N/A"}},{"$f":"IF($Y$1<>\"BANCHE\",RELEVE_COTES!$M158,20)","v":{"$error":"#N/A"}},{"$f":"IF($Y$1<>\"BANCHE\",RELEVE_COTES!$N158,0)","v":{"$error":"#N/A"}},{"$f":"RELEVE_COTES!$I$20","v":0},{"$f":"RELEVE_COTES!$C$11","v":0},{"$f":"RELEVE_COTES!$K$12","v":0},{"$f":"VLOOKUP(AA110,TabSeuilRef[],2,FALSE)","v":{"$error":"#N/A"}},0,{"$f":"\"Paumelles \"&RELEVE_COTES!$E$15","v":"Paumelles "},{"$f":"IF(RELEVE_COTES!$K$16=\"SANS\",RELEVE_COTES!$K$16,IF(RELEVE_COTES!$K$16=\"Intégré\",\"Intégré\",RELEVE_COTES!$K$16&\" / \"&VLOOKUP(RELEVE_COTES!$L$16,TabOptUsSerr[],2,FALSE)))","v":"SANS"},{"$f":"RELEVE_COTES!$K$11","v":0},{"$f":"\"OP: \"&IF(RELEVE_COTES!$E$12=\"Pr.Peint\",\"PP\",RELEVE_COTES!$G$12)&\"/FP: \"&IF(RELEVE_COTES!$E$13=\"Pr.Peint\",\"PP\",RELEVE_COTES!$G$13)","v":"OP: /FP: "},{"$f":"IF(RELEVE_COTES!$E$14=\"Pr.Peint\",\"PP\",VLOOKUP(RELEVE_COTES!$G$14,TabNuancHM[],2,FALSE))","v":"PP"},{"$error":"#N/A"},{"$f":"IF(RELEVE_COTES!$C$11 =\"R32S-R02\",\"OUI\",\"NON\")","v":"NON"},"NON","",{"$f":"IF(AJ110=\"OUI\",RELEVE_COTES!$N$16,\"\")","v":""},null,{"$f":"VLOOKUP(RELEVE_COTES!$O$11,TabOptUsSerr[],2,FALSE)","v":"Usinage, fourniture et pose"},{"$f":"IF(RELEVE_COTES!$K$15<>\"SANS\",RELEVE_COTES!$L$15&\" \"&RELEVE_COTES!$K$15,\"\")&IF(RELEVE_COTES!$N$15<>\"SANS\",\" / PMR: \"&RELEVE_COTES!$O$15&\" \"&RELEVE_COTES!$N$15,\"SANS\")","v":"SANS"},{"$f":"IF(RELEVE_COTES!$K$14 <> \"SANS\",RELEVE_COTES!$O$14&\" \"&RELEVE_COTES!$K$14,\"\")","v":"U+F "},{"$f":"IF(RELEVE_COTES!$K$13 <> \"SANS\",RELEVE_COTES!$O$13&\" \"&RELEVE_COTES!$K$13,\"SANS\")","v":"U+F "},{"$f":"IF(RELEVE_COTES!$I$20 = \"Huisserie Bois\",RELEVE_COTES!$R158,IF(RELEVE_COTES!$I$20 = \"Huisserie Banchée\",RELEVE_COTES!$M158,IF(RELEVE_COTES!$I$20 = \"Bâti Scellé\",RELEVE_COTES!$O158,\"\")))","v":""},{"$f":"RELEVE_COTES!$E$12&\" / \"&RELEVE_COTES!$E$13","v":" SANS /  SANS"},"INT","VERINS + VERINS","NON",{"$f":"VLOOKUP(RELEVE_COTES!$K$11,TabSerrureRef[],3,FALSE)","v":{"$error":"#N/A"}},{"$f":"VLOOKUP(RELEVE_COTES!$K$11,TabSerrureRef[],6,FALSE)","v":{"$error":"#N/A"}}]

{"sheet":"BYO","index":8,"n_rows":114,"n_cols":2,"rows_kept":114,"cut":false,"hidden":true,"merged":[]}
["#DEBUT PARAM"]
["CDE_SOCIETE",{"$f":"\"\"\"0400\"\"\"","v":"\"0400\""}]
["PORTE_GAMME",{"$f":"\"\"\"\"&RELEVE_COTES!$C$11&\"\"\"\"","v":"\"\""}]
["PROFIL_CODE",{"$f":"\"\"\"\"&VLOOKUP(RELEVE_COTES!$C$11,TabGamme[#Data],3,FALSE)&\"\"\"\"","v":{"$error":"#N/A"}}]
["TIERCE_TYPE",{"$f":"IF(VLOOKUP(RELEVE_COTES!$C$11,TabGamme[#Data],4,FALSE)=2,\"\"\"DV\"\"\",\"\"\"\"\"\")","v":{"$error":"#N/A"}}]
["FERRAGE_TYPE",{"$f":"\"\"\"\"&VLOOKUP(CONCATENATE(RELEVE_COTES!$E$15,\" / \",RELEVE_COTES!$E$14),TabFerrageRef[[REF]:[ANTI_DEGONDS_QTE]],2,FALSE)&\"\"\"\"","v":{"$error":"#N/A"}}]
["TYPEFIXROTMALE",{"$f":"\"\"\"\"&VLOOKUP(CONCATENATE(RELEVE_COTES!$E$15,\" / \",RELEVE_COTES!$E$14),TabFerrageRef[[REF]:[ANTI_DEGONDS_QTE]],3,FALSE)&\"\"\"\"","v":{"$error":"#N/A"}}]
["ANTI_DEGONDS_TYPE",{"$f":"\"\"\"\"&VLOOKUP(CONCATENATE(RELEVE_COTES!$E$15,\" / \",RELEVE_COTES!$E$14),TabFerrageRef[[REF]:[ANTI_DEGONDS_QTE]],4,FALSE)&\"\"\"\"","v":{"$error":"#N/A"}}]
["ANTI_DEGONDS_QTE",{"$f":"SUBSTITUTE(VLOOKUP(CONCATENATE(RELEVE_COTES!$E$15,\" / \",RELEVE_COTES!$E$14),TabFerrageRef[[REF]:[ANTI_DEGONDS_QTE]],5,FALSE),\",\",\".\")","v":{"$error":"#N/A"}}]
["SEUIL_TYPE",{"$f":"\"\"\"\"&VLOOKUP(RELEVE_COTES!$K$12,TabSeuilRef[#Data],3,FALSE)&\"\"\"\"","v":{"$error":"#N/A"}}]
["SEUIL_HAUTEUR",{"$f":"SUBSTITUTE(VLOOKUP(RELEVE_COTES!$K$12,TabSeuilRef[#Data],2,FALSE),\",\",\".\")","v":{"$error":"#N/A"}}]
["SERRURE_TYPE",{"$f":"\"\"\"\"&VLOOKUP(RELEVE_COTES!$K$11,TabSerrureRef[#Data],2,FALSE)&\"\"\"\"","v":{"$error":"#N/A"}}]
["NAME_CLIENT",{"$f":"\"\"\"\"&RELEVE_COTES!$B$6&\"\"\"\"","v":"\"\""}]
["HUISSERIE_E_TYPE",{"$f":"\"\"\"\"&VLOOKUP(RELEVE_COTES!$I$20,TabExistant[#Data],4,FALSE)&\"\"\"\"","v":{"$error":"#N/A"}}]
["FERRAGE_TYPE_DESC",{"$f":"\"\"\"\"&RELEVE_COTES!$E$15&\"\"\"\"","v":"\"\""}]
["SERRURE_TYPE_DESC",{"$f":"\"\"\"\"&RELEVE_COTES!$K$11&\"\"\"\"","v":"\"\""}]
["TF_LISTEL_TYPE","\"VERINS\""]
["TF_PAREMENT_TYPE","\"VERINS\""]
["TF_TYPE_LISTEL","\"VERINS\""]
["TF_TYPE_PAREMENT","\"VERINS\""]
["TF_QTE_LISTEL","3.0"]
["TF_QTE_PAREMENT","3.0"]
["POSE_TYPE","\"RENO\""]
["TALON","0.0"]
["MATIERE_EPAISSEUR","1.5"]
["CONTEXTE_AX","\"PROD\""]
["AXE_MORTAISE_DEF",{"$f":"SUBSTITUTE(VLOOKUP(RELEVE_COTES!$K$11,TabSerrureRef[#Data],4,FALSE),\",\",\".\")","v":{"$error":"#N/A"}}]
["FOUILLOT_HAUTEUR_DEF",{"$f":"SUBSTITUTE(VLOOKUP(RELEVE_COTES!$K$11,TabSerrureRef[#Data],3,FALSE),\",\",\".\")","v":{"$error":"#N/A"}}]
["ENTRAXE_MORTAISE_BEQ",{"$f":"SUBSTITUTE(VLOOKUP(RELEVE_COTES!$K$11,TabSerrureRef[#Data],5,FALSE),\",\",\".\")","v":{"$error":"#N/A"}}]
["FERRAGE_QTE","4.0"]
["FEUILLURE",{"$f":"SUBSTITUTE(VLOOKUP(RELEVE_COTES!$C$11,TabGamme[#Data],5,FALSE),\",\",\".\")","v":{"$error":"#N/A"}}]
["FEUILLURE_BATTUE",{"$f":"SUBSTITUTE(VLOOKUP(RELEVE_COTES!$C$11,TabGamme[#Data],6,FALSE),\",\",\".\")","v":{"$error":"#N/A"}}]
["JARRETIERE_TYPE",{"$f":"\"\"\"\"&VLOOKUP(RELEVE_COTES!$K$11,TabSerrureRef[#Data],7,FALSE)&\"\"\"\"","v":{"$error":"#N/A"}}]
["#FIN PARAM"]
["CHANTPLAT_EP_E_MTD",{"$f":"SUBSTITUTE(VLOOKUP(IFERROR(LEFT(CONCATENATE('doc saisi econ'!$AR8,'doc saisi econ'!$AS8),SEARCH(\"/\",CONCATENATE('doc saisi econ'!$AR8,'doc saisi econ'!$AS8))-1),CONCATENATE('doc saisi econ'!$AR8,'doc saisi econ'!$AS8)),Données!$C$18:$T$117,15,FALSE),\",\",\".\")","v":{"$error":"#N/A"}}]
["CHANTPLAT_EP_E_MTG",{"$f":"SUBSTITUTE(VLOOKUP(IFERROR(LEFT(CONCATENATE('doc saisi econ'!$AR8,'doc saisi econ'!$AS8),SEARCH(\"/\",CONCATENATE('doc saisi econ'!$AR8,'doc saisi econ'!$AS8))-1),CONCATENATE('doc saisi econ'!$AR8,'doc saisi econ'!$AS8)),Données!$C$18:$T$117,15,FALSE),\",\",\".\")","v":{"$error":"#N/A"}}]
["CHANTPLAT_EP_E_TRH",{"$f":"SUBSTITUTE(VLOOKUP(IFERROR(LEFT(CONCATENATE('doc saisi econ'!$AR8,'doc saisi econ'!$AS8),SEARCH(\"/\",CONCATENATE('doc saisi econ'!$AR8,'doc saisi econ'!$AS8))-1),CONCATENATE('doc saisi econ'!$AR8,'doc saisi econ'!$AS8)),Données!$C$18:$T$117,15,FALSE),\",\",\".\")","v":{"$error":"#N/A"}}]
["CHANTPLAT_LARG_E_MTD",{"$f":"SUBSTITUTE(VLOOKUP(IFERROR(LEFT(CONCATENATE('doc saisi econ'!$AR8,'doc saisi econ'!$AS8),SEARCH(\"/\",CONCATENATE('doc saisi econ'!$AR8,'doc saisi econ'!$AS8))-1),CONCATENATE('doc saisi econ'!$AR8,'doc saisi econ'!$AS8)),Données!$C$18:$T$117,14,FALSE),\",\",\".\")","v":{"$error":"#N/A"}}]
["CHANTPLAT_LARG_E_MTG",{"$f":"SUBSTITUTE(VLOOKUP(IFERROR(LEFT(CONCATENATE('doc saisi econ'!$AR8,'doc saisi econ'!$AS8),SEARCH(\"/\",CONCATENATE('doc saisi econ'!$AR8,'doc saisi econ'!$AS8))-1),CONCATENATE('doc saisi econ'!$AR8,'doc saisi econ'!$AS8)),Données!$C$18:$T$117,14,FALSE),\",\",\".\")","v":{"$error":"#N/A"}}]
["CHANTPLAT_LARG_E_TRH",{"$f":"SUBSTITUTE(VLOOKUP(IFERROR(LEFT(CONCATENATE('doc saisi econ'!$AR8,'doc saisi econ'!$AS8),SEARCH(\"/\",CONCATENATE('doc saisi econ'!$AR8,'doc saisi econ'!$AS8))-1),CONCATENATE('doc saisi econ'!$AR8,'doc saisi econ'!$AS8)),Données!$C$18:$T$117,14,FALSE),\",\",\".\")","v":{"$error":"#N/A"}}]
["CHANTPLAT_POS_E_MTD",{"$f":"SUBSTITUTE(VLOOKUP(IFERROR(LEFT(CONCATENATE('doc saisi econ'!$AR8,'doc saisi econ'!$AS8),SEARCH(\"/\",CONCATENATE('doc saisi econ'!$AR8,'doc saisi econ'!$AS8))-1),CONCATENATE('doc saisi econ'!$AR8,'doc saisi econ'!$AS8)),Données!$C$18:$T$117,13,FALSE),\",\",\".\")","v":{"$error":"#N/A"}}]
["CHANTPLAT_POS_E_MTG",{"$f":"SUBSTITUTE(VLOOKUP(IFERROR(LEFT(CONCATENATE('doc saisi econ'!$AR8,'doc saisi econ'!$AS8),SEARCH(\"/\",CONCATENATE('doc saisi econ'!$AR8,'doc saisi econ'!$AS8))-1),CONCATENATE('doc saisi econ'!$AR8,'doc saisi econ'!$AS8)),Données!$C$18:$T$117,13,FALSE),\",\",\".\")","v":{"$error":"#N/A"}}]
["CHANTPLAT_POS_E_TRH",{"$f":"SUBSTITUTE(VLOOKUP(IFERROR(LEFT(CONCATENATE('doc saisi econ'!$AR8,'doc saisi econ'!$AS8),SEARCH(\"/\",CONCATENATE('doc saisi econ'!$AR8,'doc saisi econ'!$AS8))-1),CONCATENATE('doc saisi econ'!$AR8,'doc saisi econ'!$AS8)),Données!$C$18:$T$117,13,FALSE),\",\",\".\")","v":{"$error":"#N/A"}}]
["FEUILLURE_BATTUE_E_MTD",{"$f":"SUBSTITUTE('doc saisi econ'!$AN8,\",\",\".\")","v":""}]
["FEUILLURE_BATTUE_E_MTG",{"$f":"SUBSTITUTE('doc saisi econ'!$AN8,\",\",\".\")","v":""}]
["FEUILLURE_BATTUE_E_TRH",{"$f":"SUBSTITUTE('doc saisi econ'!$AN8,\",\",\".\")","v":""}]
["FEUILLURE_E_MTD",{"$f":"SUBSTITUTE('doc saisi econ'!$AM8,\",\",\".\")","v":""}]
["FEUILLURE_E_MTG",{"$f":"SUBSTITUTE('doc saisi econ'!$AM8,\",\",\".\")","v":""}]
["FEUILLURE_E_TRH",{"$f":"SUBSTITUTE('doc saisi econ'!$AM8,\",\",\".\")","v":""}]
["LISTEL_E_MTD",{"$f":"SUBSTITUTE('doc saisi econ'!$AO8,\",\",\".\")","v":""}]
["LISTEL_E_MTG",{"$f":"SUBSTITUTE('doc saisi econ'!$AO8,\",\",\".\")","v":""}]
["LISTEL_E_TRH",{"$f":"SUBSTITUTE('doc saisi econ'!$AO8,\",\",\".\")","v":""}]
["PAREMENT_E_MTD",{"$f":"SUBSTITUTE('doc saisi econ'!$AL8,\",\",\".\")","v":""}]
["PAREMENT_E_MTG",{"$f":"SUBSTITUTE('doc saisi econ'!$AL8,\",\",\".\")","v":""}]
["PAREMENT_E_TRH",{"$f":"SUBSTITUTE('doc saisi econ'!$AL8,\",\",\".\")","v":""}]
["CTR_PAREMENT_E_MTD",{"$f":"SUBSTITUTE('doc saisi econ'!$AP8,\",\",\".\")","v":""}]
["CTR_PAREMENT_E_MTG",{"$f":"SUBSTITUTE('doc saisi econ'!$AP8,\",\",\".\")","v":""}]
["CTR_PAREMENT_E_TRH",{"$f":"SUBSTITUTE('doc saisi econ'!$AP8,\",\",\".\")","v":""}]
["RETOUR_E_MTD",{"$f":"SUBSTITUTE('doc saisi econ'!$AK8,\",\",\".\")","v":""}]
["RETOUR_E_MTG",{"$f":"SUBSTITUTE('doc saisi econ'!$AK8,\",\",\".\")","v":""}]
["RETOUR_E_TRH",{"$f":"SUBSTITUTE('doc saisi econ'!$AK8,\",\",\".\")","v":""}]
["PASSAGE_HAUTEUR_E",{"$f":"SUBSTITUTE('doc saisi econ'!$AI8,\",\",\".\")","v":""}]
["PASSAGE_LARGEUR_E",{"$f":"SUBSTITUTE('doc saisi econ'!$AJ8,\",\",\".\")","v":""}]
["CDE_NUM_DEYA",{"$f":"\"\"\"\"&Données!$E$3&\"\"\"\"","v":"\"\""}]
["DATE",{"$f":"CONCATENATE(\"\"\"\",TEXT(TODAY(),\"JJ/MM/AAAA\"),\"\"\"\")","v":"\"15/01/2025\""}]
["ECOINCON_POS_E_MTD",{"$f":"IF('doc saisi econ'!$J8=\"GP\",SUBSTITUTE(VLOOKUP(IFERROR(LEFT(CONCATENATE('doc saisi econ'!$AR8,'doc saisi econ'!$AS8),SEARCH(\"/\",CONCATENATE('doc saisi econ'!$AR8,'doc saisi econ'!$AS8))-1),CONCATENATE('doc saisi econ'!$AR8,'doc saisi econ'!$AS8)),Données!$C$18:$T$117,9,FALSE),\",\",\".\"),SUBSTITUTE(VLOOKUP(IFERROR(LEFT(CONCATENATE('doc saisi econ'!$AR8,'doc saisi econ'!$AS8),SEARCH(\"/\",CONCATENATE('doc saisi econ'!$AR8,'doc saisi econ'!$AS8))-1),CONCATENATE('doc saisi econ'!$AR8,'doc saisi econ'!$AS8)),Données!$C$18:$T$117,10,FALSE),\",\",\".\"))","v":{"$error":"#N/A"}}]
["ECOINCON_POS_E_MTG",{"$f":"IF('doc saisi econ'!$J8=\"GP\",SUBSTITUTE(VLOOKUP(IFERROR(LEFT(CONCATENATE('doc saisi econ'!$AR8,'doc saisi econ'!$AS8),SEARCH(\"/\",CONCATENATE('doc saisi econ'!$AR8,'doc saisi econ'!$AS8))-1),CONCATENATE('doc saisi econ'!$AR8,'doc saisi econ'!$AS8)),Données!$C$18:$T$117,10,FALSE),\",\",\".\"),SUBSTITUTE(VLOOKUP(IFERROR(LEFT(CONCATENATE('doc saisi econ'!$AR8,'doc saisi econ'!$AS8),SEARCH(\"/\",CONCATENATE('doc saisi econ'!$AR8,'doc saisi econ'!$AS8))-1),CONCATENATE('doc saisi econ'!$AR8,'doc saisi econ'!$AS8)),Données!$C$18:$T$117,9,FALSE),\",\",\".\"))","v":{"$error":"#N/A"}}]
["ECOINCON_POS_E_TRH",{"$f":"SUBSTITUTE(VLOOKUP(IFERROR(LEFT(CONCATENATE('doc saisi econ'!$AR8,'doc saisi econ'!$AS8),SEARCH(\"/\",CONCATENATE('doc saisi econ'!$AR8,'doc saisi econ'!$AS8))-1),CONCATENATE('doc saisi econ'!$AR8,'doc saisi econ'!$AS8)),Données!$C$18:$T$117,11,FALSE),\",\",\".\")","v":{"$error":"#N/A"}}]
["GORGE_PAREMENT_E_MTD",{"$f":"SUBSTITUTE(VLOOKUP(IFERROR(LEFT(CONCATENATE('doc saisi econ'!$AR8,'doc saisi econ'!$AS8),SEARCH(\"/\",CONCATENATE('doc saisi econ'!$AR8,'doc saisi econ'!$AS8))-1),CONCATENATE('doc saisi econ'!$AR8,'doc saisi econ'!$AS8)),Données!$C$18:$T$117,17,FALSE),\",\",\".\")","v":{"$error":"#N/A"}}]
["GORGE_PAREMENT_E_MTG",{"$f":"SUBSTITUTE(VLOOKUP(IFERROR(LEFT(CONCATENATE('doc saisi econ'!$AR8,'doc saisi econ'!$AS8),SEARCH(\"/\",CONCATENATE('doc saisi econ'!$AR8,'doc saisi econ'!$AS8))-1),CONCATENATE('doc saisi econ'!$AR8,'doc saisi econ'!$AS8)),Données!$C$18:$T$117,17,FALSE),\",\",\".\")","v":{"$error":"#N/A"}}]
["GORGE_PAREMENT_E_TRH",{"$f":"SUBSTITUTE(VLOOKUP(IFERROR(LEFT(CONCATENATE('doc saisi econ'!$AR8,'doc saisi econ'!$AS8),SEARCH(\"/\",CONCATENATE('doc saisi econ'!$AR8,'doc saisi econ'!$AS8))-1),CONCATENATE('doc saisi econ'!$AR8,'doc saisi econ'!$AS8)),Données!$C$18:$T$117,17,FALSE),\",\",\".\")","v":{"$error":"#N/A"}}]
["LISTEL",{"$f":"SUBSTITUTE('doc saisi econ'!$AD8,\",\",\".\")","v":""}]
["OUVERTURE_SENS",{"$f":"\"\"\"\"&'doc saisi econ'!$J8&\"\"\"\"","v":"\"\""}]
["PAREMENT_MTF",{"$f":"SUBSTITUTE(MID('doc saisi econ'!$AC8,FIND(\"F\",'doc saisi econ'!$AC8)+1,FIND(\" T\",'doc saisi econ'!$AC8)-FIND(\"F\",'doc saisi econ'!$AC8)-1),\",\",\".\")","v":{"$error":"#VALUE!"}}]
["PAREMENT_MTG",{"$f":"SUBSTITUTE(RIGHT('doc saisi econ'!$AC8,LEN('doc saisi econ'!$AC8) - FIND(\"G\",'doc saisi econ'!$AC8)),\",\",\".\")","v":{"$error":"#VALUE!"}}]
["PAREMENT_TRH",{"$f":"SUBSTITUTE(MID('doc saisi econ'!$AC8,FIND(\"T\",'doc saisi econ'!$AC8)+1,FIND(\" G\",'doc saisi econ'!$AC8)-FIND(\"T\",'doc saisi econ'!$AC8)-1),\",\",\".\")","v":{"$error":"#VALUE!"}}]
["PASSAGE_HAUTEUR",{"$f":"SUBSTITUTE('doc saisi econ'!$AF8,\",\",\".\")","v":""}]
["PASSAGE_LARGEUR",{"$f":"SUBSTITUTE('doc saisi econ'!$AG8,\",\",\".\")","v":""}]
["PORTE_OUV_HAUTEUR",{"$f":"SUBSTITUTE('doc saisi econ'!$E8,\",\",\".\")","v":""}]
["PORTE_OUV_LARGEUR",{"$f":"SUBSTITUTE(LEFT('doc saisi econ'!$L8,FIND(\"+\",'doc saisi econ'!$L8)-1),\",\",\".\")","v":{"$error":"#VALUE!"}}]
["PORTE_VSF_HAUTEUR",{"$f":"IF(B$3=\"\"\"R32S-R02\"\"\",SUBSTITUTE('doc saisi econ'!$E8,\",\",\".\"),\"0.0\")","v":"0.0"}]
["PORTE_VSF_LARGEUR",{"$f":"IF(B$3=\"\"\"R32S-R02\"\"\",SUBSTITUTE(RIGHT('doc saisi econ'!$L8,FIND(\"+\",'doc saisi econ'!$L8)-1),\",\",\".\"),\"0.0\")","v":"0.0"}]
["REP_DEYA",{"$f":"\"\"\"\"&MID('doc saisi econ'!$AV8,LEN('doc saisi econ'!$AV8)-1,2)&\"\"\"\"","v":{"$error":"#VALUE!"}}]
["REPERE_CLIENT",{"$f":"\"\"\"\"&'doc saisi econ'!$A8&\"\"\"\"","v":"\"\""}]
["CTR_PAREMENT_MTF",{"$f":"SUBSTITUTE(MID('doc saisi econ'!$AE8,FIND(\"F\",'doc saisi econ'!$AE8)+1,FIND(\" T\",'doc saisi econ'!$AE8)-FIND(\"F\",'doc saisi econ'!$AE8)-1),\",\",\".\")","v":{"$error":"#VALUE!"}}]
["CTR_PAREMENT_MTG",{"$f":"SUBSTITUTE(RIGHT('doc saisi econ'!$AE8,LEN('doc saisi econ'!$AE8) - FIND(\"G\",'doc saisi econ'!$AE8)),\",\",\".\")","v":{"$error":"#VALUE!"}}]
["CTR_PAREMENT_TRH",{"$f":"SUBSTITUTE(MID('doc saisi econ'!$AE8,FIND(\"T\",'doc saisi econ'!$AE8)+1,FIND(\" G\",'doc saisi econ'!$AE8)-FIND(\"T\",'doc saisi econ'!$AE8)-1),\",\",\".\")","v":{"$error":"#VALUE!"}}]
["RETOUR",{"$f":"SUBSTITUTE('doc saisi econ'!$AB8,\",\",\".\")","v":""}]
["USERID",{"$f":"\"\"\"\"&Données!$E$7&\"\"\"\"","v":"\"\""}]
["AXE_MORTAISE",{"$f":"SUBSTITUTE(B$27-B$28+SUBSTITUTE(VLOOKUP(IFERROR(LEFT(CONCATENATE('doc saisi econ'!$AR8,'doc saisi econ'!$AS8),SEARCH(\"/\",CONCATENATE('doc saisi econ'!$AR8,'doc saisi econ'!$AS8))-1),CONCATENATE('doc saisi econ'!$AR8,'doc saisi econ'!$AS8)),Données!$C$124:$CH$223,53,FALSE),\",\",\".\"),\",\",\".\")","v":{"$error":"#N/A"}}]
["CODE_CLIENT_AX",{"$f":"\"\"\"\"&Données!$K$3&\"\"\"\"","v":"\"\""}]
["FOUILLOT_HAUTEUR",{"$f":"SUBSTITUTE(VLOOKUP(IFERROR(LEFT(CONCATENATE('doc saisi econ'!$AR8,'doc saisi econ'!$AS8),SEARCH(\"/\",CONCATENATE('doc saisi econ'!$AR8,'doc saisi econ'!$AS8))-1),CONCATENATE('doc saisi econ'!$AR8,'doc saisi econ'!$AS8)),Données!$C$124:$CH$223,53,FALSE),\",\",\".\")","v":{"$error":"#N/A"}}]
["FOUILLOT_POSITION",{"$f":"\"\"\"\"&SUBSTITUTE(VLOOKUP(IFERROR(LEFT(CONCATENATE('doc saisi econ'!$AR8,'doc saisi econ'!$AS8),SEARCH(\"/\",CONCATENATE('doc saisi econ'!$AR8,'doc saisi econ'!$AS8))-1),CONCATENATE('doc saisi econ'!$AR8,'doc saisi econ'!$AS8)),Données!$C$124:$CH$223,41,FALSE),\",\",\".\")&\"\"\"\"","v":{"$error":"#N/A"}}]
["PAREMENT_TRAVERSE",{"$f":"SUBSTITUTE(MID('doc saisi econ'!$AC8,FIND(\"T\",'doc saisi econ'!$AC8)+1,FIND(\" G\",'doc saisi econ'!$AC8)-FIND(\"T\",'doc saisi econ'!$AC8)-1),\",\",\".\")","v":{"$error":"#VALUE!"}}]
["PASSAGE_HAUTEUR_OUVRANT",{"$f":"SUBSTITUTE('doc saisi econ'!$AF8,\",\",\".\")","v":""}]
["PASSAGE_LARGEUR_OUVRANT",{"$f":"SUBSTITUTE('doc saisi econ'!$AG8,\",\",\".\")","v":""}]
["PLAN_CLIENT",{"$f":"IF(ROW('doc saisi econ'!D8)>10, \"False\", \"True\")","v":"True"}]
["RETOUR_MTF",{"$f":"SUBSTITUTE(MID('doc saisi econ'!$AE8,FIND(\"F\",'doc saisi econ'!$AE8)+1,FIND(\" T\",'doc saisi econ'!$AE8)-FIND(\"F\",'doc saisi econ'!$AE8)-1),\",\",\".\")","v":{"$error":"#VALUE!"}}]
["RETOUR_MTG",{"$f":"SUBSTITUTE(RIGHT('doc saisi econ'!$AE8,LEN('doc saisi econ'!$AE8) - FIND(\"G\",'doc saisi econ'!$AE8)),\",\",\".\")","v":{"$error":"#VALUE!"}}]
["RETOUR_TRAVERSE",{"$f":"SUBSTITUTE(MID('doc saisi econ'!$AE8,FIND(\"T\",'doc saisi econ'!$AE8)+1,FIND(\" G\",'doc saisi econ'!$AE8)-FIND(\"T\",'doc saisi econ'!$AE8)-1),\",\",\".\")","v":{"$error":"#VALUE!"}}]
["SAILLIE",{"$f":"SUBSTITUTE('doc saisi econ'!$AB8,\",\",\".\")","v":""}]
["TF_RET_DEC_PAREMENT",{"$f":"SUBSTITUTE(VLOOKUP(IFERROR(LEFT(CONCATENATE('doc saisi econ'!$AR8,'doc saisi econ'!$AS8),SEARCH(\"/\",CONCATENATE('doc saisi econ'!$AR8,'doc saisi econ'!$AS8))-1),CONCATENATE('doc saisi econ'!$AR8,'doc saisi econ'!$AS8)),Données!$C$124:$CH$223,13,FALSE),\",\",\".\")","v":{"$error":"#N/A"}}]
["VERIN_LG_LISTEL_MTF",{"$f":"'doc saisi econ'!$V8","v":0}]
["VERIN_LG_LISTEL_MTG",{"$f":"'doc saisi econ'!$U8","v":0}]
["VERIN_LG_LISTEL_TR",{"$f":"'doc saisi econ'!$V8","v":0}]
["VERIN_LG_PAREMENT_MTF",{"$f":"SUBSTITUTE(VLOOKUP(IFERROR(LEFT(CONCATENATE('doc saisi econ'!$AR8,'doc saisi econ'!$AS8),SEARCH(\"/\",CONCATENATE('doc saisi econ'!$AR8,'doc saisi econ'!$AS8))-1),CONCATENATE('doc saisi econ'!$AR8,'doc saisi econ'!$AS8)),Données!$C$124:$CH$223,77,FALSE),\",\",\".\")","v":{"$error":"#N/A"}}]
["VERIN_LG_PAREMENT_MTG",{"$f":"SUBSTITUTE(VLOOKUP(IFERROR(LEFT(CONCATENATE('doc saisi econ'!$AR8,'doc saisi econ'!$AS8),SEARCH(\"/\",CONCATENATE('doc saisi econ'!$AR8,'doc saisi econ'!$AS8))-1),CONCATENATE('doc saisi econ'!$AR8,'doc saisi econ'!$AS8)),Données!$C$124:$CH$223,77,FALSE),\",\",\".\")","v":{"$error":"#N/A"}}]
["VERIN_LG_PAREMENT_TR",{"$f":"SUBSTITUTE(VLOOKUP(IFERROR(LEFT(CONCATENATE('doc saisi econ'!$AR8,'doc saisi econ'!$AS8),SEARCH(\"/\",CONCATENATE('doc saisi econ'!$AR8,'doc saisi econ'!$AS8))-1),CONCATENATE('doc saisi econ'!$AR8,'doc saisi econ'!$AS8)),Données!$C$124:$CH$223,77,FALSE),\",\",\".\")","v":{"$error":"#N/A"}}]
["PORTE_HAUTEUR",{"$f":"SUBSTITUTE('doc saisi econ'!$E8,\",\",\".\")","v":""}]
["PORTE_LARGEUR",{"$f":"IF(B$3=\"\"\"R32S-R02\"\"\",SUBSTITUTE(RIGHT('doc saisi econ'!$L8,FIND(\"+\",'doc saisi econ'!$L8)-1) + (LEFT('doc saisi econ'!$L8,FIND(\"+\",'doc saisi econ'!$L8)-1)) - 15,\",\",\".\"),SUBSTITUTE(LEFT('doc saisi econ'!$L8,FIND(\"+\",'doc saisi econ'!$L8)-1),\",\",\".\"))","v":{"$error":"#VALUE!"}}]
["#FIN CALCUL"]
["#FILE/FOLDER SETTING"]
["Adresse Publi",{"$f":"IF(IF(ROW('doc saisi econ'!D8)>10, \"False\", \"True\")=\"True\",\"\\\\prevost-industries.com\\RacineDfs\\DEYA\\Interfaces\\BYO\\REQUETES\\PROD\\EXPRESS\\\",\"\\\\prevost-industries.com\\RacineDfs\\DEYA\\Interfaces\\BYO\\REQUETES\\PROD\\\")","v":"\\\\prevost-industries.com\\RacineDfs\\DEYA\\Interfaces\\BYO\\REQUETES\\PROD\\EXPRESS\\"}]
["Nom fichier",{"$f":"\"BRX.\"&'doc saisi econ'!$AV8","v":"BRX."}]

{"sheet":"doc saisi econ","index":9,"n_rows":0,"n_cols":0,"rows_kept":0,"cut":false,"hidden":true,"merged":[]}

{"sheet":"Données","index":10,"n_rows":0,"n_cols":0,"rows_kept":0,"cut":false,"hidden":true,"merged":[]}